{"text_format":"1","workbook":"xlsx","n_sheets":14,"sheets":["Instructions","Protecting your data","Academy or School Details","schoolinfo","Energy","Sheet10","Professional Services","Soft_Hardware solutions","Telecoms","Print Management","Facilities","Furniture","Office & Cleaning Supplies","import"],"not_rendered":{"charts":0,"images":4,"macros":1,"external_links":1,"defined_names":6,"comments":0,"pivot_tables":0},"unopened":[],"bounds":{"document_bytes":16777216,"sheet_cells":100000,"rows_first":2000,"rows_last":500,"rows_between":2000,"halvings":0,"cell_chars":16384,"cell_head_chars":4096},"cells_cut":0,"cells_raw":0,"read":"whole","date_system":"1900"}

{"sheet":"Instructions","index":0,"n_rows":15,"n_cols":21,"rows_kept":15,"cut":false,"hidden":false,"merged":[]}
[]
[]
[]
[]
[]
[]
[]
[]
[]
[]
[]
[]
[]
[]
[null,null,null,null,null,null,null,null,null,null,null,null,null,null,null,null,null,null,null,null,"  "]

{"sheet":"Protecting your data","index":1,"n_rows":0,"n_cols":0,"rows_kept":0,"cut":false,"hidden":false,"merged":[]}

{"sheet":"Academy or School Details","index":2,"n_rows":23,"n_cols":7,"rows_kept":23,"cut":false,"hidden":false,"merged":[]}
[]
[null,"URN:","Enter School URN here",null,"SBM Title:",{"$f":"IFERROR(IF(VLOOKUP($C$2,schooldetails,16,0)=0,\"\",VLOOKUP($C$2,schooldetails,16,0)),\"\")","v":""},{"$f":"_xlfn.ISFORMULA(F2)","v":true}]
[null,"School/Academy Name:",{"$f":"IFERROR(IF(VLOOKUP($C$2,schooldetails,7,0)=0,\"\",VLOOKUP($C$2,schooldetails,7,0)),\"\")","v":""},null,"SBM Forename:",{"$f":"IFERROR(IF(VLOOKUP($C$2,schooldetails,17,0)=0,\"\",VLOOKUP($C$2,schooldetails,17,0)),\"\")","v":""},{"$f":"_xlfn.ISFORMULA(F3)","v":true}]
[null,"Street:",{"$f":"IFERROR(IF(VLOOKUP($C$2,schooldetails,46,0)=0,\"\",VLOOKUP($C$2,schooldetails,46,0)),\"\")","v":""},null,"SBM Surname:",{"$f":"IFERROR(IF(VLOOKUP($C$2,schooldetails,18,0)=0,\"\",VLOOKUP($C$2,schooldetails,18,0)),\"\")","v":""},true]
[null,"Locality:",{"$f":"IFERROR(IF(VLOOKUP($C$2,schooldetails,47,0)=0,\"\",VLOOKUP($C$2,schooldetails,47,0)),\"\")","v":""},null,"SBM email:",{"$f":"IFERROR(IF(VLOOKUP($C$2,schooldetails,19,0)=0,\"\",VLOOKUP($C$2,schooldetails,19,0)),\"\")","v":""},true]
[null,"Address 3:",{"$f":"IFERROR(IF(VLOOKUP($C$2,schooldetails,48,0)=0,\"\",VLOOKUP($C$2,schooldetails,48,0)),\"\")","v":""},null,"SBM Phone:",{"$f":"IFERROR(IF(VLOOKUP($C$2,schooldetails,20,0)=0,\"\",VLOOKUP($C$2,schooldetails,20,0)),\"\")","v":""},true]
[null,"Town:",{"$f":"IFERROR(IF(VLOOKUP($C$2,schooldetails,49,0)=0,\"\",VLOOKUP($C$2,schooldetails,49,0)),\"\")","v":""}]
[null,"County:",{"$f":"IFERROR(IF(VLOOKUP($C$2,schooldetails,50,0)=0,\"\",VLOOKUP($C$2,schooldetails,50,0)),\"\")","v":""}]
[null,"Postcode:",{"$f":"IFERROR(IF(VLOOKUP($C$2,schooldetails,51,0)=0,\"\",VLOOKUP($C$2,schooldetails,51,0)),\"\")","v":""}]
[null,"Telephone:",{"$f":"IFERROR(TEXT(IF(VLOOKUP($C$2,schooldetails,20,0)=0,\"\",VLOOKUP($C$2,schooldetails,20,0)),\"0000 000000\"),\"\")","v":""}]
[null,"Website",{"$f":"IFERROR(IF(VLOOKUP($C$2,schooldetails,52,0)=0,\"\",VLOOKUP($C$2,schooldetails,52,0)),\"\")","v":""}]
[null,"MAT",{"$f":"IFERROR(IF(VLOOKUP($C$2,schooldetails,60,0)=0,\"\",VLOOKUP($C$2,schooldetails,60,0)),\"\")","v":""}]
[]
[]
[]
[null,null,"Energy",{"$f":"SUMIF(Energy!$E$3:$E$101,\">0\",Energy!$E$3:$E$101)","v":0}]
[null,null,"Professional Services",{"$f":"SUMIF('Professional Services'!$E$3:$E$101,\">0\",'Professional Services'!$E$3:$E$101)","v":0}]
[null,null,"Soft_Hardware solutions",{"$f":"SUMIF('Soft_Hardware solutions'!$E$3:$E$101,\">0\",'Soft_Hardware solutions'!$E$3:$E$101)","v":0}]
[null,null,"Telecoms",{"$f":"SUMIF(Telecoms!$E$3:$E$101,\">0\",Telecoms!$E$3:$E$101)","v":0}]
[null,null,"Print Management",{"$f":"SUMIF('Print Management'!$E$3:$E$101,\">0\",'Print Management'!$E$3:$E$101)","v":0}]
[null,null,"Facilities",{"$f":"SUMIF(Facilities!$E$3:$E$101,\">0\",Facilities!$E$3:$E$101)","v":0}]
[null,null,"Furniture",{"$f":"SUMIF(Furniture!$E$3:$E$101,\">0\",Furniture!$E$3:$E$101)","v":0}]
[null,null,"Office & Cleaning Supplies",{"$f":"SUMIF('Office & Cleaning Supplies'!$E$3:$E$101,\">0\",'Office & Cleaning Supplies'!$E$3:$E$101)","v":0}]

{"sheet":"schoolinfo","index":3,"n_rows":2229,"n_cols":66,"rows_kept":1125,"cut":true,"hidden":true,"merged":[],"bounds":{"rows_first":500,"rows_last":125,"rows_between":500,"halvings":2}}
[1,2,3,4,5,6,7,8,9,10,11,12,13,14,15,16,17,18,19,20,21,22,23,24,25,26,27,28,29,30,31,32,33,34,35,36,37,38,39,40,41,42,43,44,45,46,47,48,49,50,51,52,53,54,55,56,57,58,59,60]
["URN","ID","leanumber","LA (code)","LA (name)","EstablishmentNumber","EstablishmentName (Do Not Touch)","Postcode2","Trusts (name)","TypeOfEstablishment (name)","EstablishmentStatus (name)","Diocese","CMPOrgID1","CMPOrgID2","SBM Salutation","SBM Title","SBM Forename","SBM Surname","SBM Email 1","Telephone","ReasonEstablishmentOpened (name)","OpenDate","ReasonEstablishmentClosed (name)","CloseDate","PhaseOfEducation (name)","OfficialSixthForm (name)","Gender (name)","ReligiousCharacter (name)","AdmissionsPolicy (name)","SchoolCapacity","CensusDate","NumberOfPupils","NumberOfBoys","NumberOfGirls","PercentageFSM","TrustSchoolFlag (name)","SchoolSponsorFlag (name)","SchoolSponsors (name)","FederationFlag (name)","Federations (name)","UKPRN","FEHEIdentifier","FurtherEducationType (name)","OfstedLastInsp","OfstedSpecialMeasures (name)","Street","Locality","Address3","Town","County (name)","Postcode1","SchoolWebsite","TelephoneNum","GOR (name)","AdministrativeWard (name)","PreviousLA (code)","Age Range","High Age","Phase","mat","HeadTitle (name)","HeadFirstName","HeadLastName","HeadHonours","HeadPreferredJobTitle","dferegion"]
[101247,2,{"$f":"_xlfn.CONCAT(D3,F3)","v":{"$error":"#NAME?"}},301,"Barking and Dagenham",4703,"All Saints Catholic School and Technology College","RM8 1JT",null,"Voluntary Aided School","Open","Diocese of Brentwood","09-31949584",null,"Mrs  Forman","Mrs ","Sue ","Forman","sforman@allsaintsschool.co.uk","02082 704242",null,null,null,null,null,null,null,null,null,null,null,null,null,null,null,"Not applicable","Not applicable",null,"Not under a federation",null,10000222,null,null,null,null,"Terling Road","Wood Lane",null,"Dagenham","Essex","RM8 1JT",null,2082704242,"London",null,null,"11-18",null,"Secondary",null,"Mr","Daniel","Craft",null,"Headteacher","London"]
[101237,3,{"$f":"_xlfn.CONCAT(D4,F4)","v":{"$error":"#NAME?"}},301,"Barking and Dagenham",3503,"St Peter's Catholic Primary School","RM9 6UU",null,"Voluntary Aided School","Open","Diocese of Brentwood","09-92784275",null,"Mrs Ryan","Mrs","Maureen","Ryan","office@st-peter.bardaglia.org.uk","02082 706524",null,null,null,null,null,null,null,null,null,null,null,null,null,null,null,"Not applicable","Not applicable",null,"Not under a federation",null,null,null,null,null,null,"Goresbrook Road",null,null,"Dagenham","Essex","RM9 6UU",null,2082706524,"London",null,null,"3-11",null,"Primary",null,"Mr","M","Corcoran",null,"Headteacher","London"]
[101238,4,{"$error":"#NAME?"},301,"Barking and Dagenham",3505,"The St Teresa Catholic Primary School","RM8 2XJ",null,"Voluntary Aided School","Open","Diocese of Brentwood","09-70414261",null,"Mrs Lesley","Mrs","Lesley","Lesley","office.st-teresa@bdcs.org.uk","02082 704757",null,null,null,null,null,null,null,null,null,null,null,null,null,null,null,"Not applicable","Not applicable",null,"Not under a federation",null,null,null,null,null,null,"Bowes Road",null,null,"Dagenham","Essex","RM8 2XJ",null,2082704757,"London",null,null,"3-11",null,"Primary",null,"Mrs","Emlin","Bunn",null,"Headteacher","London"]
[101235,5,{"$error":"#NAME?"},301,"Barking and Dagenham",3500,"St Joseph's Catholic Primary School","IG11 7AR",null,"Voluntary Aided School","Open","Diocese of Brentwood","09-66251391",null,"Mrs Pearman","Mrs","J.","Pearman","office@st-jobarking.bardaglea.org.uk","02082 706474",null,null,null,null,null,null,null,null,null,null,null,null,null,null,null,"Not applicable","Not applicable",null,"Not under a federation",null,null,null,null,null,null,"The Broadway",null,null,"Barking","Essex","IG11 7AR",null,2082706474,"London",null,null,"3-11",null,"Primary",null,"Mrs","M","Horton",null,"Executive Headteacher","London"]
[101236,6,{"$error":"#NAME?"},301,"Barking and Dagenham",3502,"St Joseph's Catholic Primary School","RM9 5UL",null,"Voluntary Aided School","Open","Diocese of Brentwood","09-14479396",null,"Mrs Pearman","Mrs","J.","Pearman","office@st-jodag.bardaglea.org.uk","02082 706480",null,null,null,null,null,null,null,null,null,null,null,null,null,null,null,"Not applicable","Not applicable",null,"Not under a federation",null,null,null,null,null,null,"Connor Road",null,null,"Dagenham","Essex","RM9 5UL",null,2082706480,"London",null,null,"3-11",null,"Primary",null,"Mrs","Clare","Scott",null,"Headteacher","London"]
[101239,7,{"$error":"#NAME?"},301,"Barking and Dagenham",3506,"St Vincent's Catholic Primary School","RM8 2JN",null,"Voluntary Aided School","Open","Diocese of Brentwood","09-91629715",null,"Mrs Butt","Mrs","A.","Butt","office@st-vincent.bardaglea.org.uk","02082 706695",null,null,null,null,null,null,null,null,null,null,null,null,null,null,null,"Not applicable","Not applicable",null,"Not under a federation",null,null,null,null,null,null,"Burnside Road",null,null,"Dagenham","Essex","RM8 2JN",null,2082706695,"London",null,null,"3-11",null,"Primary",null,"Mr","Julian","Ward",null,"Headteacher","London"]
[101361,8,{"$error":"#NAME?"},302,"Barnet",5404,"St Michael's Catholic Grammar School","N12 7NJ",null,"Voluntary Aided School","Open","Archdiocese of Westminster","06-92218711",null,"Mrs Ferri","Mrs","Debbie","Ferri","d.ferri@st-michaels.barnet.sch.uk","02084 462256",null,null,null,null,null,null,null,null,null,null,null,null,null,null,null,"Not applicable","Not applicable",null,"Not under a federation",null,10006237,null,null,null,null,"Nether Street","North Finchley",null,"London",null,"N12 7NJ",null,2084462256,"London",null,null,"11-18",null,"Secondary",null,"Mr","Martin","Tissot","Ma, Mba, Npqh","Acting Headteacher","London"]
[143082,9,{"$error":"#NAME?"},302,"Barnet",5408,"Bishop Douglass School Finchley","N2 0SQ","The Cardinal Hume Academies Trust","Academy Converter","Open","Archdiocese of Westminster","06-90987382",null,"Mrs Barker","Mrs","Melanie","Barker","mbarker@bishopdouglass.barnet.sch.uk","02084 445211",null,null,null,null,null,null,null,null,null,null,null,null,null,null,null,"Supported by a multi-academy trust","-",null,"Not applicable",null,10057424,null,null,null,null,"Hamilton Road","East Finchley",null,"London",null,"N2 0SQ",null,2084445211,"London",null,null,"11-18",null,"Secondary",null,"Mrs","Niamh","Arnull","Ba Hons","Headteacher","London"]
[101364,10,{"$error":"#NAME?"},302,"Barnet",5407,"St James' Catholic High School","NW9 5PE",null,"Voluntary Aided School","Open","Archdiocese of Westminster","06-55702288",null,"Mr Alcock","Mr","Bryan","Alcock","balcock@st-james.barnet.sch.uk","02083 582800",null,null,null,null,null,null,null,null,null,null,null,null,null,null,null,"Not applicable","Not applicable",null,"Not under a federation",null,10006183,null,null,null,null,"Great Strand","Colindale",null,"London",null,"NW9 5PE",null,2083582800,"London",null,null,"11-18",null,"Secondary",null,"Mrs","Julie","Durham",null,"Headteacher","London"]
[101362,11,{"$error":"#NAME?"},302,"Barnet",5405,"Finchley Catholic High School","N12 8TA",null,"Voluntary Aided School","Open","Archdiocese of Westminster","06-86728252",null,"Ms Hender","Ms","Rita","Hender","rhender@finchleycatholic.org.uk","02084 450105",null,null,null,null,null,null,null,null,null,null,null,null,null,null,null,"Not applicable","Not applicable",null,"Not under a federation",null,10002458,null,null,null,null,"Woodside Lane","Finchley",null,"London",null,"N12 8TA",null,2084450105,"London",null,null,"11-18",null,"Secondary",null,"Miss","T","Lynch",null,"Headteacher","London"]
[101330,12,{"$error":"#NAME?"},302,"Barnet",3500,"The Annunciation Catholic Infant School","HA8 0HQ",null,"Voluntary Aided School","Open","Archdiocese of Westminster","06-84722688",null,"Ms McManara","Ms","D.","McManara","office@annunciationinf.barnetmail.net","02089 592325",null,null,null,null,null,null,null,null,null,null,null,null,null,null,null,"Not applicable","Not applicable",null,"Not under a federation",null,null,null,null,null,null,"Thirleby Road",null,null,"Edgware",null,"HA8 0HQ",null,2089592325,"London",null,null,"3-7",null,"Primary",null,"Mrs","Linda","O'Melia",null,"Interim Headteacher","London"]
[101335,13,{"$error":"#NAME?"},302,"Barnet",3507,"St Theresa's Catholic Primary School","N3 2TD",null,"Voluntary Aided School","Open","Archdiocese of Westminster","06-90574428",null,"Ms Orsi","Ms","Nadia","Orsi","theoffice@sttheresas.barnetmail.net","02083 468826",null,null,null,null,null,null,null,null,null,null,null,null,null,null,null,"Not applicable","Not applicable",null,"Not under a federation",null,null,null,null,null,null,"East End Road","Finchley",null,"London",null,"N3 2TD",null,2083468826,"London",null,null,"4-11",null,"Primary",null,"Ms","Carol","Minihan",null,"Headteacher","London"]
[101342,14,{"$error":"#NAME?"},302,"Barnet",3514,"The Annunciation RC Junior School","HA8 9HQ",null,"Voluntary Aided School","Open","Archdiocese of Westminster","06-37318666",null,"Ms Browne","Ms","Carolyn","Browne","office@annunciationjnr.barnetmail.net","02089 060723",null,null,null,null,null,null,null,null,null,null,null,null,null,null,null,"Not applicable","Not applicable",null,"Not under a federation",null,null,null,null,null,null,"The Meads","Burnt Oak",null,"Edgware",null,"HA8 9HQ",null,2089060723,"London",null,null,"7-11",null,"Primary",null,"Mrs","Geraldine","Pears",null,"Headteacher","London"]
[101339,15,{"$error":"#NAME?"},302,"Barnet",3511,"Blessed Dominic Catholic Primary School","NW9 5FN",null,"Voluntary Aided School","Open","Archdiocese of Westminster","06-41344672",null,"Mrs Northgate","Mrs","Melanie","Norgate","office@blesseddominic.barnetmail.net","02082 053790",null,null,null,null,null,null,null,null,null,null,null,null,null,null,null,"Not applicable","Not applicable",null,"Not under a federation",null,null,null,null,null,null,"Lanacre Avenue","Colindale",null,"London",null,"NW9 5FN",null,2082053790,"London",null,null,"3-11",null,"Primary",null,"Miss","Barbara","Costa",null,"Headteacher","London"]
[101331,16,{"$error":"#NAME?"},302,"Barnet",3501,"Our Lady of Lourdes RC School","N12 0JP",null,"Voluntary Aided School","Open","Archdiocese of Westminster","06-58298445",null,"Ms Costa","Ms","Barbara","Costa","office@olol.barnetmail.net","02083 461681",null,null,null,null,null,null,null,null,null,null,null,null,null,null,null,"Not applicable","Not applicable",null,"Not under a federation",null,null,null,null,null,null,"Bow Lane","Finchley",null,"London",null,"N12 0JP",null,2083461681,"London",null,null,"3-11",null,"Primary",null,"Mrs","Catherine","McMahon",null,"Head","London"]
[101338,17,{"$error":"#NAME?"},302,"Barnet",3510,"Sacred Heart Roman Catholic Primary School","N20 9JU",null,"Voluntary Aided School","Open","Archdiocese of Westminster","06-44077509",null,"Mrs O'Malley","Mrs","Mary","O'Malley","momalley.302@sacredheart.barnetmail.net","02084 453854",null,null,null,null,null,null,null,null,null,null,null,null,null,null,null,"Not applicable","Not applicable",null,"Not under a federation",null,null,null,null,null,null,"2 Oakleigh Park South","Whetstone",null,"London",null,"N20 9JU",null,2084453854,"London",null,null,"5-11",null,"Primary",null,"Mr","M","Burke",null,"Headteacher","London"]
[101374,18,{"$error":"#NAME?"},302,"Barnet",6014,"St Martha's School","EN4 0NJ",null,"Other Independent School","Open","Archdiocese of Westminster","06-20502172",null,"Mr Rayner","Mr","Stephen","Rayner","rayners@saint-marthas.org.uk","02084 496889",null,null,null,null,null,null,null,null,null,null,null,null,null,null,null,"Not applicable","Not applicable",null,"Not applicable",null,10016481,null,null,null,null,"Camlet Way","Hadley",null,"Barnet","Hertfordshire","EN4 0NJ",null,2084496889,"London",null,null,"11-19",null,"Secondary",null,"Mrs","Susan","O'Reilly",null,"Headteacher","London"]
[101332,19,{"$error":"#NAME?"},302,"Barnet",3502,"St Agnes RC School","NW2 1RG",null,"Voluntary Aided School","Open","Archdiocese of Westminster","06-51198764",null,"Ms McLaughlin","Ms","Margaret","McLaughlin","office@stagnes.barnetmail.net","02084 524565",null,null,null,null,null,null,null,null,null,null,null,null,null,null,null,"Not applicable","Not applicable",null,"Not under a federation",null,null,null,null,null,null,"Thorverton Road","Cricklewood",null,"London",null,"NW2 1RG",null,2084524565,"London",null,null,"3-11",null,"Primary",null,"Miss","Maureen","Kelly",null,"Headteacher","London"]
[101333,20,{"$error":"#NAME?"},302,"Barnet",3504,"St Catherine's RC School","EN5 2ED",null,"Voluntary Aided School","Open","Archdiocese of Westminster","06-63658184",null,"Ms McKenzie","Ms","Kim","McKenzie","office@stcatherines.barnetmail.net","02084 404946",null,null,null,null,null,null,null,null,null,null,null,null,null,null,null,"Not applicable","Not applicable",null,"Not under a federation",null,null,null,null,null,null,"Vale Drive",null,null,"Barnet","Hertfordshire","EN5 2ED",null,2084404946,"London",null,null,"3-11",null,"Primary",null,"Mrs","Lisa","Barton",null,"Interim Headteacher","London"]
[101337,21,{"$error":"#NAME?"},302,"Barnet",3509,"St Joseph's Catholic Primary School","NW4 4TY",null,"Voluntary Aided School","Open","Archdiocese of Westminster","06-57391319",null,"Ms Emettq","Ms","Margaret","Emettq","office@stjosephs.barnet.sch.uk","02082 025229",null,null,null,null,null,null,null,null,null,null,null,null,null,null,null,"Not applicable","Not applicable",null,"Not under a federation",null,null,null,null,null,null,"Watford Way","Hendon",null,"London",null,"NW4 4TY",null,2082025229,"London",null,null,"3-11",null,"Primary",null,"Miss","Marie","Tuohy",null,"Headteacher","London"]
[101334,22,{"$error":"#NAME?"},302,"Barnet",3506,"St Vincent's Catholic Primary School","NW7 1EJ",null,"Voluntary Aided School","Open","Archdiocese of Westminster","06-64670203",null,"Ms Coffey","Ms","Shirley","Coffey","shirley.coffey@stvincents.barnet.sch.uk","02089 593417",null,null,null,null,null,null,null,null,null,null,null,null,null,null,null,"Not applicable","Not applicable",null,"Not under a federation",null,null,null,null,null,null,"The Ridgeway","Mill Hill",null,"London",null,"NW7 1EJ",null,2089593417,"London",null,null,"5-11",null,"Primary",null,"Mrs","Anna","Dickson",null,null,"Yorkshire and Humber"]
[135896,23,{"$error":"#NAME?"},370,"Barnsley",3326,"Holy Trinity","S71 2LF",null,"Voluntary Aided School","Open","Diocese of Hallam","13-64319439",null,"Mr Lodge","Mr","David","Lodge","dlodge@holytrinitybarnsley.org","01226 704550",null,null,null,null,null,null,null,null,null,null,null,null,null,null,null,"Not applicable","Not applicable",null,"Not under a federation",null,10038782,null,null,null,null,"Carlton Road",null,null,"Barnsley","South Yorkshire","S71 2LF",null,1226704550,"Yorkshire and the Humber",null,null,"3-16",null,"Secondary",null,"Mrs","Karen","Dobson",null,"Headteacher","Yorkshire and Humber"]
[106632,24,{"$error":"#NAME?"},370,"Barnsley",3304,"Holy Rood Catholic Primary School","S70 6JL",null,"Voluntary Aided School","Open","Diocese of Hallam","13-57754415",null,"Mrs Macey","Mrs","Jayne","Macey"," j.macey@holyroodschool.co.uk ","01226 281219",null,null,null,null,null,null,null,null,null,null,null,null,null,null,null,"Not applicable","Not applicable",null,"Not under a federation",null,null,null,null,null,null,"Shaw Street",null,null,"Barnsley","South Yorkshire","S70 6JL",null,1226281219,"Yorkshire and the Humber",null,null,"3-11",null,"Primary",null,"Mr","Damien","Thorpe",null,"Headteacher","Yorkshire and Humber"]
[106643,25,{"$error":"#NAME?"},370,"Barnsley",3320,"Sacred Heart Catholic Primary School","S63 9JY",null,"Voluntary Aided School","Open","Diocese of Hallam","13-80407399",null,"Mrs Gagen","Mrs","Kerry","Gagen","k.gagen@federationcc.org.uk","01709 892385",null,null,null,null,null,null,null,null,null,null,null,null,null,null,null,"Not applicable","Not applicable",null,"Supported by a federation","Corpus Christi Federation",null,null,null,null,null,"Lockwood Road","Goldthorpe",null,"Rotherham","South Yorkshire","S63 9JY",null,1709892385,"Yorkshire and the Humber",null,null,"3-11",null,"Primary",null,"Mr","Damien","Thorpe",null,"Headteacher","Yorkshire and Humber"]
[106641,26,{"$error":"#NAME?"},370,"Barnsley",3318,"St Michael and All Angels Catholic Primary School","S73 8AF",null,"Voluntary Aided School","Open","Diocese of Hallam","13-40519741",null,"Mrs Gagen","Mrs","Kerry","Gagen","k.gagen@federationcc.org.uk","01226 752120",null,null,null,null,null,null,null,null,null,null,null,null,null,null,null,"Not applicable","Not applicable",null,"Supported by a federation","Corpus Christi Federation",null,null,null,null,null,"Stonyford Road","Wombwell",null,"Barnsley","South Yorkshire","S73 8AF",null,1226752120,"Yorkshire and the Humber",null,null,"4-11",null,"Primary",null,"Mr","Damien","Thorpe",null,"Executive Headteacher","Yorkshire and Humber"]
[106640,27,{"$error":"#NAME?"},370,"Barnsley",3317,"St Helen's Catholic Primary School","S74 9DL",null,"Voluntary Aided School","Open","Diocese of Hallam","13-35043792",null,"Mrs Gagen","Mrs","Kerry","Gagen","k.gagen@federationcc.org.uk","01226 742172",null,null,null,null,null,null,null,null,null,null,null,null,null,null,null,"Not applicable","Not applicable",null,"Supported by a federation","Corpus Christi Federation",null,null,null,null,null,"West Street","Hoyland",null,"Barnsley","South Yorkshire","S74 9DL",null,1226742172,"Yorkshire and the Humber",null,null,"5-11",null,"Primary",null,"Mr","James","Murphy-O'Connor","MA (Oxon)","Headmaster","South West"]
[109347,28,{"$error":"#NAME?"},800,"Bath and North East Somerset",6001,"Prior Park College","BA2 5AH",null,"Other Independent School","Open","Diocese of Clifton","11-17186006",null,"Mr McNiff","Mr","Tony","McNiff","info@priorpark.co.uk","01225 835353",null,null,null,null,null,null,null,null,null,null,null,null,null,null,null,"Not applicable","Not applicable",null,"Not applicable",null,10017077,null,null,null,null,"Ralph Allen Drive","Combe Down",null,"Bath",null,"BA2 5AH",null,1225835353,"South West",null,null,"11-19",null,"Secondary",null,"Ms","Ann","Cusack","Ma (Hons)","Headmistress","South West"]
[109329,29,{"$error":"#NAME?"},800,"Bath and North East Somerset",4608,"Saint Gregory's Catholic College","BA2 8PA",null,"Voluntary Aided School","Open","Diocese of Clifton","11-99316537",null,"Mrs Howard","Mrs","Karen","Howard","karen_howard@bathnes.gov.uk","01225 832873",null,null,null,null,null,null,null,null,null,null,null,null,null,null,null,"Not applicable","Not applicable",null,"Not under a federation",null,10017344,null,null,null,null,"Combe Hay Lane","Odd Down",null,"Bath","Somerset","BA2 8PA",null,1225832873,"South West",null,null,"11-18",null,"Secondary",null,"Mr","Robert","Coleman",null,"Headteacher","South West"]
[109260,30,{"$error":"#NAME?"},800,"Bath and North East Somerset",3424,"St John's Catholic Primary School","BA2 3NR",null,"Voluntary Aided School","Open","Diocese of Clifton","11-88235410",null,"Mrs Fleming","Mrs","Julia","Fleming","stjohnsbath_pri@bathnes.gov.uk","01225 303990",null,null,null,null,null,null,null,null,null,null,null,null,null,null,null,"Not applicable","Not applicable",null,"Not under a federation",null,null,null,null,null,null,"Oldfield Lane",null,null,"Bath","Somerset","BA2 3NR",null,1225303990,"South West",null,null,"4-11",null,"Primary",null,"Mr","Andrew","Tarrant","B.Ed (Hons) Qts","Headteacher","South West"]
[109261,31,{"$error":"#NAME?"},800,"Bath and North East Somerset",3425,"St Mary's Catholic Primary School","BA1 4EH",null,"Voluntary Aided School","Open","Diocese of Clifton","11-23485111",null,"Mrs Moore","Mrs","Caroline","Moore","stmarysbath_pri@bathnes.gov.uk","01225 429030",null,null,null,null,null,null,null,null,null,null,null,null,null,null,null,"Not applicable","Not applicable",null,"Not under a federation",null,null,null,null,null,null,"Penn Hill Road","Weston",null,"Bath","Somerset","BA1 4EH",null,1225429030,"South West",null,null,"4-11",null,"Primary",null,"Mrs","Alison","Wilshaw",null,"Headteacher","East of England"]
[139517,32,{"$error":"#NAME?"},822,"Bedford",4605,"St Thomas More Catholic School","MK41 7UL","St Francis of Assisi Academies Trust","Academy Converter","Open","Diocese of Northampton","20-11652677",null,"School Business Manager ","School Business Manager",null,null,"central.finance@stm.beds.sch.uk","01234 400222",null,null,null,null,null,null,null,null,null,null,null,null,null,null,null,"Supported by a multi-academy trust","-",null,"Not applicable",null,10041037,null,null,null,null,"Tyne Crescent",null,null,"Bedford","Bedfordshire","MK41 7UL",null,1234400222,"East of England",null,null,"13-18",null,"Secondary",null,"Mr","Adam","Palmer",null,"Headteacher","East of England"]
[139515,33,{"$error":"#NAME?"},822,"Bedford",3350,"St John Rigby Catholic Primary School","MK41 9DQ","St Francis of Assisi Academies Trust","Academy Converter","Open","Diocese of Northampton","20-25133822",null,"Mrs Maslen","Mrs","Donna","Maslen","stjohnrig@deal.bedfordshire.gov.uk","01234 401900",null,null,null,null,null,null,null,null,null,null,null,null,null,null,null,"Supported by a multi-academy trust","-",null,"Not applicable",null,10041021,null,null,null,null,"Polhill Avenue",null,null,"Bedford","Bedfordshire","MK41 9DQ",null,1234401900,"East of England",null,null,"5-11",null,"Primary",null,"Ms","Frances","Topa",null,"Headteacher","East of England"]
[139547,34,{"$error":"#NAME?"},822,"Bedford",4601,"St Gregory's Catholic Middle School","MK40 4AT","St Francis of Assisi Academies Trust","Academy Converter","Open","Diocese of Northampton","20-33268848",null,"Miss Collins","Miss","Leslie","Collins","enquiries@st-gregorys.beds.sch.uk","01234 268649",null,null,null,null,null,null,null,null,null,null,null,null,null,null,null,"Supported by a multi-academy trust","-",null,"Not applicable",null,10041054,null,null,null,null,"Biddenham Turn",null,null,"Bedford","Bedfordshire","MK40 4AT",null,1234268649,"East of England",null,null,"9-13",null,"Secondary",null,"Miss","L","Sumpter",null,"Headteacher","East of England"]
[139516,35,{"$error":"#NAME?"},822,"Bedford",3342,"St Joseph's RC Lower School","MK40 4HN","St Francis of Assisi Academies Trust","Academy Converter","Open","Diocese of Northampton","20-74534909",null,"Mrs Martin","Mrs","Kate","Martin","stj@schools.bedfordshire.gov.uk","01234 352062",null,null,null,null,null,null,null,null,null,null,null,null,null,null,null,"Supported by a multi-academy trust","-",null,"Not applicable",null,10041024,null,null,null,null,"Chester Road",null,null,"Bedford","Bedfordshire","MK40 4HN",null,1234352062,"East of England",null,null,"4-11",null,"Primary",null,"Mrs","Colette","Doran-Hannon",null,"Headteacher","London"]
[101459,36,{"$error":"#NAME?"},303,"Bexley",3504,"St Thomas More Catholic Primary School","DA7 4PH",null,"Voluntary Aided School","Open","Archdiocese of Southwark","26-63643411",null,"Mrs Bird","Mrs","Catherine","Bird","admin@stm.bexley.sch.uk","02083 038322",null,null,null,null,null,null,null,null,null,null,null,null,null,null,null,"Not applicable","Not applicable",null,"Not under a federation",null,null,null,null,null,null,"Sheldon Road",null,null,"Bexleyheath","Kent","DA7 4PH",null,2083038322,"London",null,null,"4-11",null,"Primary",null,"Mrs","Yvonne","Connolly","Ba (Hons) Pgce","Headteacher","London"]
[137681,37,{"$error":"#NAME?"},303,"Bexley",5402,"St Catherine's Catholic School","DA6 7QJ","St Catherine's Catholic School","Academy Converter","Open","Archdiocese of Southwark","26-16391244",null,"Mrs Ebers","Mrs","Lisa","Ebers","admin@stccg.co.uk","01322 556333",null,null,null,null,null,null,null,null,null,null,null,null,null,null,null,"Supported by a single-academy trust","-",null,"Not applicable",null,10034761,null,null,null,null,"Watling Street",null,null,"Bexleyheath","Kent","DA6 7QJ",null,1322556333,"London",null,null,"11-16",null,"Secondary",null,null,"Nigel","Fisher",null,"Headteacher","London"]
[138650,38,{"$error":"#NAME?"},303,"Bexley",5401,"St Columba's Catholic Boys' School","DA6 7QB","St Columba's Catholic Boys' School","Academy Converter","Open","Archdiocese of Southwark","26-34108939",null,"Mrs Goddard","Mrs","Samantha","Goddard","finance@st-columbas.bexley.sch.uk","01322 553236",null,null,null,null,null,null,null,null,null,null,null,null,null,null,null,"Supported by a single-academy trust","-",null,"Not applicable",null,10038628,null,null,null,null,"Halcot Avenue",null,null,"Bexleyheath","Kent","DA6 7QB",null,1322553236,"London",null,null,"11-16",null,"Secondary",null,"Miss","Sarah","Griffin",null,"Headteacher","London"]
[101460,39,{"$error":"#NAME?"},303,"Bexley",3505,"St John Fisher Catholic Primary School","DA18 4BA",null,"Voluntary Aided School","Open","Archdiocese of Southwark","26-81889781",null,"Ms Holloway","Ms","Kim","Holloway","admin@sjf.bexley.sch.uk","02083 107311",null,null,null,null,null,null,null,null,null,null,null,null,null,null,null,"Not applicable","Not applicable",null,"Not under a federation",null,null,null,null,null,null,"Kale Road","Thamesmead",null,"Erith","Kent","DA18 4BA",null,2083107311,"London",null,null,"5-11",null,"Primary",null,"Mr","Mark","Hannon",null,"Headteacher","London"]
[101458,40,{"$error":"#NAME?"},303,"Bexley",3503,"St Fidelis Catholic Primary School","DA8 3HQ",null,"Voluntary Aided School","Open","Archdiocese of Southwark","26-94268336",null,"Mrs Crumley","Mrs","Samantha","Crumley","admin@st-fidelis.bexley.sch.uk","01322 337752",null,null,null,null,null,null,null,null,null,null,null,null,null,null,null,"Not applicable","Not applicable",null,"Not under a federation",null,null,null,null,null,null,"Bexley Road",null,null,"Erith","Kent","DA8 3HQ",null,1322337752,"London",null,null,"3-11",null,"Primary",null,"Mrs","Jean","Sinclair","Bed Hons","Headteacher","London"]
[101457,41,{"$error":"#NAME?"},303,"Bexley",3502,"St Joseph's Catholic Primary School","DA1 4DZ",null,"Voluntary Aided School","Open","Archdiocese of Southwark","26-34841202",null,"Miss Reen","Miss","Pauline","Reen","admin@st-josephs.bexley.sch.uk","01322 524162",null,null,null,null,null,null,null,null,null,null,null,null,null,null,null,"Not applicable","Not applicable",null,"Not under a federation",null,null,null,null,null,null,"Old Road","Crayford",null,"Dartford","Kent","DA1 4DZ",null,1322524162,"London",null,null,"4-11",null,"Primary",null,"Mrs","Samantha","Gower",null,"Headteacher","London"]
[101461,42,{"$error":"#NAME?"},303,"Bexley",3506,"St Peter Chanel Catholic Primary School","DA14 5ED",null,"Voluntary Aided School","Open","Archdiocese of Southwark","26-98872340",null,"Miss Gurhy","Miss","Marie","Gurhy","admin@st-peterchanel.bexley.sch.uk","02083 026029",null,null,null,null,null,null,null,null,null,null,null,null,null,null,null,"Not applicable","Not applicable",null,"Not under a federation",null,null,null,null,null,null,"Baugh Road","Footscray",null,"Sidcup","Kent","DA14 5ED",null,2083026029,"London",null,null,"4-11",null,"Primary",null,"Mrs","D F","Edwards","Bsc Hons","Headteacher","London"]
[101456,43,{"$error":"#NAME?"},303,"Bexley",3501,"Our Lady of the Rosary Catholic Primary School","DA15 8QW",null,"Voluntary Aided School","Open","Archdiocese of Southwark","26-22531915",null,"Mr Murphy","Mr","J","Murphy","head@ourlady.bexley.sch.uk","02088 504470",null,null,null,null,null,null,null,null,null,null,null,null,null,null,null,"Not applicable","Not applicable",null,"Not under a federation",null,null,null,null,null,null,"Holbeach Gardens","Blackfen",null,"Sidcup","Kent","DA15 8QW",null,2088504470,"London",null,null,"3-11",null,"Primary",null,"Ms","Sue","Oram",null,"Headteacher","London"]
[101455,44,{"$error":"#NAME?"},303,"Bexley",3500,"St Stephen's Catholic Primary School","DA16 3QG",null,"Voluntary Aided School","Open","Archdiocese of Southwark","26-31230203",null,"Mrs Podd","Mrs",null,"Podd","sbm@st-stephens.bexley.sch.uk","02083 039738",null,null,null,null,null,null,null,null,null,null,null,null,null,null,null,"Not applicable","Not applicable",null,"Not under a federation",null,null,null,null,null,null,"Ruskin Avenue",null,null,"Welling","Kent","DA16 3QG",null,2083039738,"London",null,null,"5-11",null,"Primary",null,"Mr","Mark","Humphreys",null,"Headteacher","West Midlands"]
[103437,45,{"$error":"#NAME?"},330,"Birmingham",3342,"St Francis Catholic Primary School","B19 1PH",null,"Voluntary Aided School","Open","Archdiocese of Birmingham","08-14887309",null,"Ms Webb","Ms","Edwina","Webb","e.webb@stfranrc.bham.sch.uk","01214 645072",null,null,null,null,null,null,null,null,null,null,null,null,null,null,null,"Not applicable","Not applicable",null,"Not under a federation",null,null,null,null,null,null,"Nursery Road","Handsworth",null,"Birmingham","West Midlands","B19 1PH",null,1214645072,"West Midlands",null,null,"4-11",null,"Primary",null,"Mrs","Maria","Breslin",null,"Headteacher","West Midlands"]
[103423,46,{"$error":"#NAME?"},330,"Birmingham",3319,"Christ The King Catholic Primary School","B44 0QN",null,"Voluntary Aided School","Open","Archdiocese of Birmingham","08-55639210",null,"Mrs Hickey","Mrs","Collete","Hickey","enquiry@christkng.bham.sch.uk","01214 649800",null,null,null,null,null,null,null,null,null,null,null,null,null,null,null,"Not applicable","Not applicable",null,"Not under a federation",null,null,null,null,null,null,"Warren Farm Road","Kingstanding",null,"Birmingham","West Midlands","B44 0QN",null,1214649800,"West Midlands",null,null,"3-11",null,"Primary",null,"Mr","Matthew","Emery",null,"Headteacher","West Midlands"]
[140529,47,{"$error":"#NAME?"},330,"Birmingham",3403,"St Nicholas Catholic Primary School","B73 5US","John Paul II Multi-academy","Academy Converter","Open","Archdiocese of Birmingham","08-12891356",null,"Mrs Broadhurst","Mrs","Marian","Broadhurst","enquiry@st-nicholas.bham.sch.uk","01213 552649",null,null,null,null,null,null,null,null,null,null,null,null,null,null,null,"Supported by a multi-academy trust","Linked to a sponsor","The John Paul II MAC (Sutton Coldfield)","Not applicable",null,10044508,null,null,null,null,"Jockey Road",null,null,"Sutton Coldfield","West Midlands","B73 5US",null,1213552649,"West Midlands",null,null,"4-11",null,"Primary",null,null,"Angela","Backen",null,"Headteacher","West Midlands"]
[141820,48,{"$error":"#NAME?"},330,"Birmingham",3358,"St James Catholic Primary School","B45 9BN","Lumen Christi Catholic Multi Academy Company","Academy Converter","Open","Archdiocese of Birmingham","08-20565893",null,"Mrs Parkes","Mrs","Jean","Parkes","enquiry@stjamescatholicprimary.co.uk","01214 532638",null,null,null,null,null,null,null,null,null,null,null,null,null,null,null,"Supported by a multi-academy trust","Linked to a sponsor","Lumen Christi Catholic MAC (South Birmingham)","Not applicable",null,10049286,null,null,null,null,"Leach Heath Lane","Rednal",null,"Birmingham","West Midlands","B45 9BN",null,1214532638,"West Midlands",null,null,"4-11",null,"Primary",null,"Miss","Teresa","Cotter",null,"Principal","West Midlands"]
[140525,49,{"$error":"#NAME?"},330,"Birmingham",3402,"Holy Cross Catholic Primary School","B76 2SP","John Paul II Multi-academy","Academy Converter","Open","Archdiocese of Birmingham","08-21293200",null,"School Business Manager ","School Business Manager",null,null,"enquiry@holycross-sch.net","01216 752158",null,null,null,null,null,null,null,null,null,null,null,null,null,null,null,"Supported by a multi-academy trust","Linked to a sponsor","The John Paul II MAC (Sutton Coldfield)","Not applicable",null,10044488,null,null,null,null,"Laburnum Drive","Walmley",null,"Sutton Coldfield","West Midlands","B76 2SP",null,1216752158,"West Midlands",null,null,"4-11",null,"Primary",null,null,"Rebecca","Nash",null,"Headteacher","West Midlands"]
[141815,50,{"$error":"#NAME?"},330,"Birmingham",3330,"St Brigid's Catholic Primary School","B31 5AB","Lumen Christi Catholic Multi Academy Company","Academy Converter","Open","Archdiocese of Birmingham","08-34366221",null,"Mrs Horton","Mrs","Elizabeth","Horton","E.Horton@stbrigid.bham.sch.uk","01214 642364",null,null,null,null,null,null,null,null,null,null,null,null,null,null,null,"Supported by a multi-academy trust","Linked to a sponsor","Lumen Christi Catholic MAC (South Birmingham)","Not applicable",null,10049287,null,null,null,null,"Frankley Beeches Road","Northfield",null,"Birmingham","West Midlands","B31 5AB",null,1214642364,"West Midlands",null,null,"3-11",null,"Primary",null,null,"Rebecca","Nash",null,null,"West Midlands"]
[141669,51,{"$error":"#NAME?"},330,"Birmingham",2154,"St Columba's Catholic Primary School","B45 8TD","Lumen Christi Catholic Multi Academy Company","Academy Sponsor Led","Open","Archdiocese of Birmingham","08-35293730",null,"Mrs Burton","Mrs","Tina","Burton","enquiry@stcolumba.bham.sch.uk","01216 754841",null,null,null,null,null,null,null,null,null,null,null,null,null,null,null,"Supported by a multi-academy trust","Linked to a sponsor","Lumen Christi Catholic MAC (South Birmingham)","Not applicable",null,10048241,null,null,null,null,"Lickey Road","Rednal",null,"Birmingham","West Midlands","B45 8TD",null,1216754841,"West Midlands",null,null,"4-11",null,"Primary",null,null,"Clare","Madden",null,"Headteacher","West Midlands"]
[141835,52,{"$error":"#NAME?"},330,"Birmingham",4616,"St Thomas Aquinas Catholic School","B38 8AP","Lumen Christi Catholic Multi Academy Company","Academy Converter","Open","Archdiocese of Birmingham","08-51673362",null,"School Business Manager ","School Business Manager",null,null,"enquiry@stacs.bham.sch.uk","01214 644643",null,null,null,null,null,null,null,null,null,null,null,null,null,null,null,"Supported by a multi-academy trust","Linked to a sponsor","Lumen Christi Catholic MAC (South Birmingham)","Not applicable",null,10049317,null,null,null,null,"Wychall Lane","Kings Norton",null,"Birmingham","West Midlands","B38 8AP",null,1214644643,"West Midlands",null,null,"11-18",null,"Secondary",null,null,"van Vliet","Clare","Bachelor of Ed","Headteacher","West Midlands"]
[141484,53,{"$error":"#NAME?"},330,"Birmingham",3374,"Our Lady of Fatima Catholic Primary School","B17 8TR","Saint Nicholas Owen Catholic Multi Academy Company","Academy Converter","Open","Archdiocese of Birmingham","08-52056180",null,"Mrs Scott","Mrs","Susan","Scott","enquiry@olfatima.bham.sch.uk","01214 292900",null,null,null,null,null,null,null,null,null,null,null,null,null,null,null,"Supported by a multi-academy trust","Linked to a sponsor","St Nicholas Owen MAC (North Worcestershire/Dudley/Birmingham)","Not applicable",null,10047632,null,null,null,null,"Winchfield Drive","Harborne",null,"Birmingham","West Midlands","B17 8TR",null,1214292900,"West Midlands",null,null,"5-11",null,"Primary",null,null,"Jackie","Tomlinson",null,"Principal","West Midlands"]
[141670,54,{"$error":"#NAME?"},330,"Birmingham",2158,"St Joseph's Catholic Primary School","B30 1HN","Lumen Christi Catholic Multi Academy Company","Academy Sponsor Led","Open","Archdiocese of Birmingham","08-81125367",null,"Ms Ribchester","Ms","Joanne","Ribchester","j.ribchester@stjosb30.bham.sch.uk","01214 582458",null,null,null,null,null,null,null,null,null,null,null,null,null,null,null,"Supported by a multi-academy trust","Linked to a sponsor","Lumen Christi Catholic MAC (South Birmingham)","Not applicable",null,10048242,null,null,null,null,"Selly Oak Road","Kings Norton",null,"Birmingham","West Midlands","B30 1HN",null,1214582458,"West Midlands",null,null,"4-11",null,"Primary",null,"Mr","John","Farrell","B.A. Hons","Principal","West Midlands"]
[140524,55,{"$error":"#NAME?"},330,"Birmingham",4661,"Bishop Walsh Catholic School","B76 1QT","John Paul II Multi-academy","Academy Converter","Open","Archdiocese of Birmingham","08-84209687",null,"Mrs Knott","Mrs","Dawn","Knott","enquiry@bishopwalsh.net","01213 513215",null,null,null,null,null,null,null,null,null,null,null,null,null,null,null,"Supported by a multi-academy trust","Linked to a sponsor","The John Paul II MAC (Sutton Coldfield)","Not applicable",null,10044481,null,null,null,null,"Wylde Green Road",null,null,"Sutton Coldfield","West Midlands","B76 1QT",null,1213513215,"West Midlands",null,null,"11-18",null,"Secondary",null,"Mr","Gerry","O'Hara","Bed Hons, Npqh","Principal","West Midlands"]
[140528,56,{"$error":"#NAME?"},330,"Birmingham",3401,"St Joseph's RC Primary School","B75 6PB","John Paul II Multi-academy","Academy Converter","Open","Archdiocese of Birmingham","08-86276299",null,"Mrs Ninan","Mrs","Anne","Ninan","enquiry@stjosb75.bham.sch.uk","01213 546270",null,null,null,null,null,null,null,null,null,null,null,null,null,null,null,"Supported by a multi-academy trust","Linked to a sponsor","The John Paul II MAC (Sutton Coldfield)","Not applicable",null,10044506,null,null,null,null,"Little Sutton Lane",null,null,"Sutton Coldfield","West Midlands","B75 6PB",null,1213546270,"West Midlands",null,null,"5-11",null,"Primary",null,null,"Mary","Daniels",null,"Headteacher","West Midlands"]
[141830,57,{"$error":"#NAME?"},330,"Birmingham",3366,"St Paul's Catholic Primary School","B38 9JB","Lumen Christi Catholic Multi Academy Company","Academy Converter","Open","Archdiocese of Birmingham","08-91447383",null,"Mrs Gaskin","Mrs","Dawn","Gaskin","d.gaskin@stpaulrc.bham.sch.uk","01214 641546",null,null,null,null,null,null,null,null,null,null,null,null,null,null,null,"Supported by a multi-academy trust","Linked to a sponsor","Lumen Christi Catholic MAC (South Birmingham)","Not applicable",null,10049282,null,null,null,null,"Sisefield Road","Kings Norton",null,"Birmingham","West Midlands","B38 9JB",null,1214641546,"West Midlands",null,null,"3-11",null,"Primary",null,"Mr","Matthew","Emery",null,"Executive Headteacher","West Midlands"]
[103442,58,{"$error":"#NAME?"},330,"Birmingham",3350,"St Mary and St John Junior and Infant School","B23 7NB",null,"Voluntary Aided School","Open","Archdiocese of Birmingham","08-39537395",null,"Mrs Scally","Mrs","Corinne ","Scally","c.scally@stmryjon.bham.sch.uk","01213 823522",null,null,null,null,null,null,null,null,null,null,null,null,null,null,null,"Not applicable","Not applicable",null,"Not under a federation",null,null,null,null,null,null,"Beaufort Road","Erdington",null,"Birmingham","West Midlands","B23 7NB",null,1213823522,"West Midlands",null,null,"3-11",null,"Primary",null,"Mr","G","Alexander",null,"Headteacher","West Midlands"]
[103541,59,{"$error":"#NAME?"},330,"Birmingham",4804,"Archbishop Ilsley Catholic School","B27 7XY",null,"Voluntary Aided School","Open","Archdiocese of Birmingham","08-83908580",null,"Mrs Burge","Mrs","Collette","Burge","collette.burge@ilsley.bham.sch.uk","01217 064200",null,null,null,null,null,null,null,null,null,null,null,null,null,null,null,"Not applicable","Not applicable",null,"Not under a federation",null,10000342,null,null,null,null,"Victoria Road","Acocks Green",null,"Birmingham","West Midlands","B27 7XY",null,1217064200,"West Midlands",null,null,"11-18",null,"Secondary",null,"Mrs","Rebecca","McKinney",null,"Headteacher","West Midlands"]
[103466,60,{"$error":"#NAME?"},330,"Birmingham",3381,"St Alban's Catholic Primary School","B14 5AL",null,"Voluntary Aided School","Open","Archdiocese of Birmingham","08-55952806",null,"School Office","School Office",null,null,"e.preece@stalbanrc.bham.sch.uk","01214 446530",null,null,null,null,null,null,null,null,null,null,null,null,null,null,null,"Not applicable","Not applicable",null,"Not under a federation",null,null,null,null,null,null,"Broad Lane","Kings Heath",null,"Birmingham","West Midlands","B14 5AL",null,1214446530,"West Midlands",null,null,"4-11",null,"Primary",null,"Mr","M","Aldred",null,"Headteacher","West Midlands"]
[103453,61,{"$error":"#NAME?"},330,"Birmingham",3361,"St Margaret Mary RC Junior and Infant School","B23 7AB",null,"Voluntary Aided School","Open","Archdiocese of Birmingham","08-50214677",null,"Mr Connaughton","Mr","Eddie","Connaughton","Eddie.Connaughton@drbmanagement.co.uk","01214 646355",null,null,null,null,null,null,null,null,null,null,null,null,null,null,null,"Not applicable","Not applicable",null,"Not under a federation",null,null,null,null,null,null,"Perry Common Road",null,"Erdington","Birmingham","West Midlands","B23 7AB",null,1214646355,"West Midlands",null,null,"3-11",null,"Primary",null,"Mrs","Pauline","David",null,"Headteacher","West Midlands"]
[103430,62,{"$error":"#NAME?"},330,"Birmingham",3328,"Our Lady of Lourdes Catholic Primary School (NC)","B13 0EU",null,"Voluntary Aided School","Open","Archdiocese of Birmingham","08-36644705",null,"Ms Griffin","Ms","Gloria","Griffin","enquiries@ourlady.bham.sch.uk","01214 442684",null,null,null,null,null,null,null,null,null,null,null,null,null,null,null,"Not applicable","Not applicable",null,"Not under a federation",null,null,null,null,null,null,"Trittiford Road","Yardley Wood",null,"Birmingham","West Midlands","B13 0EU",null,1214442684,"West Midlands",null,null,"3-11",null,"Primary",null,"Mrs","Catherine","Naughton",null,"Headteacher","West Midlands"]
[103420,63,{"$error":"#NAME?"},330,"Birmingham",3316,"Guardian Angels Catholic Primary School","B34 7HN",null,"Voluntary Aided School","Open","Archdiocese of Birmingham","08-41778146",null,"Mrs Sylva","Mrs","Maria","Sylva","enquiry@grdangel.bham.sch.uk","01217 472782",null,null,null,null,null,null,null,null,null,null,null,null,null,null,null,"Not applicable","Not applicable",null,"Not under a federation",null,null,null,null,null,null,"Hurst Lane","Shard End",null,"Birmingham","West Midlands","B34 7HN",null,1217472782,"West Midlands",null,null,"4-11",null,"Primary",null,"Mr","Kevin","Kelly",null,"Headteacher","West Midlands"]
[103429,64,{"$error":"#NAME?"},330,"Birmingham",3327,"Holy Souls Catholic Primary School","B27 6BN",null,"Voluntary Aided School","Open","Archdiocese of Birmingham","08-32445023",null,"Head Teacher","Ms","Head","Teacher","enquiry@holysoul.bham.sch.uk","01214 646780",null,null,null,null,null,null,null,null,null,null,null,null,null,null,null,"Not applicable","Not applicable",null,"Not under a federation",null,null,null,null,null,null,"Mallard Close","Acocks Green",null,"Birmingham","West Midlands","B27 6BN",null,1214646780,"West Midlands",null,null,"4-11",null,"Primary",null,"Mrs","Catherine","Dalzell",null,"Headteacher","West Midlands"]
[103426,65,{"$error":"#NAME?"},330,"Birmingham",3322,"Maryvale Catholic Primary School","B44 9AG",null,"Voluntary Aided School","Open","Archdiocese of Birmingham","08-41396896",null,"Mrs Chawner","Mrs","Denise","Chawner","enquiry@maryvale.bham.sch.uk","01216 751434",null,null,null,null,null,null,null,null,null,null,null,null,null,null,null,"Not applicable","Not applicable",null,"Not under a federation",null,null,null,null,null,null,"Old Oscott Hill","Kingstanding",null,"Birmingham","West Midlands","B44 9AG",null,1216751434,"West Midlands",null,null,"3-11",null,"Primary",null,"Mrs","Mary","Johnson",null,"Head Teacher","West Midlands"]
[103449,66,{"$error":"#NAME?"},330,"Birmingham",3357,"Our Lady's Catholic Primary School","B33 0AU",null,"Voluntary Aided School","Open","Archdiocese of Birmingham","08-20925419",null,"Mrs Henny","Mrs",null,"Henny","enquiry@ourladys.bham.sch.uk","01214 644459",null,null,null,null,null,null,null,null,null,null,null,null,null,null,null,"Not applicable","Not applicable",null,"Not under a federation",null,null,null,null,null,null,"East Meadway","Tile Cross",null,"Birmingham","West Midlands","B33 0AU",null,1214644459,"West Midlands",null,null,"4-11",null,"Primary",null,"Mrs","Anne","Norris",null,"Headteacher","West Midlands"]
[103428,67,{"$f":"_xlfn.CONCAT(D68,F68)","v":{"$error":"#NAME?"}},330,"Birmingham",3325,"The Rosary Catholic Primary School","B8 3SF",null,"Voluntary Aided School","Open","Archdiocese of Birmingham","08-51508993",null,"Mrs Heeley","Mrs","G","Heeley","enquiry@rosaryrc.bham.sch.uk","01214 644519",null,null,null,null,null,null,null,null,null,null,null,null,null,null,null,"Not applicable","Not applicable",null,"Not under a federation",null,null,null,null,null,null,"Bridge Road","Saltley",null,"Birmingham","West Midlands","B8 3SF",null,1214644519,"West Midlands",null,null,"3-11",null,"Primary",null,"Mrs","M","Winters",null,"Headteacher","West Midlands"]
[103465,68,{"$error":"#NAME?"},330,"Birmingham",3380,"St Ambrose Barlow Catholic Primary School","B28 9JJ",null,"Voluntary Aided School","Open","Archdiocese of Birmingham","08-85931032",null,"Mrs Keely","Mrs","B","Keely","enquiry@sab.bham.sch.uk","01214 642791",null,null,null,null,null,null,null,null,null,null,null,null,null,null,null,"Not applicable","Not applicable",null,"Not under a federation",null,null,null,null,null,null,"841 Shirley Road","Hall Green",null,"Birmingham","West Midlands","B28 9JJ",null,1214642791,"West Midlands",null,null,"5-11",null,"Primary",null,"Mrs","Lisa","Fahy",null,"Headteacher","West Midlands"]
[103477,69,{"$error":"#NAME?"},330,"Birmingham",3409,"Sacred Heart Catholic School","B20 3AE",null,"Voluntary Aided School","Open","Archdiocese of Birmingham","08-70616089",null,"Ms Armstrong","Ms","Marie ","Armstrong","enquiry@sacredheart.bham.sch.uk","01213 564721",null,null,null,null,null,null,null,null,null,null,null,null,null,null,null,"Not applicable","Not applicable",null,"Not under a federation",null,null,null,null,null,null,"Earlsbury Gardens","Birchfield",null,"Birmingham","West Midlands","B20 3AE",null,1213564721,"West Midlands",null,null,"4-11",null,"Primary",null,"Mrs","Wendell","Gopaul",null,"Headteacher","West Midlands"]
[103434,70,{"$error":"#NAME?"},330,"Birmingham",3335,"St Anne's Catholic Primary School","B12 0ER",null,"Voluntary Aided School","Open","Archdiocese of Birmingham","08-37605304",null,"Mrs Van Hagen","Mrs","A","Van Hagen","enquiry@st-annes.bham.sch.uk","01216 755037",null,null,null,null,null,null,null,null,null,null,null,null,null,null,null,"Not applicable","Not applicable",null,"Not under a federation",null,null,null,null,null,null,"Lowe Street",null,"Camp Hill","Birmingham","West Midlands","B12 0ER",null,1216755037,"West Midlands",null,null,"4-11",null,"Primary",null,"Mrs","Mary","Stanley","Bed Hons/Npqh","Headteacher","West Midlands"]
[103431,71,{"$error":"#NAME?"},330,"Birmingham",3329,"St Augustine's Catholic Primary School","B21 8ED",null,"Voluntary Aided School","Open","Archdiocese of Birmingham","08-22732870",null,"Mrs Figgins","Mrs","Mary","Figgins","enquiry@staugust.bham.sch.uk","01215 545069",null,null,null,null,null,null,null,null,null,null,null,null,null,null,null,"Not applicable","Not applicable",null,"Not under a federation",null,null,null,null,null,null,"Avenue Road","Handsworth",null,"Birmingham","West Midlands","B21 8ED",null,1215545069,"West Midlands",null,null,"3-11",null,"Primary",null,null,"Patrick","Oleary",null,"Headteacher","West Midlands"]
[103462,72,{"$error":"#NAME?"},330,"Birmingham",3375,"St Bernard's Catholic Primary School","B13 9QE",null,"Voluntary Aided School","Open","Archdiocese of Birmingham","08-48250696",null,"School Office","School Office",null,null,"enquiry@st-bernards.bham.sch.uk","01214 643795",null,null,null,null,null,null,null,null,null,null,null,null,null,null,null,"Not applicable","Not applicable",null,"Not under a federation",null,null,null,null,null,null,"Wake Green Road",null,null,"Birmingham","West Midlands","B13 9QE",null,1214643795,"West Midlands",null,null,"5-11",null,"Primary",null,"Mr","Liam","Fadden",null,"Headteacher","West Midlands"]
[103433,73,{"$error":"#NAME?"},330,"Birmingham",3331,"St Catherine of Siena Catholic Primary School","B15 2AY",null,"Voluntary Aided School","Open","Archdiocese of Birmingham","08-16240690",null,"Mrs Turner","Mrs",null,"Turner","enquiry@stcathrc.bham.sch.uk","01216 921051",null,null,null,null,null,null,null,null,null,null,null,null,null,null,null,"Not applicable","Not applicable",null,"Not under a federation",null,null,null,null,null,null,"Great Colmore Street","Lee Bank",null,"Birmingham","West Midlands","B15 2AY",null,1216921051,"West Midlands",null,null,"3-11",null,"Primary",null,"Mr","Matthew","Tehan",null,"Headteacher","West Midlands"]
[103435,74,{"$error":"#NAME?"},330,"Birmingham",3337,"St Chad's Catholic Primary School","B19 3XD",null,"Voluntary Aided School","Open","Archdiocese of Birmingham","08-86828581",null,"Mrs Hemmings","Mrs","Marie","Hemmings","enquiry@st-chads.bham.sch.uk","01214 646554",null,null,null,null,null,null,null,null,null,null,null,null,null,null,null,"Not applicable","Not applicable",null,"Not under a federation",null,null,null,null,null,null,"Hospital Street","Newtown",null,"Birmingham","West Midlands","B19 3XD",null,1214646554,"West Midlands",null,null,"4-11",null,"Primary",null,"Mrs","Victoria","Rivett",null,"Headteacher","West Midlands"]
[103476,75,{"$error":"#NAME?"},330,"Birmingham",3406,"St Clare's Catholic Primary School","B20 3RT",null,"Voluntary Aided School","Open","Archdiocese of Birmingham","08-17256391",null,"Mrs Naughton","Mrs","Marie","Naughton","enquiry@stclare.bham.sch.uk","01215 543289",null,null,null,null,null,null,null,null,null,null,null,null,null,null,null,"Not applicable","Not applicable",null,"Not under a federation",null,null,null,null,null,null,"Robert Road","Handsworth",null,"Birmingham","West Midlands","B20 3RT",null,1215543289,"West Midlands",null,null,"3-11",null,"Primary",null,"Mrs","Sarah","Hobbs",null,"Headteacher","West Midlands"]
[103470,76,{"$error":"#NAME?"},330,"Birmingham",3386,"St Cuthbert's RC Junior and Infant (NC) School","B8 2PS",null,"Voluntary Aided School","Open","Archdiocese of Birmingham","08-25756345",null,"Mrs Ashmore","Mrs","Anne","Ashmore","enquiry@stcuthbt.bham.sch.uk","01216 752205",null,null,null,null,null,null,null,null,null,null,null,null,null,null,null,"Not applicable","Not applicable",null,"Not under a federation",null,null,null,null,null,null,"Gumbleberrys Close","Off Cotterills Lane","Stechford","Birmingham","West Midlands","B8 2PS",null,1216752205,"West Midlands",null,null,"3-11",null,"Primary",null,"Mr","John","Kenny",null,"Head Teacher","West Midlands"]
[103455,77,{"$error":"#NAME?"},330,"Birmingham",3363,"St Dunstan's Catholic Primary School","B14 7LP",null,"Voluntary Aided School","Open","Archdiocese of Birmingham","08-13504426",null,"Mrs Gibbride","Mrs",null,"Gibbride","enquiry@stdunstans.bham.sch.uk","01214 644648",null,null,null,null,null,null,null,null,null,null,null,null,null,null,null,"Not applicable","Not applicable",null,"Not under a federation",null,null,null,null,null,null,"Drayton Road","Kings Heath",null,"Birmingham","West Midlands","B14 7LP",null,1214644648,"West Midlands",null,null,"3-11",null,"Primary",null,"Mrs","Joanne","Kennett",null,"Headteacher","West Midlands"]
[103447,78,{"$error":"#NAME?"},330,"Birmingham",3355,"St Edward's Catholic Primary School","B29 7PN",null,"Voluntary Aided School","Open","Archdiocese of Birmingham","08-43635402",null,"Miss Sankey","Miss","Katrina","Sankey","enquiry@stedward.bham.sch.uk","01214 641730",null,null,null,null,null,null,null,null,null,null,null,null,null,null,null,"Not applicable","Not applicable",null,"Not under a federation",null,null,null,null,null,null,"Greenland Road","Selly Park",null,"Birmingham","West Midlands","B29 7PN",null,1214641730,"West Midlands",null,null,"4-11",null,"Primary",null,"Mr","David","Hird",null,"Headteacher","West Midlands"]
[103458,79,{"$error":"#NAME?"},330,"Birmingham",3367,"St Gerard's RC Junior and Infant School","B35 6LB",null,"Voluntary Aided School","Open","Archdiocese of Birmingham","08-71923173",null,"Mrs Nicholls","Mrs",null,"Nicholls","enquiry@stgerard.bham.sch.uk","01214 642613",null,null,null,null,null,null,null,null,null,null,null,null,null,null,null,"Not applicable","Not applicable",null,"Not under a federation",null,null,null,null,null,null,"Yatesbury Avenue","Castle Vale",null,"Birmingham","West Midlands","B35 6LB",null,1214642613,"West Midlands",null,null,"3-11",null,"Primary",null,"Mrs","Anna","Murphy","B. Ed. (Hons.)","Headteacher","West Midlands"]
[103452,80,{"$error":"#NAME?"},330,"Birmingham",3360,"St John Fisher Catholic Primary School","B31 3PN",null,"Voluntary Aided School","Open","Archdiocese of Birmingham","08-31338164",null,"Mrs Bentley","Mrs","Debby","Bentley","enquiry@stjonfsh.bham.sch.uk","01214 753489",null,null,null,null,null,null,null,null,null,null,null,null,null,null,null,"Not applicable","Not applicable",null,"Not under a federation",null,null,null,null,null,null,"Alvechurch Road","West Heath",null,"Birmingham","West Midlands","B31 3PN",null,1214753489,"West Midlands",null,null,"4-11",null,"Primary",null,"Mrs","Eileen","Walker",null,"Headteacher","West Midlands"]
[103478,81,{"$error":"#NAME?"},330,"Birmingham",3410,"St John and Monica Catholic Primary School","B13 8DW",null,"Voluntary Aided School","Open","Archdiocese of Birmingham","08-49639454",null,"Mrs Broadhurst","Mrs","T","Broadhurst","enquiry@stjonmon.bham.sch.uk","01214 645868",null,null,null,null,null,null,null,null,null,null,null,null,null,null,null,"Not applicable","Not applicable",null,"Not under a federation",null,null,null,null,null,null,"Chantry Road","Moseley",null,"Birmingham","West Midlands","B13 8DW",null,1214645868,"West Midlands",null,null,"4-11",null,"Primary",null,"Mr","Malcolm","Tipping","Ba (Qts) Hons, Npqh","Headteacher","West Midlands"]
[103463,82,{"$error":"#NAME?"},330,"Birmingham",3377,"St Jude's Catholic Primary School","B14 5PD",null,"Voluntary Aided School","Open","Archdiocese of Birmingham","08-37645630",null,"Mrs Russell","Mrs","Cathy","Russell","enquiry@stjuderc.bham.sch.uk","01214 645069",null,null,null,null,null,null,null,null,null,null,null,null,null,null,null,"Not applicable","Not applicable",null,"Not under a federation",null,null,null,null,null,null,"St Jude's Close","Maypole",null,"Birmingham","West Midlands","B14 5PD",null,1214645069,"West Midlands",null,null,"4-11",null,"Primary",null,"Mr","Stephen","Murphy",null,"Headteacher","West Midlands"]
[103468,83,{"$error":"#NAME?"},330,"Birmingham",3383,"St Mark's Catholic Primary School","B42 1NU",null,"Voluntary Aided School","Open","Archdiocese of Birmingham","08-70626337",null,"Mrs Hussain","Mrs","Shugusta","Hussain","enquiry@stmarkrc.bham.sch.uk","01213 579892",null,null,null,null,null,null,null,null,null,null,null,null,null,null,null,"Not applicable","Not applicable",null,"Not under a federation",null,null,null,null,null,null,"Almond Croft","Old Walsall Road","Great Barr","Birmingham","West Midlands","B42 1NU",null,1213579892,"West Midlands",null,null,"4-11",null,"Primary",null,null,"Helena","Cusack",null,"Headteacher","West Midlands"]
[103438,84,{"$error":"#NAME?"},330,"Birmingham",3344,"St Mary's Catholic Primary School","B17 0DN",null,"Voluntary Aided School","Open","Archdiocese of Birmingham","08-18470463",null,"Mrs Shepherd","Mrs","R","Shepherd","enquiry@stmaryrc.bham.sch.uk","01214 642141",null,null,null,null,null,null,null,null,null,null,null,null,null,null,null,"Not applicable","Not applicable",null,"Not under a federation",null,null,null,null,null,null,"Vivian Road","Harborne",null,"Birmingham","West Midlands","B17 0DN",null,1214642141,"West Midlands",null,null,"4-11",null,"Primary",null,"Ms","Alison","Pickin",null,"Headteacher","West Midlands"]
[103469,85,{"$error":"#NAME?"},330,"Birmingham",3385,"St Peter's Catholic Primary School","B32 3QD",null,"Voluntary Aided School","Open","Archdiocese of Birmingham","08-32703538",null,"Mrs Slight","Mrs","Ann","Slight","enquiry@stpeterc.bham.sch.uk","01214 646921",null,null,null,null,null,null,null,null,null,null,null,null,null,null,null,"Not applicable","Not applicable",null,"Not under a federation",null,null,null,null,null,null,"Adams Hill","Bartley Green",null,"Birmingham","West Midlands","B32 3QD",null,1214646921,"West Midlands",null,null,"4-11",null,"Primary",null,"Mr","Declan","Corkery",null,"Headteacher","West Midlands"]
[103456,86,{"$error":"#NAME?"},330,"Birmingham",3365,"St Teresa's Catholic Primary School","B20 2NY",null,"Voluntary Aided School","Open","Archdiocese of Birmingham","08-12515563",null,"Mrs Connel","Mrs","Phillipa","Connel","enquiry@stteresa.bham.sch.uk","01215 549581",null,null,null,null,null,null,null,null,null,null,null,null,null,null,null,"Not applicable","Not applicable",null,"Not under a federation",null,null,null,null,null,null,"Butlers Road","Handsworth Wood",null,"Birmingham","West Midlands","B20 2NY",null,1215549581,"West Midlands",null,null,"4-11",null,"Primary",null,"Mrs","Janet","Tibbits",null,"Headteacher","West Midlands"]
[103417,87,{"$error":"#NAME?"},330,"Birmingham",3310,"St Vincent's Catholic Primary School","B7 4HP",null,"Voluntary Aided School","Open","Archdiocese of Birmingham","08-10231320",null,"Mrs Paur","Mrs","Sally","Paur","enquiry@stvincnt.bham.sch.uk","01216 752359",null,null,null,null,null,null,null,null,null,null,null,null,null,null,null,"Not applicable","Not applicable",null,"Not under a federation",null,null,null,null,null,null,"Vauxhall Grove","Vauxhall",null,"Birmingham","West Midlands","B7 4HP",null,1216752359,"West Midlands",null,null,"3-11",null,"Primary",null,"Mr","R","Baker","B Ed (Hons), N.P.Q.H","Headteacher","West Midlands"]
[103451,88,{"$error":"#NAME?"},330,"Birmingham",3359,"St Wilfrid's Catholic Junior and Infant School","B36 8LY",null,"Voluntary Aided School","Open","Archdiocese of Birmingham","08-31058579",null,"Mrs Hansford","Mrs","Jill","Hansford","enquiry@stwilfrd.bham.sch.uk","01216 753319",null,null,null,null,null,null,null,null,null,null,null,null,null,null,null,"Not applicable","Not applicable",null,"Not under a federation",null,null,null,null,null,null,"Shawsdale Road",null,null,"Birmingham","West Midlands","B36 8LY",null,1216753319,"West Midlands",null,null,"3-11",null,"Primary",null,"Mrs","Jackie","Tomlinson",null,"Headteacher","West Midlands"]
[103467,89,{"$error":"#NAME?"},330,"Birmingham",3382,"St Martin de Porres Catholic Primary School","B13 9DN",null,"Voluntary Aided School","Open","Archdiocese of Birmingham","08-76956243",null,"Ms Vincent","Ms","Tracey","Vincent","e-sullivan@st-martindeporres.bham.sch.uk","01214 645500",null,null,null,null,null,null,null,null,null,null,null,null,null,null,null,"Not applicable","Not applicable",null,"Not under a federation",null,null,null,null,null,null,"Oakland Road",null,null,"Birmingham","West Midlands","B13 9DN",null,1214645500,"West Midlands",null,null,"4-11",null,"Primary",null,"Mrs","Christina","Stewardson",null,"Headteacher","West Midlands"]
[103539,90,{"$error":"#NAME?"},330,"Birmingham",4801,"Cardinal Wiseman Catholic School","B44 9SR",null,"Voluntary Aided School","Open","Archdiocese of Birmingham","08-97658526",null,"Mrs Binder","Mrs","Georgina","Binder","g.binder@cardinalwiseman.bham.sch.uk","01213 606383",null,null,null,null,null,null,null,null,null,null,null,null,null,null,null,"Not applicable","Not applicable",null,"Not under a federation",null,10015453,null,null,null,null,"Old Oscott Hill","Kingstanding",null,"Birmingham","West Midlands","B44 9SR",null,1213606383,"West Midlands",null,null,"11-16",null,"Secondary",null,"Dr","Dawn","Casserly",null,"Headteacher","West Midlands"]
[103531,91,{"$error":"#NAME?"},330,"Birmingham",4606,"St Paul's School for Girls","B16 9SL",null,"Voluntary Aided School","Open","Archdiocese of Birmingham","08-87722499",null,"Mrs Jovic","Mrs","Gordana","Jovic","g.jovic@stpaulgl.bham.sch.uk","01214 540895",null,null,null,null,null,null,null,null,null,null,null,null,null,null,null,"Not applicable","Not applicable",null,"Not under a federation",null,10006246,null,null,null,null,"Vernon Road","Edgbaston",null,"Birmingham","West Midlands","B16 9SL",null,1214540895,"West Midlands",null,null,"11-18",null,"Secondary",null,"Miss","Angela","Cowings",null,"Headteacher","West Midlands"]
[103460,92,{"$error":"#NAME?"},330,"Birmingham",3372,"St Bernadette's Catholic Primary School","B25 8QL",null,"Voluntary Aided School","Open","Archdiocese of Birmingham","08-98613166",null,"Mrs McGill","Mrs",null,"McGill","h-mcgill@stberns.bham.sch.uk","01217 837232",null,null,null,null,null,null,null,null,null,null,null,null,null,null,null,"Not applicable","Not applicable",null,"Not under a federation",null,null,null,null,null,null,"Hobmoor Road","Yardley",null,"Birmingham","West Midlands","B25 8QL",null,1217837232,"West Midlands",null,null,"4-11",null,"Primary",null,"Mrs","Clare","Dickinson","Ba Hons, Pgce, Npqh","Headteacher","West Midlands"]
[103427,93,{"$error":"#NAME?"},330,"Birmingham",3323,"The Oratory Roman Catholic Primary School","B16 9ER",null,"Voluntary Aided School","Open","Archdiocese of Birmingham","08-81711966",null,"Ms Lowe","Ms","Julia","Lowe","j.lowe@oratory.bham.sch.uk","01214 540600",null,null,null,null,null,null,null,null,null,null,null,null,null,null,null,"Not applicable","Not applicable",null,"Not under a federation",null,null,null,null,null,null,"Oliver Road","Ladywood",null,"Birmingham","West Midlands","B16 9ER",null,1214540600,"West Midlands",null,null,"3-11",null,"Primary",null,null,"Julie","Taylor",null,"Headteacher","West Midlands"]
[103424,94,{"$error":"#NAME?"},330,"Birmingham",3320,"Corpus Christi Catholic Primary School","B33 8BL",null,"Voluntary Aided School","Open","Archdiocese of Birmingham","08-30678059",null,"Mrs Earles","Mrs","Jane","Earles","jane.earles@corpuschristi.bham.sch.uk","01217 832784",null,null,null,null,null,null,null,null,null,null,null,null,null,null,null,"Not applicable","Not applicable",null,"Not under a federation",null,null,null,null,null,null,"Lyttelton Road","Stechford",null,"Birmingham","West Midlands","B33 8BL",null,1217832784,"West Midlands",null,null,"4-11",null,"Primary",null,"Mr","Kevin","McEvoy",null,"Principal","West Midlands"]
[103560,95,{"$error":"#NAME?"},330,"Birmingham",5413,"Bishop Challoner Catholic College","B14 7EG",null,"Voluntary Aided School","Open","Archdiocese of Birmingham","08-43127152",null,"Mrs Hall","Mrs","Kate","Hall","k.hall@bishopchalloner.bham.sch.uk","01214 444161",null,null,null,null,null,null,null,null,null,null,null,null,null,null,null,"Not applicable","Not applicable",null,"Not under a federation",null,10000722,null,null,null,null,"Institute Road","Kings Heath",null,"Birmingham","West Midlands","B14 7EG",null,1214444161,"West Midlands",null,null,"11-18",null,"Secondary",null,"Mrs","Mary","O'friel",null,"Executive Headteacher","West Midlands"]
[103440,96,{"$error":"#NAME?"},330,"Birmingham",3347,"St Edmund's Catholic Primary School","B18 7PA",null,"Voluntary Aided School","Open","Archdiocese of Birmingham","08-21512366",null,"Ms Mallaby","Ms","Kay","Mallaby","k.mallaby@stedmund.bham.sch.uk","01215 237274",null,null,null,null,null,null,null,null,null,null,null,null,null,null,null,"Not applicable","Not applicable",null,"Supported by a federation","Rochdale's RC Federation",null,null,null,null,null,"Rosebery Street","Springhill",null,"Birmingham","West Midlands","B18 7PA",null,1215237274,"West Midlands",null,null,"3-11",null,"Primary",null,"Sister","Susan","Collins",null,"Headteacher","West Midlands"]
[103441,97,{"$error":"#NAME?"},330,"Birmingham",3349,"St Thomas More Catholic Primary School","B26 3HU",null,"Voluntary Aided School","Open","Archdiocese of Birmingham","08-11569591",null,"Ms Hall","Ms","Kelly","Hall","Kelly.Hall@birmingham.gov.uk","01217 433289",null,null,null,null,null,null,null,null,null,null,null,null,null,null,null,"Not applicable","Not applicable",null,"Not under a federation",null,null,null,null,null,null,"Horse Shoes Lane","Sheldon",null,"Birmingham","West Midlands","B26 3HU",null,1217433289,"West Midlands",null,null,"5-11",null,"Primary",null,"Mr","Colin","Crehan",null,"Headteacher","West Midlands"]
[103538,98,{"$error":"#NAME?"},330,"Birmingham",4664,"Holy Trinity Catholic Media Arts College","B10 0AX",null,"Voluntary Aided School","Open","Archdiocese of Birmingham","08-51356354",null,"Mrs Smith","Mrs","Michelle","Smith","msmith@holytrc.bham.sch.uk","01217 720184",null,null,null,null,null,null,null,null,null,null,null,null,null,null,null,"Not applicable","Not applicable",null,"Not under a federation",null,10015863,null,null,null,null,"Oakley Road","Small Heath",null,"Birmingham","West Midlands","B10 0AX",null,1217720184,"West Midlands",null,null,"11-16",null,"Secondary",null,"Mr","J","Cramb",null,"Headteacher","West Midlands"]
[103566,99,{"$error":"#NAME?"},330,"Birmingham",6002,"The Priory School","B15 2UR",null,"Other Independent School","Open","Archdiocese of Birmingham","08-10345310",null,"Mr Murphy","Mr","Paul","Murphy","p.murphy@prioryschool.net","01214 404103",null,null,null,null,null,null,null,null,null,null,null,null,null,null,null,"Not applicable","Not applicable",null,"Not applicable",null,10014005,null,null,null,null,"Sir Harry's Road","Edgbaston",null,"Birmingham","West Midlands","B15 2UR",null,1214404103,"West Midlands",null,null,"0-18",null,"Secondary",null,"Mrs","Evelyn","Harper",null,"Headteacher","West Midlands"]
[103425,100,{"$error":"#NAME?"},330,"Birmingham",3321,"English Martyrs' Catholic Primary School","B11 3JW",null,"Voluntary Aided School","Open","Archdiocese of Birmingham","08-51760454",null,"Mr Griffin","Mr","Steve","Griffin","r.price@englishmartyrs.bham.sch.uk","01214 643150",null,null,null,null,null,null,null,null,null,null,null,null,null,null,null,"Not applicable","Not applicable",null,"Not under a federation",null,null,null,null,null,null,"Evelyn Road","Sparkhill",null,"Birmingham","West Midlands","B11 3JW",null,1214643150,"West Midlands",null,null,"4-11",null,"Primary",null,"Ms","Julie-Anne","Tallon",null,"Headteacher","West Midlands"]
[103422,101,{"$error":"#NAME?"},330,"Birmingham",3318,"Abbey Catholic Primary School","B23 6QL",null,"Voluntary Aided School","Open","Archdiocese of Birmingham","08-47147809",null,"Ms Cope","Ms","Sarah","Cope","S.cope@abbeyrc.bham.sch.uk","01213 731793",null,null,null,null,null,null,null,null,null,null,null,null,null,null,null,"Not applicable","Not applicable",null,"Not under a federation",null,null,null,null,null,null,"Sutton Road",null,"Erdington","Birmingham","West Midlands","B23 6QL",null,1213731793,"West Midlands",null,null,"4-11",null,"Primary",null,"Mrs","M","O'friel",null,"Headteacher","West Midlands"]
[103439,102,{"$error":"#NAME?"},330,"Birmingham",3346,"St Patrick's Catholic Primary School","B18 7QW",null,"Voluntary Aided School","Open","Archdiocese of Birmingham","08-60319468",null,"Mrs Longhorn","Mrs","Sue","Longhorn","s.longhorn@stpatrc.bham.sch.uk","01216 750767",null,null,null,null,null,null,null,null,null,null,null,null,null,null,null,"Not applicable","Not applicable",null,"Supported by a federation","Rochdale's RC Federation",null,null,null,null,null,"Dudley Road",null,null,"Birmingham","West Midlands","B18 7QW",null,1216750767,"West Midlands",null,null,"4-11",null,"Primary",null,"Mrs","Philomena","Steele",null,"Headteacher","West Midlands"]
[103537,103,{"$error":"#NAME?"},330,"Birmingham",4663,"St Edmund Campion Catholic School & Sixth Form Centre","B23 5XA",null,"Voluntary Aided School","Open","Archdiocese of Birmingham","08-64291933",null,"Mr Sarjeant","Mr","Peter ","Sarjeant","sarjeantp@stedcamp.bham.sch.uk","01214 647700",null,null,null,null,null,null,null,null,null,null,null,null,null,null,null,"Not applicable","Not applicable",null,"Not under a federation",null,10006151,null,null,null,null,"Sutton Road","Erdington",null,"Birmingham","West Midlands","B23 5XA",null,1214647700,"West Midlands",null,null,"11-18",null,"Secondary",null,"Mr","Anthony","Quinn","(Hons) Npqh","Executive Headteacher","West Midlands"]
[103534,104,{"$error":"#NAME?"},330,"Birmingham",4625,"St John Wall Catholic School","B21 8HH",null,"Voluntary Aided School","Open","Archdiocese of Birmingham","08-15716655",null,"Mr McNeill","Mr","Tony","McNeill","tmcneill@sjw.bham.sch.uk","01215 541825",null,null,null,null,null,null,null,null,null,null,null,null,null,null,null,"Not applicable","Not applicable",null,"Not under a federation",null,10017757,null,null,null,null,"Oxhill Road","Handsworth",null,"Birmingham","West Midlands","B21 8HH",null,1215541825,"West Midlands",null,null,"11-16",null,"Secondary",null,"Mr","Peter","Foley",null,"Headteacher","West Midlands"]
[103421,105,{"$error":"#NAME?"},330,"Birmingham",3317,"Holy Family Catholic Primary School","B10 0HT",null,"Voluntary Aided School","Open","Archdiocese of Birmingham","08-41715718",null,"Ms Gibbons","Ms","Val","Gibbons","v.gibbons@holyfam.bham.sch.uk","01216 752670",null,null,null,null,null,null,null,null,null,null,null,null,null,null,null,"Not applicable","Not applicable",null,"Not under a federation",null,null,null,null,null,null,"Coventry Road",null,null,"Birmingham","West Midlands","B10 0HT",null,1216752670,"West Midlands",null,null,"3-11",null,"Primary",null,"Mrs","Alison","Treadwell",null,"Headteacher","West Midlands"]
[103436,106,{"$error":"#NAME?"},330,"Birmingham",3339,"St Joseph's Catholic Primary School","B7 5HA",null,"Voluntary Aided School","Open","Archdiocese of Birmingham","08-74165366",null,"Mrs Watchorn","Mrs","Vivien","Watchorn","vivien.watchorn@stjosb7.bham.sch.uk","01214 648140",null,null,null,null,null,null,null,null,null,null,null,null,null,null,null,"Not applicable","Not applicable",null,"Not under a federation",null,null,null,null,null,null,"Rocky Lane","Nechells",null,"Birmingham","West Midlands","B7 5HA",null,1214648140,"West Midlands",null,null,"4-11",null,"Primary",null,"Mr","Neil","Porter",null,"Headteacher","West Midlands"]
[103454,107,{"$error":"#NAME?"},330,"Birmingham",3362,"St Peter and St Paul RC Junior and Infant School","B24 9ND",null,"Voluntary Aided School","Open","Archdiocese of Birmingham","08-28075936",null,"Mrs Wright","Mrs","Wendy","Wright","w.wright@ssptrpl.bham.sch.uk","01216 756028",null,null,null,null,null,null,null,null,null,null,null,null,null,null,null,"Not applicable","Not applicable",null,"Not under a federation",null,null,null,null,null,null,"Kingsbury Road","Erdington",null,"Birmingham","West Midlands","B24 9ND",null,1216756028,"West Midlands",null,null,"4-11",null,"Primary",null,"Mrs","Suzan","O'meally",null,"Headteacher","West Midlands"]
[103443,108,{"$error":"#NAME?"},330,"Birmingham",3351,"Our Lady and St Rose of Lima Catholic Primary School","B29 5DY",null,"Voluntary Aided School","Open","Archdiocese of Birmingham","08-79466280",null,"School Office","School Office",null,null,"enquiry@olstrose.bham.sch.uk","01214 642283",null,null,null,null,null,null,null,null,null,null,null,null,null,null,null,"Not applicable","Not applicable",null,"Not under a federation",null,null,null,null,null,null,"Gregory Avenue","Weoley Castle",null,"Birmingham","West Midlands","B29 5DY",null,1214642283,"West Midlands",null,null,"3-11",null,"Primary",null,"Mrs","Martina","Staffa",null,"Headteacher","North West"]
[119512,109,{"$error":"#NAME?"},889,"Blackburn with Darwen",3505,"Our Lady of Perpetual Succour Roman Catholic Primary School Blackburn","BB2 3UG",null,"Voluntary Aided School","Open","Diocese of Salford","24-40639198",null,"Mrs Blackburn","Mrs","Vikki","Blackburn","office@olps@blackburn.sch.uk","01254 59420",null,null,null,null,null,null,null,null,null,null,null,null,null,null,null,"Not applicable","Not applicable",null,"Not under a federation",null,null,null,null,null,null,"Holmbrook Close",null,null,"Blackburn","Lancashire","BB2 3UG",null,125459420,"North West",null,null,"4-11",null,"Primary",null,"Mr","Patrick","Murden",null,"Headteacher","North West"]
[119790,110,{"$error":"#NAME?"},889,"Blackburn with Darwen",4629,"Our Lady and St John Catholic College","BB1 1PY",null,"Voluntary Aided School","Open","Diocese of Salford","24-81776412",null,"Mrs Penarski","Mrs","Ursula","Penarski","U.Penarski@olsj.blackburn.sch.uk","01254 588388",null,null,null,null,null,null,null,null,null,null,null,null,null,null,null,"Not applicable","Not applicable",null,"Not under a federation",null,10016880,null,null,null,null,"North Road",null,null,"Blackburn","Lancashire","BB1 1PY",null,1254588388,"North West",null,null,"11-16",null,"Secondary",null,"Mrs","Heather","McGowan",null,"Headteacher","North West"]
[119516,111,{"$error":"#NAME?"},889,"Blackburn with Darwen",3512,"St Antony's RC Primary School","BB1 2HP",null,"Voluntary Aided School","Open","Diocese of Salford","24-11291381",null,"Mrs Bell","Mrs","Wendy","Bell","admin@stantonysrc.co.uk","01254 54686",null,null,null,null,null,null,null,null,null,null,null,null,null,null,null,"Not applicable","Not applicable",null,"Not under a federation",null,null,null,null,null,null,"Shadsworth Road",null,null,"Blackburn","Lancashire","BB1 2HP",null,125454686,"North West",null,null,"3-11",null,"Primary",null,"Mr","Gerard","Keane",null,"Headteacher","North West"]
[119666,112,{"$error":"#NAME?"},889,"Blackburn with Darwen",3778,"St Edward's Roman Catholic Primary School Blackburn","BB3 0AA",null,"Voluntary Aided School","Open","Diocese of Salford","24-45343516",null,"Mrs Douglas","Mrs",null,"Douglas","bursar@stedwards.blackburn.sch.uk","01254 701616",null,null,null,null,null,null,null,null,null,null,null,null,null,null,null,"Not applicable","Not applicable",null,"Not under a federation",null,null,null,null,null,null,"Blackburn Road",null,null,"Darwen","Lancashire","BB3 0AA",null,1254701616,"North West",null,null,"4-11",null,"Primary",null,"Mr","Des","Callaghan",null,"Headteacher","North West"]
[119793,113,{"$error":"#NAME?"},889,"Blackburn with Darwen",4632,"St Bede's Roman Catholic High School, Blackburn","BB2 4SR",null,"Voluntary Aided School","Open","Diocese of Salford","24-87827591",null,"Ms Taylor","Ms","Jacqueline","Taylor","jtaylor871@stbedes.learningfutures.org.uk","01254 202519",null,null,null,null,null,null,null,null,null,null,null,null,null,null,null,"Not applicable","Not applicable",null,"Not under a federation",null,10017763,null,null,null,null,"Green Lane",null,null,"Blackburn","Lancashire","BB2 4SR",null,1254202519,"North West",null,null,"11-16",null,"Secondary",null,"Mr","Michael","Parker",null,"Headteacher","North West"]
[119510,114,{"$error":"#NAME?"},889,"Blackburn with Darwen",3500,"Sacred Heart Roman Catholic Primary School Blackburn","BB2 6HQ",null,"Voluntary Aided School","Open","Diocese of Salford","24-62893333",null,"Mrs Eskdale","Mrs","Jeanette","Eskdale","office@sacredheart.blackburn.sch.uk","01254 54851",null,null,null,null,null,null,null,null,null,null,null,null,null,null,null,"Not applicable","Not applicable",null,"Not under a federation",null,null,null,null,null,null,"Lynwood Road",null,null,"Blackburn","Lancashire","BB2 6HQ",null,125454851,"North West",null,null,"4-11",null,"Primary",null,"Mrs","A","Thomson",null,"Headteacher","North West"]
[119513,115,{"$error":"#NAME?"},889,"Blackburn with Darwen",3508,"St Mary's and St Joseph's Roman Catholic Primary School Blackburn","BB2 3HP",null,"Voluntary Aided School","Open","Diocese of Salford","24-44195917",null,"Mrs Bolton","Mrs","Alyson","Bolton","office@smsjrc.blackburn.sch.uk","01254 698301",null,null,null,null,null,null,null,null,null,null,null,null,null,null,null,"Not applicable","Not applicable",null,"Not under a federation",null,null,null,null,null,null,"Bennington Street",null,null,"Blackburn","Lancashire","BB2 3HP",null,1254698301,"North West",null,null,"4-11",null,"Primary",null,"Mrs","Claire","Speakman",null,"Headteacher","North West"]
[119706,116,{"$error":"#NAME?"},889,"Blackburn with Darwen",3999,"St Alban's Roman Catholic Primary School Blackburn","BB1 5BN",null,"Voluntary Aided School","Open","Diocese of Salford","24-39989278",null,"Mrs Wilcock","Mrs","Susan","Wilcock","Office@stalbans.blackburn.sch.uk","01254 57582",null,null,null,null,null,null,null,null,null,null,null,null,null,null,null,"Not applicable","Not applicable",null,"Not under a federation",null,null,null,null,null,null,"Trinity Street",null,null,"Blackburn","Lancashire","BB1 5BN",null,125457582,"North West",null,null,"3-11",null,"Primary",null,"Mr","Jeff","Brown","Bsc Qts Npqh","Headteacher","North West"]
[119511,117,{"$error":"#NAME?"},889,"Blackburn with Darwen",3504,"St Anne's Roman Catholic Primary School Blackburn","BB2 1LQ",null,"Voluntary Aided School","Open","Diocese of Salford","24-53545643",null,"Ms Barcroft","Ms","Debbie","Barcroft","Office@StAnnes.blackburn.sch.uk","01254 580462",null,null,null,null,null,null,null,null,null,null,null,null,null,null,null,"Not applicable","Not applicable",null,"Not under a federation",null,null,null,null,null,null,"Feilden Street",null,null,"Blackburn","Lancashire","BB2 1LQ",null,1254580462,"North West",null,null,"3-11",null,"Primary",null,"Mrs","Anne","O'brien",null,"Headteacher","North West"]
[119667,118,{"$error":"#NAME?"},889,"Blackburn with Darwen",3779,"St Joseph's Roman Catholic Primary School, Darwen","BB3 2SG",null,"Voluntary Aided School","Open","Diocese of Salford","24-18524248",null,"Joanne Mackey","Ms","Joanne","Mackey","office@stjosephs.blackburn.sch.uk","01254 706264",null,null,null,null,null,null,null,null,null,null,null,null,null,null,null,"Not applicable","Not applicable",null,"Not under a federation",null,null,null,null,null,null,"Limes Avenue",null,null,"Darwen","Lancashire","BB3 2SG",null,1254706264,"North West",null,null,"5-11",null,"Primary",null,"Mrs","Catherine","Monaghan",null,"Headteacher","North West"]
[119649,119,{"$error":"#NAME?"},889,"Blackburn with Darwen",3751,"St Paul's Roman Catholic Primary School, Feniscowles, Blackburn","BB2 5EP",null,"Voluntary Aided School","Open","Diocese of Salford","24-16020722",null,"Mrs Parker","Mrs","Carole","Parker","office@stpaulsfeniscowles.blackburn.sch.uk","01254 201495",null,null,null,null,null,null,null,null,null,null,null,null,null,null,null,"Not applicable","Not applicable",null,"Not under a federation",null,null,null,null,null,null,"Preston Old Road","Feniscowles",null,"Blackburn","Lancashire","BB2 5EP",null,1254201495,"North West",null,null,"5-11",null,"Primary",null,"Mr","Frank","Dixon",null,"Principal","North West"]
[130746,120,{"$error":"#NAME?"},889,"Blackburn with Darwen",8602,"St Mary's College","BB1 8DX",null,"Further Education","Open","Diocese of Salford","24-11456337",null,"Ms Hollern","Ms","Caterina","Hollern","reception@stmarysblackburn.ac.uk","01254 580464",null,null,null,null,null,null,null,null,null,null,null,null,null,null,null,"Not applicable","Not applicable",null,"Not applicable",null,10006226,null,null,null,null,"Shear Brow",null,null,"Blackburn","Lancashire","BB1 8DX",null,1254580464,"North West",null,null,"16-99",null,"Further or Higher",null,"Mr","Michael","Duxbury",null,"Headteacher","North West"]
[119514,121,{"$error":"#NAME?"},889,"Blackburn with Darwen",3510,"St Peter's Roman Catholic Primary School, Blackburn","BB2 2RY",null,"Voluntary Aided School","Open","Diocese of Salford","24-22261955",null,"Mrs Waywell","Mrs","Lynne","Waywell","st.peters.blackburn@stpetersrc.co.uk","01254 691745",null,null,null,null,null,null,null,null,null,null,null,null,null,null,null,"Not applicable","Not applicable",null,"Not under a federation",null,null,null,null,null,null,"Hawkins Street",null,null,"Blackburn","Lancashire","BB2 2RY",null,1254691745,"North West",null,null,"4-11",null,"Primary",null,"Mrs","Danielle","Ellison",null,"Headteacher","North West"]
[119517,122,{"$error":"#NAME?"},889,"Blackburn with Darwen",3514,"Holy Souls Roman Catholic Primary School Blackburn","BB1 8QN",null,"Voluntary Aided School","Open","Diocese of Salford","24-85802787",null,"Mrs Bibby","Mrs","K","Bibby","office@holysouls.blackburn.sch.uk","01254 249892",null,null,null,null,null,null,null,null,null,null,null,null,null,null,null,"Not applicable","Not applicable",null,"Not under a federation",null,null,null,null,null,null,"Wilworth Crescent",null,null,"Blackburn","Lancashire","BB1 8QN",null,1254249892,"North West",null,null,"5-11",null,"Primary",null,null,"Simon","Eccles",null,"Headteacher","North West"]
[141257,123,{"$error":"#NAME?"},890,"Blackpool",4601,"St Mary's Catholic Academy","FY3 7EQ","The Blessed Edward Bamber Catholic Multi Academy Trust","Academy Converter","Open","Diocese of Lancaster","15-77213207",null,"Emily Trotter","Ms","Emily","Trotter","admin@st-mary.blackpool.sch.uk","01253 396286",null,null,null,null,null,null,null,null,null,null,null,null,null,null,null,"Supported by a multi-academy trust","Linked to a sponsor","Diocese of Lancaster","Not applicable",null,10047144,null,null,null,null,"St Walburga's Road",null,null,"Blackpool","Lancashire","FY3 7EQ",null,1253396286,"North West",null,null,"11-18",null,"Secondary",null,"Mrs","Sarah","Smith",null,"Executive Headteacher","North West"]
[141115,124,{"$error":"#NAME?"},890,"Blackpool",2002,"St Cuthbert's Catholic Academy","FY4 2AU","The Blessed Edward Bamber Catholic Multi Academy Trust","Academy Sponsor Led","Open","Diocese of Lancaster","15-61592763",null,"Becky Smtih","Ms","Becky","Smtih","admin@st-cuthbert.blackpool.sch.uk","01253 403232",null,null,null,null,null,null,null,null,null,null,null,null,null,null,null,"Supported by a multi-academy trust","Linked to a sponsor","Diocese of Lancaster","Not applicable",null,10046597,null,null,null,null,"Lightwood Avenue",null,null,"Blackpool","Lancashire","FY4 2AU",null,1253403232,"North West",null,null,"3-11",null,"Primary",null,"Mrs","Helen","Moreton",null,"Headteacher","North West"]
[119600,125,{"$error":"#NAME?"},890,"Blackpool",3629,"Holy Family Catholic Primary School","FY1 2SD",null,"Voluntary Aided School","Open","Diocese of Lancaster","15-98351384",null,"Morgan Hanley","Ms","Morgan","Hanley","admin@holy-family.blackpool.sch.uk","01253 354496",null,null,null,null,null,null,null,null,null,null,null,null,null,null,null,"Not applicable","Not applicable",null,"Not under a federation",null,null,null,null,null,null,"Seacrest Avenue",null,null,"Blackpool","Lancashire","FY1 2SD",null,1253354496,"North West",null,null,"4-11",null,"Primary",null,"Miss","Melanie","Haggerty",null,"Headteacher","North West"]
[119596,126,{"$error":"#NAME?"},890,"Blackpool",3622,"Our Lady of the Assumption Catholic Primary School","FY4 5DF",null,"Voluntary Aided School","Open","Diocese of Lancaster","15-86140964",null,"Glynis Wilson","Ms","Glynis","Wilson","admin@our-lady.blackpool.sch.uk","01253 762833",null,null,null,null,null,null,null,null,null,null,null,null,null,null,null,"Not applicable","Not applicable",null,"Not under a federation",null,null,null,null,null,null,"Common Edge Road",null,null,"Blackpool","Lancashire","FY4 5DF",null,1253762833,"North West",null,null,"4-11",null,"Primary",null,null,"Michelle","Holden",null,"Headteacher","North West"]
[119691,127,{"$error":"#NAME?"},890,"Blackpool",3812,"St Bernadette's Catholic Primary School","FY2 0AJ",null,"Voluntary Aided School","Open","Diocese of Lancaster","15-40282163",null,"Nicky Wells","Ms","Nicky","Wells","admin@st-bernadette.blackpool.sch.uk","01253 353641",null,null,null,null,null,null,null,null,null,null,null,null,null,null,null,"Not applicable","Not applicable",null,"Not under a federation",null,null,null,null,null,null,"Devonshire Road","Bispham",null,"Blackpool","Lancashire","FY2 0AJ",null,1253353641,"North West",null,null,"5-11",null,"Primary",null,"Mrs","Lynsey","Ankers",null,"Headteacher","North West"]
[119692,128,{"$error":"#NAME?"},890,"Blackpool",3813,"St Teresa's Catholic Primary School","FY5 3JW",null,"Voluntary Aided School","Open","Diocese of Lancaster","15-90143865",null,"Ann Daly","Ms","Ann","Daly","ann.daly@st-teresa.blackpool.sch.uk","01253 852457",null,null,null,null,null,null,null,null,null,null,null,null,null,null,null,"Not applicable","Not applicable",null,"Not under a federation",null,null,null,null,null,null,"St George's Avenue",null,null,"Thornton-Cleveleys","Lancashire","FY5 3JW",null,1253852457,"North West",null,null,"4-11",null,"Primary",null,null,"Sarah","Smith",null,"Headteacher","North West"]
[141288,129,{"$error":"#NAME?"},890,"Blackpool",3631,"Christ The King Catholic Academy","FY3 7FG","The Blessed Edward Bamber Catholic Multi Academy Trust","Academy Converter","Open","Diocese of Lancaster","15-21676493",null,"Emily Trotter","Ms","Emily","Trotter","admin@christ-the-king.blackpool.sch.uk","01253 395985",null,null,null,null,null,null,null,null,null,null,null,null,null,null,null,"Supported by a multi-academy trust","Linked to a sponsor","Diocese of Lancaster","Not applicable",null,10047175,null,null,null,null,"Rodwell Walk","Grange Park",null,"Blackpool","Lancashire","FY3 7FG",null,1253395985,"North West",null,null,"3-11",null,"Primary",null,"Mrs","Elaine","Allen","Ma Npqh Bsc","Headteacher","North West"]
[119598,130,{"$error":"#NAME?"},890,"Blackpool",3624,"St John Vianney's Catholic Primary School","FY1 6RD",null,"Voluntary Aided School","Open","Diocese of Lancaster","15-86381286",null,"Kim Burrows","Ms","Kim","Burrows","kim.burrows@st-john-vianney.blackpool.sch.uk","01253 311248",null,null,null,null,null,null,null,null,null,null,null,null,null,null,null,"Not applicable","Not applicable",null,"Not under a federation",null,null,null,null,null,null,"Glastonbury Avenue",null,null,"Blackpool","Lancashire","FY1 6RD",null,1253311248,"North West",null,null,"3-11",null,"Primary",null,"Mrs","F M","Wygladala",null,"Headteacher","North West"]
[119599,131,{"$f":"_xlfn.CONCAT(D132,F132)","v":{"$error":"#NAME?"}},890,"Blackpool",3626,"St Kentigern's Catholic Primary School","FY3 8BT",null,"Voluntary Aided School","Open","Diocese of Lancaster","15-53565981",null,"School Office","School Office",null,null,"admin@st-kentigern.blackpool.sch.uk","01253 393302",null,null,null,null,null,null,null,null,null,null,null,null,null,null,null,"Not applicable","Not applicable",null,"Not under a federation",null,null,null,null,null,null,"Newton Drive",null,null,"Blackpool","Lancashire","FY3 8BT",null,1253393302,"North West",null,null,"4-11",null,"Primary",null,null,null,null,null,"Headteacher","Wales (pseudo)"]
[401416,132,{"$error":"#NAME?"},677,"Blaenau Gwent",3308,"St Mary's Roman Catholic - Brynmawr","NP23 4EF",null,"Welsh Establishment","Open","Archdiocese of Cardiff","10-15673151",null,"Holly Evans","Ms","Holly","Evans","stmarysrc@blaenau-gwent.gov.uk","01495 310596",null,null,null,null,null,null,null,null,null,null,null,null,null,null,null,"Not applicable","Not applicable",null,"Not applicable",null,null,null,null,null,null,"Catholic Road","Brynmawr","Blaenau Gwent",null,null,"NP23 4EF",null,1495310596,"Wales (pseudo)",null,null,"-",null,"Primary",null,null,null,null,null,"Headteacher","Wales (pseudo)"]
[401418,133,{"$error":"#NAME?"},677,"Blaenau Gwent",3315,"All Saints R.C. Primary School","NP23 6QP",null,"Welsh Establishment","Open","Archdiocese of Cardiff","10-27648750",null,"Mrs Owen","Mrs","","Owen","kim.owen@blaenau-gwent.gov.uk","0149 530 3631",null,null,null,null,null,null,null,null,null,null,null,null,null,null,null,"Not applicable","Not applicable",null,"Not applicable",null,null,null,null,null,null,"Heol Yr Ysgol","Ebbw Vale","Blaenau Gwent",null,null,"NP23 6QP",null,1495303631,"Wales (pseudo)",null,null,"-",null,"Primary",null,null,null,null,null,"Headteacher","Wales (pseudo)"]
[401419,134,{"$error":"#NAME?"},677,"Blaenau Gwent",3316,"St Joseph's R.C.","NP2 4AQ",null,"Welsh Establishment","Open","Archdiocese of Cardiff","10-14253105",null,"Bernadette Francos","Ms","Bernadette","Francos","stjosephs.primary@blaenau-gwent.gov.uk","01495 722899",null,null,null,null,null,null,null,null,null,null,null,null,null,null,null,"Not applicable","Not applicable",null,"Not applicable",null,null,null,null,null,null,"Ashvale","Tredegar","Blaenau Gwent",null,null,"NP2 4AQ",null,1495722899,"Wales (pseudo)",null,null,"-",null,"Primary",null,"Mrs","Mandy","Messham","Ba Hons Pgce","Headteacher","North West"]
[105222,135,{"$error":"#NAME?"},350,"Bolton",3319,"St Ethelbert's RC Primary School","BL3 5RL",null,"Voluntary Aided School","Open","Diocese of Salford","24-31404755",null,"Mrs Kirkham","Mrs","Wendy","Kirkham","kirkhamw@st-ethelberts.bolton.sch.uk","01204 333036",null,null,null,null,null,null,null,null,null,null,null,null,null,null,null,"Not applicable","Not applicable",null,"Not under a federation",null,null,null,null,null,null,"Melbourne Road","Deane",null,"Bolton","Lancashire","BL3 5RL",null,1204333036,"North West",null,null,"3-11",null,"Primary",null,"Mr","Martin","Johnson","Ba Hons Qts","Headteacher","North West"]
[105243,136,{"$error":"#NAME?"},350,"Bolton",3359,"Sacred Heart R.C. Primary School","BL5 3DU",null,"Voluntary Aided School","Open","Diocese of Salford","24-53755996",null,"Mrs  Owens","Mrs ","Susan","Owens","owens@sacred-heart.bolton.sch.uk","01942 634681",null,null,null,null,null,null,null,null,null,null,null,null,null,null,null,"Not applicable","Not applicable",null,"Not under a federation",null,null,null,null,null,null,"Central Drive","Westhoughton",null,"Bolton","Lancashire","BL5 3DU",null,1942634681,"North West",null,null,"4-11",null,"Primary",null,"Mr","R","Woods",null,"Headteacher","North West"]
[105262,137,{"$error":"#NAME?"},350,"Bolton",4609,"St Joseph's RC High School and Sports College","BL6 6HW",null,"Voluntary Aided School","Open","Diocese of Salford","24-99078042",null,"Mrs Moore","Mrs","Angela","Moore","AMoore564@st-josephs.bolton.sch.uk","01204 697456",null,null,null,null,null,null,null,null,null,null,null,null,null,null,null,"Not applicable","Not applicable",null,"Not under a federation",null,10017734,null,null,null,null,"Chorley New Road","Horwich",null,"Bolton","Lancashire","BL6 6HW",null,1204697456,"North West",null,null,"11-16",null,"Secondary",null,"Mrs","Nicola","Rabbett","First Class Honours","Headteacher","North West"]
[105223,138,{"$error":"#NAME?"},350,"Bolton",3320,"St Joseph's RC Primary School, Halliwell, Bolton","BL1 3EJ",null,"Voluntary Aided School","Open","Diocese of Salford","24-26392947",null,"Mrs Daniels","Mrs","Jeanette","Daniels","danielsj@st-josephrcp.bolton.sch.uk","01204 333055",null,null,null,null,null,null,null,null,null,null,null,null,null,null,null,"Not applicable","Not applicable",null,"Not under a federation",null,null,null,null,null,null,"Shepherd Cross Street","Halliwell",null,"Bolton","Lancashire","BL1 3EJ",null,1204333055,"North West",null,null,"4-11",null,"Primary",null,"Mrs","Gerardine","Babb",null,"Headteacher","North West"]
[105226,139,{"$error":"#NAME?"},350,"Bolton",3331,"St William of York Catholic Primary School","BL3 3DE",null,"Voluntary Aided School","Open","Diocese of Salford","24-72743131",null,"Mrs Lane","Mrs","Vickie","Lane","lanev@st-williams.bolton.sch.uk","01204 333522",null,null,null,null,null,null,null,null,null,null,null,null,null,null,null,"Not applicable","Not applicable",null,"Not under a federation",null,null,null,null,null,null,"Nugent Road",null,null,"Bolton","Lancashire","BL3 3DE",null,1204333522,"North West",null,null,"3-11",null,"Primary",null,"Mrs","Patricia","Grogan",null,"Headteacher","North West"]
[105225,140,{"$error":"#NAME?"},350,"Bolton",3328,"St Peter and St Paul RC Primary School","BL3 6HP",null,"Voluntary Aided School","Open","Diocese of Salford","24-90356221",null,"Mrs Marsh","Mrs","Lesley","Marsh","main@sspp.bolton.sch.uk","01204 333030",null,null,null,null,null,null,null,null,null,null,null,null,null,null,null,"Not applicable","Not applicable",null,"Not under a federation",null,null,null,null,null,null,"Pilkington Street",null,null,"Bolton","Lancashire","BL3 6HP",null,1204333030,"North West",null,null,"3-11",null,"Primary",null,"Mrs","Helen","McGrath",null,"Headteacher","North West"]
[105219,141,{"$error":"#NAME?"},350,"Bolton",3315,"Holy Infant and St Anthony RC Primary School","BL1 6QJ",null,"Voluntary Aided School","Open","Diocese of Salford","24-53598162",null,"Mrs Seddon","Mrs","Colette","Seddon","office@holy-infants.bolton.sch.uk","01204 333111",null,null,null,null,null,null,null,null,null,null,null,null,null,null,null,"Not applicable","Not applicable",null,"Not under a federation",null,null,null,null,null,null,"Mitre Street","Astley Bridge",null,"Bolton","Lancashire","BL1 6QJ",null,1204333111,"North West",null,null,"5-11",null,"Primary",null,"Mrs","Linda","Chadwick",null,"Headteacher","North West"]
[105245,142,{"$error":"#NAME?"},350,"Bolton",3362,"Our Lady of Lourdes RC Primary School","BL4 0BP",null,"Voluntary Aided School","Open","Diocese of Salford","24-55266199",null,"Mrs Murphy","Mrs","Elaine","Murphy","office@ourlady.bolton.sch.uk","01204 333181",null,null,null,null,null,null,null,null,null,null,null,null,null,null,null,"Not applicable","Not applicable",null,"Not under a federation",null,null,null,null,null,null,"Beech Avenue","Farnworth",null,"Bolton","Lancashire","BL4 0BP",null,1204333181,"North West",null,null,"3-11",null,"Primary",null,"Mrs","Julie","McDonald",null,"Head Teacher","North West"]
[134237,143,{"$error":"#NAME?"},350,"Bolton",3371,"St Osmund and Andrew's RC Primary School","BL2 6NW",null,"Voluntary Aided School","Open","Diocese of Salford","24-24647803",null,"Yvonne Franks","Ms","Yvonne","Franks","office@ss-osands.bolton.sch.uk","01204 333070",null,null,null,null,null,null,null,null,null,null,null,null,null,null,null,"Not applicable","Not applicable",null,"Not under a federation",null,null,null,null,null,null,"Falkirk Drive",null,null,"Bolton","Lancashire","BL2 6NW",null,1204333070,"North West",null,null,"5-11",null,"Primary",null,"Mrs","Clare","Doodson",null,"Headteacher","North West"]
[105230,144,{"$error":"#NAME?"},350,"Bolton",3337,"St Bernard's RC Primary School, Bolton","BL3 4RX",null,"Voluntary Aided School","Open","Diocese of Salford","24-23526644",null,"Stephanie Jones","Ms","Stephanie","Jones","office@st-bernards.bolton.sch.uk","01204 652147",null,null,null,null,null,null,null,null,null,null,null,null,null,null,null,"Not applicable","Not applicable",null,"Not under a federation",null,null,null,null,null,null,"Wendover Drive","Ladybridge",null,"Bolton","Lancashire","BL3 4RX",null,1204652147,"North West",null,null,"4-11",null,"Primary",null,"Mrs","M","Kwiatkowski",null,"Headteacher","North West"]
[105246,145,{"$error":"#NAME?"},350,"Bolton",3363,"St Brendan's RC Primary School, Harwood, Bolton","BL2 4DZ",null,"Voluntary Aided School","Open","Diocese of Salford","24-20485234",null,"Mrs Marshall","Mrs","Alison","Marshall","office@st-brendan.bolton.sch.uk","01204 333133",null,null,null,null,null,null,null,null,null,null,null,null,null,null,null,"Not applicable","Not applicable",null,"Not under a federation",null,null,null,null,null,null,"Brookfold Lane","Harwood",null,"Bolton","Lancashire","BL2 4DZ",null,1204333133,"North West",null,null,"5-11",null,"Primary",null,"Mrs","Kath","Baker","BEd","Headteacher","North West"]
[105220,146,{"$error":"#NAME?"},350,"Bolton",3316,"St Columba's RC Primary School","BL2 3AR",null,"Voluntary Aided School","Open","Diocese of Salford","24-71228110",null,"Mrs Lees","Mrs","Trish","Lees","office@st-columbas.bolton.sch.uk","01204 333421",null,null,null,null,null,null,null,null,null,null,null,null,null,null,null,"Not applicable","Not applicable",null,"Not under a federation",null,null,null,null,null,null,"Ripley Street","Tonge Moor",null,"Bolton","Lancashire","BL2 3AR",null,1204333421,"North West",null,null,"3-11",null,"Primary",null,"Mrs","Kelly","Watson",null,"Headteacher","North West"]
[105244,147,{"$error":"#NAME?"},350,"Bolton",3360,"St Gregory's RC Primary School, Farnworth, Bolton","BL4 8AJ",null,"Voluntary Aided School","Open","Diocese of Salford","24-62778843",null,"Mrs Whitmore","Mrs","Sandra","Whitmore","office@st-gregorys.bolton.sch.uk","01204 332658",null,null,null,null,null,null,null,null,null,null,null,null,null,null,null,"Not applicable","Not applicable",null,"Not under a federation",null,null,null,null,null,null,"Presto Street","Farnworth",null,"Bolton","Lancashire","BL4 8AJ",null,1204332658,"North West",null,null,"4-11",null,"Primary",null,"Mrs","Lesley","Jackson",null,"Headteacher","North West"]
[105249,148,{"$error":"#NAME?"},350,"Bolton",3366,"St John the Evangelist RC Primary School, Bromley Cross, Bolton","BL7 9HT",null,"Voluntary Aided School","Open","Diocese of Salford","24-41883078",null,"Mrs Timmons","Mrs","Alison","Timmons","office@st-johns-bromley-cross.bolton.sch.uk","01204 333440",null,null,null,null,null,null,null,null,null,null,null,null,null,null,null,"Not applicable","Not applicable",null,"Not under a federation",null,null,null,null,null,null,"Darwen Road","Bromley Cross",null,"Bolton","Lancashire","BL7 9HT",null,1204333440,"North West",null,null,"5-11",null,"Primary",null,"Mrs","Frances","Lysyj",null,"Headteacher","North West"]
[105221,149,{"$error":"#NAME?"},350,"Bolton",3317,"St Thomas of Canterbury RC School","BL1 5LH",null,"Voluntary Aided School","Open","Diocese of Salford","24-42156249",null,"Mrs Noake","Mrs","Bernadette ","Noake","office@st-thomas-of-canterbury.bolton.sch.uk","01204 333131",null,null,null,null,null,null,null,null,null,null,null,null,null,null,null,"Not applicable","Not applicable",null,"Not under a federation",null,null,null,null,null,null,"Eastbourne Grove","Heaton",null,"Bolton","Lancashire","BL1 5LH",null,1204333131,"North West",null,null,"4-11",null,"Primary",null,"Mrs","Alison","Burrowes",null,"Headteacher","North West"]
[105264,150,{"$error":"#NAME?"},350,"Bolton",4612,"Thornleigh Salesian College","BL1 6PQ",null,"Voluntary Aided School","Open","Diocese of Salford","24-66933859",null,"Mrs Gornall","Mrs","Rita","Gornall","rgornall@thornleigh.bolton.sch.uk","01204 301351",null,null,null,null,null,null,null,null,null,null,null,null,null,null,null,"Not applicable","Not applicable",null,"Not under a federation",null,10006897,null,null,null,null,"Sharples Park","Astley Bridge",null,"Bolton","Lancashire","BL1 6PQ",null,1204301351,"North West",null,null,"11-18",null,"Secondary",null,"Mrs","Alexandra","Devany","BA Hons","Headteacher","North West"]
[105263,151,{"$error":"#NAME?"},350,"Bolton",4611,"Mount St Joseph","BL4 0HU",null,"Voluntary Aided School","Open","Diocese of Salford","24-36459347",null,"Mrs Spaine","Mrs","Amanda","Spaine","spainea@msj.bolton.sch.uk","01204 391800",null,null,null,null,null,null,null,null,null,null,null,null,null,null,null,"Not applicable","Not applicable",null,"Not under a federation",null,10017954,null,null,null,null,"Greenland Road","Farnworth",null,"Bolton","Lancashire","BL4 0HU",null,1204391800,"North West",null,null,"11-16",null,"Secondary",null,"Mrs","Janet","McKinlay",null,"Headteacher","North West"]
[105250,152,{"$error":"#NAME?"},350,"Bolton",3367,"St Mary's RC Primary School","BL6 6EP",null,"Voluntary Aided School","Open","Diocese of Salford","24-31895218",null,"Mrs Travers","Mrs","Elaine","Travers","traverse@st-marys-horwich.bolton.sch.uk","01204 333625",null,null,null,null,null,null,null,null,null,null,null,null,null,null,null,"Not applicable","Not applicable",null,"Not under a federation",null,null,null,null,null,null,"Victoria Road","Horwich",null,"Bolton","Lancashire","BL6 6EP",null,1204333625,"North West",null,null,"5-11",null,"Primary",null,"Mrs","Diane","Bohan","Bed Msc","Headteacher","North West"]
[105247,153,{"$error":"#NAME?"},350,"Bolton",3364,"St Teresa's RC Primary School","BL3 1EN",null,"Voluntary Aided School","Open","Diocese of Salford","24-58554520",null,"School Office","School Office",null,null,"head@st-teresas.bolton.sch.uk","01204 333163",null,null,null,null,null,null,null,null,null,null,null,null,null,null,null,"Not applicable","Not applicable",null,"Not under a federation",null,null,null,null,null,null,"Redcar Road","Little Lever",null,"Bolton","Lancashire","BL3 1EN",null,1204333163,"North West",null,null,"4-11",null,"Primary",null,"Ms","Clare","Tickel",null,"Headteacher","South West"]
[140705,154,{"$error":"#NAME?"},837,"Bournemouth",3686,"Christ The King Catholic Primary School","BH11 9EH","Plymouth CAST","Academy Converter","Open","Diocese of Plymouth","22-43421802",null,"Mrs Moore","Mrs","Sally","Moore","christtheking@ctkcps.com","01202 574277",null,null,null,null,null,null,null,null,null,null,null,null,null,null,null,"Supported by a multi-academy trust","Linked to a sponsor","Plymouth CAST","Not applicable",null,10045672,null,null,null,null,"Durdells Avenue","Kinson",null,"Bournemouth","Dorset","BH11 9EH",null,1202574277,"South West",null,null,"3-11",null,"Primary",null,null,"Declan","Goodwin",null,"Headteacher","South West"]
[113845,155,{"$error":"#NAME?"},837,"Bournemouth",3684,"Corpus Christi Catholic Primary School","BH5 2BX",null,"Voluntary Aided School","Open","Diocese of Portsmouth","01-84235346",null,"Mrs Solly","Mrs","Susan","Solly","susan.solly@cccpschool.com","01202 427544",null,null,null,null,null,null,null,null,null,null,null,null,null,null,null,"Not applicable","Not applicable",null,"Not under a federation",null,null,null,null,null,null,"St James Square","Boscombe",null,"Bournemouth","Dorset","BH5 2BX",null,1202427544,"South West",null,null,"4-11",null,"Primary",null,"Mrs","Veronica","Woodward",null,"Headteacher","South West"]
[113898,156,{"$error":"#NAME?"},837,"Bournemouth",5200,"St Walburga's Catholic Primary School","BH9 3BY",null,"Voluntary Aided School","Open","Diocese of Portsmouth","01-91012630",null,"Mrs Woodward","Mrs","Veronica ","Woodward","veronica.woodward@stwalburgas.co.uk","01202 528811",null,null,null,null,null,null,null,null,null,null,null,null,null,null,null,"Not applicable","Not applicable",null,"Not under a federation",null,null,null,null,null,null,"Malvern Road",null,null,"Bournemouth","Dorset","BH9 3BY",null,1202528811,"South West",null,null,"4-11",null,"Primary",null,"Mr","David","Todd",null,"Headteacher","South West"]
[137349,157,{"$error":"#NAME?"},837,"Bournemouth",5408,"St Peter's Catholic Comprehensive School","BH6 4AH","St Peter's Catholic Voluntary Academy Trust","Academy Converter","Open","Diocese of Portsmouth","01-15360381",null,"Mrs Lasham","Mrs","Jan","Lasham","jls@st-peters.bournemouth.sch.uk","01202 421141",null,null,null,null,null,null,null,null,null,null,null,null,null,null,null,"Supported by a multi-academy trust","-",null,"Not applicable",null,10035195,null,null,null,null,"St Catherine's Road",null,null,"Bournemouth","Dorset","BH6 4AH",null,1202421141,"South West",null,null,"4-18",null,"Secondary",null,"Mrs","S","Breeze",null,"Headteacher","South West"]
[113944,158,{"$error":"#NAME?"},837,"Bournemouth",6004,"St Thomas Garnet's School","BH5 2BH",null,"Other Independent School","Open","Diocese of Portsmouth","01-26569613",null,"Miss Field","Miss","Susan","Field","finance@stthomasgarnets.co.uk","01202 420172",null,null,null,null,null,null,null,null,null,null,null,null,null,null,null,"Not applicable","Not applicable",null,"Not applicable",null,null,null,null,null,null,"28 Parkwood Road","Boscombe",null,"Bournemouth","Dorset","BH5 2BH",null,1202420172,"South West",null,null,"3-11",null,"Primary",null,null,"David","Masters",null,"Headteacher","South East"]
[142319,159,{"$error":"#NAME?"},867,"Bracknell Forest",3344,"St Margaret Clitherow Catholic Primary School, Bracknell","RG12 7RD","The Catholic Academy Trust in East Berkshire","Academy Converter","Open","Diocese of Portsmouth","01-72410645",null,"Mrs Hardy","Mrs","Jo","Hardy","bursar@office.stmargaretc.bracknell-forest.sch.uk","01344 424030",null,null,null,null,null,null,null,null,null,null,null,null,null,null,null,"Supported by a multi-academy trust","-",null,"Not applicable",null,10053749,null,null,null,null,"Pembroke","Hanworth",null,"Bracknell","Berkshire","RG12 7RD",null,1344424030,"South East",null,null,"4-11",null,"Primary",null,"Mrs","Juanita","Dunlop","B.Ed, Masters","Headteacher","South East"]
[110027,160,{"$error":"#NAME?"},867,"Bracknell Forest",3333,"St Joseph's Catholic Primary School, Bracknell","RG12 9AP",null,"Voluntary Aided School","Open","Diocese of Portsmouth","01-39773966",null,"Mrs Cottan","Mrs",null,"Cottan","sbm@office.stjosephs.bracknell.forest.sch.uk","01344 425246",null,null,null,null,null,null,null,null,null,null,null,null,null,null,null,"Not applicable","Not applicable",null,"Not under a federation",null,null,null,null,null,null,"Gipsy Lane",null,null,"Bracknell","Berkshire","RG12 9AP",null,1344425246,"South East",null,null,"3-11",null,"Primary",null,"Mr","Daniel","Copley",null,"Executive Headteacher","Yorkshire and Humber"]
[107335,161,{"$error":"#NAME?"},380,"Bradford",3354,"St Cuthbert and The First Martyrs' Catholic Primary School","BD9 5AT",null,"Voluntary Aided School","Open","Diocese of Leeds","16-56187136",null,"Mrs Smith","Mrs","M","Smith","office@stcuthberts.bradford.sch.uk","01274 543445",null,null,null,null,null,null,null,null,null,null,null,null,null,null,null,"Not applicable","Not applicable",null,"Not under a federation",null,null,null,null,null,null,"Scotchman Road","Heaton",null,"Bradford","West Yorkshire","BD9 5AT",null,1274543445,"Yorkshire and the Humber",null,null,"3-11",null,"Primary",null,"Mr","Sam","Poulton","Ba (Ed) Hons Npqh","Headteacher","Yorkshire and Humber"]
[141062,162,{"$error":"#NAME?"},380,"Bradford",3369,"St Anne's Catholic Primary School","BD21 3AD","Blessed Christopher Wharton Catholic Academy Trust","Academy Converter","Open","Diocese of Leeds","16-41215406",null,"Mr Wood","Mr","Chris","Wood","woodc@stannesrc.org.uk","01535 210600",null,null,null,null,null,null,null,null,null,null,null,null,null,null,null,"Supported by a multi-academy trust","-",null,"Not applicable",null,10046465,null,null,null,null,"North Street",null,null,"Keighley","West Yorkshire","BD21 3AD",null,1535210600,"Yorkshire and the Humber",null,null,"3-11",null,"Primary",null,"Mrs","Maureen","Cairns",null,"Headteacher","Yorkshire and Humber"]
[142951,163,{"$error":"#NAME?"},380,"Bradford",3350,"St Winefride's Catholic Primary School, A Voluntary Academy","BD6 1SR","Blessed Christopher Wharton Catholic Academy Trust","Academy Converter","Open","Diocese of Leeds","16-13692884",null,"Mrs Carney","Mrs","P","Carney","office@stwinefridesprimary.co.uk","01274 677705",null,null,null,null,null,null,null,null,null,null,null,null,null,null,null,"Supported by a multi-academy trust","-",null,"Not applicable",null,10057166,null,null,null,null,"St Paul's Avenue","Wibsey",null,"Bradford","West Yorkshire","BD6 1SR",null,1274677705,"Yorkshire and the Humber",null,null,"3-11",null,"Primary",null,"Mrs","Alixena","Lubomski","Bed, Npqh, Nle","Headteacher","Yorkshire and Humber"]
[139353,164,{"$error":"#NAME?"},380,"Bradford",3368,"The Sacred Heart Catholic Primary School","LS29 8NL","The Bishop Wheeler Catholic Academy Trust","Academy Converter","Open","Diocese of Leeds","16-33385499",null,"Mrs Cheetham","Mrs","Heather","Cheetham","office@sacredheart.bradford.sch.uk","01943 609578",null,null,null,null,null,null,null,null,null,null,null,null,null,null,null,"Supported by a multi-academy trust","Linked to a sponsor","The Bishop Wheeler Catholic Academy Trust","Not applicable",null,10041015,null,null,null,null,"Valley Drive","Ben Rhydding",null,"Ilkley","West Yorkshire","LS29 8NL",null,1943609578,"Yorkshire and the Humber",null,null,"5-11",null,"Primary",null,"Mr","John","Devlin",null,"Headteacher","Yorkshire and Humber"]
[141059,165,{"$error":"#NAME?"},380,"Bradford",3372,"Our Lady of Victories Catholic School","BD22 6JP","Blessed Christopher Wharton Catholic Academy Trust","Academy Converter","Open","Diocese of Leeds","16-39224861",null,"Louise Phillips","Ms","Louise","Phillips","l.phillips@ourlady.ngfl.ac.uk","01535 607149",null,null,null,null,null,null,null,null,null,null,null,null,null,null,null,"Supported by a multi-academy trust","-",null,"Not applicable",null,10046469,null,null,null,null,"Guard House Road",null,null,"Keighley","West Yorkshire","BD22 6JP",null,1535607149,"Yorkshire and the Humber",null,null,"3-11",null,"Primary",null,"Mrs","Elizabeth","Snelling",null,"Headteacher","Yorkshire and Humber"]
[142947,166,{"$error":"#NAME?"},380,"Bradford",3371,"St Walburga's Catholic Primary School, A Voluntary Academy","BD18 4RL","Blessed Christopher Wharton Catholic Academy Trust","Academy Converter","Open","Diocese of Leeds","16-57072711",null,"Laura Greenwood","Ms","Laura","Greenwood","office@stwalburgas.co.uk","01274 531102",null,null,null,null,null,null,null,null,null,null,null,null,null,null,null,"Supported by a multi-academy trust","-",null,"Not applicable",null,10057169,null,null,null,null,"Victoria Park",null,null,"Shipley","West Yorkshire","BD18 4RL",null,1274531102,"Yorkshire and the Humber",null,null,"3-11",null,"Primary",null,null,"John","Devlin",null,"Headteacher","Yorkshire and Humber"]
[143032,167,{"$error":"#NAME?"},380,"Bradford",3370,"St Joseph's Catholic Primary School","BD21 1AR","Blessed Christopher Wharton Catholic Academy Trust","Academy Converter","Open","Diocese of Leeds","16-78215000",null,"Mrs Fradleys","Mrs",null,"Fradleys","office@stjosephsprimary.co.uk","01535 605880",null,null,null,null,null,null,null,null,null,null,null,null,null,null,null,"Supported by a multi-academy trust","-",null,"Not applicable",null,10057299,null,null,null,null,"Queen's Road","Ingrow",null,"Keighley","West Yorkshire","BD21 1AR",null,1535605880,"Yorkshire and the Humber",null,null,"3-11",null,"Primary",null,"Mrs","Kathryn","Spillane","B.Ed(Hons) Npqh","Headteacher","Yorkshire and Humber"]
[142945,168,{"$error":"#NAME?"},380,"Bradford",3352,"St John the Evangelist Catholic Primary School","BD6 3DQ","Blessed Christopher Wharton Catholic Academy Trust","Academy Converter","Open","Diocese of Leeds","16-98647755",null,"Miss Corley","Miss","M","Corley","office@stjohntheevangelist.org.uk","01274 679030",null,null,null,null,null,null,null,null,null,null,null,null,null,null,null,"Supported by a multi-academy trust","-",null,"Not applicable",null,10057179,null,null,null,null,"Beacon Road",null,null,"Bradford","West Yorkshire","BD6 3DQ",null,1274679030,"Yorkshire and the Humber",null,null,"4-11",null,"Primary",null,"Mr","Lawrence","Bentley",null,null,"Yorkshire and Humber"]
[140569,169,{"$error":"#NAME?"},380,"Bradford",4023,"St Bede's and St Joseph's Catholic College","BD9 4BQ",null,"Voluntary Aided School","Open","Diocese of Leeds","16-20337084",null,"Finannce Officer","Finannce Officer",null,null,"finance@sbsj.co.uk","01279 41941",null,null,null,null,null,null,null,null,null,null,null,null,null,null,null,"Not applicable","Not applicable",null,"Not under a federation",null,10047106,null,null,null,null,"Highgate","Heaton",null,"Bradford",null,"BD9 4BQ",null,127941941,"Yorkshire and the Humber",null,null,"11-18",null,"Secondary",null,"Mrs","Madeleine","Bannister",null,"Headteacher","Yorkshire and Humber"]
[107324,170,{"$error":"#NAME?"},380,"Bradford",3333,"St Anthony's Catholic Primary School","BD14 6HW",null,"Voluntary Aided School","Open","Diocese of Leeds","16-79167200",null,"Mrs Foden","Mrs","Jeanette","Foden","office@stanthonysclayton.org.uk","01274 414761",null,null,null,null,null,null,null,null,null,null,null,null,null,null,null,"Not applicable","Not applicable",null,"Not under a federation",null,null,null,null,null,null,"Bradford Road","Clayton",null,"Bradford","West Yorkshire","BD14 6HW",null,1274414761,"Yorkshire and the Humber",null,null,"3-11",null,"Primary",null,"Mrs","Alison","Carrick",null,"Headteacher","Yorkshire and Humber"]
[107348,171,{"$error":"#NAME?"},380,"Bradford",3373,"St Anthony's Catholic Primary School","BD18 1HD",null,"Voluntary Aided School","Open","Diocese of Leeds","16-44127876",null,"Debbie Robinson","Ms","Debbie","Robinson","office@stas.bradford.sch.uk","01274 592738",null,null,null,null,null,null,null,null,null,null,null,null,null,null,null,"Not applicable","Not applicable",null,"Not under a federation",null,null,null,null,null,null,"High Busy Lane",null,null,"Shipley","West Yorkshire","BD18 1HD",null,1274592738,"Yorkshire and the Humber",null,null,"4-11",null,"Primary",null,"Mr","Daniel","Copley","Ba Hons Qts Npqh","Headteacher","Yorkshire and Humber"]
[107332,172,{"$error":"#NAME?"},380,"Bradford",3351,"St Francis Catholic Primary School","BD2 4ES",null,"Voluntary Aided School","Open","Diocese of Leeds","16-22035038",null,"Mrs Laptew","Mrs","Sheila","Laptew","office@stfrancis.bradford.sch.uk","01274 638520",null,null,null,null,null,null,null,null,null,null,null,null,null,null,null,"Not applicable","Not applicable",null,"Not under a federation",null,null,null,null,null,null,"Myers Lane",null,null,"Bradford","West Yorkshire","BD2 4ES",null,1274638520,"Yorkshire and the Humber",null,null,"3-11",null,"Primary",null,"Mrs","Catherine","Markham",null,"Headteacher","Yorkshire and Humber"]
[107327,173,{"$error":"#NAME?"},380,"Bradford",3338,"St Joseph's Catholic Primary School","BD5 0RB",null,"Voluntary Aided School","Open","Diocese of Leeds","16-56771690",null,"Mrs Chambers","Mrs","Danuta","Chambers","office@stjosephsbradford.bradford.sch.uk","01274 727970",null,null,null,null,null,null,null,null,null,null,null,null,null,null,null,"Not applicable","Not applicable",null,"Not under a federation",null,null,null,null,null,null,"Park Lane",null,null,"Bradford","West Yorkshire","BD5 0RB",null,1274727970,"Yorkshire and the Humber",null,null,"3-11",null,"Primary",null,"Mrs","Julie","Holland",null,"Headteacher","Yorkshire and Humber"]
[107329,174,{"$error":"#NAME?"},380,"Bradford",3347,"St Mary's &St Peter's Catholic Primary School","BD3 9ND",null,"Voluntary Aided School","Open","Diocese of Leeds","16-15483110",null,"Mrs Dore","Mrs",null,"Dore","office@stpeters.bradford.sch.uk","01274 773977",null,null,null,null,null,null,null,null,null,null,null,null,null,null,null,"Not applicable","Not applicable",null,"Not under a federation",null,null,null,null,null,null,"Upper Nidd Street","Leeds Road",null,"Bradford","West Yorkshire","BD3 9ND",null,1274773977,"Yorkshire and the Humber",null,null,"3-11",null,"Primary",null,"Mr","Paul","Urry",null,"Headteacher","Yorkshire and Humber"]
[107330,175,{"$error":"#NAME?"},380,"Bradford",3349,"St William's Catholic Primary School","BD8 9RG",null,"Voluntary Aided School","Open","Diocese of Leeds","16-51126388",null,"Mrs Fagan","Mrs","Irene","Fagan","office@stwilliams.bradford.sch.uk","01274 545743",null,null,null,null,null,null,null,null,null,null,null,null,null,null,null,"Not applicable","Not applicable",null,"Not under a federation",null,null,null,null,null,null,"Young Street",null,null,"Bradford","West Yorkshire","BD8 9RG",null,1274545743,"Yorkshire and the Humber",null,null,"4-11",null,"Primary",null,"Mr","Simon","Stockdale",null,null,"Yorkshire and Humber"]
[107334,176,{"$error":"#NAME?"},380,"Bradford",3353,"Our Lady and St Brendan's Catholic Primary School","BD10 0QA",null,"Voluntary Aided School","Open","Diocese of Leeds","16-89018540",null,"Headteacher","Headteacher",null,null,"office@olsb.bradford.sch.uk","01274 611992",null,null,null,null,null,null,null,null,null,null,null,null,null,null,null,"Not applicable","Not applicable",null,"Not under a federation",null,null,null,null,null,null,"The Bank","Idle",null,"Bradford","West Yorkshire","BD10 0QA",null,1274611992,"Yorkshire and the Humber",null,null,"4-11",null,"Primary",null,"Mrs","Katy","Cox",null,"Headteacher","Yorkshire and Humber"]
[107336,177,{"$error":"#NAME?"},380,"Bradford",3355,"St Matthew's Catholic Primary School","BD15 7NE",null,"Voluntary Aided School","Open","Diocese of Leeds","16-75178302",null,"Mrs Naylor","Mrs","Eileen","Naylor","admin.office@stmatthews.ngfl.ac.uk","01274 541737",null,null,null,null,null,null,null,null,null,null,null,null,null,null,null,"Not applicable","Not applicable",null,"Not under a federation",null,null,null,null,null,null,"Saffron Drive","Allerton",null,"Bradford","West Yorkshire","BD15 7NE",null,1274541737,"Yorkshire and the Humber",null,null,"3-11",null,"Primary",null,"Mrs","Louise","Robinson","Ba (Hons) Pgce","Headteacher","Yorkshire and Humber"]
[107342,178,{"$error":"#NAME?"},380,"Bradford",3367,"St Joseph's Catholic Primary School","BD16 4HQ",null,"Voluntary Aided School","Open","Diocese of Leeds","16-42939696",null,"School Office","School Office",null,null,"office@stjosephsbing.bradford.sch.uk","01274 564883",null,null,null,null,null,null,null,null,null,null,null,null,null,null,null,"Not applicable","Not applicable",null,"Not under a federation",null,null,null,null,null,null,"Crownest Road",null,null,"Bingley","West Yorkshire","BD16 4HQ",null,1274564883,"Yorkshire and the Humber",null,null,"5-11",null,"Primary",null,"Mr","M","Hings",null,"Headteacher","Yorkshire and Humber"]
[107428,179,{"$error":"#NAME?"},380,"Bradford",4610,"The Holy Family Catholic School","BD20 6LH",null,"Voluntary Aided School","Open","Diocese of Leeds","16-69414934",null,"School Office","School Office",null,null,"hfcschool@holyfamily.ngfl.ac.uk","01535 210212",null,null,null,null,null,null,null,null,null,null,null,null,null,null,null,"Not applicable","Not applicable",null,"Not under a federation",null,10006698,null,null,null,null,"Spring Gardens Lane",null,null,"Keighley","West Yorkshire","BD20 6LH",null,1535210212,"Yorkshire and the Humber",null,null,"11-18",null,"Secondary",null,"Mrs","Mary","Newsham",null,"Headteacher","Yorkshire and Humber"]
[107325,180,{"$error":"#NAME?"},380,"Bradford",3334,"St Clare's Catholic Primary School","BD2 3JD",null,"Voluntary Aided School","Open","Diocese of Leeds","16-92987487",null,"Lynne Davey","Ms","Lynne","Davey","Lynne.Davey@stclares.bradford.sch.uk","01274 637841",null,null,null,null,null,null,null,null,null,null,null,null,null,null,null,"Not applicable","Not applicable",null,"Not under a federation",null,null,null,null,null,null,"Fagley Road","Fagley",null,"Bradford","West Yorkshire","BD2 3JD",null,1274637841,"Yorkshire and the Humber",null,null,"5-11",null,"Primary",null,"Mr","Peter","Spillane",null,"Headteacher","Yorkshire and Humber"]
[107326,181,{"$error":"#NAME?"},380,"Bradford",3335,"St Columba's Catholic Primary School","BD4 9PY",null,"Voluntary Aided School","Open","Diocese of Leeds","16-16094558",null,"Mrs Robinson","Mrs","Elaine","Robinson","admin@stcolumbas.bradford.sch.uk","01274 681961",null,null,null,null,null,null,null,null,null,null,null,null,null,null,null,"Not applicable","Not applicable",null,"Not under a federation",null,null,null,null,null,null,"Tong Street","Dudley Hill",null,"Bradford","West Yorkshire","BD4 9PY",null,1274681961,"Yorkshire and the Humber",null,null,"2-11",null,"Primary",null,null,"Andrew","Prindiville",null,"Headteacher","London"]
[142560,182,{"$error":"#NAME?"},304,"Brent",5406,"St Gregory's Catholic Science College","HA3 0NB","All Saints Trust","Academy Converter","Open","Archdiocese of Westminster","06-67780930",null,"Ms Briffa","Ms","Ann","Briffa","bursar@stgregorys.harrow.sch.uk","02089 078828",null,null,null,null,null,null,null,null,null,null,null,null,null,null,null,"Supported by a multi-academy trust","-",null,"Not applicable",null,10055168,null,null,null,null,"Donnington Road","Kenton",null,"Harrow",null,"HA3 0NB",null,2089078828,"London",null,null,"11-18",null,"Secondary",null,"Mrs","Geraldine","Freear","Bsc Med Npqh","Headteacher","London"]
[137994,183,{"$error":"#NAME?"},304,"Brent",5404,"Convent of Jesus and Mary Language College","NW10 4EP","Diocese of Westminster Academy Trust, The","Academy Converter","Open","Archdiocese of Westminster","06-87831617",null,"Mrs Trapp","Mrs","Ann","Trapp","atrapp21@cjmlc.co.uk","02089 652986",null,null,null,null,null,null,null,null,null,null,null,null,null,null,null,"Supported by a multi-academy trust","-",null,"Not applicable",null,10036970,null,null,null,null,"Crownhill Road",null,null,"London",null,"NW10 4EP",null,2089652986,"London",null,null,"11-18",null,"Secondary",null,null,"Mary","O'Higgins",null,"Headteacher","London"]
[101544,184,{"$error":"#NAME?"},304,"Brent",3507,"Convent of Jesus and Mary RC Infant School","NW2 5AN",null,"Voluntary Aided School","Open","Archdiocese of Westminster","06-88999000",null,"Mrs Doig","Mrs","Catherine","Doig","admin@conventinf.brent.sch.uk","02084 595890",null,null,null,null,null,null,null,null,null,null,null,null,null,null,null,"Not applicable","Not applicable",null,"Not under a federation",null,null,null,null,null,null,"21 Park Avenue",null,null,"London",null,"NW2 5AN",null,2084595890,"London",null,null,"3-7",null,"Primary",null,"Ms","Mary","Bickerstaff",null,"Headteacher","London"]
[101545,185,{"$error":"#NAME?"},304,"Brent",3508,"Our Lady of Lourdes RC Primary School","NW10 8PP",null,"Voluntary Aided School","Open","Archdiocese of Westminster","06-65032944",null,"Mrs Fogarty","Mrs","Marion","Fogarty","admin@lourdes.brent.sch.uk","02089 615037",null,null,null,null,null,null,null,null,null,null,null,null,null,null,null,"Not applicable","Not applicable",null,"Not under a federation",null,null,null,null,null,null,"Wesley Road",null,null,"London",null,"NW10 8PP",null,2089615037,"London",null,null,"3-11",null,"Primary",null,"Mrs","Dawn","Titus",null,"Executive Headmistress","London"]
[131418,186,{"$error":"#NAME?"},304,"Brent",3602,"St Mary's RC Primary School","NW6 5ST",null,"Voluntary Aided School","Open","Archdiocese of Westminster","06-18608078",null,"Ms Bajaj","Ms","Amita","Bajaj","abajaj@marycps.brent.sch.uk","02076 241830",null,null,null,null,null,null,null,null,null,null,null,null,null,null,null,"Not applicable","Not applicable",null,"Not under a federation",null,null,null,null,null,null,"Canterbury Road",null,null,"London",null,"NW6 5ST",null,2076241830,"London",null,null,"3-11",null,"Primary",null,null,"Maria","Nowicka",null,"Headteacher","London"]
[101542,187,{"$error":"#NAME?"},304,"Brent",3505,"St Mary Magdalen's Catholic Junior School","NW2 5BB",null,"Voluntary Aided School","Open","Archdiocese of Westminster","06-12263010",null,"Mrs Quinn","Mrs","Maria","Quinn","Admin@marymag.brent.sch.uk","02084 593159",null,null,null,null,null,null,null,null,null,null,null,null,null,null,null,"Not applicable","Not applicable",null,"Not under a federation",null,null,null,null,null,null,"Linacre Road","Willesden Green",null,"London",null,"NW2 5BB",null,2084593159,"London",null,null,"7-11",null,"Primary",null,"Mrs","D","Titus","Ba Hons Qts, Npqh","Headteacher","London"]
[101555,188,{"$error":"#NAME?"},304,"Brent",5203,"St Joseph's Roman Catholic Primary School","NW10 9LS",null,"Voluntary Aided School","Open","Archdiocese of Westminster","06-18285499",null,"Mrs Murphy","Mrs","Ursula","Murphy","admin@stjo.brent.sch.uk","02089 655651",null,null,null,null,null,null,null,null,null,null,null,null,null,null,null,"Not applicable","Not applicable",null,"Not under a federation",null,null,null,null,null,null,"Goodson Road","Willesden",null,"London",null,"NW10 9LS",null,2089655651,"London",null,null,"3-11",null,"Primary",null,"Mr","S","McGrath",null,"Headteacher","London"]
[101538,189,{"$error":"#NAME?"},304,"Brent",3500,"Our Lady of Grace Catholic Junior School","NW2 6HS",null,"Voluntary Aided School","Open","Archdiocese of Westminster","06-75563480",null,"Mrs Doherty","Mrs","Anne","Doherty","adoherty@ologjuniors.brent.sch.uk","02084 506002",null,null,null,null,null,null,null,null,null,null,null,null,null,null,null,"Not applicable","Not applicable",null,"Not under a federation",null,null,null,null,null,null,"Dollis Hill Lane",null,null,"London",null,"NW2 6HS",null,2084506002,"London",null,null,"7-11",null,"Primary",null,"Mrs","Ewa","McSperrin",null,"Headteacher","London"]
[101548,190,{"$error":"#NAME?"},304,"Brent",3511,"St Margaret Clitherow RC Primary School","NW10 0BG",null,"Voluntary Aided School","Open","Archdiocese of Westminster","06-51540205",null,"Mrs Joseph","Mrs","Manuella","Joseph","bursar@clitherow.brent.sch.uk","02084 503631",null,null,null,null,null,null,null,null,null,null,null,null,null,null,null,"Not applicable","Not applicable",null,"Not under a federation",null,null,null,null,null,null,"Quainton Street",null,null,"London",null,"NW10 0BG",null,2084503631,"London",null,null,"3-11",null,"Primary",null,"Mrs","Amanda","Whelan",null,"Headteacher","London"]
[101539,191,{"$error":"#NAME?"},304,"Brent",3501,"St Joseph RC Junior School","HA9 6BE",null,"Voluntary Aided School","Open","Archdiocese of Westminster","06-67925682",null,"Mrs Houghton","Mrs","Cassie","Behzadi","cbehzadi@sjjnr.brent.sch.uk","02089 023438",null,null,null,null,null,null,null,null,null,null,null,null,null,null,null,"Not applicable","Not applicable",null,"Supported by a federation","The Federation of St Joseph's Juniors, Infant and Nursery School",null,null,null,null,null,"Chatsworth Avenue",null,null,"Wembley","Middlesex","HA9 6BE",null,2089023438,"London",null,null,"7-11",null,"Primary",null,"Mrs","A","Whelan",null,"Headteacher","London"]
[101546,192,{"$error":"#NAME?"},304,"Brent",3509,"St Joseph's RC Infant School","HA9 6TA",null,"Voluntary Aided School","Open","Archdiocese of Westminster","06-42885837",null,"Ms Behzadi","Ms","Cassie","Behzadi","cbehzadi@sjjnr.brent.sch.uk","02089 036032",null,null,null,null,null,null,null,null,null,null,null,null,null,null,null,"Not applicable","Not applicable",null,"Supported by a federation","The Federation of St Joseph's Juniors, Infant and Nursery School",null,null,null,null,null,"Waverley Avenue",null,null,"Wembley",null,"HA9 6TA",null,2089036032,"London",null,null,"3-7",null,"Primary",null,"Miss","M A","Shea",null,"Headteacher","London"]
[101547,193,{"$error":"#NAME?"},304,"Brent",3510,"Our Lady of Grace RC Infant and Nursery School","NW2 6EU",null,"Voluntary Aided School","Open","Archdiocese of Westminster","06-84602767",null,"Mrs Cinniffe","Mrs","Irene","Cunniffe","irenecunniffe@ologinfants.brent.sch.uk","02084 506757",null,null,null,null,null,null,null,null,null,null,null,null,null,null,null,"Not applicable","Not applicable",null,"Not under a federation",null,null,null,null,null,null,"Dollis Hill Avenue",null,null,"London",null,"NW2 6EU",null,2084506757,"London",null,null,"3-7",null,"Primary",null,"Mr","Danny","Coyle",null,"Headteacher","London"]
[101564,194,{"$error":"#NAME?"},304,"Brent",5407,"Newman Catholic College","NW10 3RN",null,"Voluntary Aided School","Open","Archdiocese of Westminster","06-96279159",null,"Ms Joshi","Ms","Hitesh    ","Joshi","hjoshie@ncc.brent.sch.uk ","02089 653947",null,null,null,null,null,null,null,null,null,null,null,null,null,null,null,"Not applicable","Not applicable",null,"Not under a federation",null,10001161,null,null,null,null,"Harlesden Road",null,null,"London",null,"NW10 3RN",null,2089653947,"London",null,null,"11-19",null,"Secondary",null,"Miss","Honor","Beck",null,"Headteacher","London"]
[101543,195,{"$f":"_xlfn.CONCAT(D196,F196)","v":{"$error":"#NAME?"}},304,"Brent",3506,"St Robert Southwell RC Primary School","NW9 8YD",null,"Voluntary Aided School","Open","Archdiocese of Westminster","06-26372032",null,"Ms Lim","Ms","Magdalena","Lim","mlim@robsouth.brent.sch.uk","02082 046148",null,null,null,null,null,null,null,null,null,null,null,null,null,null,null,"Not applicable","Not applicable",null,"Not under a federation",null,null,null,null,null,null,"Slough Lane","Kingsbury",null,"London",null,"NW9 8YD",null,2082046148,"London",null,null,"3-11",null,"Primary",null,null,null,null,null,"Headteacher","Wales (pseudo)"]
[401080,196,{"$error":"#NAME?"},672,"Bridgend",3311,"St Mary's & St Patrick's Catholic Primary School","CF34 9AY",null,"Welsh Establishment","Open","Archdiocese of Cardiff","10-32171092",null,"Sarah Hawker","Ms","Sarah","Hawker","stm&pprimary@bridgend.gov.uk","01656 815585",null,null,null,null,null,null,null,null,null,null,null,null,null,null,null,"Not applicable","Not applicable",null,"Not applicable",null,null,null,null,null,null,"Monica Street","Maesteg","Bridgend",null,null,"CF34 9AY",null,1656732349,"Wales (pseudo)",null,null,"-",null,"Primary",null,null,null,null,null,"Headteacher","Wales (pseudo)"]
[401081,197,{"$error":"#NAME?"},672,"Bridgend",3315,"St Robert's Catholic Primary School","CF32 9AB",null,"Welsh Establishment","Open","Archdiocese of Cardiff","10-80139957",null,"Mrs Dover","Mrs","","Dover","strobertscath@bridgend.gov.uk","01656 815515",null,null,null,null,null,null,null,null,null,null,null,null,null,null,null,"Not applicable","Not applicable",null,"Not applicable",null,null,null,null,null,null,"Danylan","Aberkenfig","Bridgend",null,null,"CF32 9AB",null,1656815515,"Wales (pseudo)",null,null,"-",null,"Primary",null,null,null,null,null,"Headteacher","Wales (pseudo)"]
[401082,198,{"$error":"#NAME?"},672,"Bridgend",3322,"St Mary's  Catholic Primary School","CF31 4JW",null,"Welsh Establishment","Open","Archdiocese of Cardiff","10-55405935",null,"Pamela Fullerton","Ms","Pamela","Fullerton","admin.stmarys@bridgend.gov.uk","01656 815560",null,null,null,null,null,null,null,null,null,null,null,null,null,null,null,"Not applicable","Not applicable",null,"Not applicable",null,null,null,null,null,null,"Llangewydd Road","Bridgend",null,null,null,"CF31 4JW",null,1656815560,"Wales (pseudo)",null,null,"-",null,"Primary",null,null,null,null,null,"Headteacher","Wales (pseudo)"]
[401797,199,{"$error":"#NAME?"},672,"Bridgend",4601,"Archbishop McGrath Catholic High School","CF31 2DN",null,"Welsh Establishment","Open","Archdiocese of Cardiff","10-14810142",null,"Bursar ","Bursar","","","archmcgrathrc@bridgend.gov.uk","01656 720677",null,null,null,null,null,null,null,null,null,null,null,null,null,null,null,"Not applicable","Not applicable",null,"Not applicable",null,10008896,null,null,null,null,"Oak Tree Way","Brackla",null,"Bridgend",null,"CF31 2DN",null,1656815500,"Wales (pseudo)",null,null,"-",null,"Primary",null,"Dr","James","Kilmartin",null,"Headteacher","South East"]
[114611,200,{"$error":"#NAME?"},846,"Brighton and Hove",4605,"Cardinal Newman Catholic School","BN3 6ND",null,"Voluntary Aided School","Open","Diocese of Arundel and Brighton","07-83042370",null,"Mr Burgess-Gamble","Mr","Richard","Burgess-Gamble","r.burgess-gamble@cncs.sch.uk","01273 558551",null,null,null,null,null,null,null,null,null,null,null,null,null,null,null,"Not applicable","Not applicable",null,"Not under a federation",null,10008145,null,null,null,null,"The Upper Drive",null,null,"Hove","East Sussex","BN3 6ND",null,1273558551,"South East",null,null,"11-18",null,"Secondary",null,"Mrs","Sarah","Clayton",null,"Headteacher","South East"]
[114570,201,{"$error":"#NAME?"},846,"Brighton and Hove",3344,"St Mary's Catholic Primary School","BN41 1LB",null,"Voluntary Aided School","Open","Diocese of Arundel and Brighton","07-15451945",null,"Mrs Evans","Mrs","Deborah","Evans","deborahevans@stmarys.brighton-hove.sch.uk","01273 418416",null,null,null,null,null,null,null,null,null,null,null,null,null,null,null,"Not applicable","Not applicable",null,"Not under a federation",null,null,null,null,null,null,"Church Road","Portslade",null,"Brighton","East Sussex","BN41 1LB",null,1273418416,"South East",null,null,"4-11",null,"Primary",null,"Miss","Fran","Morrison",null,"Headteacher","South East"]
[114542,202,{"$error":"#NAME?"},846,"Brighton and Hove",3314,"St Joseph's Catholic Primary School","BN1 7BF",null,"Voluntary Aided School","Open","Diocese of Arundel and Brighton","07-28187222",null,"Miss Rhodes","Miss","Martine","Rhodes","martinerhodes@st-josephs.brighton-hove.sch.uk","01273 556607",null,null,null,null,null,null,null,null,null,null,null,null,null,null,null,"Not applicable","Not applicable",null,"Not under a federation",null,null,null,null,null,null,"Davey Drive","Hollingdean",null,"Brighton","East Sussex","BN1 7BF",null,1273556607,"South East",null,null,"4-11",null,"Primary",null,"Mrs","Andrea","Wilson",null,"Headteacher","South East"]
[114541,203,{"$error":"#NAME?"},846,"Brighton and Hove",3313,"St Mary Magdalen Catholic Primary School","BN1 3EF",null,"Voluntary Aided School","Open","Diocese of Arundel and Brighton","07-77946899",null,"Mrs Pitman","Mrs","Gill","Pitman","office@stmarymags.brighton-hove.sch.uk","01273 327533",null,null,null,null,null,null,null,null,null,null,null,null,null,null,null,"Not applicable","Not applicable",null,"Not under a federation",null,null,null,null,null,null,"Spring Street",null,null,"Brighton","East Sussex","BN1 3EF",null,1273327533,"South East",null,null,"3-11",null,"Primary",null,"Mrs","Jacqueline","Lance","Ba Hons; Npqh","Headteacher","South East"]
[114546,204,{"$error":"#NAME?"},846,"Brighton and Hove",3318,"St Bernadette's Catholic Primary School","BN1 6UT",null,"Voluntary Aided School","Open","Diocese of Arundel and Brighton","07-26725656",null,"Ms Goddard","Ms","Liz","Goddard","LizGoddard@stberns.brighton-hove.sch.uk","01273 553813",null,null,null,null,null,null,null,null,null,null,null,null,null,null,null,"Not applicable","Not applicable",null,"Not under a federation",null,null,null,null,null,null,"Preston Road","Withdean",null,"Brighton","East Sussex","BN1 6UT",null,1273553813,"South East",null,null,"4-11",null,"Primary",null,"Ms","Carmel","Hughes",null,"Headteacher","South East"]
[114540,205,{"$error":"#NAME?"},846,"Brighton and Hove",3311,"St John the Baptist Catholic Primary School","BN2 0AH",null,"Voluntary Aided School","Open","Diocese of Arundel and Brighton","07-38280048",null,"Ms Hunt","Ms","Michelle","Hunt","admin@stjohn.brighton-hove.sch.uk","01273 607924",null,null,null,null,null,null,null,null,null,null,null,null,null,null,null,"Not applicable","Not applicable",null,"Not under a federation",null,null,null,null,null,null,"Whitehawk Hill Road",null,null,"Brighton","East Sussex","BN2 0AH",null,1273607924,"South East",null,null,"4-11",null,"Primary",null,"Mr","Paul","Beverton",null,"Headteacher","South East"]
[114544,206,{"$error":"#NAME?"},846,"Brighton and Hove",3316,"Our Lady of Lourdes RC School","BN2 7HA",null,"Voluntary Aided School","Open","Diocese of Arundel and Brighton","07-17360833",null,"Mrs Mathews","Mrs",null,"Mathews","admin@lourdes.brighton-hove.sch.uk","01273 306980",null,null,null,null,null,null,null,null,null,null,null,null,null,null,null,"Not applicable","Not applicable",null,"Not under a federation",null,null,null,null,null,null,"The Green","Rottingdean",null,"Brighton","East Sussex","BN2 7HA",null,1273306980,"South East",null,null,"5-11",null,"Primary",null,"Mrs","Rachel","Breen",null,"Headteacher","South East"]
[114567,207,{"$error":"#NAME?"},846,"Brighton and Hove",3341,"Cottesmore St Mary's Catholic Primary School","BN3 6NB",null,"Voluntary Aided School","Open","Diocese of Arundel and Brighton","07-80258140",null,"Ms Pinnell","Ms","Angie","Pinnell","office@cottesmore.brighton-hove.sch.uk","01273 555811",null,null,null,null,null,null,null,null,null,null,null,null,null,null,null,"Not applicable","Not applicable",null,"Not under a federation",null,null,null,null,null,null,"The Upper Drive",null,null,"Hove","East Sussex","BN3 6NB",null,1273555811,"South East",null,null,"5-11",null,"Primary",null,"Mrs","Margaret","Wilson",null,"Headteacher","South West"]
[109246,208,{"$error":"#NAME?"},801,"Bristol City of",3403,"St Bernard's Catholic Primary School","BS11 9TU",null,"Voluntary Aided School","Open","Diocese of Clifton","11-96942339",null,"Mrs Russell","Mrs","Kim","Russell","school@stbernardsprimary.co.uk","01179 030352",null,null,null,null,null,null,null,null,null,null,null,null,null,null,null,"Not applicable","Not applicable",null,"Not under a federation",null,null,null,null,null,null,"Station Road","Shirehampton",null,"Bristol",null,"BS11 9TU",null,1179030352,"South West",null,null,"4-11",null,"Primary",null,null,"Meg","Collett",null,"Head of School","South West"]
[139032,209,{"$error":"#NAME?"},801,"Bristol City of",3408,"St Nicholas of Tolentine Catholic Primary School","BS5 0TJ","St Nicholas of Tolentine Catholic Primary School","Academy Converter","Open","Diocese of Clifton","11-14620569",null,"Mrs Willis","Mrs","Jessica","Willis","st.nicholas.p@bristol-schools.uk","01173 772260",null,null,null,null,null,null,null,null,null,null,null,null,null,null,null,"Supported by a single-academy trust","-",null,"Not applicable",null,10039625,null,null,null,null,"Pennywell Road",null,null,"Bristol",null,"BS5 0TJ",null,1173772260,"South West",null,null,"4-11",null,"Primary",null,"Ms","Catherine","Hughes",null,"Principal","South West"]
[137627,210,{"$error":"#NAME?"},801,"Bristol City of",4602,"St Bede's Catholic College","BS11 0SU","St Bede's Catholic College","Academy Converter","Open","Diocese of Clifton","11-58180176",null,"Miss Mortell","Miss","Rachel","Mortell","r.mortell@stbcc.org","01173 772200",null,null,null,null,null,null,null,null,null,null,null,null,null,null,null,"Supported by a single-academy trust","Linked to a sponsor","St Bede's Catholic College","Not applicable",null,10035687,null,null,null,null,"Long Cross","Lawrence Weston",null,"Bristol",null,"BS11 0SU",null,1173772200,"South West",null,null,"11-18",null,"Secondary",null,null,"Samantha","Land",null,"Headteacher","South West"]
[139033,211,{"$error":"#NAME?"},801,"Bristol City of",3414,"St Teresa's Catholic Primary School","BS7 0UP","St Teresa's Catholic Primary School Bristol","Academy Converter","Open","Diocese of Clifton","11-84545256",null,"Mrs Vaughan","Mrs","Liz","Vaughan","Liz.Vaughan@stteresas.org.uk","01179 030412",null,null,null,null,null,null,null,null,null,null,null,null,null,null,null,"Supported by a single-academy trust","-",null,"Not applicable",null,10039300,null,null,null,null,"Luckington Road","Monks Park",null,"Bristol",null,"BS7 0UP",null,1179030412,"South West",null,null,"4-11",null,"Primary",null,null,"Michele","Marshall",null,"Headteacher","South West"]
[138465,212,{"$error":"#NAME?"},801,"Bristol City of",3411,"St Patrick's Catholic Primary School","BS5 8AS","St Patrick's Catholic Primary School","Academy Converter","Open","Diocese of Clifton","11-87669656",null,"Mrs Giles","Mrs","Helen","Giles","school@stpatricksbristol.org.uk","01173 772387",null,null,null,null,null,null,null,null,null,null,null,null,null,null,null,"Supported by a single-academy trust","-",null,"Not applicable",null,10037862,null,null,null,null,"Blackswarth Road","Redfield",null,"Bristol",null,"BS5 8AS",null,1173772387,"South West",null,null,"4-11",null,"Primary",null,"Mrs","Jacqueline","McCarthy",null,"Headteacher","South West"]
[109247,213,{"$error":"#NAME?"},801,"Bristol City of",3405,"St Joseph's Catholic Primary School","BS16 3QR",null,"Voluntary Aided School","Open","Diocese of Clifton","11-58165731",null,"Mrs Montgomery","Mrs","Camilla","Montgomery","camilla.montgomery@bristol-schools.uk","01173 772160",null,null,null,null,null,null,null,null,null,null,null,null,null,null,null,"Not applicable","Not applicable",null,"Not under a federation",null,null,null,null,null,null,"Chatsworth Road","Fishponds",null,"Bristol","Bristol","BS16 3QR",null,1173772160,"South West",null,null,"4-11",null,"Primary",null,"Mrs","Lucille","Charles",null,"Headteacher","South West"]
[109255,214,{"$error":"#NAME?"},801,"Bristol City of",3417,"St Bonaventure's Catholic Primary School","BS7 8HP",null,"Voluntary Aided School","Open","Diocese of Clifton","11-47836509",null,"Ms Simpson","Ms","Carol","Simpson","carol.simpson@bristol-schools.uk","01173 532830",null,null,null,null,null,null,null,null,null,null,null,null,null,null,null,"Not applicable","Not applicable",null,"Not under a federation",null,null,null,null,null,null,"Egerton Road","Bishopston",null,"Bristol","Bristol","BS7 8HP",null,1173532830,"South West",null,null,"4-11",null,"Primary",null,"Mrs","Barbara","Lee",null,"Headteacher","South West"]
[109254,215,{"$error":"#NAME?"},801,"Bristol City of",3415,"St Bernadette Catholic Voluntary Aided Primary School","BS14 9LP",null,"Voluntary Aided School","Open","Diocese of Clifton","11-75027325",null,"Mrs Mills","Mrs","Chris","Mills","chris.mills@bristol-schools.uk","01173 772373",null,null,null,null,null,null,null,null,null,null,null,null,null,null,null,"Not applicable","Not applicable",null,"Not under a federation",null,null,null,null,null,null,"Gladstone Road","Hengrove",null,"Bristol",null,"BS14 9LP",null,1173772373,"South West",null,null,"4-11",null,"Primary",null,"Mr","M","Condon",null,"Headteacher","South West"]
[109243,216,{"$error":"#NAME?"},801,"Bristol City of",3400,"School of Christ The King Catholic Primary","BS4 1HD",null,"Voluntary Aided School","Open","Diocese of Clifton","11-27914409",null,"Mrs Roberts","Mrs","Kath","Roberts","christ.the.king.p@bristol-schools.uk","01179 664844",null,null,null,null,null,null,null,null,null,null,null,null,null,null,null,"Not applicable","Not applicable",null,"Not under a federation",null,null,null,null,null,null,"Hartcliffe Road","Filwood Park",null,"Bristol",null,"BS4 1HD",null,1179664844,"South West",null,null,"5-11",null,"Primary",null,"Mrs","Jo","Kingston",null,"Acting Headteacher","South West"]
[109244,217,{"$error":"#NAME?"},801,"Bristol City of",3401,"Holy Cross RC Primary School","BS3 1DB",null,"Voluntary Aided School","Open","Diocese of Clifton","11-34180378",null,"Mr Franks","Mr","Jason","Franks","holycrossp@bristol-schools.uk","01173 772199",null,null,null,null,null,null,null,null,null,null,null,null,null,null,null,"Not applicable","Not applicable",null,"Not under a federation",null,null,null,null,null,null,"Dean Lane","Bedminster",null,"Bristol",null,"BS3 1DB",null,1173772199,"South West",null,null,"4-11",null,"Primary",null,"Mrs","Basia","McLaughlin",null,"Headteacher","South West"]
[109331,218,{"$error":"#NAME?"},801,"Bristol City of",4801,"St Bernadette Catholic Secondary School","BS14 9LS",null,"Voluntary Aided School","Open","Diocese of Clifton","11-17881160",null,"Mr Maggs","Mr","Neill","Maggs","info@stberns.bristol.sch.uk","01173 772050",null,null,null,null,null,null,null,null,null,null,null,null,null,null,null,"Not applicable","Not applicable",null,"Not under a federation",null,10017483,null,null,null,null,"Fossedale Avenue","Whitchurch",null,"Bristol",null,"BS14 9LS",null,1173772050,"South West",null,null,"11-16",null,"Secondary",null,"Mrs","S","Lux",null,"Headteacher","South West"]
[109251,219,{"$error":"#NAME?"},801,"Bristol City of",3412,"Our Lady of the Rosary Catholic Primary School, Bristol","BS11 0PA",null,"Voluntary Aided School","Open","Diocese of Clifton","11-24490123",null,"Mrs Butt","Mrs","Sandra","Butt","ourladyp@bristol-schools.uk","01179 030025",null,null,null,null,null,null,null,null,null,null,null,null,null,null,null,"Not applicable","Not applicable",null,"Not under a federation",null,null,null,null,null,null,"Tide Grove","Lawrence Weston",null,"Bristol","Bristol","BS11 0PA",null,1179030025,"South West",null,null,"4-11",null,"Primary",null,"Mr","Andrew","Moore-Stow",null,"Interim Headteacher","South West"]
[109252,220,{"$error":"#NAME?"},801,"Bristol City of",3413,"St Pius X RC Primary School","BS13 9AB",null,"Voluntary Aided School","Open","Diocese of Clifton","11-54813389",null,"Mrs Adams","Mrs","Alison","Adams","saintpiusp@bristol-schools.uk","01173 772165",null,null,null,null,null,null,null,null,null,null,null,null,null,null,null,"Not applicable","Not applicable",null,"Not under a federation",null,null,null,null,null,null,"Gatehouse Avenue","Withywood",null,"Bristol",null,"BS13 9AB",null,1173772165,"South West",null,null,"4-11",null,"Primary",null,"Mrs","C P","Burns",null,"Headteacher","South West"]
[109245,221,{"$error":"#NAME?"},801,"Bristol City of",3402,"Ss Peter and Paul RC Primary School","BS6 6HY",null,"Voluntary Aided School","Open","Diocese of Clifton","11-86774368",null,"Ms Williams","Ms","Tessa","Williams","tessa.williams@bristol-schools.uk","01179 030070",null,null,null,null,null,null,null,null,null,null,null,null,null,null,null,"Not applicable","Not applicable",null,"Not under a federation",null,null,null,null,null,null,"Aberdeen Road","Redland",null,"Bristol",null,"BS6 6HY",null,1179030070,"South West",null,null,"4-11",null,"Primary",null,"Mr","Michael","Jaffrain",null,"Principal","South West"]
[130563,222,{"$error":"#NAME?"},801,"Bristol City of",8600,"St Brendan's Sixth Form College","BS4 5RQ",null,"Further Education","Open","Archdiocese of Southwark","11-15760269",null,"Mrs De Stephens","Ms","Mrs","De Stephens","info@stbrn.ac.uk","01179 777766",null,null,null,null,null,null,null,null,null,null,null,null,null,null,null,"Not applicable","Not applicable",null,"Not applicable",null,10006130,null,null,null,null,"Broomhill Road","Brislington",null,"Bristol",null,"BS4 5RQ",null,1179777766,"South West",null,null,"16-19",null,"Secondary",null,"Mrs","Isobel","Vassallo",null,"Headteacher","London"]
[141535,223,{"$error":"#NAME?"},305,"Bromley",5202,"St Mary's Catholic Primary School","BR3 5DE","St Mary's Catholic Primary School","Academy Converter","Open","Archdiocese of Southwark","26-29794669",null,"Mrs Vassallo","Mrs",null,"Vassallo","admin@st-marys-catholic.bromley.sch.uk","02086 502355",null,null,null,null,null,null,null,null,null,null,null,null,null,null,null,"Supported by a single-academy trust","-",null,"Not applicable",null,10047891,null,null,null,null,"Westgate Road",null,null,"Beckenham","Kent","BR3 5DE",null,2086502355,"London",null,null,"4-11",null,"Primary",null,null,"Ryan","Langford",null,"Headteacher","London"]
[141907,224,{"$error":"#NAME?"},305,"Bromley",5201,"Holy Innocents Catholic Primary School","BR6 9JT","Holy Innocents Catholic Primary School","Academy Converter","Open","Archdiocese of Southwark","26-41674555",null,"Mrs Pickering","Mrs","Jane","Pickering","admin@holyinnocents.bromley.sch.uk","01689 813040",null,null,null,null,null,null,null,null,null,null,null,null,null,null,null,"Supported by a single-academy trust","-",null,"Not applicable",null,10049294,null,null,null,null,"Mitchell Road",null,null,"Orpington","Kent","BR6 9JT",null,1689813040,"London",null,null,"5-11",null,"Primary",null,null,"Sharon","Grange","Bed Hons    Npqh","Headteacher","London"]
[141566,225,{"$error":"#NAME?"},305,"Bromley",3500,"St Joseph's Catholic Primary School","BR1 3JQ","St Joseph's Catholic Primary School","Academy Converter","Open","Archdiocese of Southwark","26-50187652",null,"Ms Camerson","Ms","Lindsay","Camerson","admin@st-josephs.bromley.sch.uk","02084 601976",null,null,null,null,null,null,null,null,null,null,null,null,null,null,null,"Supported by a single-academy trust","-",null,"Not applicable",null,10048071,null,null,null,null,"Plaistow Lane",null,null,"Bromley","Kent","BR1 3JQ",null,2084601976,"London",null,null,"4-11",null,"Primary",null,"Miss","Veronica","Maher",null,"Headteacher","London"]
[141482,226,{"$error":"#NAME?"},305,"Bromley",3503,"St Philomena's Primary School","BR5 4DR","St Philomena's Catholic Primary School","Academy Converter","Open","Archdiocese of Southwark","26-50233731",null,"Ms Lambert","Ms","Susan","Lambert","slambert10.305@lgflmail.org","01689 826550",null,null,null,null,null,null,null,null,null,null,null,null,null,null,null,"Supported by a single-academy trust","-",null,"Not applicable",null,10047630,null,null,null,null,"Chelsfield Road",null,null,"Orpington","Kent","BR5 4DR",null,1689826550,"London",null,null,"5-11",null,"Primary",null,"Mrs","Joanna","Seymour",null,"Headteacher","London"]
[141158,227,{"$error":"#NAME?"},305,"Bromley",3505,"St Peter and St Paul Catholic Primary School","BR5 2SR","St Peter and St Paul Catholic Primary Academy","Academy Converter","Open","Archdiocese of Southwark","26-56589731",null,"Mrs Cawley","Mrs",null,"Cawley","admin@stpeterandstpauls.bromley.sch.uk","01689 828208",null,null,null,null,null,null,null,null,null,null,null,null,null,null,null,"Supported by a single-academy trust","-",null,"Not applicable",null,10046757,null,null,null,null,"St Paul's Wood Hill","St Paul's Cray",null,"Orpington","Kent","BR5 2SR",null,1689828208,"London",null,null,"5-11",null,"Primary",null,null,"Jane","McIntyre",null,"Headteacher","London"]
[141481,228,{"$error":"#NAME?"},305,"Bromley",3501,"St Vincent's Catholic Primary School","SE9 4JR","St Vincent's Catholic Primary School","Academy Converter","Open","Archdiocese of Southwark","26-61600436",null,"Mrs Webb","Mrs","Christine","Webb","christine.webb@st-vincents.bromley.sch.uk","02088 575134",null,null,null,null,null,null,null,null,null,null,null,null,null,null,null,"Supported by a single-academy trust","-",null,"Not applicable",null,10047629,null,null,null,null,"Harting Road","Mottingham",null,"London",null,"SE9 4JR",null,2088575134,"London",null,null,"4-11",null,"Primary",null,"Mrs","Anna","Bosher",null,"Headteacher","London"]
[137958,229,{"$error":"#NAME?"},305,"Bromley",3507,"St James' Roman Catholic Primary School","BR5 1BL","St. James' R.C. Primary School","Academy Converter","Open","Archdiocese of Southwark","26-64563970",null,"Mrs Place","Mrs","Valerie","Place","general.info@st-james.bromley.sch.uk","02084 678167",null,null,null,null,null,null,null,null,null,null,null,null,null,null,null,"Supported by a single-academy trust","-",null,"Not applicable",null,10036992,null,null,null,null,"Maybury Close","Petts Wood",null,"Orpington","Kent","BR5 1BL",null,2084678167,"London",null,null,"5-11",null,"Primary",null,"Ms","Lorna","White",null,"Acting Headteacher","London"]
[101654,230,{"$error":"#NAME?"},305,"Bromley",3504,"St Anthony's Roman Catholic Primary School","SE20 8ES",null,"Voluntary Aided School","Open","Archdiocese of Southwark","26-73906107",null,"Mrs White","Mrs","Lorna","White","admin@st-anthonys.bromley.sch.uk","02087 787681",null,null,null,null,null,null,null,null,null,null,null,null,null,null,null,"Not applicable","Not applicable",null,"Not under a federation",null,null,null,null,null,null,"Genoa Road","Anerley",null,"London",null,"SE20 8ES",null,2087787681,"London",null,null,"4-11",null,"Primary",null,"Mrs","Paula","Anderson",null,null,"London"]
[101683,231,{"$error":"#NAME?"},305,"Bromley",6003,"Bishop Challoner School","BR2 0BS",null,"Other Independent School","Open","Archdiocese of Southwark","26-44440925",null,"Mr Rolls","Mr","David","Rolls","bursar@bishopchallonerschool.com","02084 603546",null,null,null,null,null,null,null,null,null,null,null,null,null,null,null,"Not applicable","Not applicable",null,"Not applicable",null,10008106,null,null,null,null,"228 Bromley Road","Shortlands",null,"Bromley","Kent","BR2 0BS",null,2084603546,"London",null,null,"3-18",null,"Secondary",null,"Mrs","Margaret","Louisy",null,"Headteacher","South East"]
[110480,232,{"$error":"#NAME?"},825,"Buckinghamshire",3376,"St Louis Catholic Primary School","HP20 2XZ",null,"Voluntary Aided School","Open","Diocese of Northampton","20-10027354",null,"Mrs George","Mrs","Angela","George","bursaroffice@stlouisrcc.bucks.sch.uk","01296 488915",null,null,null,null,null,null,null,null,null,null,null,null,null,null,null,"Not applicable","Not applicable",null,"Not under a federation",null,null,null,null,null,null,"Harris Court",null,null,"Aylesbury","Buckinghamshire","HP20 2XZ",null,1296488915,"South East",null,null,"4-11",null,"Primary",null,"Mrs","J","Storey",null,"Head of Thornton College","South East"]
[110549,233,{"$error":"#NAME?"},825,"Buckinghamshire",6010,"Thornton College","MK17 0HJ",null,"Other Independent School","Open","Diocese of Northampton","20-87499266",null,"Mrs Sanders","Mrs","Jane","Sanders","bursar@thorntoncollege.com","01280 812610",null,null,null,null,null,null,null,null,null,null,null,null,null,null,null,"Not applicable","Not applicable",null,"Not applicable",null,10016021,null,null,null,null,"Convent of Jesus and Mary","Thornton",null,"Milton Keynes","Buckinghamshire","MK17 0HJ",null,1280812610,"South East",null,null,"2-18",null,"Secondary",null,"Mrs","Ann","Taylor",null,"Headteacher","South East"]
[110478,234,{"$error":"#NAME?"},825,"Buckinghamshire",3372,"St Joseph's Catholic Infant School","HP21 7JF",null,"Voluntary Aided School","Open","Diocese of Northampton","20-13549829",null,"Mrs Newman","Mrs","Tara","Newman","bursar@stjosephsrcinfant.bucks.sch.uk","01296 484618",null,null,null,null,null,null,null,null,null,null,null,null,null,null,null,"Not applicable","Not applicable",null,"Not under a federation",null,null,null,null,null,null,"Hazell Avenue",null,null,"Aylesbury","Buckinghamshire","HP21 7JF",null,1296484618,"South East",null,null,"4-7",null,"Primary",null,"Mrs","Josephine","Marsh","Ba Qts (Hons)","Headteacher","South East"]
[110477,235,{"$error":"#NAME?"},825,"Buckinghamshire",3371,"St Joseph's Catholic Primary School","SL9 8SB",null,"Voluntary Aided School","Open","Diocese of Northampton","20-53231116",null,"Mrs Rospedzihowska","Mrs",null,"Rospedzihowska","businessm@st-josephsprimary.bucks.sch.uk","01753 887743",null,null,null,null,null,null,null,null,null,null,null,null,null,null,null,"Not applicable","Not applicable",null,"Not under a federation",null,null,null,null,null,null,"Priory Road","Chalfont St Peter",null,"Gerrards Cross","Buckinghamshire","SL9 8SB",null,1753887743,"South East",null,null,"2-11",null,"Primary",null,"Mr","Mark","Holdsworth",null,"Headteacher","South East"]
[110479,236,{"$error":"#NAME?"},825,"Buckinghamshire",3375,"Our Lady's Catholic Primary School","HP6 5PL",null,"Voluntary Aided School","Open","Diocese of Northampton","20-76227407",null,"Miss Mansfield","Miss","Linda","Mansfield","office@ols.education","01494 726390",null,null,null,null,null,null,null,null,null,null,null,null,null,null,null,"Not applicable","Not applicable",null,"Not under a federation",null,null,null,null,null,null,"Amersham Road","Chesham Bois",null,"Amersham","Buckinghamshire","HP6 5PL",null,1494726390,"South East",null,null,"4-11",null,"Primary",null,"Mrs","Suzette","Harris","BA Hons","Headteacher","South East"]
[110475,237,{"$error":"#NAME?"},825,"Buckinghamshire",3367,"St Edward's Catholic Junior School","HP21 7JF",null,"Voluntary Aided School","Open","Diocese of Northampton","20-82017817",null,"Mrs Loxley","Mrs","Assunta","Loxley","office@stedwards.bucks.sch.uk","01296 424544",null,null,null,null,null,null,null,null,null,null,null,null,null,null,null,"Not applicable","Not applicable",null,"Not under a federation",null,null,null,null,null,null,"Hazell Avenue",null,null,"Aylesbury","Buckinghamshire","HP21 7JF",null,1296424544,"South East",null,null,"7-11",null,"Primary",null,"Miss","Amanda","McCluskey",null,"Acting Headteacher","South East"]
[110473,238,{"$error":"#NAME?"},825,"Buckinghamshire",3361,"St Peter's Catholic Primary School","SL7 2PJ",null,"Voluntary Aided School","Open","Diocese of Northampton","20-29823242",null,"Mrs Sandall","Mrs","Jackie","Sandall","office@stpetersrc.bucks.sch.uk","01628 472116",null,null,null,null,null,null,null,null,null,null,null,null,null,null,null,"Not applicable","Not applicable",null,"Not under a federation",null,null,null,null,null,null,"Prospect Road",null,null,"Marlow","Buckinghamshire","SL7 2PJ",null,1628472116,"South East",null,null,"4-11",null,"Primary",null,"Mr","Garret","Fay","Ba(Hons)Mamedcantab","Headteacher","South East"]
[110516,239,{"$error":"#NAME?"},825,"Buckinghamshire",4701,"St Michael's Catholic School","HP11 1PW",null,"Voluntary Aided School","Open","Diocese of Northampton","20-64036226",null,"Ms Wiggins","Ms","Tracey","Wiggins","office@stmichaels.bucks.sch.uk","01494 535196",null,null,null,null,null,null,null,null,null,null,null,null,null,null,null,"Not applicable","Not applicable",null,"Not under a federation",null,10006126,null,null,null,null,"Daws Hill Lane",null,null,"High Wycombe","Buckinghamshire","HP11 1PW",null,1494535196,"South East",null,null,"3-18",null,"Secondary",null,"Mr","S","Detre",null,"Headmaster","South East"]
[110559,240,{"$error":"#NAME?"},825,"Buckinghamshire",6028,"St Teresa's School","HP27 0JW",null,"Other Independent School","Open","Diocese of Northampton","20-44969356",null,"Mrs Oakford","Mrs","","Oakford","joakford@st-teresas.bucks.sch.uk","01844 345005",null,null,null,null,null,null,null,null,null,null,null,null,null,null,null,"Not applicable","Not applicable",null,"Not applicable",null,null,null,null,null,null,"Aylesbury Road",null,null,"Princes Risborough","Buckinghamshire","HP27 0JW",null,1844345005,"South East",null,null,"2-12",null,"Secondary",null,"Mr","David","Frost",null,"Principal","North West"]
[130499,241,{"$error":"#NAME?"},351,"Bury",8600,"Holy Cross College","BL9 9BB",null,"Further Education","Open","Diocese of Salford","24-22256057",null,"Ms Cassidy","Ms","Annmarie","Cassidy","amc@holycross.co.uk","01617 624500",null,null,null,null,null,null,null,null,null,null,null,null,null,null,null,"Not applicable","Not applicable",null,"Not applicable",null,10003128,null,null,null,null,"169 Manchester Road",null,null,"Bury","Greater Manchester","BL9 9BB",null,1617624500,"North West",null,null,"16-99",null,"Further or Higher",null,"Mr","J D","Harrison",null,"Headteacher","North West"]
[105334,242,{"$error":"#NAME?"},351,"Bury",3320,"Guardian Angels Roman Catholic Primary School, Bury","BL8 2RH",null,"Voluntary Aided School","Open","Diocese of Salford","24-54838195",null,"Denise Cunliffe","Ms","Denise","Cunliffe","guardianangels@bury.gov.uk","01617 644014",null,null,null,null,null,null,null,null,null,null,null,null,null,null,null,"Not applicable","Not applicable",null,"Not under a federation",null,null,null,null,null,null,"Leigh Lane",null,null,"Bury","Lancashire","BL8 2RH",null,1617644014,"North West",null,null,"3-11",null,"Primary",null,"Mrs","E","England",null,"Headteacher","North West"]
[105344,243,{"$error":"#NAME?"},351,"Bury",3336,"Holly Mount Roman Catholic Primary School, Bury","BL8 4HS",null,"Voluntary Aided School","Open","Diocese of Salford","24-39500387",null,"Mrs Bond","Mrs","L ","Bond","hollymount@bury.gov.uk","01204 882770",null,null,null,null,null,null,null,null,null,null,null,null,null,null,null,"Not applicable","Not applicable",null,"Not under a federation",null,null,null,null,null,null,"Hollymount Lane","Greenmount",null,"Bury","Lancashire","BL8 4HS",null,1204882770,"North West",null,null,"4-11",null,"Primary",null,null,"Andrea","Letcher-Adkins",null,"Headteacher","North West"]
[105366,244,{"$error":"#NAME?"},351,"Bury",4606,"St Monica's RC High School and Sixth Form Centre","M25 1JH",null,"Voluntary Aided School","Open","Diocese of Salford","24-39392530",null,"Mrs Murray","Mrs","Janet","Murray","j.murray@stmonicas.co.uk","01617 736436",null,null,null,null,null,null,null,null,null,null,null,null,null,null,null,"Not applicable","Not applicable",null,"Not under a federation",null,10017357,null,null,null,null,"Bury Old Road","Prestwich",null,"Manchester","Lancashire","M25 1JH",null,1617736436,"North West",null,null,"11-18",null,"Secondary",null,"Mrs","A K","Casey",null,"Headteacher","North West"]
[105345,245,{"$error":"#NAME?"},351,"Bury",3337,"Our Lady of Grace RC Primary School","M25 3AS",null,"Voluntary Aided School","Open","Diocese of Salford","24-61495098",null,"Mrs McGrath","Mrs","Janet","McGrath","olog@bury.gov.uk","01617 967254",null,null,null,null,null,null,null,null,null,null,null,null,null,null,null,"Not applicable","Not applicable",null,"Not under a federation",null,null,null,null,null,null,"Highfield Road","Prestwich",null,"Manchester","Lancashire","M25 3AS",null,1617967254,"North West",null,null,"3-11",null,"Primary",null,"Mrs","Joanne","Davies",null,"Headteacher","North West"]
[105337,246,{"$error":"#NAME?"},351,"Bury",3328,"Our Lady of Lourdes Roman Catholic Primary School, Bury","BL8 1YA",null,"Voluntary Aided School","Open","Diocese of Salford","24-64642250",null,"Julie Ensor","Ms","Julie","Ensor","olol@bury.gov.uk","01617 612026",null,null,null,null,null,null,null,null,null,null,null,null,null,null,null,"Not applicable","Not applicable",null,"Not under a federation",null,null,null,null,null,null,"Rudgwick Drive",null,null,"Bury","Lancashire","BL8 1YA",null,1617612026,"North West",null,null,"4-11",null,"Primary",null,"Mr","Simon","Tonge",null,"Headteacher","North West"]
[105347,247,{"$error":"#NAME?"},351,"Bury",3341,"St Bernadette's Roman Catholic Primary School, Whitefield","M45 8PT",null,"Voluntary Aided School","Open","Diocese of Salford","24-40279102",null,"Helen Cooper","Ms","Helen","Cooper","stbernadettes@bury.gov.uk","01617 666098",null,null,null,null,null,null,null,null,null,null,null,null,null,null,null,"Not applicable","Not applicable",null,"Not under a federation",null,null,null,null,null,null,"Abingdon Avenue","Whitefield",null,"Manchester","Lancashire","M45 8PT",null,1617666098,"North West",null,null,"5-11",null,"Primary",null,"Mr","Simon","Smith","Ba Ma Npqh Lle","Headteacher","North West"]
[105367,248,{"$error":"#NAME?"},351,"Bury",4607,"St Gabriel's RC High School","BL9 0TZ",null,"Voluntary Aided School","Open","Diocese of Salford","24-15272187",null,"Miss Standbridge","Miss","Helen","Standbridge","stgabriels@bury.gov.uk","01617 643186",null,null,null,null,null,null,null,null,null,null,null,null,null,null,null,"Not applicable","Not applicable",null,"Not under a federation",null,10016980,null,null,null,null,"Bridge Road",null,null,"Bury","Lancashire","BL9 0TZ",null,1617643186,"North West",null,null,"11-16",null,"Secondary",null,"Mr","James","Graves","Pgce","Headteacher","North West"]
[105343,249,{"$error":"#NAME?"},351,"Bury",3335,"St Joseph's Roman Catholic Primary School, Ramsbottom","BL0 9JJ",null,"Voluntary Aided School","Open","Diocese of Salford","24-37581252",null,"School Office","School Office",null,null,"stjosephs@bury.gov.uk","01706 823645",null,null,null,null,null,null,null,null,null,null,null,null,null,null,null,"Not applicable","Not applicable",null,"Not under a federation",null,null,null,null,null,null,"Queen Street","Ramsbottom",null,"Bury","Lancashire","BL0 9JJ",null,1706823645,"North West",null,null,"3-11",null,"Primary",null,"Mrs","F M","Robinson",null,"Headteacher","North West"]
[105335,250,{"$error":"#NAME?"},351,"Bury",3324,"St Marie's Roman Catholic Primary School, Bury","BL9 0RZ",null,"Voluntary Aided School","Open","Diocese of Salford","24-99970393",null,"Mrs Barber","Mrs",null,"Barber","stmaries@bury.gov.uk","01617 643204",null,null,null,null,null,null,null,null,null,null,null,null,null,null,null,"Not applicable","Not applicable",null,"Not under a federation",null,null,null,null,null,null,"Edward Street","The Mosses",null,"Bury","Lancashire","BL9 0RZ",null,1617643204,"North West",null,null,"3-11",null,"Primary",null,"Mr","David Paul","Heaton","BSc PGCE AdvDip Educ","Headteacher","North West"]
[105353,251,{"$error":"#NAME?"},351,"Bury",3350,"St Mary's Roman Catholic Primary School, Radcliffe","M26 4DG",null,"Voluntary Aided School","Open","Diocese of Salford","24-12962822",null,"Mrs Gerrard","Mrs","R","Gerrard","stmarysradcliffe@bury.gov.uk","01617 234210",null,null,null,null,null,null,null,null,null,null,null,null,null,null,null,"Not applicable","Not applicable",null,"Not under a federation",null,null,null,null,null,null,"Belgrave Street","Radcliffe",null,"Manchester","Lancashire","M26 4DG",null,1617234210,"North West",null,null,"3-11",null,"Primary",null,"Mr","N","Duffin",null,"Headteacher","North West"]
[105348,252,{"$error":"#NAME?"},351,"Bury",3343,"St Michael's Roman Catholic Primary School, Whitefield","M45 8NJ",null,"Voluntary Aided School","Open","Diocese of Salford","24-14593522",null,"Mrs New","Mrs","Cheryl","New","stmichaels@bury.gov.uk","01617 666628",null,null,null,null,null,null,null,null,null,null,null,null,null,null,null,"Not applicable","Not applicable",null,"Not under a federation",null,null,null,null,null,null,"Ribble Drive","Whitefield",null,"Manchester","Lancashire","M45 8NJ",null,1617666628,"North West",null,null,"3-11",null,"Primary",null,"Mrs","Elizabeth","Connolly",null,"Headteacher","North West"]
[105336,253,{"$error":"#NAME?"},351,"Bury",3326,"St Joseph and St Bede RC Primary School","BL9 6ER",null,"Voluntary Aided School","Open","Diocese of Salford","24-45282225",null,"School Office","School Office",null,null,"stjosephstbede@bury.gov.uk","01617 643781",null,null,null,null,null,null,null,null,null,null,null,null,null,null,null,"Not applicable","Not applicable",null,"Not under a federation",null,null,null,null,null,null,"Danesmoor Drive",null,null,"Bury","Lancashire","BL9 6ER",null,1617643781,"North West",null,null,"5-11",null,"Primary",null,"Mrs","Emma","Howard",null,"Headteacher","North West"]
[105369,254,{"$error":"#NAME?"},351,"Bury",6000,"Bury Catholic Preparatory School","BL9 9BH",null,"Other Independent School","Open","Diocese of Salford","24-66385721",null,"Helen Penketh","Ms","Helen","Penketh","admin@burycatholicprepschool.co.uk","0161 764 2346",null,null,null,null,null,null,null,null,null,null,null,null,null,null,null,"Not applicable","Not applicable",null,"Not applicable",null,null,null,null,null,null,"Arden House","Manchester Road",null,"Bury","Lancashire","BL9 9BH",null,1617642346,"North West",null,null,"3-11",null,"Primary",null,null,null,null,null,"Headteacher","Wales (pseudo)"]
[401385,255,{"$error":"#NAME?"},676,"Caerphilly",3310,"St Helen's Catholic Primary School","CF83 1QH",null,"Welsh Establishment","Open","Archdiocese of Cardiff","10-95325490",null,"Jane Macfarlane","Ms","Jane","Macfarlane","sthpa@caerphilly.gov.uk","0222 852532",null,null,null,null,null,null,null,null,null,null,null,null,null,null,null,"Not applicable","Not applicable",null,"Not applicable",null,null,null,null,null,null,"Lansbury Park","Caerphilly",null,null,null,"CF83 1QH",null,2920852532,"Wales (pseudo)",null,null,"-",null,"Primary",null,"Mrs","Sue","McManamin",null,"Headteacher","Yorkshire and Humber"]
[141479,256,{"$error":"#NAME?"},381,"Calderdale",3328,"Sacred Heart Catholic Voluntary Academy","HX6 1BL","Blessed Peter Snow Catholic Academy Trust","Academy Converter","Open","Diocese of Leeds","16-32754009",null,"Collettee Short","Ms","Collettee","Short","colette.short@sacredheart.calderdale.sch.uk","01422 831360",null,null,null,null,null,null,null,null,null,null,null,null,null,null,null,"Supported by a multi-academy trust","-",null,"Not applicable",null,10047627,null,null,null,null,"St Peter's Avenue",null,null,"Sowerby Bridge","West Yorkshire","HX6 1BL",null,1422831360,"Yorkshire and the Humber",null,null,"4-11",null,"Primary",null,"Ms","Annie","McNally","Ba (Hons)","Headteacher","Yorkshire and Humber"]
[141480,257,{"$error":"#NAME?"},381,"Calderdale",3306,"St Malachy's Catholic Primary School, A Voluntary Academy","HX2 8JY","Blessed Peter Snow Catholic Academy Trust","Academy Converter","Open","Diocese of Leeds","16-66529817",null,"Mrs Jowett","Mrs","Joanne","Jowett","sbm@st-malachys.calderdale.sch.uk","01422 244628",null,null,null,null,null,null,null,null,null,null,null,null,null,null,null,"Supported by a multi-academy trust","-",null,"Not applicable",null,10047628,null,null,null,null,"Furness Place","Illingworth",null,"Halifax","West Yorkshire","HX2 8JY",null,1422244628,"Yorkshire and the Humber",null,null,"3-11",null,"Primary",null,"Mrs","Mary","Hodges",null,"Headteacher","Yorkshire and Humber"]
[107559,258,{"$error":"#NAME?"},381,"Calderdale",3329,"St Joseph's Catholic Primary School, Brighouse","HD6 2NT",null,"Voluntary Aided School","Open","Diocese of Leeds","16-73250708",null,"Joan Naylor","Ms","Joan","Naylor","admin@st-josephs-brig.calderdale.sch.uk","01484 713037",null,null,null,null,null,null,null,null,null,null,null,null,null,null,null,"Not applicable","Not applicable",null,"Not under a federation",null,null,null,null,null,null,"Finkil Street","Hove Edge",null,"Brighouse","West Yorkshire","HD6 2NT",null,1484713037,"Yorkshire and the Humber",null,null,"3-11",null,"Primary",null,"Mrs","Maria","Cooper","Bed Npqh","Headteacher","Yorkshire and Humber"]
[107560,259,{"$f":"_xlfn.CONCAT(D260,F260)","v":{"$error":"#NAME?"}},381,"Calderdale",3330,"St Joseph's RC Primary School, Todmorden","OL14 5HP",null,"Voluntary Aided School","Open","Diocese of Salford","24-72470051",null,"Mrs Hopkins","Mrs","Amanda Hopkins","Hopkins","admin@st-josephs-tod.calderdale.sch.uk","01706 812948",null,null,null,null,null,null,null,null,null,null,null,null,null,null,null,"Not applicable","Not applicable",null,"Not under a federation",null,null,null,null,null,null,"Wellington Road",null,null,"Todmorden","Lancashire","OL14 5HP",null,1706812948,"Yorkshire and the Humber",null,null,"3-11",null,"Primary",null,"Mr","Mark","Brennan",null,"Headteacher","Yorkshire and Humber"]
[107546,260,{"$error":"#NAME?"},381,"Calderdale",3308,"St Mary's Catholic Primary School","HX1 2ER",null,"Voluntary Aided School","Open","Diocese of Leeds","16-56355137",null,"School Office","School Office",null,null,"admin@st-marys-halifax.calderdale.sch.uk","01422 362365",null,null,null,null,null,null,null,null,null,null,null,null,null,null,null,"Not applicable","Not applicable",null,"Not under a federation",null,null,null,null,null,null,"Swires Road",null,null,"Halifax","West Yorkshire","HX1 2ER",null,1422362365,"Yorkshire and the Humber",null,null,"4-11",null,"Primary",null,"Mrs","Helena","Angstmann",null,"Headteacher","Yorkshire and Humber"]
[107544,261,{"$error":"#NAME?"},381,"Calderdale",3305,"St Joseph's Catholic Primary School","HX3 6LA",null,"Voluntary Aided School","Open","Diocese of Leeds","16-27897401",null,"School Office","School Office",null,null,"admin@st-josephs.calderdale.sch.uk","01422 360646",null,null,null,null,null,null,null,null,null,null,null,null,null,null,null,"Not applicable","Not applicable",null,"Not under a federation",null,null,null,null,null,null,"Portland Road",null,null,"Halifax","West Yorkshire","HX3 6LA",null,1422360646,"Yorkshire and the Humber",null,null,"4-11",null,"Primary",null,"Mrs","Linda","Brown",null,"Headteacher","Yorkshire and Humber"]
[107557,262,{"$error":"#NAME?"},381,"Calderdale",3327,"St Patrick's Catholic Primary School","HX5 0QY",null,"Voluntary Aided School","Open","Diocese of Leeds","16-46166784",null,"Administration Office","Administration Office",null,null,"admin@st-patricks.calderdale.sch.uk","01422 373104",null,null,null,null,null,null,null,null,null,null,null,null,null,null,null,"Not applicable","Not applicable",null,"Not under a federation",null,null,null,null,null,null,"Hullen Edge Road",null,null,"Elland","West Yorkshire","HX5 0QY",null,1422373104,"Yorkshire and the Humber",null,null,"4-11",null,"Primary",null,"Mr","Alistair","Day",null,"Headteacher","Eastern"]
[137924,263,{"$error":"#NAME?"},873,"Cambridgeshire",4602,"St Bede's Inter-Church School","CB1 3TD","St Bede's Inter Church School","Academy Converter","Open","Diocese of East Anglia","12-85408176",null,"Alexandra Clarke","Ms","Alexandra","Clarke","aclarke@stbedes.cambs.sch.uk","01223 568816",null,null,null,null,null,null,null,null,null,null,null,null,null,null,null,"Supported by a single-academy trust","-",null,"Not applicable",null,10036612,null,null,null,null,"Birdwood Road",null,null,"Cambridge","Cambridgeshire","CB1 3TD",null,1223568816,"East of England",null,null,"11-16",null,"Secondary",null,"Mr","Mark","Millinson",null,"Headteacher","Eastern"]
[139537,264,{"$error":"#NAME?"},873,"Cambridgeshire",3383,"All Saints Interchurch Academy","PE15 8ND","All Saints Inter-church Academy","Academy Converter","Open","Diocese of East Anglia","12-89231278",null,"Elizabeth Cowell","Ms","Elizabeth","Cowell","office@allsaints.cambs.sch.uk","01354 659000",null,null,null,null,null,null,null,null,null,null,null,null,null,null,null,"Supported by a single-academy trust","-",null,"Not applicable",null,10040875,null,null,null,null,"County Road",null,null,"March","Cambridgeshire","PE15 8ND",null,1354659000,"East of England",null,null,"5-11",null,"Primary",null,"Mr","J A","McCrossan",null,"Headteacher","Eastern"]
[110841,265,{"$error":"#NAME?"},873,"Cambridgeshire",3360,"St Alban's Catholic Primary School","CB2 1EN",null,"Voluntary Aided School","Open","Diocese of East Anglia","12-23529638",null,"Mrs Munnelly","Mrs",null,"Munnelly","office@stalbans.cambs.sch.uk","01223 712148",null,null,null,null,null,null,null,null,null,null,null,null,null,null,null,"Not applicable","Not applicable",null,"Not under a federation",null,null,null,null,null,null,"Lensfield Road",null,null,"Cambridge","Cambridgeshire","CB2 1EN",null,1223712148,"East of England",null,null,"4-11",null,"Primary",null,"Miss","Charlotte","Avery",null,"Headteacher","Eastern"]
[110912,266,{"$error":"#NAME?"},873,"Cambridgeshire",6001,"St Mary's School","CB2 1LY",null,"Other Independent School","Open","Diocese of East Anglia","12-56650680",null,"Mrs Bauld","Mrs","Janet","Bauld","enquiries@stmaryscambridge.co.uk","01223 353253",null,null,null,null,null,null,null,null,null,null,null,null,null,null,null,"Not applicable","Not applicable",null,"Not applicable",null,10006233,null,null,null,null,"Bateman Street",null,null,"Cambridge","Cambridgeshire","CB2 1LY",null,1223353253,"East of England",null,null,"4-18",null,"Secondary",null,"Mrs","Clare","Clark",null,"Headteacher","Eastern"]
[110845,267,{"$error":"#NAME?"},873,"Cambridgeshire",3366,"St Laurence's Catholic Primary School","CB4 2JX",null,"Voluntary Aided School","Open","Diocese of East Anglia","12-91548947",null,"Mrs Taylor","Mrs","E","Taylor","office@stlaurence.cambs.sch.uk","01223 712227",null,null,null,null,null,null,null,null,null,null,null,null,null,null,null,"Not applicable","Not applicable",null,"Not under a federation",null,null,null,null,null,null,"Arbury Road",null,null,"Cambridge","Cambridgeshire","CB4 2JX",null,1223712227,"East of England",null,null,"4-11",null,"Primary",null,"Ms","Clare","McFlynn",null,"Executive Head","London"]
[100037,268,{"$error":"#NAME?"},202,"Camden",3400,"St Aloysius Catholic Primary School","NW1 1PS",null,"Voluntary Aided School","Open","Archdiocese of Westminster","06-44502463",null,"Mrs Mak","Mrs","Lilian","Mack","admin@staloysiusjun.camden.sch.uk","02073 879591",null,null,null,null,null,null,null,null,null,null,null,null,null,null,null,"Not applicable","Not applicable",null,"Not under a federation",null,null,null,null,null,null,"Aldenham Street",null,null,"London",null,"NW1 1PS",null,2073879591,"London",null,null,"3-11",null,"Primary",null,"Mr","Sean","Cranitch",null,"Headteacher","London"]
[100045,269,{"$error":"#NAME?"},202,"Camden",3560,"St Patrick's Catholic Primary School","NW5 3AH",null,"Voluntary Aided School","Open","Archdiocese of Westminster","06-40537720",null,"Ms Halliman","Ms","Lisa","Halliman","l.halliman@stpatricks.camden.sch.uk","02072 671200",null,null,null,null,null,null,null,null,null,null,null,null,null,null,null,"Not applicable","Not applicable",null,"Not under a federation",null,null,null,null,null,null,"Holmes Road",null,null,"London",null,"NW5 3AH",null,2072671200,"London",null,null,"3-11",null,"Primary",null,"Ms","Isobel","Gaffney",null,"Headteacher","London"]
[100035,270,{"$error":"#NAME?"},202,"Camden",3391,"Rosary Roman Catholic Primary School","NW3 2AE",null,"Voluntary Aided School","Open","Archdiocese of Westminster","06-50079993",null,"Mrs McShane","Mrs","Brenda","McShane","B.mcshane@rosary.camden.sch.uk","02077 946292",null,null,null,null,null,null,null,null,null,null,null,null,null,null,null,"Not applicable","Not applicable",null,"Not under a federation",null,null,null,null,null,null,"238 Haverstock Hill","Hampstead",null,"London",null,"NW3 2AE",null,2077946292,"London",null,null,"3-11",null,"Primary",null,"Mrs","T","Dunbar",null,"Headteacher","London"]
[100066,271,{"$error":"#NAME?"},202,"Camden",6038,"The Cavendish School","NW1 7HB",null,"Other Independent School","Open","Archdiocese of Westminster","06-22794821",null,"Sharon Chen Cooper","Ms",null,null,null,"02074 851958",null,null,null,null,null,null,null,null,null,null,null,null,null,null,null,"Not applicable","Not applicable",null,"Not applicable",null,null,null,null,null,null,"31 Inverness Street",null,null,"London",null,"NW1 7HB",null,2074851958,"London",null,null,"2-11",null,"Primary",null,null,"Jennifer","O'Prey",null,"Headteacher","London"]
[100039,272,{"$error":"#NAME?"},202,"Camden",3429,"St Dominic's Catholic Primary School","NW5 4JS",null,"Voluntary Aided School","Open","Archdiocese of Westminster","06-77333192",null,"Mrs Mahoney","Mrs","Maria","Mahoney","bursar@StDominics.camden.sch.uk","02074 855918",null,null,null,null,null,null,null,null,null,null,null,null,null,null,null,"Not applicable","Not applicable",null,"Not under a federation",null,null,null,null,null,null,"Southampton Road",null,null,"London",null,"NW5 4JS",null,2074855918,"London",null,null,"3-11",null,"Primary",null,"Ms","Moya","Richardson",null,"Associate Headteacher","London"]
[100048,273,{"$error":"#NAME?"},202,"Camden",3655,"Our Lady Roman Catholic Primary School","NW1 0DP",null,"Voluntary Aided School","Open","Archdiocese of Westminster","06-94065929",null,"Mr Swan","Mr","Frank","Swan","f.swan@fitzjohns.camden.sch.uk","02074 857997",null,null,null,null,null,null,null,null,null,null,null,null,null,null,null,"Not applicable","Not applicable",null,"Not under a federation",null,null,null,null,null,null,"Pratt Street","Camden",null,"London",null,"NW1 0DP",null,2074857997,"London",null,null,"3-11",null,"Primary",null,"Miss","Juliette","Jackson",null,"Headteacher","London"]
[100047,274,{"$error":"#NAME?"},202,"Camden",3649,"St Eugene de Mazenod Roman Catholic Primary School","NW6 4LS",null,"Voluntary Aided School","Open","Archdiocese of Westminster","06-94965563",null,"Mr Swan","Mr","Frank","Swan","f.swan@fitzjohns.camden.sch.uk","02076 244837",null,null,null,null,null,null,null,null,null,null,null,null,null,null,null,"Not applicable","Not applicable",null,"Not under a federation",null,null,null,null,null,null,"Mazenod Avenue",null,null,"London",null,"NW6 4LS",null,2076244837,"London",null,null,"4-11",null,"Primary",null,"Mrs","Helen","Gill",null,"Headteacher","London"]
[100055,275,{"$error":"#NAME?"},202,"Camden",4652,"Maria Fidelis Roman Catholic Convent School FCJ","NW1 1TA",null,"Voluntary Aided School","Open","Archdiocese of Westminster","06-91704251",null,"Ms Gill","Ms","Helen","Gill","office@mariafidelis.camden.sch.uk","02073 873856",null,null,null,null,null,null,null,null,null,null,null,null,null,null,null,"Not applicable","Not applicable",null,"Not under a federation",null,10004201,null,null,null,null,"34 Phoenix Road",null,null,"London",null,"NW1 1TA",null,2073873856,"London",null,null,"11-18",null,"Secondary",null,"Mr","Paul","Keyte",null,"Headmaster","London"]
[100070,276,{"$error":"#NAME?"},202,"Camden",6181,"St Anthony's Preparatory School","NW3 6NP",null,"Other Independent School","Open","Archdiocese of Westminster","06-72648084",null,"Mrs Anderson","Mrs","Sarah","Anderson","sarah.anderson@stanthonysprep.co.uk","02074 353597",null,null,null,null,null,null,null,null,null,null,null,null,null,null,null,"Not applicable","Not applicable",null,"Not applicable",null,10018478,null,null,null,null,"90 Fitzjohn's Avenue","Hampstead",null,"London",null,"NW3 6NP",null,2074353597,"London",null,null,"4-13",null,"Secondary",null,"Miss","Helen","Tyler",null,"Headteacher","London"]
[100041,277,{"$error":"#NAME?"},202,"Camden",3482,"St Josephs Primary School","WC2B 5NA",null,"Voluntary Aided School","Open","Archdiocese of Westminster","06-90278145",null,"Mrs Blanchfield","Mrs","Jennifer","Blanchfield","sbm@stjosephs.camden.sch.uk","02072 427712",null,null,null,null,null,null,null,null,null,null,null,null,null,null,null,"Not applicable","Not applicable",null,"Not under a federation",null,null,null,null,null,null,"Macklin Street","Covent Garden",null,"London",null,"WC2B 5NA",null,2072427712,"London",null,null,"3-11",null,"Primary",null,"Mrs","Maureen","Williams",null,"Headteacher","London"]
[100059,278,{"$error":"#NAME?"},202,"Camden",5401,"La Sainte Union Catholic Secondary School","NW5 1RP",null,"Voluntary Aided School","Open","Archdiocese of Westminster","06-92048692",null,"Ms Iles","Ms","Neil","Iles","Niles@lsu.camden.sch.uk","02074 284600",null,null,null,null,null,null,null,null,null,null,null,null,null,null,null,"Not applicable","Not applicable",null,"Not under a federation",null,10003733,null,null,null,null,"Highgate Road",null,null,"London",null,"NW5 1RP",null,2074284600,"London",null,null,"11-18",null,"Secondary",null,null,"Harriet","Connor Earl",null,"Headteacher","London"]
[100067,279,{"$error":"#NAME?"},202,"Camden",6084,"St Mary's School","NW3 6PG",null,"Other Independent School","Open","Archdiocese of Westminster","06-28915176",null,"Ms Lightley","Ms","Janice","Lightley","Janice.lightley@stmh.co.uk","0207 435 1568",null,null,null,null,null,null,null,null,null,null,null,null,null,null,null,"Not applicable","Not applicable",null,"Not applicable",null,null,null,null,null,null,"47 Fitzjohn's Avenue","Hampstead",null,"London",null,"NW3 6PG",null,2074351868,"London",null,null,"2-11",null,"Primary",null,null,null,null,null,"Headteacher","Wales (pseudo)"]
[401641,280,{"$error":"#NAME?"},681,"Cardiff",3321,"St Albans RC Primary School","CF24 2TG",null,"Welsh Establishment","Open","Archdiocese of Cardiff","10-43448087",null,"Gemma Gifford","Ms","Gemma","Gifford","stalbansprm@cardiff.gov.uk","029 20462915",null,null,null,null,null,null,null,null,null,null,null,null,null,null,null,"Not applicable","Not applicable",null,"Not applicable",null,null,null,null,null,null,"Mona Place","Tremorfa","Cardiff",null,null,"CF24 2TG",null,2920462915,"Wales (pseudo)",null,null,"-",null,"Primary",null,null,null,null,null,"Headteacher","Wales (pseudo)"]
[401642,281,{"$error":"#NAME?"},681,"Cardiff",3323,"St Cuthbert's R.C. Primary School","CF10 4AB",null,"Welsh Establishment","Open","Archdiocese of Cardiff","10-90674536",null,"Mrs Brooks","Mrs","","Brooks","schooladmin@stcuthbertsprm.cardiff.sch.uk","O2920 463234",null,null,null,null,null,null,null,null,null,null,null,null,null,null,null,"Not applicable","Not applicable",null,"Not applicable",null,null,null,null,null,null,"Letton Way","Cardiff Bay","Cardiff",null,null,"CF10 4AB",null,2920463234,"Wales (pseudo)",null,null,"-",null,"Primary",null,null,null,null,null,"Headteacher","Wales (pseudo)"]
[401645,282,{"$error":"#NAME?"},681,"Cardiff",3328,"St Joseph's R.C. Primary School","CF14 3BL",null,"Welsh Establishment","Open","Archdiocese of Cardiff","10-27486594",null,"Liz Morris","Ms","Liz","Morris","stjosephsprm@cardiff.gov.uk","029 2062 1625",null,null,null,null,null,null,null,null,null,null,null,null,null,null,null,"Not applicable","Not applicable",null,"Not applicable",null,null,null,null,null,null,"North Road","Cathays","Cardiff",null,null,"CF14 3BL",null,2920621625,"Wales (pseudo)",null,null,"-",null,"Primary",null,null,null,null,null,"Headteacher","Wales (pseudo)"]
[401646,283,{"$error":"#NAME?"},681,"Cardiff",3330,"St Mary's R.C. Primary School","CF11 9EF",null,"Welsh Establishment","Open","Archdiocese of Cardiff","10-63236931",null,"Margaret Colley",null,"Margaret","Colley","stmarysprm@cardiff.gov.uk","029 2022 5680",null,null,null,null,null,null,null,null,null,null,null,null,null,null,null,"Not applicable","Not applicable",null,"Not applicable",null,null,null,null,null,null,"Wyndham Crescent","Canton","Cardiff",null,null,"CF11 9EF",null,2920225680,"Wales (pseudo)",null,null,"-",null,"Primary",null,null,null,null,null,"Headteacher","Wales (pseudo)"]
[401647,284,{"$error":"#NAME?"},681,"Cardiff",3332,"St Patrick's R.C. Primary School","CF11 6NA",null,"Welsh Establishment","Open","Archdiocese of Cardiff","10-35870384",null,"Sian Lansbury",null,"Sian","Lansbury","sian.lansbury@cardiff.co.uk","029 2022 6237",null,null,null,null,null,null,null,null,null,null,null,null,null,null,null,"Not applicable","Not applicable",null,"Not applicable",null,null,null,null,null,null,"Lucknow Street","Grangetown","Cardiff",null,null,"CF11 6NA",null,2920226237,"Wales (pseudo)",null,null,"-",null,"Primary",null,null,null,null,null,"Headteacher","Wales (pseudo)"]
[401648,285,{"$error":"#NAME?"},681,"Cardiff",3334,"St Peter's R.C. Primary School","CF24 3SP",null,"Welsh Establishment","Open","Archdiocese of Cardiff","10-47811987",null,"Beverley Perks",null,"Beverley","Perks","bperks@cardiff.gov.uk","029 2049 7847",null,null,null,null,null,null,null,null,null,null,null,null,null,null,null,"Not applicable","Not applicable",null,"Not applicable",null,null,null,null,null,null,"Southey Street","Roath","Cardiff",null,null,"CF24 3SP",null,2920497847,"Wales (pseudo)",null,null,"-",null,"Primary",null,null,null,null,null,"Headteacher","Wales (pseudo)"]
[401649,286,{"$error":"#NAME?"},681,"Cardiff",3336,"St Cadoc's Primary School","CF3 5NX",null,"Welsh Establishment","Open","Archdiocese of Cardiff","10-95438654",null,"Mrs Owen","Mrs","","Owen","stcadocsprm@cardiff.gov.uk","029 2077 8545",null,null,null,null,null,null,null,null,null,null,null,null,null,null,null,"Not applicable","Not applicable",null,"Not applicable",null,null,null,null,null,null,"Shaw Close","Llanrumney","Cardiff",null,null,"CF3 5NX",null,2920778545,"Wales (pseudo)",null,null,"-",null,"Primary",null,null,null,null,null,"Headteacher","Wales (pseudo)"]
[401656,287,{"$error":"#NAME?"},681,"Cardiff",3353,"St John Lloyd R.C. Primary School","CF3 1TA",null,"Welsh Establishment","Open","Archdiocese of Cardiff","10-19201152",null,"Mrs Chambers","Mrs","","Chambers","cchambers@cardiff.gov.uk","02920-777690",null,null,null,null,null,null,null,null,null,null,null,null,null,null,null,"Not applicable","Not applicable",null,"Not applicable",null,null,null,null,null,null,"Bryn Bala Way","Trowbridge","Cardiff",null,null,"CF3 1TA",null,2920777690,"Wales (pseudo)",null,null,"-",null,"Primary",null,null,null,null,null,"Headteacher","Wales (pseudo)"]
[401657,288,{"$error":"#NAME?"},681,"Cardiff",3354,"Holy Family R.C. Primary School","CF5 3SN",null,"Welsh Establishment","Open","Archdiocese of Cardiff","10-58068547",null,"Linda Krizman",null,"Linda","Krizman","holyfamilyprm@cardiff.gov.uk","029 20565354",null,null,null,null,null,null,null,null,null,null,null,null,null,null,null,"Not applicable","Not applicable",null,"Not applicable",null,null,null,null,null,null,"Beechley Drive","Pentrebane","Fairwater","Cardiff",null,"CF5 3SN",null,2920565354,"Wales (pseudo)",null,null,"-",null,"Primary",null,null,null,null,null,"Headteacher","Wales (pseudo)"]
[401664,289,{"$error":"#NAME?"},681,"Cardiff",3374,"St Phillip Evans R.C. Primary School","CF23 9NX",null,"Welsh Establishment","Open","Archdiocese of Cardiff","10-50713559",null,"Susan Tarney",null,"Susan","Tarney","susan.tarney2@cardiff.gov.uk","029 20732514",null,null,null,null,null,null,null,null,null,null,null,null,null,null,null,"Not applicable","Not applicable",null,"Not applicable",null,null,null,null,null,null,"134-340 Coed-Y-Gores","Llanedeyrn","Cardiff",null,null,"CF23 9NX",null,2920732514,"Wales (pseudo)",null,null,"-",null,"Primary",null,null,null,null,null,"Headteacher","Wales (pseudo)"]
[401887,290,{"$error":"#NAME?"},681,"Cardiff",4600,"St Illtyds R.C. High School","CF3 1XQ",null,"Welsh Establishment","Open","Archdiocese of Cardiff","10-68257630",null,"Mr Dyer","Mr","","Dyer","gdyer@stilltyds.org.uk","029 2077 8174",null,null,null,null,null,null,null,null,null,null,null,null,null,null,null,"Not applicable","Not applicable",null,"Not applicable",null,10013797,null,null,null,null,"Newport Road","Rumney","Cardiff",null,null,"CF3 1XQ",null,2920778174,"Wales (pseudo)",null,null,"-",null,"Primary",null,null,null,null,null,"Headteacher","Wales (pseudo)"]
[401888,291,{"$error":"#NAME?"},681,"Cardiff",4607,"Mary Immaculate  R.C. High School","CF5 5QZ",null,"Welsh Establishment","Open","Archdiocese of Cardiff","10-95788699",null,"Miss Davidson","Miss","","Davidson","ddavison@maryimmaculate.cardiff.sch.uk","029 2059 3465",null,null,null,null,null,null,null,null,null,null,null,null,null,null,null,"Not applicable","Not applicable",null,"Not applicable",null,10013875,null,null,null,null,"Caerau Lane","Wenvoe","Cardiff",null,null,"CF5 5QZ",null,2920593465,"Wales (pseudo)",null,null,"-",null,"Primary",null,null,null,null,null,"Headteacher","Wales (pseudo)"]
[401891,292,{"$error":"#NAME?"},681,"Cardiff",4611,"Corpus Christi Catholic High School","CF23 6XL",null,"Welsh Establishment","Open","Archdiocese of Cardiff","10-59329929",null,"Mrs Ward","Mrs","","Ward","lward@cardiff.gov.uk","029 20761893",null,null,null,null,null,null,null,null,null,null,null,null,null,null,null,"Not applicable","Not applicable",null,"Not applicable",null,10013855,null,null,null,null,"Ty Draw Road","Lisvane","Cardiff",null,null,"CF23 6XL",null,2920761893,"Wales (pseudo)",null,null,"-",null,"Primary",null,null,null,null,null,"Headteacher","Wales (pseudo)"]
[402013,293,{"$error":"#NAME?"},681,"Cardiff",6004,"St Johns College","CF3 5YX",null,"Welsh Establishment","Open","Archdiocese of Cardiff",{"$error":"#N/A"},null,"Mr Johnson","Mr","Andrew","Johnson","bursar@stjohnscollegecardiff.co.uk","029 2077 8936",null,null,null,null,null,null,null,null,null,null,null,null,null,null,null,"Not applicable","Not applicable",null,"Not applicable",null,10013786,null,null,null,null,"Newport Road","College Green","Old St Mellon's","Cardiff",null,"CF3 5YX",null,2920778936,"Wales (pseudo)",null,null,"-",null,"Primary",null,null,null,null,null,null,"Wales (pseudo)"]
[402079,294,{"$error":"#NAME?"},681,"Cardiff",3375,"St Francis V.A. Primary School","CF5 4JL",null,"Welsh Establishment","Open","Archdiocese of Cardiff","10-86961517",null,"Linda Jones",null,"Linda","Jones","lindajones@cardiff.gov.uk","02920 591666",null,null,null,null,null,null,null,null,null,null,null,null,null,null,null,"Not applicable","Not applicable",null,"Not applicable",null,null,null,null,null,null,"Wilson Road","Ely","Cardiff",null,null,"CF5 4JL",null,2920591989,"Wales (pseudo)",null,null,"-",null,"Primary",null,"Mr","Mark","Leighfield",null,null,"Wales (pseudo)"]
[402285,295,{"$error":"#NAME?"},681,"Cardiff",1001,"St David's Catholic College","CF23 5QD",null,"Welsh Establishment","Open","Archdiocese of Cardiff","10-46118874",null,"Mrs Cleary","Mrs","","Cleary","lcleary@stdavidscollege.ac.uk","02920 498555",null,null,null,null,null,null,null,null,null,null,null,null,null,null,null,"Not applicable","Not applicable",null,"Not applicable",null,10037568,null,null,null,null,"Ty Gwyn Road",null,null,"Penylan","Cardiff (Caerdydd)","CF23 5QD",null,2920498555,"Wales (pseudo)",null,null,"-",null,"Primary",null,null,null,null,null,"Headteacher","Wales (pseudo)"]
[400854,296,{"$error":"#NAME?"},669,"Carmarthenshire",3300,"St Mary's R.C. Primary School","SA14 8SD",null,"Welsh Establishment","Open","Diocese of Menevia","18-65238206",null,"Mrs Howell","Mrs","","Howell","admin@stmarysl.ysgolccc.org.uk","01554 759178",null,null,null,null,null,null,null,null,null,null,null,null,null,null,null,"Not applicable","Not applicable",null,"Not applicable",null,null,null,null,null,null,"Havard Road","Llanelli","Carmarthenshire",null,null,"SA14 8SD",null,1554759178,"Wales (pseudo)",null,null,"-",null,"Primary",null,null,null,null,null,"Headteacher","Wales (pseudo)"]
[400855,297,{"$error":"#NAME?"},669,"Carmarthenshire",3301,"St Mary's R.C. Primary School","SA31 3DE",null,"Welsh Establishment","Open","Diocese of Menevia","18-31463085",null,"Mrs Phelps","Mrs","","Phelps","admin@stmarysc.ysgolccc.org.uk","01267 234297",null,null,null,null,null,null,null,null,null,null,null,null,null,null,null,"Not applicable","Not applicable",null,"Not applicable",null,null,null,null,null,null,"Union Street","Carmarthen","Carmarthenshire",null,null,"SA31 3DE",null,1267234297,"Wales (pseudo)",null,null,"-",null,"Primary",null,null,null,null,null,"Headteacher","Wales (pseudo)"]
[401763,298,{"$error":"#NAME?"},669,"Carmarthenshire",4600,"St John Lloyd R C School","SA14 8SD",null,"Welsh Establishment","Open","Diocese of Menevia","18-19940354",null,"Mrs Austin","Mrs","","Austin","admin@stjlloyd.carms.sch.uk","01554 772589",null,null,null,null,null,null,null,null,null,null,null,null,null,null,null,"Not applicable","Not applicable",null,"Not applicable",null,10013878,null,null,null,null,"Havard Road","Llanelli","Carmarthenshire",null,null,"SA14 8SD",null,1554772589,"Wales (pseudo)",null,null,"-",null,"Primary",null,"Miss","Daria","Hass",null,"Acting Headteacher","East of England"]
[109631,299,{"$error":"#NAME?"},823,"Central Bedfordshire",3348,"St Vincent's Catholic Primary School","LU5 5RG",null,"Voluntary Aided School","Open","Diocese of Northampton","20-78579071",null,"Mrs Jones","Mrs","Fiona","Jones","f.jones@cbc.beds.sch.uk","01582 862456",null,null,null,null,null,null,null,null,null,null,null,null,null,null,null,"Not applicable","Not applicable",null,"Not under a federation",null,null,null,null,null,null,"Hammersmith Gardens","Houghton Regis",null,"Dunstable","Bedfordshire","LU5 5RG",null,1582862456,"East of England",null,null,"3-11",null,"Primary",null,"Mr","Steve","Chiswell",null,"Headteacher","East of England"]
[109630,300,{"$error":"#NAME?"},823,"Central Bedfordshire",3346,"St Mary's Catholic Primary School","LU1 4BB",null,"Voluntary Aided School","Open","Diocese of Northampton","20-12093120",null,"Mrs Davis","Mrs","Mary","Davis","mdavis@cbc.beds.sch.uk","01582 602420",null,null,null,null,null,null,null,null,null,null,null,null,null,null,null,"Not applicable","Not applicable",null,"Not under a federation",null,null,null,null,null,null,"Dunstable Road","Caddington",null,"Luton","Bedfordshire","LU1 4BB",null,1582602420,"East of England",null,null,"2-11",null,"Primary",null,null,null,null,null,"Headteacher","Wales (pseudo)"]
[400647,301,{"$error":"#NAME?"},667,"Ceredigion",3318,"Ysgol Padarn Sant","SY23 1EZ",null,"Welsh Establishment","Open","Diocese of Menevia","18-59563365",null,"Headteacher ","Headteacher","","","prif@st-padarnsrcp.ceredigion.sch.uk","01970 630632",null,null,null,null,null,null,null,null,null,null,null,null,null,null,null,"Not applicable","Not applicable",null,"Not applicable",null,null,null,null,null,null,"Llanbadarn Road","Aberystwyth","Ceredigion",null,null,"SY23 1EZ",null,1970623862,"Wales (pseudo)",null,null,"-",null,"Primary",null,"Mrs","Teresa","Cooke","B Ed Hons Npqh","Headteacher","North West"]
[141811,302,{"$error":"#NAME?"},895,"Cheshire East",3525,"St Alban's Catholic Primary School, A Voluntary Academy","SK10 3HJ","The Holy Family of Nazareth Catholic Academy Trust","Academy Converter","Open","Diocese of Shrewsbury","25-56347850",null,"Mrs Agar","Mrs","Julie","Agar","business@stalbans.cheshire.sch.uk","01625 425905",null,null,null,null,null,null,null,null,null,null,null,null,null,null,null,"Supported by a multi-academy trust","-",null,"Not applicable",null,10048995,null,null,null,null,"Priory Lane",null,null,"Macclesfield","Cheshire","SK10 3HJ",null,1625425905,"North West",null,null,"4-11",null,"Primary",null,null,"Sacha","Humphries","Ma (Hons), Npqh","Headteacher","North West"]
[141826,303,{"$error":"#NAME?"},895,"Cheshire East",3531,"Saint Mary's Catholic Primary School","CW12 1HT","The Holy Family of Nazareth Catholic Academy Trust","Academy Converter","Open","Diocese of Shrewsbury","25-60814784",null,"School Business Manager ","School Business Manager",null,null,"admin@saintmaryscongleton.co.uk","01260 274690",null,null,null,null,null,null,null,null,null,null,null,null,null,null,null,"Supported by a multi-academy trust","-",null,"Not applicable",null,10049284,null,null,null,null,"Belgrave Avenue",null,null,"Congleton","Cheshire","CW12 1HT",null,1260274690,"North West",null,null,"5-11",null,"Primary",null,"Mr","Anthony","Billings","Ba(Hons)Pgce Ma Npqh","Principal","North West"]
[139139,304,{"$error":"#NAME?"},895,"Cheshire East",4801,"All Hallows Catholic College","SK11 8LB","The Holy Family of Nazareth Catholic Academy Trust","Academy Converter","Open","Diocese of Shrewsbury","25-84065293",null,"Ms Leigh","Ms","Janet","Leigh","j.leigh@allhallows.org.uk","01625 426138",null,null,null,null,null,null,null,null,null,null,null,null,null,null,null,"Supported by a multi-academy trust","-",null,"Not applicable",null,10040002,null,null,null,null,"Brooklands Avenue",null,null,"Macclesfield","Cheshire","SK11 8LB",null,1625426138,"North West",null,null,"11-18",null,"Secondary",null,"Mrs","Clare","Hogg",null,"Headteacher","North West"]
[139764,305,{"$error":"#NAME?"},895,"Cheshire East",4612,"St Thomas More Catholic High School, A Specialist School for Maths & ICT","CW2 8AE","The South Cheshire Catholic Multi-academy Trust~South Cheshire Catholic Multi-Academy Trust","Academy Converter","Open","Diocese of Shrewsbury","25-85523033",null,"Ms Sellors","Ms","Jane","Sellors","jane.sellors@st-thomasmore.cheshire.sch.uk","01270 568014",null,null,null,null,null,null,null,null,null,null,null,null,null,null,null,"Supported by a multi-academy trust~Supported by an umbrella trust","-",null,"Not applicable",null,10041830,null,null,null,null,"Dane Bank Avenue",null,null,"Crewe","Cheshire","CW2 8AE",null,1270568014,"North West",null,null,"11-16",null,"Secondary",null,null,"Nora","Armstrong-Boyle","Diphe;Bed(Hons);Npqh","Headteacher","North West"]
[141831,306,{"$error":"#NAME?"},895,"Cheshire East",3566,"St Paul's Catholic Primary School, A Voluntary Academy","SK12 1LY","The Holy Family of Nazareth Catholic Academy Trust","Academy Converter","Open","Diocese of Shrewsbury","25-36624729",null,"Mrs Wood","Mrs","Debbie","Wood","admin@stpauls.cheshire.sch.uk","01625 383040",null,null,null,null,null,null,null,null,null,null,null,null,null,null,null,"Supported by a multi-academy trust","-",null,"Not applicable",null,10048786,null,null,null,null,"Marley Road","Poynton",null,"Stockport","Cheshire","SK12 1LY",null,1625383040,"North West",null,null,"4-11",null,"Primary",null,"Mrs","Claire","Gurden",null,null,"North West"]
[135820,307,{"$error":"#NAME?"},895,"Cheshire East",5205,"Christ the King Catholic and Church of England Primary School","SK11 7SF",null,"Voluntary Aided School","Open","Diocese of Shrewsbury","25-12433499",null,"Ann Hulley",null,"Ann","Hulley","admin@christtheking.cheshire.sch.uk","01625 383272",null,null,null,null,null,null,null,null,null,null,null,null,null,null,null,"Not applicable","Not applicable",null,"Not under a federation",null,null,null,null,null,null,"Fir Grove",null,null,"Macclesfield","Cheshire","SK11 7SF",null,1625383272,"North West",null,null,"3-11",null,"Primary",null,"Mrs","H M","Brown",null,"Headteacher","North West"]
[111347,308,{"$error":"#NAME?"},895,"Cheshire East",3547,"St Anne's Catholic Primary School","CW5 7DA",null,"Voluntary Aided School","Open","Diocese of Shrewsbury","25-46871451",null,"Mrs Ashbrooke","Mrs","Michele ","Ashbrooke","admin@stannes.cheshire.sch.uk","01270 685353",null,null,null,null,null,null,null,null,null,null,null,null,null,null,null,"Not applicable","Not applicable",null,"Not under a federation",null,null,null,null,null,null,"Wellington Road",null,null,"Nantwich","Cheshire","CW5 7DA",null,1270685353,"North West",null,null,"4-11",null,"Primary",null,"Mr","Edward J","Byrne",null,"Headteacher","North West"]
[111339,309,{"$error":"#NAME?"},895,"Cheshire East",3536,"St Gabriel's Catholic Primary School","ST7 2PG",null,"Voluntary Aided School","Open","Diocese of Shrewsbury","25-86276208",null,"Mrs McCann","Mrs","Kaye","McCann","admin@stgabriels.cheshire.sch.uk","01270 875770",null,null,null,null,null,null,null,null,null,null,null,null,null,null,null,"Not applicable","Not applicable",null,"Not under a federation",null,null,null,null,null,null,"Well Lane","Alsager",null,"Stoke-on-Trent","Staffordshire","ST7 2PG",null,1270875770,"North West",null,null,"4-11",null,"Primary",null,"Mrs","Susan","Fau-Goodwin",null,"Headteacher","North West"]
[111342,310,{"$error":"#NAME?"},895,"Cheshire East",3541,"St Mary's Catholic Primary School, Crewe","CW2 8AD",null,"Voluntary Aided School","Open","Diocese of Shrewsbury","25-99305145",null,"Mrs Lee","Mrs","Lisa","Lee","admin@stmarysrc.cheshire.sch.uk","01270 685174",null,null,null,null,null,null,null,null,null,null,null,null,null,null,null,"Not applicable","Not applicable",null,"Not under a federation",null,null,null,null,null,null,"Dane Bank Avenue",null,null,"Crewe","Cheshire","CW2 8AD",null,1270685174,"North West",null,null,"3-11",null,"Primary",null,"Mrs","Susan","Noyce","B.Ed","Headteacher","North West"]
[111340,311,{"$error":"#NAME?"},895,"Cheshire East",3537,"St Mary's Catholic Primary School","CW10 9DH",null,"Voluntary Aided School","Open","Diocese of Shrewsbury","25-22211483",null,"Mrs Watson","Mrs","Kate","Watson","head@stmarysmiddlewich.cheshire.sch.uk","01606 832164",null,null,null,null,null,null,null,null,null,null,null,null,null,null,null,"Not applicable","Not applicable",null,"Not under a federation",null,null,null,null,null,null,"Manor Lane",null,null,"Middlewich","Cheshire","CW10 9DH",null,1606832164,"North West",null,null,"4-11",null,"Primary",null,"Mrs","Helen","Jeys",null,"Headteacher","North West"]
[111478,312,{"$error":"#NAME?"},895,"Cheshire East",6012,"Alderley Edge School for Girls","SK9 7QE",null,"Other Independent School","Open","Diocese of Shrewsbury","25-12740479",null,"Mrs McGill","Mrs","Pauline","McGill","schoolmail@aesg.co.uk","01625 583028",null,null,null,null,null,null,null,null,null,null,null,null,null,null,null,"Not applicable","Not applicable",null,"Not applicable",null,10000202,null,null,null,null,"Wilmslow Road",null,null,"Alderley Edge","Cheshire","SK9 7QE",null,1625583028,"North West",null,null,"2-18",null,"Secondary",null,"Mr","John","Daley",null,"Headteacher","North West"]
[111327,313,{"$error":"#NAME?"},895,"Cheshire East",3521,"St Gregory's Catholic Primary School","SK10 5HS",null,"Voluntary Aided School","Open","Diocese of Shrewsbury","25-37602092",null,"School Office","School Office",null,null,"admin@stgregorys.cheshire.sch.uk","01625 572037",null,null,null,null,null,null,null,null,null,null,null,null,null,null,null,"Not applicable","Not applicable",null,"Not under a federation",null,null,null,null,null,null,"Albert Road","Bollington",null,"Macclesfield","Cheshire","SK10 5HS",null,1625572037,"North West",null,null,"4-11",null,"Primary",null,"Mrs","Jane","Gornell",null,"Headteacher","North West"]
[111323,314,{"$error":"#NAME?"},895,"Cheshire East",3513,"St Benedict's Catholic Primary School","SK9 3AE",null,"Voluntary Aided School","Open","Diocese of Shrewsbury","25-59226602",null,"School Office","School Office",null,null,"admin@stbenedicts.cheshire.sch.uk","01625 520207",null,null,null,null,null,null,null,null,null,null,null,null,null,null,null,"Not applicable","Not applicable",null,"Not under a federation",null,null,null,null,null,null,"Hall Road","Handforth",null,"Wilmslow","Cheshire","SK9 3AE",null,1625520207,"North West",null,null,"4-11",null,"Primary",null,"Mrs","Grainne","Davies",null,"Acting Head Teacher","North West"]
[111358,315,{"$error":"#NAME?"},895,"Cheshire East",3559,"St Vincent's Catholic Primary School","WA16 8AL",null,"Voluntary Aided School","Open","Diocese of Shrewsbury","25-73012397",null,"Anna Corrigan",null,"Anna","Corrigan","head@stvincents.cheshire.sch.uk","01565 633637",null,null,null,null,null,null,null,null,null,null,null,null,null,null,null,"Not applicable","Not applicable",null,"Not under a federation",null,null,null,null,null,null,"Manor Park South",null,null,"Knutsford","Cheshire","WA16 8AL",null,1565633637,"North West",null,null,"4-11",null,"Primary",null,"Mr","Andrew","Moor",null,"Headteacher","North West"]
[140896,316,{"$error":"#NAME?"},896,"Cheshire West and Chester",3556,"St Bernard's Roman Catholic Primary School","CH65 5EW","Holy Family Catholic Multi Academy Trust","Academy Converter","Open","Diocese of Shrewsbury","25-66213845",null,"Mrs Allanson","Mrs",null,"Allanson","admin@stbernards.cheshire.sch.uk","01513 552047",null,null,null,null,null,null,null,null,null,null,null,null,null,null,null,"Supported by a multi-academy trust","Linked to a sponsor","Holy Family Catholic Multi Academy Trust","Not applicable",null,10046195,null,null,null,null,"Sherbourne Road",null,null,"Ellesmere Port","Merseyside","CH65 5EW",null,1513552047,"North West",null,null,"4-11",null,"Primary",null,"Mr","John","Murray",null,"Headteacher","North West"]
[139343,317,{"$error":"#NAME?"},896,"Cheshire West and Chester",4603,"The Catholic High School, Chester A Specialist Science College","CH4 7HS","The Chester Catholic Academies Partnership","Academy Converter","Open","Diocese of Shrewsbury","25-75577142",null,"Mrs Menkin","Mrs",null,"Menkin","office@admin.chsc.cheshire.sch.uk","01244 981600",null,null,null,null,null,null,null,null,null,null,null,null,null,null,null,"Supported by a multi-academy trust","-",null,"Not applicable",null,10040653,null,null,null,null,"Old Wrexham Road","Handbridge",null,"Chester","Cheshire","CH4 7HS",null,1244981600,"North West",null,null,"11-18",null,"Secondary",null,"Mrs","Caroline","Vile",null,"Headteacher","North West"]
[111451,318,{"$error":"#NAME?"},896,"Cheshire West and Chester",4611,"Ellesmere Port Catholic High School","CH65 7AQ",null,"Voluntary Aided School","Open","Diocese of Shrewsbury","25-89658999",null,"Mrs Chisholm","Mrs","Ruth","Chisholm","admin@email.epchs.co.uk","01513 552373",null,null,null,null,null,null,null,null,null,null,null,null,null,null,null,"Not applicable","Not applicable",null,"Not under a federation",null,10002222,null,null,null,null,"Capenhurst Lane","Whitby",null,"Ellesmere Port","Cheshire","CH65 7AQ",null,1513552373,"North West",null,null,"11-18",null,"Secondary",null,"Mrs","Louise","Finlay",null,"Headteacher","North West"]
[135246,319,{"$error":"#NAME?"},896,"Cheshire West and Chester",3815,"Our Lady Star of the Sea Catholic Primary School","CH65 7AQ",null,"Voluntary Aided School","Open","Diocese of Shrewsbury","25-22277791",null,"Mrs Carrington","Mrs","Tina","Carrington","admin@ourladystar.cheshire.sch.uk","01513 382230",null,null,null,null,null,null,null,null,null,null,null,null,null,null,null,"Not applicable","Not applicable",null,"Not under a federation",null,null,null,null,null,null,"Capenhurst Lane",null,null,"Ellesmere Port","Cheshire","CH65 7AQ",null,1513382230,"North West",null,null,"3-11",null,"Primary",null,"Ms","Louise","Conlon",null,"Headteacher","North West"]
[111341,320,{"$error":"#NAME?"},896,"Cheshire West and Chester",3538,"St Bede's Catholic Primary School, Weaverham","CW8 3BY",null,"Voluntary Aided School","Open","Diocese of Shrewsbury","25-19920340",null,"Janine Hart",null,"Janine","Hart","admin@st-bedes.cheshire.sch.uk","01606 852149",null,null,null,null,null,null,null,null,null,null,null,null,null,null,null,"Not applicable","Not applicable",null,"Not under a federation",null,null,null,null,null,null,"Keepers Lane","Weaverham",null,"Northwich","Cheshire","CW8 3BY",null,1606852149,"North West",null,null,"4-11",null,"Primary",null,"Mrs","Marian","Ryder","Bed Hons, Npqh","Headteacher","North West"]
[111311,321,{"$error":"#NAME?"},896,"Cheshire West and Chester",3415,"St Clare's Catholic Primary School","CH4 8HX",null,"Voluntary Aided School","Open","Diocese of Shrewsbury","25-26990019",null,"Gaynor Kujawinski",null,"Gaynor","Kujawinski","admin@stclares.cheshire.sch.uk","01244 981110",null,null,null,null,null,null,null,null,null,null,null,null,null,null,null,"Not applicable","Not applicable",null,"Not under a federation",null,null,null,null,null,null,"Hawthorn Road","Lache",null,"Chester","Cheshire","CH4 8HX",null,1244981110,"North West",null,null,"4-11",null,"Primary",null,"Mr","John","Donald",null,"Headteacher","North West"]
[111386,322,{"$error":"#NAME?"},896,"Cheshire West and Chester",3643,"St Joseph's Catholic Primary School","CW7 2JS",null,"Voluntary Aided School","Open","Diocese of Shrewsbury","25-73515384",null,"Mrs Weaver","Mrs","Jayne","Weaver","admin@stjosephs.cheshire.sch.uk","01606 288044",null,null,null,null,null,null,null,null,null,null,null,null,null,null,null,"Not applicable","Not applicable",null,"Not under a federation",null,null,null,null,null,null,"Woodford Lane",null,null,"Winsford","Cheshire","CW7 2JS",null,1606288044,"North West",null,null,"3-11",null,"Primary",null,"Miss","Eileen","Murtagh","M Ed, Ba(Hons)","Headteacher","North West"]
[111379,323,{"$f":"_xlfn.CONCAT(D324,F324)","v":{"$error":"#NAME?"}},896,"Cheshire West and Chester",3633,"St Luke's Catholic Primary School","WA6 7QP",null,"Voluntary Aided School","Open","Diocese of Shrewsbury","25-11312295",null,"Mrs Atkin","Mrs","Stephanie","Atkin","admin@stlukes.cheshire.sch.uk","01244 981290",null,null,null,null,null,null,null,null,null,null,null,null,null,null,null,"Not applicable","Not applicable",null,"Not under a federation",null,null,null,null,null,null,"The Willows",null,null,"Frodsham","Cheshire","WA6 7QP",null,1244981290,"North West",null,null,"4-11",null,"Primary",null,"Mr","Robert","Hughes",null,"Headteacher","North West"]
[111357,324,{"$error":"#NAME?"},896,"Cheshire West and Chester",3558,"St Mary of the Angels Catholic Primary School","CH66 1NN",null,"Voluntary Aided School","Open","Diocese of Shrewsbury","25-67369685",null,"Mrs Mills","Mrs","Tracy","Mills","admin@stmaryoftheangels.cheshire.sch.uk","01513 382430",null,null,null,null,null,null,null,null,null,null,null,null,null,null,null,"Not applicable","Not applicable",null,"Not under a federation",null,null,null,null,null,null,"Rossall Grove","Little Sutton",null,"Ellesmere Port","Cheshire","CH66 1NN",null,1513382430,"North West",null,null,"4-11",null,"Primary",null,"Mr","Keith","Powell",null,"Head Teacher","North West"]
[135505,325,{"$error":"#NAME?"},896,"Cheshire West and Chester",3820,"St Saviours Catholic Primary School","CH66 2BD",null,"Voluntary Aided School","Open","Diocese of Shrewsbury","25-60388042",null,"Sarah Oldrich",null,"Sarah","Oldrich","admin@stsaviours.cheshire.sch.uk","01513 382440",null,null,null,null,null,null,null,null,null,null,null,null,null,null,null,"Not applicable","Not applicable",null,"Not under a federation",null,null,null,null,null,null,"Seacombe Drive","Great Sutton",null,"Ellesmere Port","Cheshire","CH66 2BD",null,1513382440,"North West",null,null,"2-11",null,"Primary",null,"Mrs","Nicola","Kirkman",null,"Headteacher","North West"]
[111388,326,{"$error":"#NAME?"},896,"Cheshire West and Chester",3646,"St Theresa's Catholic Primary School","CH1 5UU",null,"Voluntary Aided School","Open","Diocese of Shrewsbury","25-37142821",null,"Miss Carrington","Miss","Lindsay","Carrington","admin@st-theresas.cheshire.sch.uk","01244 981070",null,null,null,null,null,null,null,null,null,null,null,null,null,null,null,"Not applicable","Not applicable",null,"Not under a federation",null,null,null,null,null,null,"Kipling Road","Blacon",null,"Chester","Cheshire","CH1 5UU",null,1244981070,"North West",null,null,"3-11",null,"Primary",null,"Mrs","Kathryn","Oates",null,"Headteacher","North West"]
[111384,327,{"$error":"#NAME?"},896,"Cheshire West and Chester",3641,"St Werburgh's and St Columba's Catholic Primary School","CH2 3AD",null,"Voluntary Aided School","Open","Diocese of Shrewsbury","25-56755514",null,"School Office","School Office",null,null,"admin@stwerburghscolumba.cheshire.sch.uk","01244 981228",null,null,null,null,null,null,null,null,null,null,null,null,null,null,null,"Not applicable","Not applicable",null,"Not under a federation",null,null,null,null,null,null,"Lightfoot Street","Hoole",null,"Chester","Cheshire","CH2 3AD",null,1244981228,"North West",null,null,"5-11",null,"Primary",null,"Mrs","Anne","Weir",null,"Headteacher","North West"]
[111461,328,{"$error":"#NAME?"},896,"Cheshire West and Chester",5202,"St Wilfrid's Catholic Primary School","CW8 1JW",null,"Voluntary Aided School","Open","Diocese of Shrewsbury","25-48358431",null,"Mrs Bennett","Mrs","A","Bennett","admin@st-wilfrids.cheshire.sch.uk","01606 288022",null,null,null,null,null,null,null,null,null,null,null,null,null,null,null,"Not applicable","Not applicable",null,"Not under a federation",null,null,null,null,null,null,"Greenbank Lane","Hartford",null,"Northwich","Cheshire","CW8 1JW",null,1606288022,"North West",null,null,"5-11",null,"Primary",null,"Mrs","Dawn","Ormes",null,"Headteacher","North West"]
[111313,329,{"$error":"#NAME?"},896,"Cheshire West and Chester",3501,"St Winefride's Catholic Primary School","CH64 9RW",null,"Voluntary Aided School","Open","Diocese of Shrewsbury","25-22953735",null,"Gemma McCann",null,"Gemma","McCann","head@stwinefrides.cheshire.sch.uk","01513 382468",null,null,null,null,null,null,null,null,null,null,null,null,null,null,null,"Not applicable","Not applicable",null,"Not under a federation",null,null,null,null,null,null,"Mellock Lane","Little Neston",null,"Neston","Cheshire","CH64 9RW",null,1513382468,"North West",null,null,"4-11",null,"Primary",null,"Mr","Kieran","Kelly",null,"Headteacher","North West"]
[111450,330,{"$error":"#NAME?"},896,"Cheshire West and Chester",4610,"St Nicholas Catholic High School","CW8 1JW",null,"Voluntary Aided School","Open","Diocese of Shrewsbury",{"$error":"#N/A"},null,"Mrs Dixon","Mrs","Khris","Dixon","k.dixon@st-nicholas.cheshire.sch.uk","01606 706000",null,null,null,null,null,null,null,null,null,null,null,null,null,null,null,"Not applicable","Not applicable",null,"Not under a federation",null,10006240,null,null,null,null,"Greenbank Lane","Hartford",null,"Northwich","Cheshire","CW8 1JW",null,1606706000,"North West",null,null,"11-18",null,"Secondary",null,null,null,null,null,"Headteacher","Wales (pseudo)"]
[400256,331,{"$error":"#NAME?"},662,"Conwy",3303,"Blessed William Davies School","LL30 1LL",null,"Welsh Establishment","Open","Diocese of Wrexham","27-95352905",null,"School Business Manager ","School Business Manager",null,null,"pennaeth@bwilliamdavs.conwy.sch.uk","01492 875930",null,null,null,null,null,null,null,null,null,null,null,null,null,null,null,"Not applicable","Not applicable",null,"Not applicable",null,null,null,null,null,null,"Bodnant Crescent","Llandudno","Conwy",null,null,"LL30 1LL",null,1492875930,"Wales (pseudo)",null,null,"-",null,"Primary",null,null,null,null,null,"Headteacher","Wales (pseudo)"]
[400258,332,{"$error":"#NAME?"},662,"Conwy",3333,"St Joseph's R.C. Primary School","LL29 7UU",null,"Welsh Establishment","Open","Diocese of Wrexham","27-46732153",null,"Mr Wilkinson","Mr","","Wilkinson","pennaeth@santjoseph.conwy.sch.uk","01492 532394",null,null,null,null,null,null,null,null,null,null,null,null,null,null,null,"Not applicable","Not applicable",null,"Not applicable",null,null,null,null,null,null,"Brackley Avenue","Colwyn Bay",null,null,null,"LL29 7UU",null,1492532394,"Wales (pseudo)",null,null,"-",null,"Primary",null,"Miss","Nichola","Teixeira",null,"Headteacher","South West"]
[140763,333,{"$error":"#NAME?"},908,"Cornwall",3463,"St John's Catholic Primary School, Camborne","TR14 7AE","Plymouth CAST","Academy Converter","Open","Diocese of Plymouth","22-81955582",null,"Miss Teizeira","Miss","Nichola","Teizeira","head@st-johns.cornwall.sch.uk","01209 713944",null,null,null,null,null,null,null,null,null,null,null,null,null,null,null,"Supported by a multi-academy trust","Linked to a sponsor","Plymouth CAST","Not applicable",null,10045630,null,null,null,null,"Trevu Road",null,null,"Camborne","Cornwall","TR14 7AE",null,1209713944,"South West",null,null,"4-11",null,"Primary",null,null,"Demelza","Bolton",null,"Headteacher","South West"]
[140778,334,{"$error":"#NAME?"},908,"Cornwall",3306,"St Mary's Catholic School, Penzance","TR18 2AT","Plymouth CAST","Academy Converter","Open","Diocese of Plymouth","22-17563639",null,"Miss Teizeira","Miss","Nichola","Teizeira","head@st-marys-rc-pz.cornwall.sch.uk","01736 330005",null,null,null,null,null,null,null,null,null,null,null,null,null,null,null,"Supported by a multi-academy trust","Linked to a sponsor","Plymouth CAST","Not applicable",null,10045616,null,null,null,null,"Peverell Road",null,null,"Penzance","Cornwall","TR18 2AT",null,1736330005,"South West",null,null,"3-11",null,"Primary",null,"Mrs","Alana","McGovern",null,"Headteacher","South West"]
[140773,335,{"$error":"#NAME?"},908,"Cornwall",3718,"St Mary's Catholic Primary School, Bodmin","PL31 1LW","Plymouth CAST","Academy Converter","Open","Diocese of Plymouth","22-48939789",null,"Ms Potts","Ms","Lesa","Potts","administrator@st-marys-bod.cornwall.sch.uk","01208 73218",null,null,null,null,null,null,null,null,null,null,null,null,null,null,null,"Supported by a multi-academy trust","Linked to a sponsor","Plymouth CAST","Not applicable",null,10045620,null,null,null,null,"Barn Lane",null,null,"Bodmin","Cornwall","PL31 1LW",null,120873218,"South West",null,null,"3-11",null,"Primary",null,null,"Jacqueline","Scarborough",null,"Headteacher","South West"]
[140775,336,{"$error":"#NAME?"},908,"Cornwall",3388,"St Mary's Catholic Primary School, Falmouth","TR11 4PW","Plymouth CAST","Academy Converter","Open","Diocese of Plymouth","22-70366480",null,"Carol Pipkin",null,"Carol","Pipkin","secretary@st-marys-fal.cornwall.sch.uk","01326 314540",null,null,null,null,null,null,null,null,null,null,null,null,null,null,null,"Supported by a multi-academy trust","Linked to a sponsor","Plymouth CAST","Not applicable",null,10045664,null,null,null,null,"Mongleath Road",null,null,"Falmouth","Cornwall","TR11 4PW",null,1326314540,"South West",null,null,"4-11",null,"Primary",null,"Mrs","Marina","Kelly",null,"Headteacher","West Midlands"]
[103743,337,{"$error":"#NAME?"},331,"Coventry",4707,"Cardinal Newman Catholic School A Specialist Arts and Community College","CV6 2FR",null,"Voluntary Aided School","Open","Archdiocese of Birmingham","08-72568655",null,"Mr Alcott","Mr","Martyn","Alcott","martyn.alcott@cardinalnewman.coventry.sch.uk","02476 332382",null,null,null,null,null,null,null,null,null,null,null,null,null,null,null,"Not applicable","Not applicable",null,"Not under a federation",null,10001163,null,null,null,null,"Sandpits Lane","Keresley",null,"Coventry","West Midlands","CV6 2FR",null,2476332382,"West Midlands",null,null,"11-18",null,"Secondary",null,"Mrs","Andrea","Sherratt",null,"Head of School","West Midlands"]
[142215,338,{"$error":"#NAME?"},331,"Coventry",3411,"St Patrick's Catholic Primary School","CV2 1EQ","The Romero Catholic Academy","Academy Converter","Open","Archdiocese of Birmingham","08-20347300",null,"Mr Flannery","Mr",null,"Flannery","admin@st-patricks.coventry.sch.uk","02476 612671",null,null,null,null,null,null,null,null,null,null,null,null,null,null,null,"Supported by a multi-academy trust","Linked to a sponsor","The Archbishop Romero MAC (Coventry)","Not applicable",null,10053360,null,null,null,null,"Deedmore Road","Wood End",null,"Coventry","West Midlands","CV2 1EQ",null,2476612671,"West Midlands",null,null,"3-11",null,"Primary",null,"Mrs","Geraldine","Marshall",null,"Principal","West Midlands"]
[142211,339,{"$error":"#NAME?"},331,"Coventry",3423,"St Gregory's Catholic Primary School","CV2 5AT","The Romero Catholic Academy","Academy Converter","Open","Archdiocese of Birmingham","08-25214795",null,"Mrs Biddlecombe","Mrs","Geraldine","Biddlecombe","biddlecombe_g@st-gregorys.coventry.sch.uk","02476 445900",null,null,null,null,null,null,null,null,null,null,null,null,null,null,null,"Supported by a multi-academy trust","Linked to a sponsor","The Archbishop Romero MAC (Coventry)","Not applicable",null,10053358,null,null,null,null,"Harry Rose Road",null,null,"Coventry","West Midlands","CV2 5AT",null,2476445900,"West Midlands",null,null,"4-11",null,"Primary",null,"Mrs","Helen","Quinn",null,"Principal","West Midlands"]
[142205,340,{"$error":"#NAME?"},331,"Coventry",3404,"Sacred Heart Catholic Primary School","CV2 4DW","The Romero Catholic Academy","Academy Converter","Open","Archdiocese of Birmingham","08-41882363",null,"Mrs Matthews","Mrs","Maureen","Matthews","office@sacredheart.coventry.sch.uk","02476 453314",null,null,null,null,null,null,null,null,null,null,null,null,null,null,null,"Supported by a multi-academy trust","Linked to a sponsor","The Archbishop Romero MAC (Coventry)","Not applicable",null,10053357,null,null,null,null,"Brays Lane","Stoke",null,"Coventry","West Midlands","CV2 4DW",null,2476453314,"West Midlands",null,null,"4-11",null,"Primary",null,"Mrs","Debra","Newman",null,"Headteacher","West Midlands"]
[142195,341,{"$error":"#NAME?"},331,"Coventry",3434,"Corpus Christi Catholic School","CV3 2QP","The Romero Catholic Academy","Academy Converter","Open","Archdiocese of Birmingham","08-69861011",null,"School Business Manager ","School Business Manager",null,null,"office@romero.coventry.sch.uk","02476 454931",null,null,null,null,null,null,null,null,null,null,null,null,null,null,null,"Supported by a multi-academy trust","Linked to a sponsor","The Archbishop Romero MAC (Coventry)","Not applicable",null,10053351,null,null,null,null,"Langbank Avenue","Ernesford Grange",null,"Coventry","West Midlands","CV3 2QP",null,2476454931,"West Midlands",null,null,"3-11",null,"Primary",null,"Mrs","Dee","Williams",null,"Principal","West Midlands"]
[142212,342,{"$error":"#NAME?"},331,"Coventry",3409,"St John Fisher Catholic Primary School","CV2 3NR","The Romero Catholic Academy","Academy Converter","Open","Archdiocese of Birmingham","08-44539539",null,"Mrs Hutt","Mrs","Dawn","Hutt","admin@st-johnfisher.coventry.sch.uk","02476 443333",null,null,null,null,null,null,null,null,null,null,null,null,null,null,null,"Supported by a multi-academy trust","Linked to a sponsor","The Archbishop Romero MAC (Coventry)","Not applicable",null,10053359,null,null,null,null,"Kineton Road","Wyken",null,"Coventry","West Midlands","CV2 3NR",null,2476443333,"West Midlands",null,null,"5-11",null,"Primary",null,"Mrs","Yvonne","Clarke",null,"Headteacher","West Midlands"]
[142197,343,{"$error":"#NAME?"},331,"Coventry",3414,"Good Shepherd Catholic School","CV6 7FN","The Romero Catholic Academy","Academy Converter","Open","Archdiocese of Birmingham","08-54886294",null,"Mrs Evans","Mrs","Elizabeth","Evans","admin@shepherd.coventry.sch.uk","02476 689392",null,null,null,null,null,null,null,null,null,null,null,null,null,null,null,"Supported by a multi-academy trust","Linked to a sponsor","The Archbishop Romero MAC (Coventry)","Not applicable",null,10053350,null,null,null,null,"Spring Road","Foleshill",null,"Coventry","West Midlands","CV6 7FN",null,2476689392,"West Midlands",null,null,"3-11",null,"Primary",null,"Ms","Angela","Whelan",null,"Principal","West Midlands"]
[141992,344,{"$error":"#NAME?"},331,"Coventry",4007,"Cardinal Wiseman Catholic School and Language College","CV2 2AJ","The Romero Catholic Academy","Academy Sponsor Led","Open","Archdiocese of Birmingham","08-66198160",null,"Mr Lloyd","Mr","Tim","Lloyd","tlloyd@cardinalwiseman.coventry.sch.uk","02476 617231",null,null,null,null,null,null,null,null,null,null,null,null,null,null,null,"Supported by a multi-academy trust","Linked to a sponsor","The Archbishop Romero MAC (Coventry)","Not applicable",null,10049506,null,null,null,null,"Potters Green Road",null,null,"Coventry","West Midlands","CV2 2AJ",null,2476617231,"West Midlands",null,null,"11-18",null,"Secondary",null,"Mr","Kevin","Shakespeare",null,"Headteacher","West Midlands"]
[142217,345,{"$error":"#NAME?"},331,"Coventry",3415,"SS Peter and Paul Catholic Primary School","CV2 2EF","The Romero Catholic Academy","Academy Converter","Open","Archdiocese of Birmingham","08-82059202",null,"Mrs Whitwood","Mrs","Marie","Whitwood","admin@ss-peter-paul.coventry.sch.uk","02476 615665",null,null,null,null,null,null,null,null,null,null,null,null,null,null,null,"Supported by a multi-academy trust","Linked to a sponsor","The Archbishop Romero MAC (Coventry)","Not applicable",null,10053361,null,null,null,null,"Arkle Drive","Off Woodway Lane","Walsgrave","Coventry","West Midlands","CV2 2EF",null,2476615665,"West Midlands",null,null,"5-11",null,"Primary",null,"Mrs","Grainne","Griffiths",null,"Headteacher","West Midlands"]
[103726,346,{"$error":"#NAME?"},331,"Coventry",3435,"Holy Family Catholic Primary School","CV6 2GU",null,"Voluntary Aided School","Open","Archdiocese of Birmingham","08-17327957",null,"Mrs Layng","Mrs","Kathy","Layng","admin@holyfamily.coventry.sch.uk","02476 333631",null,null,null,null,null,null,null,null,null,null,null,null,null,null,null,"Not applicable","Not applicable",null,"Not under a federation",null,null,null,null,null,null,"Penny Park Lane",null,null,"Coventry","West Midlands","CV6 2GU",null,2476333631,"West Midlands",null,null,"3-11",null,"Primary",null,"Mrs","Veronica","Gosling",null,"Headteacher","West Midlands"]
[103715,347,{"$error":"#NAME?"},331,"Coventry",3412,"St John Vianney Catholic Primary School","CV5 7GX",null,"Voluntary Aided School","Open","Archdiocese of Birmingham","08-94307147",null,"Mrs Kantor","Mrs","Theresa","Kantor","admin@sjv.coventry.sch.uk","02476 464088",null,null,null,null,null,null,null,null,null,null,null,null,null,null,null,"Not applicable","Not applicable",null,"Not under a federation",null,null,null,null,null,null,"Mount Nod Way","Mount Nod",null,"Coventry","West Midlands","CV5 7GX",null,2476464088,"West Midlands",null,null,"4-11",null,"Primary",null,"Mrs","Keri","Baylis","Hons. B.A (Qts)","Headteacher","West Midlands"]
[103719,348,{"$error":"#NAME?"},331,"Coventry",3418,"St Anne's Catholic Primary School","CV3 3AD",null,"Voluntary Aided School","Open","Archdiocese of Birmingham","08-58376711",null,"Mrs McKay","Mrs",null,"McKay","admin@st-annes.coventry.sch.uk","02476 302882",null,null,null,null,null,null,null,null,null,null,null,null,null,null,null,"Not applicable","Not applicable",null,"Not under a federation",null,null,null,null,null,null,"Chace Avenue","Willenhall",null,"Coventry","West Midlands","CV3 3AD",null,2476302882,"West Midlands",null,null,"4-11",null,"Primary",null,"Mrs","Helen","Forrest",null,"Headteacher","West Midlands"]
[103720,349,{"$error":"#NAME?"},331,"Coventry",3422,"St Augustine's Catholic Primary School","CV6 3BL",null,"Voluntary Aided School","Open","Archdiocese of Birmingham","08-62683073",null,"Mrs Roach","Mrs","Lyn","Roach","admin@st-augustines.coventry.sch.uk","02476 596988",null,null,null,null,null,null,null,null,null,null,null,null,null,null,null,"Not applicable","Not applicable",null,"Not under a federation",null,null,null,null,null,null,"Heathcote Street","Radford",null,"Coventry","West Midlands","CV6 3BL",null,2476596988,"West Midlands",null,null,"4-11",null,"Primary",null,"Mrs","Pauline","Macdonald",null,"Headteacher","West Midlands"]
[133556,350,{"$error":"#NAME?"},331,"Coventry",3010,"St Mary and St Benedict Catholic Primary School","CV1 5HG",null,"Voluntary Aided School","Open","Archdiocese of Birmingham","08-89455503",null,"Mrs Grant","Mrs","Colleen","Grant","admin@stmary-stben.coventry.sch.uk","02476 229486",null,null,null,null,null,null,null,null,null,null,null,null,null,null,null,"Not applicable","Not applicable",null,"Not under a federation",null,null,null,null,null,null,"Leigh Street","Hillfields",null,"Coventry","West Midlands","CV1 5HG",null,2476229486,"West Midlands",null,null,"3-11",null,"Primary",null,"Mrs","Nicola","Rynott",null,"Headteacher","West Midlands"]
[103711,351,{"$error":"#NAME?"},331,"Coventry",3406,"St Osburg's Catholic Primary School","CV1 4AP",null,"Voluntary Aided School","Open","Archdiocese of Birmingham","08-44077442",null,"Mrs Campbell","Mrs","Margaret","Campbell","admin@st-osburgs.coventry.sch.uk","02476 227165",null,null,null,null,null,null,null,null,null,null,null,null,null,null,null,"Not applicable","Not applicable",null,"Not under a federation",null,null,null,null,null,null,"Upper Hill Street",null,null,"Coventry","West Midlands","CV1 4AP",null,2476227165,"West Midlands",null,null,"3-11",null,"Primary",null,null,"Catherine","Connelly",null,"Headteacher","West Midlands"]
[103712,352,{"$error":"#NAME?"},331,"Coventry",3408,"Our Lady of the Assumption Catholic Primary School","CV4 9LB",null,"Voluntary Aided School","Open","Archdiocese of Birmingham","08-32731165",null,"Mrs McKay","Mrs","Carolyn","McKay","c.mckay@ourlady.coventry.sch.uk","02476 466655",null,null,null,null,null,null,null,null,null,null,null,null,null,null,null,"Not applicable","Not applicable",null,"Not under a federation",null,null,null,null,null,null,"Hawthorn Lane","Tile Hill",null,"Coventry","West Midlands","CV4 9LB",null,2476466655,"West Midlands",null,null,"3-11",null,"Primary",null,"Mrs","Elizabeth","Burnett",null,"Head Teacher","West Midlands"]
[137283,353,{"$error":"#NAME?"},331,"Coventry",2001,"Christ The King Catholic Primary School","CV6 2DJ",null,"Voluntary Aided School","Open","Archdiocese of Birmingham","08-97593161",null,"Mrs Fry","Mrs","C","Fry","cfry@ctk.coventry.sch.uk","02476 335790",null,null,null,null,null,null,null,null,null,null,null,null,null,null,null,"Not applicable","Not applicable",null,"Not under a federation",null,null,null,null,null,null,"Scots Lane","Coundon",null,"Coventry","West Midlands","CV6 2DJ",null,2476335790,"West Midlands",null,null,"3-11",null,"Primary",null,"Mr","Morgan","Williams",null,"Headteacher","West Midlands"]
[103723,354,{"$error":"#NAME?"},331,"Coventry",3432,"St Thomas More Catholic Primary School","CV3 5DE",null,"Voluntary Aided School","Open","Archdiocese of Birmingham","08-62150622",null,"Mrs Feeney","Mrs","Kathryn","Feeney","FeeneyK@st-thomasmore.coventry.sch.uk","02476 849910",null,null,null,null,null,null,null,null,null,null,null,null,null,null,null,"Not applicable","Not applicable",null,"Not under a federation",null,null,null,null,null,null,"Knoll Drive","Styvechale",null,"Coventry","West Midlands","CV3 5DE",null,2476849910,"West Midlands",null,null,"3-11",null,"Primary",null,"Miss","J","Byrne",null,"Headteacher","West Midlands"]
[103742,355,{"$error":"#NAME?"},331,"Coventry",4701,"Bishop Ullathorne Catholic School","CV3 6BH",null,"Voluntary Aided School","Open","Archdiocese of Birmingham","08-44147013",null,"Mr Carpenter","Mr","Paul","Carpenter","p.carpenter@bishopullathorne.co.uk","02476 414515",null,null,null,null,null,null,null,null,null,null,null,null,null,null,null,"Not applicable","Not applicable",null,"Not under a federation",null,10000732,null,null,null,null,"Leasowes Avenue",null,null,"Coventry","West Midlands","CV3 6BH",null,2476414515,"West Midlands",null,null,"11-18",null,"Secondary",null,"Mrs","Caroline","Quinn",null,"Headteacher","West Midlands"]
[103724,356,{"$error":"#NAME?"},331,"Coventry",3433,"All Souls Catholic Primary School","CV5 8ED",null,"Voluntary Aided School","Open","Archdiocese of Birmingham","08-63466008",null,"Mrs Cowley","Mrs","Sue","Cowley","scowley@souls.coventry.sch.uk","02476 675836",null,null,null,null,null,null,null,null,null,null,null,null,null,null,null,"Not applicable","Not applicable",null,"Not under a federation",null,null,null,null,null,null,"Abercorn Road",null,null,"Coventry","West Midlands","CV5 8ED",null,2476675836,"West Midlands",null,null,"3-11",null,"Primary",null,"Mr","Peter","Burke",null,"Headteacher","West Midlands"]
[103710,357,{"$error":"#NAME?"},331,"Coventry",3405,"St Elizabeth's Catholic Primary School, Foleshill","CV6 5BX",null,"Voluntary Aided School","Open","Archdiocese of Birmingham","08-17131424",null,"Mr Golding","Mr","Tony","Golding","tgolding@st-elizabeths.coventry.sch.uk","02476 687527",null,null,null,null,null,null,null,null,null,null,null,null,null,null,null,"Not applicable","Not applicable",null,"Not under a federation",null,null,null,null,null,null,"St Elizabeth's Road","Foleshill",null,"Coventry","West Midlands","CV6 5BX",null,2476687527,"West Midlands",null,null,"3-11",null,"Primary",null,"Mrs","Tamsyn","Lawlor",null,"Headteacher","London"]
[101795,358,{"$error":"#NAME?"},306,"Croydon",3401,"St Joseph's RC Junior School","SE19 3NU",null,"Voluntary Aided School","Open","Archdiocese of Southwark","26-58348175",null,"Mrs O'Leary","Mrs ",null,"O'Leary","office@st-josephs-jun.croydon.sch.uk","02086 537195",null,null,null,null,null,null,null,null,null,null,null,null,null,null,null,"Not applicable","Not applicable",null,"Supported by a federation","The Federation of St Joseph's Infant & Nursery & St Joseph's Junior Schools",null,null,null,null,null,"Woodend",null,null,"London",null,"SE19 3NU",null,2086537195,"London",null,null,"7-11",null,"Primary",null,"Mrs","Frances","Hawkes",null,"Executive Headteacher","London"]
[101800,359,{"$error":"#NAME?"},306,"Croydon",3408,"Regina Coeli Catholic Primary School","CR2 6DF",null,"Voluntary Aided School","Open","Archdiocese of Southwark","26-90822281",null,"Mrs Wojtowycz","Mrs","Michele ","Wojtowycz","officeatreginacoelischool.co.uk","02086 884582",null,null,null,null,null,null,null,null,null,null,null,null,null,null,null,"Not applicable","Not applicable",null,"Supported by a federation","The Federation of St Elphege's RC School",null,null,null,null,null,"173 Pampisford Road",null,null,"South Croydon","Surrey","CR2 6DF",null,2086884582,"London",null,null,"4-11",null,"Primary",null,"Mrs","Joanne","Hawthorne",null,"Headteacher","London"]
[142731,360,{"$error":"#NAME?"},306,"Croydon",3411,"St Chad's Catholic Primary School","SE25 6LR","St Chad’s Catholic Primary School","Academy Converter","Open","Archdiocese of Southwark","26-35119696",null,"Mrs Ruiz","Mrs","Cathy","Ruiz","stchadsprimary@yahoo.com","02087 713470",null,null,null,null,null,null,null,null,null,null,null,null,null,null,null,"Supported by a single-academy trust","-",null,"Not applicable",null,10056127,null,null,null,null,"Alverston Gardens","South Norwood",null,"London",null,"SE25 6LR",null,2087713470,"London",null,null,"3-11",null,"Primary",null,"Mr","David","Garrido",null,"Head Master","London"]
[138221,361,{"$error":"#NAME?"},306,"Croydon",5402,"St Joseph's College","SE19 3HL","St Joseph's College DelaSalle","Academy Converter","Open","Archdiocese of Southwark","26-39169292",null,"Mr Flavin","Mr",null,"Flavin","tflavin@sjc.ac","02087 611426",null,null,null,null,null,null,null,null,null,null,null,null,null,null,null,"Supported by a single-academy trust","-",null,"Not applicable",null,10037493,null,null,null,null,"Beulah Hill",null,null,"London",null,"SE19 3HL",null,2087611426,"London",null,null,"11-18",null,"Secondary",null,null,"Theresa","Whitmarsh",null,"Headteacher","London"]
[142729,362,{"$error":"#NAME?"},306,"Croydon",3409,"St Aidan's Catholic Primary School","CR5 3DE","St Aidan’s Catholic Primary School","Academy Converter","Open","Archdiocese of Southwark","26-39556565",null,"Mrs Browning","Mrs","Evleyn","Browning","admin@st-aidans.croydon.sch.uk","01737 556036",null,null,null,null,null,null,null,null,null,null,null,null,null,null,null,"Supported by a single-academy trust","-",null,"Not applicable",null,10056121,null,null,null,null,"Portnalls Road",null,null,"Coulsdon","Surrey","CR5 3DE",null,1737556036,"London",null,null,"4-11",null,"Primary",null,"Mrs","Leonore","Fernandes",null,"Headteacher","London"]
[142587,363,{"$error":"#NAME?"},306,"Croydon",3400,"Good Shepherd Catholic Primary and Nursery School","CR0 0RG","Good Shepherd Catholic Primary & Nursery School","Academy Converter","Open","Archdiocese of Southwark","26-58666482",null,"Ms Standen","Ms","Janet","Standen","admin@goodshepherd.croydon.sch.uk","01689 841771",null,null,null,null,null,null,null,null,null,null,null,null,null,null,null,"Supported by a single-academy trust","-",null,"Not applicable",null,10055396,null,null,null,null,"Dunley Drive","New Addington",null,"Croydon","Surrey","CR0 0RG",null,1689841771,"London",null,null,"3-11",null,"Primary",null,"Mr","Christopher","Andrew",null,"Headteacher","London"]
[137959,364,{"$error":"#NAME?"},306,"Croydon",5201,"St James the Great RC Primary and Nursery School","CR7 8HJ","St James the Great R.C. Primary and Nursery School","Academy Converter","Open","Archdiocese of Southwark","26-79161633",null,"Mrs Marchant","Mrs","M","Marchant","stjames@stjamesthegreat.org","02087 713424",null,null,null,null,null,null,null,null,null,null,null,null,null,null,null,"Supported by a single-academy trust","-",null,"Not applicable",null,10036666,null,null,null,null,"Windsor Road",null,null,"Thornton Heath","Surrey","CR7 8HJ",null,2087713424,"London",null,null,"3-11",null,"Primary",null,null,"Linda","O'Callaghan",null,null,"London"]
[142226,365,{"$error":"#NAME?"},306,"Croydon",2097,"St. Mary's Catholic Junior School","CR0 2EW","St Mary's Catholic Primary Schools Trust","Academy Sponsor Led","Open","Archdiocese of Southwark","26-80363933",null,"Mrs Pendry","Mrs","Anne","Pendry","head@st-mary-jun.croydon.sch.uk","02086 884893",null,null,null,null,null,null,null,null,null,null,null,null,null,null,null,"Supported by a multi-academy trust","Linked to a sponsor","St Mary's Catholic Infant School","Not applicable",null,10053800,null,null,null,null,"Sydenham Road",null,null,"Croydon","Surrey","CR0 2EW",null,2086884893,"London",null,null,"7-11",null,"Primary",null,null,"Linda","O'Callaghan",null,"Headteacher","London"]
[142246,366,{"$error":"#NAME?"},306,"Croydon",3406,"St Mary's Catholic Infant School","CR0 2AQ","St Mary's Catholic Primary Schools Trust","Academy Converter","Open","Archdiocese of Southwark","26-84964253",null,"Mrs D'Souza-Benham","Mrs","Carmen ","D'Souza-Benham","admin@st-marys-inf.croydon.sch.uk","02086 882891",null,null,null,null,null,null,null,null,null,null,null,null,null,null,null,"Supported by a multi-academy trust","Linked to a sponsor","St Mary's Catholic Infant School","Not applicable",null,10053723,null,null,null,null,"Bedford Park",null,null,"Croydon","Surrey","CR0 2AQ",null,2086882891,"London",null,null,"3-7",null,"Primary",null,null,"Noel","Campbell",null,"Headteacher","London"]
[138612,367,{"$error":"#NAME?"},306,"Croydon",3403,"St Thomas Becket Catholic Primary School","SE25 5BN","St Thomas Becket Catholic Primary School","Academy Converter","Open","Archdiocese of Southwark","26-97260820",null,"Mr Campbell","Mr","Noel","Campbell","admin@thomasbecket.croydon.sch.uk","02086 543006",null,null,null,null,null,null,null,null,null,null,null,null,null,null,null,"Supported by a single-academy trust","-",null,"Not applicable",null,10038038,null,null,null,null,"Becket Close","Birchanger Road",null,"London",null,"SE25 5BN",null,2086543006,"London",null,null,"4-11",null,"Primary",null,"Mrs","T","Lawlor",null,"Headteacher","London"]
[101803,368,{"$error":"#NAME?"},306,"Croydon",3412,"St Joseph's RC Infant School","SE19 3NX",null,"Voluntary Aided School","Open","Archdiocese of Southwark","26-90376880",null,"Mrs Lawlor","Mrs","Tamsyn","Lawlor","amcleary@st-josephs-inf.croydon.sch.uk","02086 702385",null,null,null,null,null,null,null,null,null,null,null,null,null,null,null,"Not applicable","Not applicable",null,"Supported by a federation","The Federation of St Joseph's Infant & Nursery & St Joseph's Junior Schools",null,null,null,null,null,"Crown Dale","Upper Norwood",null,"London",null,"SE19 3NX",null,2086702385,"London",null,null,"3-7",null,"Primary",null,"Ms","Karen","Barry",null,"Education Director","London"]
[101834,369,{"$error":"#NAME?"},306,"Croydon",6008,"Laleham Lea School","CR8 3JJ",null,"Other Independent School","Open","Archdiocese of Southwark","26-83043812",null,"Mrs Strachan","Mrs","Amanda","Strachan","sbm@lalehamlea.co.uk","02086 603351",null,null,null,null,null,null,null,null,null,null,null,null,null,null,null,"Not applicable","Not applicable",null,"Not applicable",null,null,null,null,null,null,"29 Peaks Hill",null,null,"Purley","Surrey","CR8 3JJ",null,2086603351,"London",null,null,"3-11",null,"Primary",null,"Mrs","M","Martin",null,"Headteacher","London"]
[101823,370,{"$error":"#NAME?"},306,"Croydon",5405,"Coloma Convent Girls' School","CR9 5AS",null,"Voluntary Aided School","Open","Archdiocese of Southwark","26-45289662",null,"Dr Cesarczyk","Dr","Jan","Cesarczyk","jcesarczyk@coloma.croydon.sch.uk","02086 546228",null,null,null,null,null,null,null,null,null,null,null,null,null,null,null,"Not applicable","Not applicable",null,"Not under a federation",null,10001558,null,null,null,null,"Upper Shirley Road",null,null,"Croydon","Surrey","CR9 5AS",null,2086546228,"London",null,null,"11-18",null,"Secondary",null,"Mr","Dermot","Mooney",null,"Headteacher","London"]
[101797,371,{"$error":"#NAME?"},306,"Croydon",3404,"Margaret Roper Catholic Primary School","CR8 2XP",null,"Voluntary Aided School","Open","Archdiocese of Southwark","26-60802120",null,"Mrs Newman","Mrs","Kate","Newman","knewman6.306@lgflmail.org","02086 600115",null,null,null,null,null,null,null,null,null,null,null,null,null,null,null,"Not applicable","Not applicable",null,"Not under a federation",null,null,null,null,null,null,"Russell Hill Road",null,null,"Purley","Surrey","CR8 2XP",null,2086600115,"London",null,null,"4-11",null,"Primary",null,"Mr","Conal Patrick","Shields","BD, PGCE","Headteacher","London"]
[101814,372,{"$error":"#NAME?"},306,"Croydon",4702,"St Mary's Catholic High School","CR9 2EE",null,"Voluntary Aided School","Open","Archdiocese of Southwark","26-85022048",null,"Miss Slater","Miss","Marie","Slater","office@st-maryshigh.croydon.sch.uk","02086 863837",null,null,null,null,null,null,null,null,null,null,null,null,null,null,null,"Not applicable","Not applicable",null,"Not under a federation",null,10017849,null,null,null,null,"Woburn Road",null,null,"Croydon","Surrey","CR9 2EE",null,2086863837,"London",null,null,"11-19",null,"Secondary",null,"Sister","Sandra","Davey",null,"Headteacher","London"]
[131280,373,{"$error":"#NAME?"},306,"Croydon",5900,"Virgo Fidelis Convent Senior School","SE19 1RS",null,"Voluntary Aided School","Open","Archdiocese of Southwark","26-15433311",null,"Mrs Canavan","Mrs","Lorraine","Canavan","office@vfps.org","02086 706917",null,null,null,null,null,null,null,null,null,null,null,null,null,null,null,"Not applicable","Not applicable",null,"Not under a federation",null,10007231,null,null,null,null,"147 Central Hill","Upper Norwood",null,"London",null,"SE19 1RS",null,2086706917,"London",null,null,"11-18",null,"Secondary",null,"Ms","Margaret","Mulchrone",null,"Headteacher","London"]
[101821,374,{"$error":"#NAME?"},306,"Croydon",5403,"Thomas More Catholic School","CR8 2XP",null,"Voluntary Aided School","Open","Archdiocese of Southwark","26-85807310",null,"School Office","School Office",null,null,"schooloffice@tmore.org.uk","02086 686251",null,null,null,null,null,null,null,null,null,null,null,null,null,null,null,"Not applicable","Not applicable",null,"Not under a federation",null,10016014,null,null,null,null,"Russell Hill Road",null,null,"Purley","Surrey","CR8 2XP",null,2086686251,"London",null,null,"11-18",null,"Secondary",null,"Mrs","MEG","BAINES",null,"Headteacher","London"]
[101832,375,{"$error":"#NAME?"},306,"Croydon",6006,"Henriette Le Forestier Preparatory School","SE19 1RS",null,"Other Independent School","Open","Archdiocese of Southwark","26-30576722",null,"Mrs Canavan","Mrs","","Canavan","office@vfps.org","020 8653 2169",null,null,null,null,null,null,null,null,null,null,null,null,null,null,null,"Not applicable","Not applicable",null,"Not applicable",null,null,null,null,null,null,"Central Hill","Upper Norwood",null,"London",null,"SE19 1RS",null,2086532169,"London",null,null,"3-11",null,"Primary",null,"Mrs","C M","Pearson",null,"Headteacher","North West"]
[112338,376,{"$error":"#NAME?"},909,"Cumbria",3414,"St Mary's Catholic Primary School","CA14 5LN",null,"Voluntary Aided School","Open","Diocese of Lancaster","15-10954812",null,"Headteacher","Headteacher",null,null,"stmarys.sch@btconnect.com","01946 830433",null,null,null,null,null,null,null,null,null,null,null,null,null,null,null,"Not applicable","Not applicable",null,"Not under a federation",null,null,null,null,null,null,"Holden Road","Salterbeck",null,"Workington","Cumbria","CA14 5LN",null,1946830433,"North West",null,null,"4-11",null,"Primary",null,"Mrs","Suzanne","Smith",null,"Headteacher","North West"]
[112348,377,{"$error":"#NAME?"},909,"Cumbria",3506,"St Bridget's Catholic Primary School","CA22 2BD",null,"Voluntary Aided School","Open","Diocese of Lancaster","15-13546407",null,"Mrs Jacques","Mrs","Patricia","Jacques","admin@st-bridgets-pri.cumbria.sch.uk","01946 820320",null,null,null,null,null,null,null,null,null,null,null,null,null,null,null,"Not applicable","Not applicable",null,"Not under a federation",null,null,null,null,null,null,"St Bridget's Lane",null,null,"Egremont","Cumbria","CA22 2BD",null,1946820320,"North West",null,null,"3-11",null,"Primary",null,"Miss","Paula","Holden","Bsc Hons","Headteacher","North West"]
[112310,378,{"$error":"#NAME?"},909,"Cumbria",3328,"St Cuthbert's Catholic Primary School","CA7 9HZ",null,"Voluntary Aided School","Open","Diocese of Lancaster","15-53316802",null,"Melanie Connell",null,"Melanie","Connell","admin@stcuth-wig.cumbria.sch.uk","01697 343119",null,null,null,null,null,null,null,null,null,null,null,null,null,null,null,"Not applicable","Not applicable",null,"Not under a federation",null,null,null,null,null,null,"Eastend",null,null,"Wigton","Cumbria","CA7 9HZ",null,1697343119,"North West",null,null,"3-11",null,"Primary",null,"Mrs","Julie","Burn",null,"Headteacher","North West"]
[112350,379,{"$error":"#NAME?"},909,"Cumbria",3510,"St Joseph's Catholic Primary School","CA26 3PX",null,"Voluntary Aided School","Open","Diocese of Lancaster","15-86846871",null,"Claire Jackson",null,"Claire","Jackson","admin@st-josephsrc.cumbria.sch.uk","01946 810702",null,null,null,null,null,null,null,null,null,null,null,null,null,null,null,"Not applicable","Not applicable",null,"Not under a federation",null,null,null,null,null,null,"Yeathouse Road",null,null,"Frizington","Cumbria","CA26 3PX",null,1946810702,"North West",null,null,"4-11",null,"Primary",null,"Mr","C","Wilkins",null,"Headteacher","North West"]
[112371,380,{"$error":"#NAME?"},909,"Cumbria",3654,"St Margaret Mary Catholic Primary School","CA2 4JD",null,"Voluntary Aided School","Open","Diocese of Lancaster","15-35929770",null,"Maria Dickson",null,"Maria","Dickson","admin@stmmary.cumbria.sch.uk","01228 401800",null,null,null,null,null,null,null,null,null,null,null,null,null,null,null,"Not applicable","Not applicable",null,"Supported by a federation","St Ninian Catholic Federation Carlisle",null,null,null,null,null,"Kirklands Road",null,null,"Carlisle","Cumbria","CA2 4JD",null,1228401800,"North West",null,null,"3-11",null,"Primary",null,"Mrs","Sarah","Tansey",null,"Headteacher","North West"]
[112341,381,{"$error":"#NAME?"},909,"Cumbria",3450,"Dean Gibson Catholic Primary School","LA9 5HB",null,"Voluntary Aided School","Open","Diocese of Lancaster","15-23317901",null,"Audrey Gibson",null,"Audrey","Gibson","audrey@deangibson.cumbria.sch.uk","01539 723363",null,null,null,null,null,null,null,null,null,null,null,null,null,null,null,"Not applicable","Not applicable",null,"Not under a federation",null,null,null,null,null,null,"Hawesmead Avenue",null,null,"Kendal","Cumbria","LA9 5HB",null,1539723363,"North West",null,null,"4-11",null,"Primary",null,"Mr","M","Harris","Bsc","Headteacher","North West"]
[112453,382,{"$error":"#NAME?"},909,"Cumbria",6032,"Austin Friars","CA3 9PB",null,"Other Independent School","Open","Diocese of Lancaster","15-94325822",null,"Mr Swinton","Mr","Ewe","Swinton","office@austinfriars.cumbria.sch.uk","01228 528042",null,null,null,null,null,null,null,null,null,null,null,null,null,null,null,"Not applicable","Not applicable",null,"Not applicable",null,10014938,null,null,null,null,"Etterby Scaur",null,null,"Carlisle","Cumbria","CA3 9PB",null,1228528042,"North West",null,null,"3-19",null,"Secondary",null,"Mr","John","McAuley",null,"Headteacher","North West"]
[112399,383,{"$error":"#NAME?"},909,"Cumbria",4630,"Newman Catholic School","CA1 1NA",null,"Voluntary Aided School","Open","Diocese of Lancaster","15-85809195",null,"Mrs Emburey","Mrs","Margaret","Emburey","office@newman.cumbria.sch.uk","01228 404942",null,null,null,null,null,null,null,null,null,null,null,null,null,null,null,"Not applicable","Not applicable",null,"Not under a federation",null,10004616,null,null,null,null,"Lismore Place",null,null,"Carlisle","Cumbria","CA1 1NA",null,1228404942,"North West",null,null,"11-18",null,"Secondary",null,"Miss","Jacky","Kennedy",null,"Headteacher","North West"]
[112401,384,{"$error":"#NAME?"},909,"Cumbria",4810,"St Joseph's Catholic High School, Business and Enterprise College","CA14 3EE",null,"Voluntary Aided School","Open","Diocese of Lancaster","15-85933955",null,"Sybil Worsley",null,"Sybil","Worsley","office@st-josephs.cumbria.sch.uk","01900 873290",null,null,null,null,null,null,null,null,null,null,null,null,null,null,null,"Not applicable","Not applicable",null,"Not under a federation",null,10017629,null,null,null,null,"Harrington Road",null,null,"Workington","Cumbria","CA14 3EE",null,1900873290,"North West",null,null,"11-16",null,"Secondary",null,"Mrs","A M","Hill",null,"Headteacher","North West"]
[112305,385,{"$error":"#NAME?"},909,"Cumbria",3315,"St Catherine's Catholic Primary School","CA11 9EL",null,"Voluntary Aided School","Open","Diocese of Lancaster","15-43566434",null,"Diane Pickering",null,"Diane","Pickering","admin@st-catherines.cumbria.sch.uk","01768 864612",null,null,null,null,null,null,null,null,null,null,null,null,null,null,null,"Not applicable","Not applicable",null,"Not under a federation",null,null,null,null,null,null,"Drovers Lane",null,null,"Penrith","Cumbria","CA11 9EL",null,1768864612,"North West",null,null,"4-11",null,"Primary",null,"Mrs","Pauline","Moss",null,"Headteacher","North West"]
[112370,386,{"$error":"#NAME?"},909,"Cumbria",3653,"St Cuthbert's Catholic Community School","CA1 2UE",null,"Voluntary Aided School","Open","Diocese of Lancaster","15-35196825",null,"Mrs Cape","Mrs","Katherine","Cape","secretary@st-cuthberts-carlisle.cumbria.sch.uk","01228 818201",null,null,null,null,null,null,null,null,null,null,null,null,null,null,null,"Not applicable","Not applicable",null,"Supported by a federation","St Ninian Catholic Federation Carlisle",null,null,null,null,null,"Victoria Road","Botcherby",null,"Carlisle","Cumbria","CA1 2UE",null,1228818201,"North West",null,null,"3-11",null,"Primary",null,"Miss","Teresa","Readman",null,"Headteacher","North West"]
[112335,387,{"$f":"_xlfn.CONCAT(D388,F388)","v":{"$error":"#NAME?"}},909,"Cumbria",3404,"St Joseph's Catholic Primary School","CA13 0DG",null,"Voluntary Aided School","Open","Diocese of Lancaster","15-76900269",null,"Mrs Taylor","Mrs",null,"Taylor","office@st-josephs-cockermouth.cumbria.sch.uk","01900 325932",null,null,null,null,null,null,null,null,null,null,null,null,null,null,null,"Not applicable","Not applicable",null,"Not under a federation",null,null,null,null,null,null,"Mountain View",null,null,"Cockermouth","Cumbria","CA13 0DG",null,1900325932,"North West",null,null,"4-11",null,"Primary",null,null,"Sheryl","Slack",null,"Headteacher","North West"]
[112340,388,{"$error":"#NAME?"},909,"Cumbria",3416,"St Patrick's Catholic Primary School","CA14 2DW",null,"Voluntary Aided School","Open","Diocese of Lancaster","15-22731568",null,"Mrs Glaister","Mrs","Annette","Glaister","office@st-patricks-pri.cumbria.sch.uk","01900 325237",null,null,null,null,null,null,null,null,null,null,null,null,null,null,null,"Not applicable","Not applicable",null,"Not under a federation",null,null,null,null,null,null,"Derwent Street",null,null,"Workington","Cumbria","CA14 2DW",null,1900325237,"North West",null,null,"4-11",null,"Primary",null,"Mrs","Celia","Holder",null,"Headteacher","North West"]
[112339,389,{"$error":"#NAME?"},909,"Cumbria",3415,"St Gregory's Catholic Primary School","CA14 3PD",null,"Voluntary Aided School","Open","Diocese of Lancaster","15-68623560",null,"Alison Henderson",null,"Alison","Henderson","head@stgregorys.cumbria.sch.uk","01900 606050",null,null,null,null,null,null,null,null,null,null,null,null,null,null,null,"Not applicable","Not applicable",null,"Not under a federation",null,null,null,null,null,null,"Furness Road","Westfield",null,"Workington","Cumbria","CA14 3PD",null,1900606050,"North West",null,null,"3-11",null,"Primary",null,"Mrs","Jacqueline","Hampson","Npqh","Headteacher","North West"]
[112337,390,{"$error":"#NAME?"},909,"Cumbria",3410,"Our Lady and St Patrick's, Catholic Primary","CA15 8HN",null,"Voluntary Aided School","Open","Diocese of Lancaster","15-75370381",null,"Judith Kirk",null,"Judith","Kirk","office@st-pat-maryport.cumbria.sch.uk","01900 812582",null,null,null,null,null,null,null,null,null,null,null,null,null,null,null,"Not applicable","Not applicable",null,"Not under a federation",null,null,null,null,null,null,"Ennerdale Road","Ewanrigg",null,"Maryport","Cumbria","CA15 8HN",null,1900812582,"North West",null,null,"2-11",null,"Primary",null,null,"Emma","Jackson",null,"Headteacher","North West"]
[132835,391,{"$error":"#NAME?"},909,"Cumbria",2717,"St Patrick's Catholic Primary School","CA25 5DG",null,"Voluntary Aided School","Open","Diocese of Lancaster","15-63857327",null,"Sarah Grears",null,"Sarah","Grears","admin@st-patricks-cleatormoor.cumbria.sch.uk","01946 855011",null,null,null,null,null,null,null,null,null,null,null,null,null,null,null,"Not applicable","Not applicable",null,"Not under a federation",null,null,null,null,null,null,"Todholes Road",null,null,"Cleator Moor","Cumbria","CA25 5DG",null,1946855011,"North West",null,null,"4-11",null,"Primary",null,"Mrs","Louise","McMillan",null,"Headteacher","North West"]
[112369,392,{"$error":"#NAME?"},909,"Cumbria",3652,"St Bede's Catholic Primary School","CA2 7DS",null,"Voluntary Aided School","Open","Diocese of Lancaster","15-47674785",null,"Mrs Innes","Mrs","Elaine","Innes","secretary@stbedes.cumbria.sch.uk","01228 528274",null,null,null,null,null,null,null,null,null,null,null,null,null,null,null,"Not applicable","Not applicable",null,"Not under a federation",null,null,null,null,null,null,"Strathclyde Avenue",null,null,"Carlisle","Cumbria","CA2 7DS",null,1228528274,"North West",null,null,"3-11",null,"Primary",null,"Mrs","Catherine","Mallard","Bsc (Hons)","Headteacher","North West"]
[112354,393,{"$error":"#NAME?"},909,"Cumbria",3520,"St Begh's Catholic Junior School","CA28 7TE",null,"Voluntary Aided School","Open","Diocese of Lancaster","15-33790177",null,"School Office","School Office",null,null,"head@st-beghs.cumbria.sch.uk","01946 696959",null,null,null,null,null,null,null,null,null,null,null,null,null,null,null,"Not applicable","Not applicable",null,"Not under a federation",null,null,null,null,null,null,"Coach Road",null,null,"Whitehaven","Cumbria","CA28 7TE",null,1946696959,"North West",null,null,"7-11",null,"Primary",null,"Mrs","Emma","Jackson",null,"Executive Headteacher","North West"]
[112355,394,{"$error":"#NAME?"},909,"Cumbria",3521,"St Gregory and St Patrick's Catholic Infant School","CA28 8AJ",null,"Voluntary Aided School","Open","Diocese of Lancaster","15-71466537",null,"Susan Ryan",null,"Susan","Ryan","admin@ss-greg-pat.cumbria.sch.uk","01946 595010",null,null,null,null,null,null,null,null,null,null,null,null,null,null,null,"Not applicable","Not applicable",null,"Not under a federation",null,null,null,null,null,null,"Esk Avenue","Corkickle",null,"Whitehaven","Cumbria","CA28 8AJ",null,1946595010,"North West",null,null,"2-7",null,"Primary",null,"Mr","Ian","Smith",null,"Executive Headteacher","North West"]
[112398,395,{"$error":"#NAME?"},909,"Cumbria",4622,"St Benedict's Catholic High School","CA28 8UG",null,"Voluntary Aided School","Open","Diocese of Lancaster","15-97100356",null,"Miss Wilkinson","Miss","Kerry","Wilkinson","admin@st-benedicts.cumbria.sch.uk","01946 692275",null,null,null,null,null,null,null,null,null,null,null,null,null,null,null,"Not applicable","Not applicable",null,"Not under a federation",null,10006124,null,null,null,null,"Red Lonning","Hensingham",null,"Whitehaven","Cumbria","CA28 8UG",null,1946692275,"North West",null,null,"11-18",null,"Secondary",null,"Mrs","Susan","Starkie","Bed","Headteacher","North West"]
[112353,396,{"$error":"#NAME?"},909,"Cumbria",3519,"St Mary's Catholic Primary School","CA28 9PG",null,"Voluntary Aided School","Open","Diocese of Lancaster","15-59642560",null,"Anne Hillon",null,"Anne","Hillon","admin@kells-stmarys.cumbria.sch.uk","01946 66356",null,null,null,null,null,null,null,null,null,null,null,null,null,null,null,"Not applicable","Not applicable",null,"Not under a federation",null,null,null,null,null,null,"High Road","Kells",null,"Whitehaven","Cumbria","CA28 9PG",null,194666356,"North West",null,null,"3-11",null,"Primary",null,"Mrs","Nicola","Rielly",null,"Executive Headteacher","North West"]
[112358,397,{"$error":"#NAME?"},909,"Cumbria",3552,"St Mary's Catholic Primary School","LA12 0EA",null,"Voluntary Aided School","Open","Diocese of Lancaster","15-87954314",null,"Veronica Warner",null,"Veronica","Warner","admin@st-marys.cumbria.sch.uk","01229 583449",null,null,null,null,null,null,null,null,null,null,null,null,null,null,null,"Not applicable","Not applicable",null,"Supported by a federation","Our Lady of Furness Catholic Federation",null,null,null,null,null,"Springfield Road",null,null,"Ulverston","Cumbria","LA12 0EA",null,1229583449,"North West",null,null,"4-11",null,"Primary",null,"Mrs","Mary","Page","Bsc Msc Npqh","Headteacher","North West"]
[112400,398,{"$error":"#NAME?"},909,"Cumbria",4634,"St Bernard's Catholic High School","LA13 9LE",null,"Voluntary Aided School","Open","Diocese of Lancaster","15-27205729",null,"Tracey Reid",null,"Tracey","Reid","admin@st-bernards.cumbria.sch.uk","01229 814560",null,null,null,null,null,null,null,null,null,null,null,null,null,null,null,"Not applicable","Not applicable",null,"Not under a federation",null,10018246,null,null,null,null,"Rating Lane",null,null,"Barrow-in-Furness","Cumbria","LA13 9LE",null,1229814560,"North West",null,null,"11-16",null,"Secondary",null,null,"Paul","Fussell",null,"Headteacher","North West"]
[112366,399,{"$error":"#NAME?"},909,"Cumbria",3607,"Holy Family Catholic Primary School","LA13 9LR",null,"Voluntary Aided School","Open","Diocese of Lancaster","15-30369923",null,"Veronica Warner",null,"Veronica","Warner","manager@holyfamily.cumbria.sch.uk","01229 894624",null,null,null,null,null,null,null,null,null,null,null,null,null,null,null,"Not applicable","Not applicable",null,"Not under a federation",null,null,null,null,null,null,"Ostley Bank","Newbarns",null,"Barrow-in-Furness","Cumbria","LA13 9LR",null,1229894624,"North West",null,null,"3-11",null,"Primary",null,"Mrs","Bernadette","Barnes",null,"Headteacher","North West"]
[112363,400,{"$error":"#NAME?"},909,"Cumbria",3602,"Sacred Heart Catholic Primary School","LA14 2BA",null,"Voluntary Aided School","Open","Diocese of Lancaster","15-87889740",null,"Veronica Warner",null,"Veronica","Warner","head@sacredheart.cumbria.sch.uk","01229 840940",null,null,null,null,null,null,null,null,null,null,null,null,null,null,null,"Not applicable","Not applicable",null,"Not under a federation",null,null,null,null,null,null,"Lumley Street",null,null,"Barrow-in-Furness","Cumbria","LA14 2BA",null,1229840940,"North West",null,null,"2-11",null,"Primary",null,"Mrs","C M","O'Donnell",null,"Headteacher","North West"]
[112364,401,{"$error":"#NAME?"},909,"Cumbria",3603,"St Columba's Catholic Primary School","LA14 3AD",null,"Voluntary Aided School","Open","Diocese of Lancaster","15-22632925",null,"School Office","School Office",null,null,"admin@stcolumbas.cumbria.sch.uk","01229 471522",null,null,null,null,null,null,null,null,null,null,null,null,null,null,null,"Not applicable","Not applicable",null,"Not under a federation",null,null,null,null,null,null,"Church Lane",null,null,"Barrow-in-Furness","Cumbria","LA14 3AD",null,1229471522,"North West",null,null,"4-11",null,"Primary",null,"Mrs","Amy","Bates",null,"Headteacher","North West"]
[112365,402,{"$error":"#NAME?"},909,"Cumbria",3606,"St Pius X Catholic Primary School","LA14 4AA",null,"Voluntary Aided School","Open","Diocese of Lancaster","15-97121726",null,"School Office","School Office",null,null,"admin@st-piusx.cumbria.sch.uk","01229 828406",null,null,null,null,null,null,null,null,null,null,null,null,null,null,null,"Not applicable","Not applicable",null,"Not under a federation",null,null,null,null,null,null,"Schneider Road",null,null,"Barrow-in-Furness","Cumbria","LA14 4AA",null,1229828406,"North West",null,null,"4-11",null,"Primary",null,"Mrs","Nicola","Rielly",null,"Headteacher","North West"]
[112357,403,{"$error":"#NAME?"},909,"Cumbria",3551,"Our Lady of the Rosary Catholic Primary School","LA15 8LB",null,"Voluntary Aided School","Open","Diocese of Lancaster","15-95785853",null,"Mrs Chalker","Mrs","Bridget","Chalker","admin@ourlady.cumbria.sch.uk","01229 897916",null,null,null,null,null,null,null,null,null,null,null,null,null,null,null,"Not applicable","Not applicable",null,"Supported by a federation","Our Lady of Furness Catholic Federation",null,null,null,null,null,"Crooklands Brow",null,null,"Dalton-in-Furness","Cumbria","LA15 8LB",null,1229897916,"North West",null,null,"3-11",null,"Primary",null,"Mrs","Nerissa","Nicholas",null,"Headteacher","North West"]
[112351,404,{"$error":"#NAME?"},909,"Cumbria",3514,"St James' Catholic Primary School","LA18 4AS",null,"Voluntary Aided School","Open","Diocese of Lancaster","15-15904517",null,"Mrs Warner","Mrs","Veronica","Warner","head@stjamesrc.cumbria.sch.uk","01229 772731",null,null,null,null,null,null,null,null,null,null,null,null,null,null,null,"Not applicable","Not applicable",null,"Not under a federation",null,null,null,null,null,null,"Lonsdale Road",null,null,"Millom","Cumbria","LA18 4AS",null,1229772731,"North West",null,null,"4-11",null,"Primary",null,"Mr","Peter","Harrison",null,"Head Teacher","North West"]
[112344,405,{"$error":"#NAME?"},909,"Cumbria",3453,"St Cuthbert's Catholic Primary School","LA23 2DD",null,"Voluntary Aided School","Open","Diocese of Lancaster","15-10367434",null,"Mr Harrison","Mr","Peter","Harrison","admin@st-cuthberts-windermere.cumbria.sch.uk","01539 448125",null,null,null,null,null,null,null,null,null,null,null,null,null,null,null,"Not applicable","Not applicable",null,"Not under a federation",null,null,null,null,null,null,"Prince's Road",null,null,"Windermere","Cumbria","LA23 2DD",null,1539448125,"North West",null,null,"3-11",null,"Primary",null,"Mrs","Martina","McCollom",null,"Head Teacher","North East"]
[139531,406,{"$error":"#NAME?"},841,"Darlington",3308,"St Augustine's RC Primary School","DL3 7HP","Carmel Education Trust","Academy Converter","Open","Diocese of Hexham and Newcastle","14-14519208",null,"Miss Brown","Miss","Mary","Brown","admin@staugustines.darlington.sch.uk","01325 380819",null,null,null,null,null,null,null,null,null,null,null,null,null,null,null,"Supported by a multi-academy trust","Linked to a sponsor","Carmel College Academy Trust","Not applicable",null,10041017,null,null,null,null,"Beechwood Avenue",null,null,"Darlington","County Durham","DL3 7HP",null,1325380819,"North East",null,null,"4-11",null,"Primary",null,"Mr","Mike","Shorten",null,"Principal","North East"]
[137622,407,{"$error":"#NAME?"},841,"Darlington",4603,"Carmel College","DL3 8RW","Carmel Education Trust","Academy Converter","Open","Diocese of Hexham and Newcastle","14-19149722",null,"Mrs Moorhouse","Mrs","Jennifer","Moorhouse","admin@carmel.org.uk","01325 254525",null,null,null,null,null,null,null,null,null,null,null,null,null,null,null,"Supported by a multi-academy trust","Linked to a sponsor","Carmel College Academy Trust","Not applicable",null,10035670,null,null,null,null,"The Headlands",null,null,"Darlington","County Durham","DL3 8RW",null,1325254525,"North East",null,null,"11-18",null,"Secondary",null,null,"Doreen","King",null,"Headteacher","North East"]
[138523,408,{"$error":"#NAME?"},841,"Darlington",3512,"St Bede's RC Primary School","DL1 3ES","St Bede's RC Primary School","Academy Converter","Open","Diocese of Hexham and Newcastle","14-38632730",null,"Mrs Alderson","Mrs",null,"Alderson","admin@stbedesrc.darlington.sch.uk","01325 466411",null,null,null,null,null,null,null,null,null,null,null,null,null,null,null,"Supported by a single-academy trust","-",null,"Not applicable",null,10037519,null,null,null,null,"Kingsway","Thompson Street East",null,"Darlington","County Durham","DL1 3ES",null,1325466411,"North East",null,null,"3-11",null,"Primary",null,"Mr","Christopher","Peacock",null,"Headteacher","North East"]
[139533,409,{"$error":"#NAME?"},841,"Darlington",3307,"Holy Family RC Primary School","DL3 9EN","Carmel Education Trust","Academy Converter","Open","Diocese of Hexham and Newcastle","14-78389372",null,"Mrs McLachlan","Mrs",null,"McLachlan","admin@holyfamilyprimary.org.uk","01325 380821",null,null,null,null,null,null,null,null,null,null,null,null,null,null,null,"Supported by a multi-academy trust","Linked to a sponsor","Carmel College Academy Trust","Not applicable",null,10040999,null,null,null,null,"Prior Street",null,null,"Darlington","County Durham","DL3 9EN",null,1325380821,"North East",null,null,"4-11",null,"Primary",null,"Mrs","Paula","Strachan",null,"Headteacher","North East"]
[114241,410,{"$error":"#NAME?"},841,"Darlington",3309,"St Teresa's RC Primary School","DL1 4NL",null,"Voluntary Aided School","Open","Diocese of Hexham and Newcastle","14-42910775",null,"Mrs Faulkner","Mrs",null,"Faulkner","admin@stteresasprimary.org.uk","01325 380754",null,null,null,null,null,null,null,null,null,null,null,null,null,null,null,"Not applicable","Not applicable",null,"Not under a federation",null,null,null,null,null,null,"Harris Street",null,null,"Darlington","County Durham","DL1 4NL",null,1325380754,"North East",null,null,"3-11",null,"Primary",null,null,null,null,null,"Headteacher","Wales (pseudo)"]
[400313,411,{"$error":"#NAME?"},663,"Denbighshire",3315,"Ysgol Mair R.C. School","LL18 2HY",null,"Welsh Establishment","Open","Diocese of Wrexham","27-79958195",null,"School Business Manager ","School Business Manager",null,null,"office@ysgolmair.org.uk","01745 350762",null,null,null,null,null,null,null,null,null,null,null,null,null,null,null,"Not applicable","Not applicable",null,"Not applicable",null,null,null,null,null,null,"St Margaret's Drive","Rhyl","Denbighshire",null,null,"LL18 2HY",null,1745350762,"Wales (pseudo)",null,null,"-",null,"Primary",null,null,null,null,null,"Headteacher","Wales (pseudo)"]
[401697,412,{"$error":"#NAME?"},663,"Denbighshire",4601,"Blessed Edward Jones R.C. School","LL18 2EU",null,"Welsh Establishment","Open","Diocese of Wrexham","27-80964180",null,"Mrs Poole","Mrs","Laura","Poole","laura.poole@denbighshire.gov.uk","01745 343433",null,null,null,null,null,null,null,null,null,null,null,null,null,null,null,"Not applicable","Not applicable",null,"Not applicable",null,10008903,null,null,null,null,"Cefndy Road","Rhyl","Denbighshire",null,null,"LL18 2EU",null,1745343433,"Wales (pseudo)",null,null,"-",null,"Primary",null,"Mr","K","Gritton",null,"Headteacher","East Midlands"]
[138622,413,{"$error":"#NAME?"},831,"Derby",4607,"Saint Benedict, A Catholic Voluntary Academy","DE22 1JD","Holy Family Catholic Academy Trust","Academy Converter","Open","Diocese of Nottingham","21-50609949",null,"Mr Muldoon","Mr","Andrew","Muldoon","acmuldoon@saintben.derby.sch.uk","01332 557032",null,null,null,null,null,null,null,null,null,null,null,null,null,null,null,"Supported by a multi-academy trust","-",null,"Not applicable",null,10038595,null,null,null,null,"Duffield Road","Darley Abbey",null,"Derby","Derbyshire","DE22 1JD",null,1332557032,"East Midlands",null,null,"11-18",null,"Secondary",null,null,"Eilis","Field",null,null,"East Midlands"]
[138514,414,{"$error":"#NAME?"},831,"Derby",2008,"St John Fisher, a Catholic Voluntary Academy","DE24 0PA","St. John Fisher Catholic Academy Trust","Academy Sponsor Led","Open","Archdiocese of Southwark","21-56583227",null,"Mrs Harlow","Mrs","Paula","Harlow","p.harlow@stjohnfisher.derby.sch.uk","01332 572154",null,null,null,null,null,null,null,null,null,null,null,null,null,null,null,"Supported by a single-academy trust","Linked to a sponsor","Nottingham Roman Catholic Diocesan Education Service (NRCDES)","Not applicable",null,10038458,null,null,null,null,"Alvaston Street","Alvaston",null,"Derby","Derbyshire","DE24 0PA",null,1332572154,"East Midlands",null,null,"4-11",null,"Primary",null,null,"Rachael","Snowdon-Poole",null,"Headteacher","East Midlands"]
[138666,415,{"$error":"#NAME?"},831,"Derby",3531,"St George's Catholic Voluntary Academy","DE23 1GG","Holy Family Catholic Academy Trust","Academy Converter","Open","Diocese of Nottingham","21-59075569",null,"Miss Akhtar","Miss","Bushra","Akhtar","B.Akhtar@stgeorges.derby.sch.uk","01332 766815",null,null,null,null,null,null,null,null,null,null,null,null,null,null,null,"Supported by a multi-academy trust","-",null,"Not applicable",null,10038168,null,null,null,null,"Uplands Avenue","Littleover",null,"Derby","Derbyshire","DE23 1GG",null,1332766815,"East Midlands",null,null,"5-11",null,"Primary",null,"Mrs","Amanda","Greaves",null,"Headteacher","East Midlands"]
[112916,416,{"$error":"#NAME?"},831,"Derby",3528,"St Mary's Catholic Primary School and Nursery","DE22 1AU",null,"Voluntary Aided School","Open","Diocese of Nottingham","21-72695728",null,"Mrs Lee","Mrs","Lisa","Lee","admin@stmarys.derby.sch.uk","01332 554831",null,null,null,null,null,null,null,null,null,null,null,null,null,null,null,"Not applicable","Not applicable",null,"Not under a federation",null,null,null,null,null,null,"Broadway",null,null,"Derby","Derbyshire","DE22 1AU",null,1332554831,"East Midlands",null,null,"3-11",null,"Primary",null,"Mrs","Tracey","Churchill",null,"Headteacher","East Midlands"]
[112926,417,{"$error":"#NAME?"},831,"Derby",3542,"St Joseph's Catholic Primary School, Derby","DE23 6SB",null,"Voluntary Aided School","Open","Diocese of Nottingham","21-57898447",null,"Mrs Dodes","Mrs","Vanessa","Dodes","v.dodes@stjosephs.derby.sch.uk","01332 361660",null,null,null,null,null,null,null,null,null,null,null,null,null,null,null,"Not applicable","Not applicable",null,"Not under a federation",null,null,null,null,null,null,"Mill Hill Lane",null,null,"Derby","Derbyshire","DE23 6SB",null,1332361660,"East Midlands",null,null,"4-11",null,"Primary",null,"Mr","Andrew","Monaghan",null,"Headteacher","East Midlands"]
[112927,418,{"$error":"#NAME?"},831,"Derby",3543,"St Alban's Catholic Primary School, Chaddesden, Derby","DE21 6NU",null,"Voluntary Aided School","Open","Diocese of Nottingham","21-58984539",null,"Mrs Cartlidge","Mrs","Jennifer","Cartlidge","admin@stalbans.derby.sch.uk","01332 673823",null,null,null,null,null,null,null,null,null,null,null,null,null,null,null,"Not applicable","Not applicable",null,"Not under a federation",null,null,null,null,null,null,"Newstead Avenue","Chaddesden",null,"Derby","Derbyshire","DE21 6NU",null,1332673823,"East Midlands",null,null,"3-11",null,"Primary",null,"Mr","Sean","McClafferty",null,"Headteacher","East Midlands"]
[138470,419,{"$error":"#NAME?"},830,"Derbyshire",5413,"St Mary's Catholic High School, A Catholic Voluntary Academy","S41 8AG","Marian Catholic Academy Trust, The~St Mary's Catholic High School Academy Trust","Academy Converter","Open","Diocese of Hallam","13-55597503",null,"Mrs Smith","Mrs","Simone","Smith","enquiries@stmaryschesterfield.org.uk","01246 201191",null,null,null,null,null,null,null,null,null,null,null,null,null,null,null,"Supported by a single-academy trust~Supported by an umbrella trust","-",null,"Not applicable",null,10037860,null,null,null,null,"Newbold Road","Upper Newbold",null,"Chesterfield","Derbyshire","S41 8AG",null,1246201191,"East Midlands",null,null,"11-18",null,"Secondary",null,"Mrs","Deborah","Tibble",null,"Headteacher","East Midlands"]
[141478,420,{"$error":"#NAME?"},830,"Derbyshire",3516,"St Joseph's Catholic Primary School, A Voluntary Academy","NG20 9RP","The Aquinas Catholic Academy Trust","Academy Converter","Open","Diocese of Nottingham","21-81660375",null,"Mrs Garrod","Mrs","Theresa","Garrod","info@st-josephs-pri.derbyshire.sch.uk","01623 742609",null,null,null,null,null,null,null,null,null,null,null,null,null,null,null,"Supported by a multi-academy trust","-",null,"Not applicable",null,10047626,null,null,null,null,"Langwith Road","Langwith Junction",null,"Mansfield","Nottinghamshire","NG20 9RP",null,1623742609,"East Midlands",null,null,"4-11",null,"Primary",null,null,"Mary","Emmott",null,"Headteacher","East Midlands"]
[141569,421,{"$error":"#NAME?"},830,"Derbyshire",3503,"Immaculate Conception Catholic Primary","S21 3YB","Marian Catholic Academy Trust, The~Immaculate Conception Academy Trust","Academy Converter","Open","Diocese of Hallam","13-44623300",null,"Mrs Hartley","Mrs","Lisa","Hartley","lisa.hall@immaculate-derbyshire.co.uk","01246 432916",null,null,null,null,null,null,null,null,null,null,null,null,null,null,null,"Supported by a single-academy trust~Supported by an umbrella trust","-",null,"Not applicable",null,10048073,null,null,null,null,"College Road","Spinkhill",null,"Sheffield","South Yorkshire","S21 3YB",null,1246432916,"East Midlands",null,null,"4-11",null,"Primary",null,"Mrs","Joan","McCarthy","Ba, Hdiped, Npqh","Headteacher","East Midlands"]
[137908,422,{"$error":"#NAME?"},830,"Derbyshire",5415,"Saint John Houghton Catholic Voluntary Academy","DE7 4HX","Saint Robert Lawrence Catholic Academy Trust","Academy Converter","Open","Diocese of Nottingham","21-11204984",null,"Ms Waby","Ms","Deborah","Waby","d.waby@st-johnhoughton.derbyshire.sch.uk","01159 322896",null,null,null,null,null,null,null,null,null,null,null,null,null,null,null,"Supported by a multi-academy trust","Linked to a sponsor","Saint Robert Lawrence Catholic Academy Trust","Not applicable",null,10036750,null,null,null,null,"Abbot Road","Kirk Hallam",null,"Ilkeston","Derbyshire","DE7 4HX",null,1159322896,"East Midlands",null,null,"11-16",null,"Secondary",null,null,"Louisa","Morris",null,null,"East Midlands"]
[142042,423,{"$error":"#NAME?"},830,"Derbyshire",4005,"St Philip Howard Catholic Voluntary Academy","SK13 8DR","St Philip Howard Catholic Academy Trust","Academy Sponsor Led","Open","Diocese of Nottingham","21-20954857",null,"Mrs Murphy","Mrs","J","Murphy","info@sph.academy","01457 853611",null,null,null,null,null,null,null,null,null,null,null,null,null,null,null,"Supported by a single-academy trust","Linked to a sponsor","Nottingham Roman Catholic Diocesan Education Service (NRCDES)","Not applicable",null,10049640,null,null,null,null,"Sunlaws Street",null,null,"Glossop","Derbyshire","SK13 8DR",null,1457853611,"East Midlands",null,null,"11-16",null,"Secondary",null,"Mrs","J","McQuillan",null,null,"East Midlands"]
[143513,424,{"$error":"#NAME?"},830,"Derbyshire",2024,"St Edward's Catholic Academy","DE11 0BD","St Edward's Catholic Academy","Academy Sponsor Led","Open","Diocese of Nottingham","21-40299352",null,"Diane Murphy",null,"Diane","Murphy","office@stedwardscatholicacademy.co.uk","01283 216721",null,null,null,null,null,null,null,null,null,null,null,null,null,null,null,"Supported by a multi-academy trust","Linked to a sponsor","Nottingham Roman Catholic Diocesan Education Service (NRCDES)","Not applicable",null,10061369,null,null,null,null,"Newhall Road",null,null,"Swadlincote","Derbyshire","DE11 0BD",null,1283216721,"East Midlands",null,null,"4-11",null,"Primary",null,"Mr","Paul","Scully",null,null,"East Midlands"]
[142827,425,{"$error":"#NAME?"},830,"Derbyshire",2020,"St Joseph's Catholic Voluntary Academy","DE4 3FT","Saint Robert Lawrence Catholic Academy Trust","Academy Sponsor Led","Open","Diocese of Nottingham","21-82524124",null,"Mrs Allen","Mrs","Sally","Allen","info@st-josephsrc-pri.derbyshire.sch.uk","00 ",null,null,null,null,null,null,null,null,null,null,null,null,null,null,null,"Supported by a multi-academy trust","Linked to a sponsor","Saint Robert Lawrence Catholic Academy Trust","Not applicable",null,10056527,null,null,null,null,"Chesterfield Road",null,null,"Matlock","Derbyshire","DE4 3FT",null,null,"East Midlands",null,null,"4-11",null,"Primary",null,"Mrs","Catherine","Mann",null,"Headteacher","East Midlands"]
[140070,426,{"$error":"#NAME?"},830,"Derbyshire",3519,"English Martyrs' Catholic Voluntary Academy","NG10 4DA","Saint Robert Lawrence Catholic Academy Trust","Academy Converter","Open","Diocese of Nottingham","21-95595395",null,"Rachel Gordon",null,"Rachel","Gordon","enquiries@englishmartyrs.derbyshire.sch.uk","01159 733209",null,null,null,null,null,null,null,null,null,null,null,null,null,null,null,"Supported by a multi-academy trust","Linked to a sponsor","Saint Robert Lawrence Catholic Academy Trust","Not applicable",null,10043030,null,null,null,null,"Bracken Road","Long Eaton",null,"Nottingham","Nottinghamshire","NG10 4DA",null,1159733209,"East Midlands",null,null,"4-11",null,"Primary",null,"Mr","David","Hickey",null,"Headteacher","East Midlands"]
[112911,427,{"$error":"#NAME?"},830,"Derbyshire",3521,"St Margaret's Catholic Primary","SK13 6JH",null,"Voluntary Aided School","Open","Diocese of Nottingham","21-63082513",null,"Chloe Sammarco",null,"Chloe","Sammarco","c.sammarco@st-margarets.derbyshire.sch.uk","01457 855818",null,null,null,null,null,null,null,null,null,null,null,null,null,null,null,"Not applicable","Not applicable",null,"Not under a federation",null,null,null,null,null,null,"Glossop Road",null,null,"Glossop","Derbyshire","SK13 6JH",null,1457855818,"East Midlands",null,null,"4-11",null,"Primary",null,"Mr","David","Hickey",null,"Headteacher","East Midlands"]
[112900,428,{"$error":"#NAME?"},830,"Derbyshire",3504,"All Saints Catholic Primary School","SK13 7RJ",null,"Voluntary Aided School","Open","Diocese of Nottingham","21-55928548",null,"Chris Hattersley",null,"Chris","Hattersley","enquiries@allsaintsrc.derbyshire.sch.uk","01457 852756",null,null,null,null,null,null,null,null,null,null,null,null,null,null,null,"Not applicable","Not applicable",null,"Not under a federation",null,null,null,null,null,null,"Church Street","Old Glossop",null,"Glossop","Derbyshire","SK13 7RJ",null,1457852756,"East Midlands",null,null,"5-11",null,"Primary",null,"Mrs","Helena","Carrazedo","Ba Pgce Dip Sen","Headteacher","East Midlands"]
[112909,429,{"$error":"#NAME?"},830,"Derbyshire",3518,"Christ The King Catholic Primary","DE55 7EN",null,"Voluntary Aided School","Open","Diocese of Nottingham","21-41414664",null,"Ouna ","Secretary","Ouna",null,"enquiries@christtheking.derbyshire.sch.uk","01773 832919",null,null,null,null,null,null,null,null,null,null,null,null,null,null,null,"Not applicable","Not applicable",null,"Not under a federation",null,null,null,null,null,null,"Firs Avenue",null,null,"Alfreton","Derbyshire","DE55 7EN",null,1773832919,"East Midlands",null,null,"3-11",null,"Primary",null,"Mrs","Claire","Sierotko",null,"Headteacher","East Midlands"]
[112897,430,{"$error":"#NAME?"},830,"Derbyshire",3501,"St Anne's Catholic Primary School","SK17 7AN",null,"Voluntary Aided School","Open","Diocese of Nottingham","21-59050323",null,"Sandra Tobias",null,"Sandra","Tobias","enquiries@st-annesrc.derbyshire.sch.uk","01298 23589",null,null,null,null,null,null,null,null,null,null,null,null,null,null,null,"Not applicable","Not applicable",null,"Not under a federation",null,null,null,null,null,null,"Lightwood Road",null,null,"Buxton","Derbyshire","SK17 7AN",null,129823589,"East Midlands",null,null,"5-11",null,"Primary",null,"Mr","Brendan","Hickey",null,"Headteacher","East Midlands"]
[112971,431,{"$error":"#NAME?"},830,"Derbyshire",4601,"St Thomas More Catholic School Buxton","SK17 6AF",null,"Voluntary Aided School","Open","Diocese of Nottingham","21-23188904",null,"Mrs Waldren","Mrs",null,"Waldren","enquiries@st-thomasmore.derbyshire.sch.uk","01298 23167",null,null,null,null,null,null,null,null,null,null,null,null,null,null,null,"Not applicable","Not applicable",null,"Not under a federation",null,10017615,null,null,null,null,"Palace Fields",null,null,"Buxton","Derbyshire","SK17 6AF",null,129823167,"East Midlands",null,null,"11-16",null,"Secondary",null,"Mrs","Bernadette","Quirke","Bed Hons","Headteacher","East Midlands"]
[112902,432,{"$error":"#NAME?"},830,"Derbyshire",3506,"St Charles's Catholic Primary","SK13 1PJ",null,"Voluntary Aided School","Open","Diocese of Nottingham","21-85020229",null,"Mrs White","Mrs","Cara","White","info@st-charles.derbyshire.sch.uk","01457 852692",null,null,null,null,null,null,null,null,null,null,null,null,null,null,null,"Not applicable","Not applicable",null,"Not under a federation",null,null,null,null,null,null,"The Carriage Drive","Hadfield",null,"Glossop","Derbyshire","SK13 1PJ",null,1457852692,"East Midlands",null,null,"4-11",null,"Primary",null,"Mr","Bryan","Lowe",null,"Headteacher","East Midlands"]
[112907,433,{"$error":"#NAME?"},830,"Derbyshire",3513,"St Elizabeth's Catholic Primary School","DE56 2JD",null,"Voluntary Aided School","Open","Diocese of Nottingham","21-86888820",null,"Donna Hyde",null,"Donna","Hyde","info@st-elizabeths.derbyshire.sch.uk","01773 822278",null,null,null,null,null,null,null,null,null,null,null,null,null,null,null,"Not applicable","Not applicable",null,"Not under a federation",null,null,null,null,null,null,"Matlock Road",null,null,"Belper","Derbyshire","DE56 2JD",null,1773822278,"East Midlands",null,null,"4-11",null,"Primary",null,"Mr","Graham","Lobb",null,"Headteacher","East Midlands"]
[112903,434,{"$error":"#NAME?"},830,"Derbyshire",3508,"St Thomas Catholic Primary","DE7 4LF",null,"Voluntary Aided School","Open","Diocese of Nottingham","21-52254019",null,"Elaine Pugh",null,"Elaine","Pugh","info@st-thomas.derbyshire.sch.uk","01159 320550",null,null,null,null,null,null,null,null,null,null,null,null,null,null,null,"Not applicable","Not applicable",null,"Not under a federation",null,null,null,null,null,null,"Church View","Allendale",null,"Ilkeston","Derbyshire","DE7 4LF",null,1159320550,"East Midlands",null,null,"4-11",null,"Primary",null,"Mrs","Ann","King",null,"Headteacher","East Midlands"]
[112904,435,{"$error":"#NAME?"},830,"Derbyshire",3509,"St Mary's Catholic Primary","SK22 3BL",null,"Voluntary Aided School","Open","Diocese of Nottingham","21-96401427",null,"Susan Sowerbutts",null,"Susan","Sowerbutts","susans41@st-marys-pri.derbyshire.sch.uk","01663 742412",null,null,null,null,null,null,null,null,null,null,null,null,null,null,null,"Not applicable","Not applicable",null,"Not under a federation",null,null,null,null,null,null,"Longlands Road","New Mills",null,"High Peak","Derbyshire","SK22 3BL",null,1663742412,"East Midlands",null,null,"4-11",null,"Primary",null,"Dr","N","Cuddihy",null,"Headmaster","East Midlands"]
[113010,436,{"$error":"#NAME?"},830,"Derbyshire",6014,"Mount St Mary's College","S21 3YL",null,"Other Independent School","Open","Diocese of Hallam","13-91759760",null,"Mr Ewins","Mr","Harry","Ewins","headmaster@msmcollege.com","01246 433388",null,null,null,null,null,null,null,null,null,null,null,null,null,null,null,"Not applicable","Not applicable",null,"Not applicable",null,10016548,null,null,null,null,"Spinkhill",null,null,"Sheffield","South Yorkshire","S21 3YL",null,1246433388,"East Midlands",null,null,"11-18",null,"Secondary",null,"Mrs","Lindsey","Apps",null,"Headteacher","East Midlands"]
[112898,437,{"$error":"#NAME?"},830,"Derbyshire",3502,"St Mary's Catholic Primary","S40 4ST",null,"Voluntary Aided School","Open","Diocese of Hallam","13-60899179",null,"Mrs Clarke","Mrs","Judith","Clarke","info@st-marys.derbyshire.sch.uk","01246 232170",null,null,null,null,null,null,null,null,null,null,null,null,null,null,null,"Not applicable","Not applicable",null,"Not under a federation",null,null,null,null,null,null,"Cross Street",null,null,"Chesterfield","Derbyshire","S40 4ST",null,1246232170,"East Midlands",null,null,"4-11",null,"Primary",null,"Mr","N","Boys",null,"Headteacher","East Midlands"]
[113018,438,{"$error":"#NAME?"},830,"Derbyshire",6015,"Barlborough Hall School","S43 4TJ",null,"Other Independent School","Open","Diocese of Hallam","13-86956024",null,"Mr Ewins","Mr","Harry","Ewins","Headteacher@barlboroughhallschool.com","01246 810511",null,null,null,null,null,null,null,null,null,null,null,null,null,null,null,"Not applicable","Not applicable",null,"Not applicable",null,null,null,null,null,null,"Barlborough Park","Barlborough",null,"Chesterfield","Derbyshire","S43 4TJ",null,1246810511,"East Midlands",null,null,"3-11",null,"Primary",null,"Mr","Simon","Groarke",null,"Headteacher","East Midlands"]
[112901,439,{"$error":"#NAME?"},830,"Derbyshire",3505,"Saint Mary's Catholic Primary","SK13 8NE",null,"Voluntary Aided School","Open","Diocese of Nottingham","21-65364186",null,"School Office","School Office",null,null,"info@st-marysrc.derbyshire.sch.uk","01457 854473",null,null,null,null,null,null,null,null,null,null,null,null,null,null,null,"Not applicable","Not applicable",null,"Not under a federation",null,null,null,null,null,null,"Gladstone Street",null,null,"Glossop","Derbyshire","SK13 8NE",null,1457854473,"East Midlands",null,null,"4-11",null,"Primary",null,null,"Rowena","Herbert",null,"Headteacher","East Midlands"]
[134773,440,{"$error":"#NAME?"},830,"Derbyshire",3549,"St Joseph's Catholic and CofE (VA) Primary School","S43 3LY",null,"Voluntary Aided School","Open","Diocese of Hallam","13-87077973",null,"Office Administrator ","Office Administrator","","","enquiries@st-josephsrccofe.derbyshire.sch.uk","01246 472798",null,null,null,null,null,null,null,null,null,null,null,null,null,null,null,"Not applicable","Not applicable",null,"Not under a federation",null,null,null,null,null,null,"Calver Crescent","Staveley",null,"Chesterfield","Derbyshire","S43 3LY",null,1246472798,"East Midlands",null,null,"3-11",null,"Primary",null,"Mrs","Frances","Guppy",null,"Executive Headteacher","South West"]
[140772,441,{"$error":"#NAME?"},878,"Devon",3301,"St Mary's Catholic Primary School, Axminster","EX13 5BE","Plymouth CAST","Academy Converter","Open","Diocese of Plymouth","22-80742171",null,"Mrs Hay","Mrs","J","Hay","finance@stmarysaxminster.devon.sch.uk","01297 32785",null,null,null,null,null,null,null,null,null,null,null,null,null,null,null,"Supported by a multi-academy trust","Linked to a sponsor","Plymouth CAST","Not applicable",null,10045621,null,null,null,null,"Lyme Road",null,null,"Axminster","Devon","EX13 5BE",null,129732785,"South West",null,null,"4-11",null,"Primary",null,"Mrs","Nicola","Taylor-Bashford",null,"Headteacher","South West"]
[140766,442,{"$error":"#NAME?"},878,"Devon",3310,"St Joseph's Catholic Primary School, Exmouth","EX8 1TA","Plymouth CAST","Academy Converter","Open","Diocese of Plymouth","22-10228155",null,"Mrs Godfrey","Mrs","Lesley","Godfrey","admin@stjo.uk","01395 264875",null,null,null,null,null,null,null,null,null,null,null,null,null,null,null,"Supported by a multi-academy trust","Linked to a sponsor","Plymouth CAST","Not applicable",null,10045627,null,null,null,null,"Regents Gate",null,null,"Exmouth","Devon","EX8 1TA",null,1395264875,"South West",null,null,"2-11",null,"Primary",null,"Mr","Patrick","Harland",null,"Headteacher","South West"]
[140762,443,{"$error":"#NAME?"},878,"Devon",3773,"St John's Catholic Primary School","EX16 5LB","Plymouth CAST","Academy Converter","Open","Diocese of Plymouth","22-33145080",null,"Mrs Last","Mrs","Heidi","Last","admin@tiverton-st-johns-primary.devon.sch.uk","01884 253630",null,null,null,null,null,null,null,null,null,null,null,null,null,null,null,"Supported by a multi-academy trust","Linked to a sponsor","Plymouth CAST","Not applicable",null,10045631,null,null,null,null,"Melbourne Street",null,null,"Tiverton","Devon","EX16 5LB",null,1884253630,"South West",null,null,"2-11",null,"Primary",null,"Ms","Kelly","Dunne",null,"Headteacher","South West"]
[140765,444,{"$error":"#NAME?"},878,"Devon",3610,"St Joseph's Catholic Primary School","TQ12 1PT","Plymouth CAST","Academy Converter","Open","Diocese of Plymouth","22-34864876",null,"School Business Manager ","School Business Manager",null,null,"admin@olsp-rc.devon.sch.uk","01626 352559",null,null,null,null,null,null,null,null,null,null,null,null,null,null,null,"Supported by a multi-academy trust","Linked to a sponsor","Plymouth CAST","Not applicable",null,10045628,null,null,null,null,"Coombeshead Road","Highweek",null,"Newton Abbot","Devon","TQ12 1PT",null,1626352559,"South West",null,null,"5-11",null,"Primary",null,"Miss","Nicola","Slack",null,"Headteacher","South West"]
[140774,445,{"$error":"#NAME?"},878,"Devon",3602,"St Mary's Catholic Primary School, Buckfast","TQ11 0EA","Plymouth CAST","Academy Converter","Open","Diocese of Plymouth","22-38218855",null,"Mrs Belsher","Mrs","Mitzi","Belsher","admin@st-marysrc.devon.sch.uk","01364 642389",null,null,null,null,null,null,null,null,null,null,null,null,null,null,null,"Supported by a multi-academy trust","Linked to a sponsor","Plymouth CAST","Not applicable",null,10045619,null,null,null,null,"Buckfast Road","Buckfast",null,"Buckfastleigh","Devon","TQ11 0EA",null,1364642389,"South West",null,null,"3-11",null,"Primary",null,"Mr","Rob","Meech",null,"Principal","South West"]
[140739,446,{"$error":"#NAME?"},878,"Devon",3452,"Our Lady's Catholic Primary School, Barnstaple","EX32 8DN","Plymouth CAST","Academy Converter","Open","Diocese of Plymouth","22-42939392",null,"Mr Meech","Mr","Robert","Meech","admin@olcs.uk","01271 345164",null,null,null,null,null,null,null,null,null,null,null,null,null,null,null,"Supported by a multi-academy trust","Linked to a sponsor","Plymouth CAST","Not applicable",null,10045697,null,null,null,null,"Chanters Hill",null,null,"Barnstaple","Devon","EX32 8DN",null,1271345164,"South West",null,null,"5-11",null,"Primary",null,"Mrs","Angela","Folland",null,null,"South West"]
[139394,447,{"$error":"#NAME?"},878,"Devon",2005,"St Nicholas Catholic Primary School","EX1 3EG","Plymouth CAST","Academy Sponsor Led","Open","Diocese of Plymouth","22-74190327",null,"Mrs Down","Mrs","Julie","Down","admin@stncs.uk","01392 445403",null,null,null,null,null,null,null,null,null,null,null,null,null,null,null,"Supported by a multi-academy trust","Linked to a sponsor","Plymouth CAST","Not applicable",null,10040768,null,null,null,null,"Ringswell Avenue",null,null,"Exeter","Devon","EX1 3EG",null,1392445403,"South West",null,null,"3-11",null,"Primary",null,null,"Liz","Hamilton",null,"Headteacher","South West"]
[140761,448,{"$error":"#NAME?"},878,"Devon",3603,"St John the Baptist Roman Catholic Primary School, Dartmouth","TQ6 9HW","Plymouth CAST","Academy Converter","Open","Diocese of Plymouth","22-77751420",null,"Ms Bridges","Ms","Helen","Bridges","admin@st-johns-dartmouth.devon.sch.uk","01803 832495",null,null,null,null,null,null,null,null,null,null,null,null,null,null,null,"Supported by a multi-academy trust","Linked to a sponsor","Plymouth CAST","Not applicable",null,10045632,null,null,null,null,"Milton Lane",null,null,"Dartmouth","Devon","TQ6 9HW",null,1803832495,"South West",null,null,"4-11",null,"Primary",null,null,"Sarah","Barreto",null,null,"South West"]
[140695,449,{"$error":"#NAME?"},878,"Devon",2036,"Our Lady and St Patrick's Roman Catholic Primary School","TQ14 9DT","Plymouth CAST","Academy Sponsor Led","Open","Diocese of Plymouth","22-85154073",null,"Mrs Doody","Mrs",null,"Doody","admin@olsp-rc.devon.sch.uk","01626 773905",null,null,null,null,null,null,null,null,null,null,null,null,null,null,null,"Supported by a multi-academy trust","Linked to a sponsor","Plymouth CAST","Not applicable",null,10045667,null,null,null,null,"Fourth Avenue",null,null,"Teignmouth","Devon","TQ14 9DT",null,1626773905,"South West",null,null,"3-11",null,"Primary",null,"Mr","T","Waters",null,"Headteacher","South West"]
[113574,450,{"$error":"#NAME?"},878,"Devon",6010,"Trinity School","TQ14 8LY",null,"Other Independent School","Open","Diocese of Plymouth","22-83161459",null,"Mr Dyer","Mr","Shaun","Dyer","bursar@trinityschool.co.uk","01626 774138",null,null,null,null,null,null,null,null,null,null,null,null,null,null,null,"Not applicable","Not applicable",null,"Not applicable",null,10007056,null,null,null,null,"Buckeridge Road",null,null,"Teignmouth","Devon","TQ14 8LY",null,1626774138,"South West",null,null,"2-19",null,"Secondary",null,"Mrs","Bernadette","Nesbit",null,"Headteacher","Yorkshire and Humber"]
[106762,451,{"$f":"_xlfn.CONCAT(D452,F452)","v":{"$error":"#NAME?"}},371,"Doncaster",3302,"St Francis Xavier Catholic Primary School","DN4 0JN",null,"Voluntary Aided School","Open","Diocese of Hallam","13-60572380",null,"Ms Bowker","Ms","Lynda","Bowker","lynda.bowker@xavier.doncaster.sch.uk","01302 344678",null,null,null,null,null,null,null,null,null,null,null,null,null,null,null,"Not applicable","Not applicable",null,"Not under a federation",null,null,null,null,null,null,"Roberts Road","Balby",null,"Doncaster","South Yorkshire","DN4 0JN",null,1302344678,"Yorkshire and the Humber",null,null,"3-11",null,"Primary",null,null,"George","Long",null,"Headteacher","Yorkshire and Humber"]
[140865,452,{"$error":"#NAME?"},371,"Doncaster",4606,"The McAuley Catholic High School","DN3 3QF","Our Lady of Doncaster Umbrella Trust~The McAuley Catholic High School","Academy Converter","Open","Diocese of Hallam","13-40591984",null,"Mr Horrocks","Mr","Michael","Horrocks","mhorrocks@mcauley.org.uk","01302 537396",null,null,null,null,null,null,null,null,null,null,null,null,null,null,null,"Supported by a single-academy trust~Supported by an umbrella trust","-",null,"Not applicable",null,10045940,null,null,null,null,"Cantley Lane",null,null,"Doncaster","South Yorkshire","DN3 3QF",null,1302537396,"Yorkshire and the Humber",null,null,"11-18",null,"Secondary",null,"Mrs","Natalie","Kelly",null,null,"Yorkshire and Humber"]
[140340,453,{"$error":"#NAME?"},371,"Doncaster",2001,"St Joseph's School, a Catholic Voluntary Academy","DN11 0NB","The Hallam Schools' Partnership Academy Trust","Academy Sponsor Led","Open","Diocese of Hallam","13-74586731",null,"Mr Patterson","Mr","Phillip","Patterson","admin@st-josephs.doncaster.sch.uk","01302 868098",null,null,null,null,null,null,null,null,null,null,null,null,null,null,null,"Supported by a multi-academy trust","Linked to a sponsor","Diocese of Hallam","Not applicable",null,10044068,null,null,null,null,"Bevan Avenue","Rossington",null,"Doncaster","South Yorkshire","DN11 0NB",null,1302868098,"Yorkshire and the Humber",null,null,"3-11",null,"Primary",null,"Ms","Bernadette","Nesbit",null,"Headteacher","Yorkshire and Humber"]
[141056,454,{"$error":"#NAME?"},371,"Doncaster",3317,"Holy Family Catholic Primary School","DN7 5BL","Our Lady of Doncaster Umbrella Trust~Holy Family Academy Trust","Academy Converter","Open","Diocese of Hallam","13-82092225",null,"Julie McGlaughlic",null,"Julie","McGlaughlic","admin@holyfamily.doncaster.sch.uk","01302 841283",null,null,null,null,null,null,null,null,null,null,null,null,null,null,null,"Supported by a single-academy trust~Supported by an umbrella trust","-",null,"Not applicable",null,10046474,null,null,null,null,"Kirton Lane","Stainforth",null,"Doncaster","South Yorkshire","DN7 5BL",null,1302841283,"Yorkshire and the Humber",null,null,"3-11",null,"Primary",null,"Mr","Terry","Carroll",null,"Headteacher","Yorkshire and Humber"]
[106769,455,{"$error":"#NAME?"},371,"Doncaster",3314,"St Joseph and St Teresa's Catholic Primary School","DN6 7QN",null,"Voluntary Aided School","Open","Diocese of Hallam","13-79094419",null,"Linda Bent",null,"Linda","Bent","admin@st-joseph-st-teresas.doncaster.sch.uk","01302 723320",null,null,null,null,null,null,null,null,null,null,null,null,null,null,null,"Not applicable","Not applicable",null,"Supported by a federation","Catholic Federation of Our Lady of Perpetual Help and Saint Joseph and Saint Teresa’s Catholic Primary Schools",null,null,null,null,null,"Doncaster Lane","Woodlands",null,"Doncaster","South Yorkshire","DN6 7QN",null,1302723320,"Yorkshire and the Humber",null,null,"3-11",null,"Primary",null,"Mrs","Diane","Collins",null,"Headteacher","Yorkshire and Humber"]
[106770,456,{"$error":"#NAME?"},371,"Doncaster",3315,"Our Lady of Perpetual Help Catholic Primary School","DN5 0RP",null,"Voluntary Aided School","Open","Diocese of Hallam","13-51476651",null,"Mrs Bent","Mrs","L","Bent","finance@ourladys.doncaster.sch.uk","01302 874291",null,null,null,null,null,null,null,null,null,null,null,null,null,null,null,"Not applicable","Not applicable",null,"Supported by a federation","Catholic Federation of Our Lady of Perpetual Help and Saint Joseph and Saint Teresa’s Catholic Primary Schools",null,null,null,null,null,"Finkle Street","Bentley",null,"Doncaster","South Yorkshire","DN5 0RP",null,1302874291,"Yorkshire and the Humber",null,null,"3-11",null,"Primary",null,"Mr","Chris","Bratt",null,"Headteacher","Yorkshire and Humber"]
[106773,457,{"$error":"#NAME?"},371,"Doncaster",3318,"St Mary's Catholic Primary School, Edlington","DN12 1DL",null,"Voluntary Aided School","Open","Diocese of Hallam","13-37259518",null,"Emma Harvey",null,"Emma","Harvey","admin@st-marys-pri.doncaster.sch.uk","01709 863280",null,null,null,null,null,null,null,null,null,null,null,null,null,null,null,"Not applicable","Not applicable",null,"Not under a federation",null,null,null,null,null,null,"Bungalow Road","Edlington",null,"Doncaster","South Yorkshire","DN12 1DL",null,1709863280,"Yorkshire and the Humber",null,null,"3-11",null,"Primary",null,"Mrs","Jo","Ayres",null,"Headteacher","Yorkshire and Humber"]
[106771,458,{"$error":"#NAME?"},371,"Doncaster",3316,"St Alban's Catholic Primary School","DN12 4AQ",null,"Voluntary Aided School","Open","Diocese of Hallam","13-35286294",null,"Helen Strawbridge",null,"Helen","Strawbridge","admin@st-albans.doncaster.sch.uk","01709 862298",null,null,null,null,null,null,null,null,null,null,null,null,null,null,null,"Not applicable","Not applicable",null,"Not under a federation",null,null,null,null,null,null,"Wadworth Street","Denaby Main",null,"Doncaster","South Yorkshire","DN12 4AQ",null,1709862298,"Yorkshire and the Humber",null,null,"4-11",null,"Primary",null,"Mrs","Lindsay","Gamble",null,"Headteacher","Yorkshire and Humber"]
[106761,459,{"$error":"#NAME?"},371,"Doncaster",3301,"Our Lady of Mount Carmel Catholic Primary School","DN2 5JG",null,"Voluntary Aided School","Open","Diocese of Hallam","13-93483998",null,"School Office","School Office",null,null,"admin@olmcprimary.co.uk","01302 349743",null,null,null,null,null,null,null,null,null,null,null,null,null,null,null,"Not applicable","Not applicable",null,"Not under a federation",null,null,null,null,null,null,"Sandringham Road","Intake",null,"Doncaster","South Yorkshire","DN2 5JG",null,1302349743,"Yorkshire and the Humber",null,null,"4-11",null,"Primary",null,"Mrs","Clare","Mainon","Bed","Headteacher","Yorkshire and Humber"]
[106774,460,{"$error":"#NAME?"},371,"Doncaster",3319,"Our Lady of Sorrows Catholic Primary School","DN3 2DB",null,"Voluntary Aided School","Open","Diocese of Hallam","13-99642886",null,"Mrs Lister","Mrs","Claire","Lister","admin@ourladysorrows.doncaster.sch.uk","01302 833941",null,null,null,null,null,null,null,null,null,null,null,null,null,null,null,"Not applicable","Not applicable",null,"Not under a federation",null,null,null,null,null,null,"Mere Lane","Armthorpe",null,"Doncaster","South Yorkshire","DN3 2DB",null,1302833941,"Yorkshire and the Humber",null,null,"4-11",null,"Primary",null,"Mrs","Stella","Groarke","Ba Hons Pgce","Headteacher","Yorkshire and Humber"]
[106760,461,{"$error":"#NAME?"},371,"Doncaster",3300,"St Peter's Catholic Primary School","DN4 5EP",null,"Voluntary Aided School","Open","Diocese of Hallam","13-75655015",null,"Mrs Rodgers","Mrs","Julie ","Rodgers","admin@stpeter.doncaster.sch.uk","01302 369143",null,null,null,null,null,null,null,null,null,null,null,null,null,null,null,"Not applicable","Not applicable",null,"Not under a federation",null,null,null,null,null,null,"Sandy Lane",null,null,"Doncaster","South Yorkshire","DN4 5EP",null,1302369143,"Yorkshire and the Humber",null,null,"4-11",null,"Primary",null,"Mrs","Mary","Arnal",null,"Headmistress","South West"]
[126515,462,{"$error":"#NAME?"},835,"Dorset",6003,"St Mary's School","SP7 9LP",null,"Other Independent School","Open","Diocese of Clifton","11-31093105",null,"Mr Bowe","Mr","Paul","Bowe","bursar@stmarys.eu","01747 852416",null,null,null,null,null,null,null,null,null,null,null,null,null,null,null,"Not applicable","Not applicable",null,"Not applicable",null,10006234,null,null,null,null,"Donhead St Mary's","Salisbury Road",null,"Shaftesbury","Dorset","SP7 9LP",null,1747852416,"South West",null,null,"11-19",null,"Secondary",null,"Mrs","Charlotte","Targett",null,"Headteacher","South West"]
[140776,463,{"$error":"#NAME?"},835,"Dorset",3402,"St Mary's Catholic Primary School, Marnhull","DT10 1JX","Plymouth CAST","Academy Converter","Open","Diocese of Plymouth","22-30419867",null,"Mrs Case","Mrs","Su","Case","office@stmarymarnhull.dorset.sch.uk","01258 820417",null,null,null,null,null,null,null,null,null,null,null,null,null,null,null,"Supported by a multi-academy trust","Linked to a sponsor","Plymouth CAST","Not applicable",null,10045618,null,null,null,null,"Old Mill Lane","Marnhull",null,"Sturminster Newton","Dorset","DT10 1JX",null,1258820417,"South West",null,null,"3-11",null,"Primary",null,null,"Helen","Brown",null,"Headteacher","South West"]
[140770,464,{"$error":"#NAME?"},835,"Dorset",3401,"St Mary & St Joseph's Catholic Primary School","BH20 6DS","Plymouth CAST","Academy Converter","Open","Diocese of Plymouth","22-12016444",null,"Mr Palmer","Mr",null,"Palmer","office@stmaryjosephswool.dorset.sch.uk","01929 462565",null,null,null,null,null,null,null,null,null,null,null,null,null,null,null,"Supported by a multi-academy trust","Linked to a sponsor","Plymouth CAST","Not applicable",null,10045623,null,null,null,null,"Folly Lane","Wool",null,"Wareham","Dorset","BH20 6DS",null,1929462565,"South West",null,null,"4-11",null,"Primary",null,"Mrs","Paula","Fearn",null,"Headteacher","South West"]
[140771,465,{"$error":"#NAME?"},835,"Dorset",3404,"St Mary's Catholic First School, Dorchester","DT1 2DD","Plymouth CAST","Academy Converter","Open","Diocese of Plymouth","22-23088332",null,"Mrs Wilson","Mrs","Sadie","Wilson","office@stmarysdorchester.dorset.sch.uk","01305 262258",null,null,null,null,null,null,null,null,null,null,null,null,null,null,null,"Supported by a multi-academy trust","Linked to a sponsor","Plymouth CAST","Not applicable",null,10045622,null,null,null,null,"Lucetta Lane",null,null,"Dorchester","Dorset","DT1 2DD",null,1305262258,"South West",null,null,"4-9",null,"Primary",null,"Mr","Michael","Lobo",null,"Headteacher","South West"]
[140755,466,{"$error":"#NAME?"},835,"Dorset",3670,"St Augustine's Catholic Primary School, Weymouth","DT4 0RH","Plymouth CAST","Academy Converter","Open","Diocese of Plymouth","22-27862397",null,"Michael Lobo",null,"Michael","Lobo","office@staugustines.dorset.sch.uk","01305 782600",null,null,null,null,null,null,null,null,null,null,null,null,null,null,null,"Supported by a multi-academy trust","Linked to a sponsor","Plymouth CAST","Not applicable",null,10045637,null,null,null,null,"Hardy Avenue",null,null,"Weymouth","Dorset","DT4 0RH",null,1305782600,"South West",null,null,"4-11",null,"Primary",null,"Mrs","Sarah","Sparks",null,"Headteacher","South West"]
[140756,467,{"$error":"#NAME?"},835,"Dorset",3405,"St Catherine's Catholic Primary School, Wimborne","BH21 2HN","Plymouth CAST","Academy Converter","Open","Diocese of Plymouth","22-61407286",null,"Carolyn Stewart",null,"Carolyn","Stewart","office@stcatherinescolehill.dorset.sch.uk","01202 883763",null,null,null,null,null,null,null,null,null,null,null,null,null,null,null,"Supported by a multi-academy trust","Linked to a sponsor","Plymouth CAST","Not applicable",null,10045635,null,null,null,null,"Cutlers Place","Colehill",null,"Wimborne","Dorset","BH21 2HN",null,1202883763,"South West",null,null,"4-11",null,"Primary",null,"Ms","Frances","Guppy",null,"Headteacher","South West"]
[140757,468,{"$error":"#NAME?"},835,"Dorset",3400,"St Catherine's Roman Catholic School","DT6 3TR","Plymouth CAST","Academy Converter","Open","Diocese of Plymouth","22-83526269",null,"Mrs Guppy","Mrs","Frances","Guppy","office@stcatherinesbridport.dorset.sch.uk","01308 423568",null,null,null,null,null,null,null,null,null,null,null,null,null,null,null,"Supported by a multi-academy trust","Linked to a sponsor","Plymouth CAST","Not applicable",null,10045636,null,null,null,null,"Pymore Road",null,null,"Bridport","Dorset","DT6 3TR",null,1308423568,"South West",null,null,"5-11",null,"Primary",null,"Miss","Louise","Buxton",null,"Headteacher","South West"]
[113848,469,{"$error":"#NAME?"},835,"Dorset",3691,"St Joseph's Catholic Primary School, Christchurch","BH23 3DA",null,"Voluntary Aided School","Open","Diocese of Portsmouth","01-30118319",null,"Mrs Flack","Mrs","Amanda","Flack","a.flack@stjosephs.dorset.sch.uk","01202 485976",null,null,null,null,null,null,null,null,null,null,null,null,null,null,null,"Not applicable","Not applicable",null,"Not under a federation",null,null,null,null,null,null,"Dorset Road","Somerford",null,"Christchurch","Dorset","BH23 3DA",null,1202485976,"South West",null,null,"5-11",null,"Primary",null,"Mrs","Kate","Reynolds","BA(Hon)","Head","South West"]
[113920,470,{"$error":"#NAME?"},835,"Dorset",6025,"Leweston School","DT9 6EN",null,"Other Independent School","Open","Diocese of Plymouth","22-89961088",null,"Ms Graham","Ms","Penny","Graham","bursary@leweston.dorset.sch.uk","01963 210691",null,null,null,null,null,null,null,null,null,null,null,null,null,null,null,"Not applicable","Not applicable",null,"Not applicable",null,10008505,null,null,null,null,"Glebe Lane,",null,null,"Dorset","Dorset","DT9 6EN",null,1963210691,"South West",null,null,"11-19",null,"Secondary",null,null,"Linda","Lake",null,"Headteacher","South West"]
[140780,471,{"$error":"#NAME?"},835,"Dorset",3406,"St Mary's Catholic Primary School, Swanage","BH19 1QE","Plymouth CAST","Academy Converter","Open","Diocese of Plymouth","22-84183107",null,"Mrs Poole","Mrs",null,"Poole","office@stmarysswanage.dorset.sch.uk","01929 424909",null,null,null,null,null,null,null,null,null,null,null,null,null,null,null,"Supported by a multi-academy trust","Linked to a sponsor","Plymouth CAST","Not applicable",null,10045614,null,null,null,null,"Northbrook Road",null,null,"Swanage","Dorset","BH19 1QE",null,1929424909,"South West",null,null,"4-11",null,"Primary",null,"Mr","J","Savile",null,null,"South West"]
[137957,472,{"$error":"#NAME?"},835,"Dorset",6008,"Leweston School Junior Department","DT9 6EN",null,"Other Independent School","Open","Diocese of Plymouth",{"$error":"#N/A"},null,{"$error":"#N/A"},{"$error":"#N/A"},{"$error":"#N/A"},{"$error":"#N/A"},{"$error":"#N/A"},"01963 210790",null,null,null,null,null,null,null,null,null,null,null,null,null,null,null,"Not applicable","Not applicable",null,"Not applicable",null,null,null,null,null,null,"Leweston",null,null,"Sherborne","Dorset","DT9 6EN",null,1963210790,"South West",null,null,"2-11",null,"Primary",null,null,"Sharon","Mason",null,"Headteacher","West Midlands"]
[140144,473,{"$error":"#NAME?"},332,"Dudley",3304,"St Chad's Catholic Primary School","DY3 3UE","The St John Bosco Catholic Academy","Academy Converter","Open","Archdiocese of Birmingham","08-37958410",null,"Mrs Morgan","Mrs","Jean","Morgan","jmorgan@st-chads.dudley.sch.uk","01384 818720",null,null,null,null,null,null,null,null,null,null,null,null,null,null,null,"Supported by a multi-academy trust","Linked to a sponsor","The St John Bosco MAC (Dudley)","Not applicable",null,10043100,null,null,null,null,"Catholic Lane","Sedgley",null,"Dudley","West Midlands","DY3 3UE",null,1384818720,"West Midlands",null,null,"4-11",null,"Primary",null,"Ms","O","O'Beirne",null,"Principal","West Midlands"]
[141489,474,{"$error":"#NAME?"},332,"Dudley",3303,"St Mary's RC Primary School","DY5 2TH","Saint Nicholas Owen Catholic Multi Academy Company","Academy Converter","Open","Archdiocese of Birmingham","08-44737498",null,"Mrs Beese","Mrs","Dawn","Beese","amaher@st-mary-bh.dudley.sch.uk","01384 818435",null,null,null,null,null,null,null,null,null,null,null,null,null,null,null,"Supported by a multi-academy trust","Linked to a sponsor","St Nicholas Owen MAC (North Worcestershire/Dudley/Birmingham)","Not applicable",null,10047634,null,null,null,null,"Mill Street",null,null,"Brierley Hill","West Midlands","DY5 2TH",null,1384818435,"West Midlands",null,null,"4-11",null,"Primary",null,null,"Mark","Hinton",null,"Headteacher","West Midlands"]
[140147,475,{"$error":"#NAME?"},332,"Dudley",3302,"St Joseph's Catholic Primary School","DY2 7PW","The St John Bosco Catholic Academy","Academy Converter","Open","Archdiocese of Birmingham","08-48761473",null,"Mrs Davies","Mrs","Donna","Davies","ddavies@st-jo-dud.dudley.sch.uk","01384 818925",null,null,null,null,null,null,null,null,null,null,null,null,null,null,null,"Supported by a multi-academy trust","Linked to a sponsor","The St John Bosco MAC (Dudley)","Not applicable",null,10043103,null,null,null,null,"Hillcrest Road",null,null,"Dudley","West Midlands","DY2 7PW",null,1384818925,"West Midlands",null,null,"3-11",null,"Primary",null,"Mr","Andrew","Carry",null,"Principal","West Midlands"]
[141477,476,{"$error":"#NAME?"},332,"Dudley",3355,"St Joseph's RC Primary School","DY8 2DT","Saint Nicholas Owen Catholic Multi Academy Company","Academy Converter","Open","Archdiocese of Birmingham","08-71932550",null,"Mrs Faux","Mrs","D.","Faux","dfaux@st-jo-st.dudley.sch.uk","01384 818325",null,null,null,null,null,null,null,null,null,null,null,null,null,null,null,"Supported by a multi-academy trust","Linked to a sponsor","St Nicholas Owen MAC (North Worcestershire/Dudley/Birmingham)","Not applicable",null,10047625,null,null,null,null,"Leavale Road","Norton",null,"Stourbridge","West Midlands","DY8 2DT",null,1384818325,"West Midlands",null,null,"5-11",null,"Primary",null,null,"Stephen","Haywood",null,"Principal","West Midlands"]
[140126,477,{"$error":"#NAME?"},332,"Dudley",4800,"Bishop Milner Catholic College","DY1 3BY","The St John Bosco Catholic Academy","Academy Converter","Open","Archdiocese of Birmingham","08-93886074",null,"Mrs Parkes","Mrs","Helen","Parkes","hparkes@bmilner.dudley.sch.uk","01384 816600",null,null,null,null,null,null,null,null,null,null,null,null,null,null,null,"Supported by a multi-academy trust","Linked to a sponsor","The St John Bosco MAC (Dudley)","Not applicable",null,10043055,null,null,null,null,"Burton Road",null,null,"Dudley","West Midlands","DY1 3BY",null,1384816600,"West Midlands",null,null,"11-18",null,"Secondary",null,"Mrs","Christine","Finnegan","B.Ed, Npqh","Headteacher","West Midlands"]
[103850,478,{"$error":"#NAME?"},332,"Dudley",3357,"Our Lady and St Kenelm RC School","B63 4AR",null,"Voluntary Aided School","Open","Archdiocese of Birmingham","08-95252274",null,"Ms Green","Ms","Jenny","Green","info@our-lady.dudley.sch.uk","01384 816880",null,null,null,null,null,null,null,null,null,null,null,null,null,null,null,"Not applicable","Not applicable",null,"Not under a federation",null,null,null,null,null,null,"Bundle Hill",null,null,"Halesowen","West Midlands","B63 4AR",null,1384816880,"West Midlands",null,null,"4-11",null,"Primary",null,"Miss","Joanne","Sands",null,"Headteacher","North East"]
[114262,479,{"$error":"#NAME?"},840,"Durham",3462,"St Wilfrid's Roman Catholic Voluntary Aided Primary School","DL14 6QH",null,"Voluntary Aided School","Open","Diocese of Hexham and Newcastle","14-28828464",null,"Mrs Nicholls","Mrs","Linda","Nicholls","stwilfrids@durhamlearning.net","01388 603451",null,null,null,null,null,null,null,null,null,null,null,null,null,null,null,"Not applicable","Not applicable",null,"Not under a federation",null,null,null,null,null,null,"Murphy Crescent",null,null,"Bishop Auckland","County Durham","DL14 6QH",null,1388603451,"North East",null,null,"3-11",null,"Primary",null,"Mrs","Clare","Swales",null,"Headteacher","North East"]
[114242,480,{"$error":"#NAME?"},840,"Durham",3343,"St Cuthbert's Roman Catholic Voluntary Aided Primary School","DH3 3PH",null,"Voluntary Aided School","Open","Diocese of Hexham and Newcastle","14-74259116",null,"Mrs Greensitt","Mrs","Bernadette","Greensitt","clsstcuthberts@durham.learning.net","01913 882305",null,null,null,null,null,null,null,null,null,null,null,null,null,null,null,"Not applicable","Not applicable",null,"Not under a federation",null,null,null,null,null,null,"Ropery Lane",null,null,"Chester le Street","County Durham","DH3 3PH",null,1913882305,"North East",null,null,"4-11",null,"Primary",null,null,"Dominic","Brown",null,"Headteacher","North East"]
[114263,481,{"$error":"#NAME?"},840,"Durham",3465,"St Chad's Roman Catholic Voluntary Aided Primary School","DL14 0EP",null,"Voluntary Aided School","Open","Diocese of Hexham and Newcastle","14-58286698",null,"Mr Barnham","Mr","Richard","Barnham","stchads@durhamlearning.net","01388 603632",null,null,null,null,null,null,null,null,null,null,null,null,null,null,null,"Not applicable","Not applicable",null,"Not under a federation",null,null,null,null,null,null,"The Baltic","Witton Park",null,"Bishop Auckland","County Durham","DL14 0EP",null,1388603632,"North East",null,null,"4-11",null,"Primary",null,"Mr","Michael","McNichol",null,"Headteacher","North East"]
[114235,482,{"$error":"#NAME?"},840,"Durham",3300,"St Cuthbert's Roman Catholic Voluntary Aided Primary School, New Seaham","SR7 0HW",null,"Voluntary Aided School","Open","Diocese of Hexham and Newcastle","14-60458316",null,"Paula McGann","Ms","Paula","McGann","stcuthberts@durhamlearning.net","01915 813090",null,null,null,null,null,null,null,null,null,null,null,null,null,null,null,"Not applicable","Not applicable",null,"Not under a federation",null,null,null,null,null,null,"Mill Road",null,null,"Seaham","County Durham","SR7 0HW",null,1915813090,"North East",null,null,"5-11",null,"Primary",null,"Mrs","Louise","Keenan",null,"Headteacher","North East"]
[114272,483,{"$error":"#NAME?"},840,"Durham",3488,"St Joseph's Roman Catholic Voluntary Aided Primary School, Ushaw Moor","DH7 7LF",null,"Voluntary Aided School","Open","Diocese of Hexham and Newcastle","14-88479487",null,"Gillian Bowrun","Ms","Gillian","Bowrun","ushawmoorstjoseph@durhamlearning.net","01913 730355",null,null,null,null,null,null,null,null,null,null,null,null,null,null,null,"Not applicable","Not applicable",null,"Supported by a federation","Our Lady Queen of Martyrs, Esh Winning and St Joseph's, Ushaw Moor Federation",null,null,null,null,null,"Durham Road","Ushaw Moor",null,"Durham","County Durham","DH7 7LF",null,1913730355,"North East",null,null,"4-11",null,"Primary",null,"Mr","Simon","Campbell",null,"Headteacher","North East"]
[143583,484,{"$error":"#NAME?"},840,"Durham",4691,"St Leonard's Catholic School","DH1 4NG","Durham Martyrs Multi Academy Trust","Academy Converter","Open","Diocese of Hexham and Newcastle","14-25168679",null,"Mr Pickett","Mr","Matt ","Pickett","admin@st-leonards.durham.sch.uk","01913 848575",null,null,null,null,null,null,null,null,null,null,null,null,null,null,null,"Supported by a multi-academy trust","-",null,"Not applicable",null,10061772,null,null,null,null,"North End",null,null,"Durham",null,"DH1 4NG",null,1913848575,"North East",null,null,"11-18",null,"Secondary",null,"Mr","Neville","Harrison",null,"Headteacher","North East"]
[138172,485,{"$error":"#NAME?"},840,"Durham",4694,"St Bede's Catholic Comprehensive School and Sixth Form College, Lanchester","DH7 0RD","St Bede's Catholic Academy (Lanchester)","Academy Converter","Open","Diocese of Hexham and Newcastle","14-37381765",null,"Mrs Hall","Mrs","Lesley Ann ","Hall","lhall@stbedes.durham.sch.uk","01207 520424",null,null,null,null,null,null,null,null,null,null,null,null,null,null,null,"Supported by a single-academy trust","-",null,"Not applicable",null,10037433,null,null,null,null,"Consett Road","Lanchester",null,"Durham",null,"DH7 0RD",null,1207520424,"North East",null,null,"11-18",null,"Secondary",null,"Mr","Mathew","Atkinson",null,null,"North East"]
[143515,486,{"$error":"#NAME?"},840,"Durham",2020,"St Joseph's Roman Catholic Voluntary Aided Primary School, Newton Aycliffe","DL5 7DE",null,"Academy Sponsor Led","Proposed to open","Diocese of Hexham and Newcastle","14-52575125",null,"Jean Henderson",null,"Jean","Henderson","stjosephsnewtonaycliffe@durhamlearning.net","01325 300337",null,null,null,null,null,null,null,null,null,null,null,null,null,null,null,"Not supported by a trust","-",null,"Not applicable",null,null,null,null,null,null,"Garburn Place",null,null,"Newton Aycliffe","County Durham","DL5 7DE",null,1325300337,"North East",null,null,"3-11",null,"Primary",null,null,"Lisa","Byron",null,"Headteacher","North East"]
[137702,487,{"$error":"#NAME?"},840,"Durham",4681,"St John's School & Sixth Form College - A Catholic Academy","DL14 6JT","St John's Catholic School and Sixth Form College, A Catholic Academy (Bishop Auckland)","Academy Converter","Open","Diocese of Hexham and Newcastle","14-58988687",null,"Mrs Nevin","Mrs","Sarah","Nevin","snevin@stjohnsrc.org.uk","01388 603246",null,null,null,null,null,null,null,null,null,null,null,null,null,null,null,"Supported by a single-academy trust","Linked to a sponsor","St John’s School & Sixth Form College","Not applicable",null,10035805,null,null,null,null,"Woodhouse Lane",null,null,"Bishop Auckland","County Durham","DL14 6JT",null,1388603246,"North East",null,null,"11-18",null,"Secondary",null,"Mrs","J","Bruton",null,"Headteacher","North East"]
[114252,488,{"$error":"#NAME?"},840,"Durham",3407,"St Michael's Roman Catholic Voluntary Aided Primary School, Esh Laude","DH7 9QY",null,"Voluntary Aided School","Open","Diocese of Hexham and Newcastle","14-24958266",null,"Mrs Brown","Mrs","Julie ","Brown","admin@durhamlearning.net","01913 731205",null,null,null,null,null,null,null,null,null,null,null,null,null,null,null,"Not applicable","Not applicable",null,"Not under a federation",null,null,null,null,null,null,"Esh Village",null,null,"Durham","County Durham","DH7 9QY",null,1913731205,"North East",null,null,"5-11",null,"Primary",null,null,"Jane","Weatherall",null,"Headteacher","North East"]
[114261,489,{"$error":"#NAME?"},840,"Durham",3461,"St Mary's Roman Catholic Voluntary Aided Primary School, Barnard Castle","DL12 8JR",null,"Voluntary Aided School","Open","Diocese of Hexham and Newcastle","14-29155372",null,"Natalie Sedgewick",null,"Natalie","Sedgewick","barnardcastlestmary@durhamlearning.net","01833 637029",null,null,null,null,null,null,null,null,null,null,null,null,null,null,null,"Not applicable","Not applicable",null,"Not under a federation",null,null,null,null,null,null,"Birch Road",null,null,"Barnard Castle","County Durham","DL12 8JR",null,1833637029,"North East",null,null,"4-11",null,"Primary",null,"Mr","David","Miller",null,"Headteacher","North East"]
[114248,490,{"$error":"#NAME?"},840,"Durham",3401,"St Mary's Roman Catholic Voluntary Aided Primary School, Blackhill","DH8 8JD",null,"Voluntary Aided School","Open","Diocese of Hexham and Newcastle","14-63022041",null,"Sharon Pinkerton",null,"Sharon","Pinkerton","blackhillstmary@durhamlearning.net","01207 502657",null,null,null,null,null,null,null,null,null,null,null,null,null,null,null,"Not applicable","Not applicable",null,"Not under a federation",null,null,null,null,null,null,"Pemberton Road","Blackhill",null,"Consett","County Durham","DH8 8JD",null,1207502657,"North East",null,null,"5-11",null,"Primary",null,"Mr","Brendan","Tapping",null,"Headteacher","North East"]
[114327,491,{"$error":"#NAME?"},840,"Durham",4693,"St Bede's Catholic Comprehensive School and Byron College","SR8 1DE",null,"Voluntary Aided School","Open","Diocese of Hexham and Newcastle","14-30523401",null,"Carolyn Dent",null,"Carolyn","Dent","c.dent@st-bedes.durham.sch.uk","01915 876220",null,null,null,null,null,null,null,null,null,null,null,null,null,null,null,"Not applicable","Not applicable",null,"Not under a federation",null,10005079,null,null,null,null,"Westway",null,null,"Peterlee","County Durham","SR8 1DE",null,1915876220,"North East",null,null,"11-18",null,"Secondary",null,"Mrs","Jennifer","Gill",null,"Headteacher","North East"]
[114250,492,{"$error":"#NAME?"},840,"Durham",3404,"St Patrick's Roman Catholic Voluntary Aided Primary School, Consett","DH8 6LN",null,"Voluntary Aided School","Open","Diocese of Hexham and Newcastle","14-76121127",null,"Mrs Cassidy","Mrs","J","Cassidy","consettstpatrick@durhamlearning.net","01207 503982",null,null,null,null,null,null,null,null,null,null,null,null,null,null,null,"Not applicable","Not applicable",null,"Not under a federation",null,null,null,null,null,null,"Stanley Street",null,null,"Consett","County Durham","DH8 6LN",null,1207503982,"North East",null,null,"3-11",null,"Primary",null,"Mrs","M A","Brown",null,"Headteacher","North East"]
[114264,493,{"$error":"#NAME?"},840,"Durham",3469,"St Joseph's Roman Catholic Voluntary Aided Primary School, Coundon","DL14 8NN",null,"Voluntary Aided School","Open","Diocese of Hexham and Newcastle","14-48591322",null,"Mrs Hardy","Mrs","Margaret","Hardy","coundomstjosephs@durhamlearning.net","01388 602608",null,null,null,null,null,null,null,null,null,null,null,null,null,null,null,"Not applicable","Not applicable",null,"Not under a federation",null,null,null,null,null,null,"Victoria Lane","Coundon",null,"Bishop Auckland","County Durham","DL14 8NN",null,1388602608,"North East",null,null,"4-11",null,"Primary",null,"Mrs","Rosaleen","Donnelly",null,"Headteacher","North East"]
[114256,494,{"$error":"#NAME?"},840,"Durham",3421,"St Cuthberts Roman Catholic Voluntary Aided Primary School","DL15 9DN",null,"Voluntary Aided School","Open","Diocese of Hexham and Newcastle","14-83217175",null,"Mrs Gregory","Mrs","Marie","Gregory","crooksstcuthberts@durhamlearning.net","01388 762889",null,null,null,null,null,null,null,null,null,null,null,null,null,null,null,"Not applicable","Not applicable",null,"Not under a federation",null,null,null,null,null,null,"Church Hill",null,null,"Crook","County Durham","DL15 9DN",null,1388762889,"North East",null,null,"3-11",null,"Primary",null,"Mrs","A","Robson",null,"Headteacher","North East"]
[114247,495,{"$error":"#NAME?"},840,"Durham",3384,"St Mary's Roman Catholic Voluntary Aided Primary School, South Moor","DH9 6PH",null,"Voluntary Aided School","Open","Diocese of Hexham and Newcastle","14-21272323",null,"Diane Barker",null,"Diane","Barker","d.barker100@durhamlearning.net","01207 232189",null,null,null,null,null,null,null,null,null,null,null,null,null,null,null,"Not applicable","Not applicable",null,"Not under a federation",null,null,null,null,null,null,"Hustledown","South Moor",null,"Stanley","County Durham","DH9 6PH",null,1207232189,"North East",null,null,"4-11",null,"Primary",null,"Mrs","Angela","Boyle",null,"Executive Headteacher","North East"]
[114273,496,{"$error":"#NAME?"},840,"Durham",3489,"St Joseph's Roman Catholic Voluntary Aided Primary School, Durham","DH1 2JQ",null,"Voluntary Aided School","Open","Diocese of Hexham and Newcastle","14-31530997",null,"Mrs Steele","Mrs","D","Steele","d.steele100@durhamlearning.net","01913 865611",null,null,null,null,null,null,null,null,null,null,null,null,null,null,null,"Not applicable","Not applicable",null,"Not under a federation",null,null,null,null,null,null,"Mill Lane","Gilesgate",null,"Durham",null,"DH1 2JQ",null,1913865611,"North East",null,null,"4-11",null,"Primary",null,"Mrs","Jill","Burgess",null,"Headteacher","North East"]
[114246,497,{"$error":"#NAME?"},840,"Durham",3382,"St Patrick's Roman Catholic Voluntary Aided Primary School, Dipton","DH9 9BB",null,"Voluntary Aided School","Open","Diocese of Hexham and Newcastle","14-96540352",null,"Christina Charlton",null,"Christina","Charlton","diptonstpatricks@durhamlearning.net","01207 570316",null,null,null,null,null,null,null,null,null,null,null,null,null,null,null,"Not applicable","Not applicable",null,"Not under a federation",null,null,null,null,null,null,"North Road","Dipton","Flint Hill","Stanley","County Durham","DH9 9BB",null,1207570316,"North East",null,null,"4-11",null,"Primary",null,"Mrs","Catherine","Craig",null,"Headteacher","North East"]
[114271,498,{"$error":"#NAME?"},840,"Durham",3486,"St Godric's Roman Catholic Voluntary Aided Primary School, Durham","DH1 5LZ",null,"Voluntary Aided School","Open","Diocese of Hexham and Newcastle","14-67994735",null,"Louise Garbutt",null,"Louise","Garbutt","durhamstgodric@durhamlearning.net","01913 847452",null,null,null,null,null,null,null,null,null,null,null,null,null,null,null,"Not applicable","Not applicable",null,"Not under a federation",null,null,null,null,null,null,"Carrhouse Drive","Framwellgate Moor",null,"Durham",null,"DH1 5LZ",null,1913847452,"North East",null,null,"5-11",null,"Primary",null,"Mrs","Frances","Stephenson",null,"Head Teacher","North East"]
[114255,499,{"$error":"#NAME?"},840,"Durham",3413,"All Saints' Catholic Voluntary Aided Primary School","DH7 0JG",null,"Voluntary Aided School","Open","Diocese of Hexham and Newcastle","14-53649564",null,"Mrs Barnes","Mrs",null,"Barnes","lancasterallsaints@durhamlearning.net","01207 520435",null,null,null,null,null,null,null,null,null,null,null,null,null,null,null,"Not applicable","Not applicable",null,"Not under a federation",null,null,null,null,null,null,"Kitswell Road","Lanchester",null,"Durham",null,"DH7 0JG",null,1207520435,"North East",null,null,"4-11",null,"Primary",null,"Miss","J","Jones",null,"Executive Headteacher","North East"]
[114281,500,{"$error":"#NAME?"},840,"Durham",3507,"Our Lady Star of the Sea Roman Catholic Voluntary Aided Primary","SR8 4AB",null,"Voluntary Aided School","Open","Diocese of Hexham and Newcastle","14-73279002",null,"Mrs Watt","Mrs","M","Watt","m.watt101@durhamlearning.net","01915 863895",null,null,null,null,null,null,null,null,null,null,null,null,null,null,null,"Not applicable","Not applicable",null,"Not under a federation",null,null,null,null,null,null,"Thorpe Road","Horden",null,"Peterlee","County Durham","SR8 4AB",null,1915863895,"North East",null,null,"5-11",null,"Primary",null,"Miss","J","Jones",null,"Headteacher","North East"]
[114253,504,{"$error":"#NAME?"},840,"Durham",3409,"Our Lady and St Joseph's Roman Catholic Voluntary Aided Primary School, Brooms","DH8 7SN",null,"Voluntary Aided School","Open","Diocese of Hexham and Newcastle","14-70463979",null,"Mrs Loughran","Mrs",null,"Loughran","ourladystjoseph@durhamlearning.net","01207 503979",null,null,null,null,null,null,null,null,null,null,null,null,null,null,null,"Not applicable","Not applicable",null,"Not under a federation",null,null,null,null,null,null,"St Ives Road","Leadgate",null,"Consett","County Durham","DH8 7SN",null,1207503979,"North East",null,null,"4-11",null,"Primary",null,"Mrs","Frances","Gowland",null,"Headteacher","North East"]
[114268,507,{"$error":"#NAME?"},840,"Durham",3481,"St Patrick's Roman Catholic Voluntary Aided Primary School, Langley Moor","DH7 8JJ",null,"Voluntary Aided School","Open","Diocese of Hexham and Newcastle","14-64953334",null,"Pauline Pattinson",null,"Pauline","Pattinson","p3481.admin@durhamlearning.net","01913 780552",null,null,null,null,null,null,null,null,null,null,null,null,null,null,null,"Not applicable","Not applicable",null,"Not under a federation",null,null,null,null,null,null,"Goatbeck Terrace","Langley Moor",null,"Durham",null,"DH7 8JJ",null,1913780552,"North East",null,null,"4-11",null,"Primary",null,"Mrs","Jill","McBride",null,"Headteacher","North East"]
[114283,511,{"$error":"#NAME?"},840,"Durham",3511,"Blessed John Duckett Roman Catholic Voluntary Aided Primary","DL13 4AU",null,"Voluntary Aided School","Open","Diocese of Hexham and Newcastle","14-86219233",null,"Mrs Dawson","Mrs","Val","Dawson","v.dawson200@durhamlearning.net","01388 731082",null,null,null,null,null,null,null,null,null,null,null,null,null,null,null,"Not applicable","Not applicable",null,"Not under a federation",null,null,null,null,null,null,"Smith Street","Tow Law",null,"Bishop Auckland","County Durham","DL13 4AU",null,1388731082,"North East",null,null,"3-11",null,"Primary",null,"Mrs","Jane","Lewin","Bed Hons","Headteacher","North East"]
[114266,513,{"$error":"#NAME?"},840,"Durham",3471,"St Joseph's Roman Catholic Voluntary Aided Primary School, Newton Aycliffe","DL5 7DE",null,"Voluntary Aided School","Open, but proposed to close","Diocese of Hexham and Newcastle",{"$error":"#N/A"},null,{"$error":"#N/A"},{"$error":"#N/A"},{"$error":"#N/A"},{"$error":"#N/A"},{"$error":"#N/A"},"01325 300337",null,null,null,null,null,null,null,null,null,null,null,null,null,null,null,"Not applicable","Not applicable",null,"Not under a federation",null,null,null,null,null,null,"Garburn Place",null,null,"Newton Aycliffe","County Durham","DL5 7DE",null,1325300337,"North East",null,null,"2-11",null,"Primary",null,"Mrs","Angela","Boyle",null,"Executive Headteacher","North East"]
[114236,518,{"$error":"#NAME?"},840,"Durham",3301,"St Mary Magdalen's Roman Catholic Voluntary Aided Primary School, Seaham","SR7 7BJ",null,"Voluntary Aided School","Open","Diocese of Hexham and Newcastle","14-97388621",null,"School Office","School Office",null,null,"seahamstmary@durhamlearning.net","01915 813055",null,null,null,null,null,null,null,null,null,null,null,null,null,null,null,"Not applicable","Not applicable",null,"Not under a federation",null,null,null,null,null,null,"Dene House Road",null,null,"Seaham","County Durham","SR7 7BJ",null,1915813055,"North East",null,null,"5-11",null,"Primary",null,"Mr","David","Swift",null,"Headteacher","North East"]
[114282,519,{"$error":"#NAME?"},840,"Durham",3510,"Our Lady of the Rosary Roman Catholic Voluntary Aided Primary","SR8 1DE",null,"Voluntary Aided School","Open","Diocese of Hexham and Newcastle","14-32848179",null,"Joanne ","Secretary","Joanne",null,"olotr@durhamlearning.net","01915 862264",null,null,null,null,null,null,null,null,null,null,null,null,null,null,null,"Not applicable","Not applicable",null,"Not under a federation",null,null,null,null,null,null,"Westway",null,null,"Peterlee","County Durham","SR8 1DE",null,1915862264,"North East",null,null,"2-11",null,"Primary",null,"Mrs","Marie-Louise","Binks",null,"Headteacher","North East"]
[101923,522,{"$error":"#NAME?"},307,"Ealing",3506,"St Gregory's Catholic Primary School","W5 1SL",null,"Voluntary Aided School","Open","Archdiocese of Westminster","06-19369864",null,"Mrs Richard","Mrs","Maureen","Richards","mrichards@st-gregorys.ealing.sch.uk","02089 977550",null,null,null,null,null,null,null,null,null,null,null,null,null,null,null,"Not applicable","Not applicable",null,"Not under a federation",null,null,null,null,null,null,"Woodfield Road","Ealing",null,"London",null,"W5 1SL",null,2089977550,"London",null,null,"3-11",null,"Primary",null,null,"Thomas","Doherty",null,null,"London"]
[101925,526,{"$error":"#NAME?"},307,"Ealing",3508,"St Raphael's Catholic Primary School","UB5 6NL",null,"Voluntary Aided School","Open","Archdiocese of Westminster","06-56359656",null,"Mrs Pinto","Mrs","Janet","Pinto","admin@st-raphaels.ealing.sch.uk","02088 410848",null,null,null,null,null,null,null,null,null,null,null,null,null,null,null,"Not applicable","Not applicable",null,"Not under a federation",null,null,null,null,null,null,"Hartfield Avenue",null,null,"Northolt",null,"UB5 6NL",null,2088410848,"London",null,null,"3-11",null,"Primary",null,"Mrs","Monica","McCarthy",null,"Headteacher","London"]
[101921,530,{"$error":"#NAME?"},307,"Ealing",3504,"St John Fisher Catholic Primary School","UB6 7AF",null,"Voluntary Aided School","Open","Archdiocese of Westminster","06-88546403",null,"Mrs Collins","Mrs","Lisa","Collins","lcollins@st-johnfisher.ealing.sch.uk","02087 990970",null,null,null,null,null,null,null,null,null,null,null,null,null,null,null,"Not applicable","Not applicable",null,"Not under a federation",null,null,null,null,null,null,"Sarsfield Road","Perivale",null,"Greenford","Middlesex","UB6 7AF",null,2087990970,"London",null,null,"3-11",null,"Primary",null,"Mrs","Ruth","Sykes",null,"Headteacher","London"]
[101946,533,{"$error":"#NAME?"},307,"Ealing",6005,"St Augustine's Priory","W5 2JL",null,"Other Independent School","Open","Archdiocese of Westminster","06-67039595",null,"Mr Powell","Mr","Jonathan","Powell","Jpowell@sapriory.com","0208 997 2022",null,null,null,null,null,null,null,null,null,null,null,null,null,null,null,"Not applicable","Not applicable",null,"Not applicable",null,10014067,null,null,null,null,"Hillcrest Road","Ealing",null,"London",null,"W5 2JL",null,2089972022,"London",null,null,"2-18",null,"Secondary",null,"Mrs",null,"Parr and Mrs Spencer",null,"Coheadteachers","Yorkshire and Humber"]
[118045,537,{"$error":"#NAME?"},811,"East Riding of Yorkshire",3332,"St Joseph's Catholic Primary School","DN14 6HQ",null,"Voluntary Aided School","Open","Diocese of Leeds","16-20277079",null,"Shirley Hunter",null,"Shirley","Hunter","stjoseph@eastriding.gov.uk","01405 762607",null,null,null,null,null,null,null,null,null,null,null,null,null,null,null,"Not applicable","Not applicable",null,"Not under a federation",null,null,null,null,null,null,"Kennedy Drive",null,null,"Goole","East Yorkshire","DN14 6HQ",null,1405762607,"Yorkshire and the Humber",null,null,"4-11",null,"Primary",null,"Mrs","J K","Sutherland",null,"Executive Headteacher","Yorkshire and Humber"]
[114568,540,{"$error":"#NAME?"},845,"East Sussex",3342,"St Pancras Catholic Primary School","BN7 1SR",null,"Voluntary Aided School","Open","Diocese of Arundel and Brighton","07-24593221",null,"Mrs Wright","Mrs","Gaynor","Wright","finance@st-pancras.e-sussex.sch.uk","01273 473017",null,null,null,null,null,null,null,null,null,null,null,null,null,null,null,"Not applicable","Not applicable",null,"Not under a federation",null,null,null,null,null,null,"De Montfort Road",null,null,"Lewes","East Sussex","BN7 1SR",null,1273473017,"South East",null,null,"4-11",null,"Primary",null,"Miss","Doreen","Cronin","N.P.Q.H., M.A., B.Ed","Acting Principal","South East"]
[114566,543,{"$error":"#NAME?"},845,"East Sussex",3340,"St Marys Catholic Primary School","TN6 2LB",null,"Voluntary Aided School","Open","Diocese of Arundel and Brighton","07-32676437",null,"Mrs Chatfield","Mrs","Kim","Chatfield","office@stmarysrc.e-sussex.sch.uk","01892 655291",null,null,null,null,null,null,null,null,null,null,null,null,null,null,null,"Not applicable","Not applicable",null,"Not under a federation",null,null,null,null,null,null,"Chapel Green",null,null,"Crowborough","East Sussex","TN6 2LB",null,1892655291,"South East",null,null,"4-11",null,"Primary",null,"Mrs","Rachel","Turner","Bed Hons","Headteacher","South East"]
[114571,547,{"$error":"#NAME?"},845,"East Sussex",3345,"Annecy Catholic Primary School","BN25 4LF",null,"Voluntary Aided School","Open","Diocese of Arundel and Brighton","07-19855240",null,"Sarah Watson",null,"Sarah","Watson","office@annecy.e-sussex.sch.uk","01323 894892",null,null,null,null,null,null,null,null,null,null,null,null,null,null,null,"Not applicable","Not applicable",null,"Not under a federation",null,null,null,null,null,null,"Sutton Avenue",null,null,"Seaford","East Sussex","BN25 4LF",null,1323894892,"South East",null,null,"4-11",null,"Primary",null,"Mrs","Joanna","Sanchez",null,"Headteacher","South East"]
[114569,548,{"$error":"#NAME?"},845,"East Sussex",3343,"St Philip's Catholic Primary School","TN22 5DJ",null,"Voluntary Aided School","Open","Diocese of Arundel and Brighton","07-78084138",null,"Mrs Nolan","Mrs","Jackie","Nolan","office@stphilips.e-sussex.sch.uk","01825 762032",null,null,null,null,null,null,null,null,null,null,null,null,null,null,null,"Not applicable","Not applicable",null,"Not under a federation",null,null,null,null,null,null,"High Street","New Town",null,"Uckfield","East Sussex","TN22 5DJ",null,1825762032,"South East",null,null,"4-11",null,"Primary",null,"Mr","Joseph","Hellett",null,"Headteacher","South East"]
[102053,552,{"$error":"#NAME?"},308,"Enfield",4706,"St Anne's Catholic High School for Girls","N13 5TY",null,"Voluntary Aided School","Open","Archdiocese of Westminster","06-28439835",null,"Mr Goldbart","Mr","Berl","Goldbart","admin@st-annes.enfield.sch.uk","02088 862165",null,null,null,null,null,null,null,null,null,null,null,null,null,null,null,"Not applicable","Not applicable",null,"Not under a federation",null,10006110,null,null,null,null,"Oakthorpe Road","Palmers Green",null,"London",null,"N13 5TY",null,2088862165,"London",null,null,"11-18",null,"Secondary",null,"Mrs","M","O'connor",null,"Headteacher","London"]
[102037,555,{"$error":"#NAME?"},308,"Enfield",3501,"St Edmunds Catholic Primary School","N9 7HJ",null,"Voluntary Aided School","Open","Archdiocese of Westminster","06-27357283",null,"Ms Higgins","Ms","Mary","Higgins","office@st-edmunds.enfield.sch.uk","02088 072664",null,null,null,null,null,null,null,null,null,null,null,null,null,null,null,"Not applicable","Not applicable",null,"Not under a federation",null,null,null,null,null,null,"Hertford Road","Edmonton",null,"London",null,"N9 7HJ",null,2088072664,"London",null,null,"4-11",null,"Primary",null,"Mrs","Kate","Baptiste",null,"Headteacher","London"]
[102058,558,{"$error":"#NAME?"},308,"Enfield",5403,"St Ignatius College","EN1 4NP",null,"Voluntary Aided School","Open","Archdiocese of Westminster","06-17745771",null,"Mrs Whitaker","Mrs","Muna","Whitaker","whitakerm@st-ignatius.enfield.sch.uk","01992 717835",null,null,null,null,null,null,null,null,null,null,null,null,null,null,null,"Not applicable","Not applicable",null,"Not under a federation",null,10006180,null,null,null,null,"Turkey Street",null,null,"Enfield",null,"EN1 4NP",null,1992717835,"London",null,null,"11-18",null,"Secondary",null,"Mrs","Angela","Russell","MA","Headteacher","Eastern"]
[115198,560,{"$error":"#NAME?"},881,"Essex",3811,"St Francis Catholic Primary School, Maldon","CM9 6HN",null,"Voluntary Aided School","Open","Diocese of Brentwood","09-72419464",null,"Mrs Chapman","Mrs","Elizabeth","Chapman","finance@st-francisrc.essex.sch.uk","01621 856698",null,null,null,null,null,null,null,null,null,null,null,null,null,null,null,"Not applicable","Not applicable",null,"Not under a federation",null,null,null,null,null,null,"London Road",null,null,"Maldon","Essex","CM9 6HN",null,1621856698,"East of England",null,null,"4-11",null,"Primary",null,"Mrs","Marie","Kelly",null,"Acting Headteacher","Eastern"]
[136977,566,{"$error":"#NAME?"},881,"Essex",5253,"St Helen's Catholic Junior School","CM15 9BY","St Helen's Catholic Junior School Academy","Academy Converter","Open","Diocese of Brentwood","09-33905478",null,"Mrs Haydock","Mrs","Jane","Haydock","admin@st-helens-jun.essex.sch.uk","01277 213962",null,null,null,null,null,null,null,null,null,null,null,null,null,null,null,"Supported by a single-academy trust","Linked to a sponsor","St Helen's Catholic Junior School","Not applicable",null,10034601,null,null,null,null,"Sawyers Hall Lane",null,null,"Brentwood","Essex","CM15 9BY",null,1277213962,"East of England",null,null,"7-11",null,"Primary",null,"Dr","Richard","Wilkin","Ma, Edd","Headteacher","Eastern"]
[138834,567,{"$error":"#NAME?"},881,"Essex",5461,"Brentwood Ursuline Convent High School","CM14 4EX","Brentwood Ursuline Convent High School","Academy Converter","Open","Diocese of Brentwood","09-33947853",null,"Mrs french","Mrs","C","french","admin@buchs.co.uk","01277 227156",null,null,null,null,null,null,null,null,null,null,null,null,null,null,null,"Supported by a single-academy trust","-",null,"Not applicable",null,10039023,null,null,null,null,"Queen's Road",null,null,"Brentwood","Essex","CM14 4EX",null,1277227156,"East of England",null,null,"11-18",null,"Secondary",null,"Mrs","Paula","Barningham",null,"Headteacher","Eastern"]
[139583,570,{"$error":"#NAME?"},881,"Essex",2060,"St Clare's Catholic Primary School","CO16 8AG","Primary Excellence - A Catholic Education Trust","Academy Sponsor Led","Open","Diocese of Brentwood","09-41960225",null,"Mrs Withers","Mrs","Melanie","Withers","admin@st-clares.essex.sch.uk","01255 425344",null,null,null,null,null,null,null,null,null,null,null,null,null,null,null,"Supported by a multi-academy trust","Linked to a sponsor","St Thomas More's Catholic Primary School","Not applicable",null,10041589,null,null,null,null,"Cloes Lane",null,null,"Clacton-on-Sea","Essex","CO16 8AG",null,1255425344,"East of England",null,null,"5-11",null,"Primary",null,"Mrs","Anne Marie","McCann","Ba Cert Ed","Executive Headteacher","Eastern"]
[139917,573,{"$error":"#NAME?"},881,"Essex",2091,"St Teresa's Catholic Primary School, Basildon","SS14 1UE","Diocese of Brentwood Multi Academy Trust","Academy Sponsor Led","Open","Diocese of Brentwood","09-81386830",null,"Mrs Ataman","Mrs","Carolyn","Ataman","admin@st-teresasrc.essex.sch.uk","01268 553502",null,null,null,null,null,null,null,null,null,null,null,null,null,null,null,"Supported by a multi-academy trust","Linked to a sponsor","Catholic Diocese of Brentwood","Not applicable",null,10042438,null,null,null,null,"Elsenham Crescent",null,null,"Basildon","Essex","SS14 1UE",null,1268553502,"East of England",null,null,"4-11",null,"Primary",null,"Miss","Sue","McGuiggan",null,"Headteacher","Eastern"]
[115156,577,{"$error":"#NAME?"},881,"Essex",3431,"St Anne Line Catholic Junior School","SS15 5AF",null,"Voluntary Aided School","Open","Diocese of Brentwood","09-38956322",null,"Mrs Lillie","Mrs","Tina","Lillie","admin@st-anneline-jun.essex.sch.uk","01268 470444",null,null,null,null,null,null,null,null,null,null,null,null,null,null,null,"Not applicable","Not applicable",null,"Not under a federation",null,null,null,null,null,null,"Wickhay",null,null,"Basildon","Essex","SS15 5AF",null,1268470444,"East of England",null,null,"7-11",null,"Primary",null,"Mrs","J E","Santinelli","BA","Headteacher","Eastern"]
[115183,581,{"$error":"#NAME?"},881,"Essex",3612,"St Joseph the Worker Catholic Primary School","CM13 1BJ",null,"Voluntary Aided School","Open","Diocese of Brentwood","09-37983823",null,"Mrs Willats","Mrs","Lesley","Willats","admin@st-josephworker.essex.sch.uk","01277 227282",null,null,null,null,null,null,null,null,null,null,null,null,null,null,null,"Not applicable","Not applicable",null,"Not under a federation",null,null,null,null,null,null,"Highview Crescent","Hutton",null,"Brentwood","Essex","CM13 1BJ",null,1277227282,"East of England",null,null,"5-11",null,"Primary",null,"Mrs","Katherine","Parker",null,"Headteacher","Eastern"]
[115158,584,{"$error":"#NAME?"},881,"Essex",3441,"Holy Family Catholic Primary School, Benfleet","SS7 5PX",null,"Voluntary Aided School","Open","Diocese of Brentwood","09-90827583",null,"Mrs Henderson","Mrs","Maxine","Henderson","finance@holyfamily.essex.sch.uk","01268 792231",null,null,null,null,null,null,null,null,null,null,null,null,null,null,null,"Not applicable","Not applicable",null,"Not under a federation",null,null,null,null,null,null,"Kents Hill Road","South Benfleet",null,"Benfleet","Essex","SS7 5PX",null,1268792231,"East of England",null,null,"3-11",null,"Primary",null,"Mrs","Sarah","Ginzler-Maher",null,"Headteacher","Eastern"]
[115307,588,{"$error":"#NAME?"},881,"Essex",5267,"St Helen's Catholic Infant School","CM15 9BY",null,"Voluntary Aided School","Open","Diocese of Brentwood","09-32747355",null,{"$error":"#N/A"},{"$error":"#N/A"},{"$error":"#N/A"},{"$error":"#N/A"},{"$error":"#N/A"},"01277 215626",null,null,null,null,null,null,null,null,null,null,null,null,null,null,null,"Not applicable","Not applicable",null,"Not under a federation",null,null,null,null,null,null,"Sawyers Hall Lane",null,null,"Brentwood","Essex","CM15 9BY",null,1277215626,"East of England",null,null,"5-7",null,"Primary",null,"Mrs","Katherine","Jeffrey",null,"Principal","Eastern"]
[115165,590,{"$error":"#NAME?"},881,"Essex",3467,"St Teresa's Catholic Primary School, Hawkwell","SS4 1RF",null,"Voluntary Aided School","Open","Diocese of Brentwood","09-93221496",null,"School Office","School Office",null,null,"head@st-teresas-pri.essex.sch.uk","01702 547918",null,null,null,null,null,null,null,null,null,null,null,null,null,null,null,"Not applicable","Not applicable",null,"Not under a federation",null,null,null,null,null,null,"Ashingdon Road",null,null,"Rochford","Essex","SS4 1RF",null,1702547918,"East of England",null,null,"5-11",null,"Primary",null,"Miss","J","Walker","Ma Mphil Mth","Headteacher","Eastern"]
[115415,593,{"$error":"#NAME?"},881,"Essex",6021,"St Philomena's School","CO13 9HQ",null,"Other Independent School","Open","Diocese of Brentwood","09-57279637",null,"Mrs Juhl-Routledge","Mrs","Lotte","Juhl-Routledge","businessmanager@stphilomenas.com","01255 674492",null,null,null,null,null,null,null,null,null,null,null,null,null,null,null,"Not applicable","Not applicable",null,"Not applicable",null,null,null,null,null,null,"Hadleigh Road",null,null,"Frinton-on-Sea","Essex","CO13 9HQ",null,1255674492,"East of England",null,null,"4-11",null,"Primary",null,"Mrs","P","Wilson",null,"Headteacher","Eastern"]
[400379,596,{"$error":"#NAME?"},664,"Flintshire",3306,"St Mary's R.C. Primary School","CH6 5JZ",null,"Welsh Establishment","Open","Diocese of Wrexham","27-98831260",null,"School Business Manager ","School Business Manager",null,null,"st_mary's_rc_flint@flintshire.gov.uk","01352 733231",null,null,null,null,null,null,null,null,null,null,null,null,null,null,null,"Not applicable","Not applicable",null,"Not applicable",null,null,null,null,null,null,"Ffordd Llewelyn","Pen Goch","Flintshire",null,null,"CH6 5JZ",null,1352733231,"Wales (pseudo)",null,null,"-",null,"Primary",null,null,null,null,null,"Headteacher","Wales (pseudo)"]
[400383,599,{"$error":"#NAME?"},664,"Flintshire",3312,"Ven. Edward Morgan R.C. Primary School","CH5 1AR",null,"Welsh Establishment","Open","Diocese of Wrexham","27-73098198",null,"Mrs Langley","Mrs","","Langley","edward.morgan.rc@flintshire.gov.uk","01244 830408",null,null,null,null,null,null,null,null,null,null,null,null,null,null,null,"Not applicable","Not applicable",null,"Not applicable",null,null,null,null,null,null,"Caernarfon Close","Shotton","Flintshire",null,null,"CH5 1AR",null,1244830408,"Wales (pseudo)",null,null,"-",null,"Primary",null,"Mr","Tom","Quinn",null,"Headteacher","Wales (pseudo)"]
[137852,603,{"$error":"#NAME?"},390,"Gateshead",4605,"Cardinal Hume Catholic School","NE9 6RZ","The Trinity Catholic Multi Academy Trust","Academy Converter","Open","Diocese of Hexham and Newcastle","14-79553100",null,"Mrs Levy","Mrs","Louise","Levy","lly@cardinalhume.com","01914 877638",null,null,null,null,null,null,null,null,null,null,null,null,null,null,null,"Supported by a multi-academy trust","Linked to a sponsor","Cardinal Hume Catholic School","Not applicable",null,10036181,null,null,null,null,"Old Durham Road","Beacon Lough",null,"Gateshead","Tyne and Wear","NE9 6RZ",null,1914877638,"North East",null,null,"11-18",null,"Secondary",null,"Mrs","C","McDermott",null,"Headteacher","North East"]
[108386,607,{"$error":"#NAME?"},390,"Gateshead",3322,"St Anne's Catholic Primary School","NE9 7HX",null,"Voluntary Aided School","Open","Diocese of Hexham and Newcastle","14-62866983",null,"Mrs Johnson","Mrs","Sarah","Johnson","sarahjohnson@stannesprimary.org.uk","01914 334053",null,null,null,null,null,null,null,null,null,null,null,null,null,null,null,"Not applicable","Not applicable",null,"Not under a federation",null,null,null,null,null,null,"Off Pickering Green","Harlow Green",null,"Gateshead","Tyne and Wear","NE9 7HX",null,1914334053,"North East",null,null,"4-11",null,"Primary",null,"Mrs","Elizabeth","Wright",null,"Headteacher","North East"]
[108392,610,{"$error":"#NAME?"},390,"Gateshead",3328,"St Mary and St Thomas Aquinas Catholic Primary School","NE21 4NE",null,"Voluntary Aided School","Open","Diocese of Hexham and Newcastle","14-29419229",null,"Theresa Costello",null,"Theresa","Costello","theresacostello@gateshead.gov.uk","01914 143116",null,null,null,null,null,null,null,null,null,null,null,null,null,null,null,"Not applicable","Not applicable",null,"Not under a federation",null,null,null,null,null,null,"Stella Lane",null,null,"Blaydon-on-Tyne","Tyne and Wear","NE21 4NE",null,1914143116,"North East",null,null,"3-11",null,"Primary",null,"Mr","Joseph","Wheatley",null,"Headteacher","North East"]
[108391,614,{"$error":"#NAME?"},390,"Gateshead",3327,"St Joseph's Roman Catholic Voluntary Aided Primary School, Highfield","NE39 2JE",null,"Voluntary Aided School","Open","Diocese of Hexham and Newcastle","14-43640061",null,"Wendy McMahon",null,"Wendy","McMahon","highfieldstjosephs@gateshead.gov.uk","01207 545972",null,null,null,null,null,null,null,null,null,null,null,null,null,null,null,"Not applicable","Not applicable",null,"Not under a federation",null,null,null,null,null,null,"Whinfield Way","Highfield",null,"Rowlands Gill","Tyne and Wear","NE39 2JE",null,1207545972,"North East",null,null,"4-11",null,"Primary",null,"Mr","G M","Laidler",null,"Headteacher","North East"]
[108382,617,{"$error":"#NAME?"},390,"Gateshead",3313,"Corpus Christi Catholic Primary School","NE8 4QL",null,"Voluntary Aided School","Open","Diocese of Hexham and Newcastle","14-52588267",null,"Linda Gunby",null,"Linda","Gunby","corpuschristicatholicprimaryschool@gateshead.gov.uk","01914 772175",null,null,null,null,null,null,null,null,null,null,null,null,null,null,null,"Not applicable","Not applicable",null,"Not under a federation",null,null,null,null,null,null,"Dunsmuir Grove",null,null,"Gateshead","Tyne and Wear","NE8 4QL",null,1914772175,"North East",null,null,"3-11",null,"Primary",null,"Mrs","Lisa Ann","Stokoe",null,"Headteacher","North East"]
[108385,618,{"$error":"#NAME?"},390,"Gateshead",3319,"St Peter's Roman Catholic Voluntary Aided Primary School","NE9 5TU",null,"Voluntary Aided School","Open","Diocese of Hexham and Newcastle","14-55826516",null,"School Office","School Office",null,null,"stpetersrcprimaryschool@gateshead.gov.uk","01914 878233",null,null,null,null,null,null,null,null,null,null,null,null,null,null,null,"Not applicable","Not applicable",null,"Not under a federation",null,null,null,null,null,null,"Dryden Road","Low Fell",null,"Gateshead","Tyne and Wear","NE9 5TU",null,1914878233,"North East",null,null,"4-11",null,"Primary",null,"Mrs","Tracy","Musgrove",null,"Headteacher","North East"]
[137410,624,{"$error":"#NAME?"},916,"Gloucestershire",3357,"The Rosary Catholic Primary School","GL5 4AB","Rosary Catholic Primary School","Academy Converter","Open","Diocese of Clifton","11-37014620",null,"Mrs Taylor","Mrs","Lesley","Taylor","finance@rosary.gloucs.sch.uk","01453 762774",null,null,null,null,null,null,null,null,null,null,null,null,null,null,null,"Supported by a single-academy trust","-",null,"Not applicable",null,10035137,null,null,null,null,"Beeches Green",null,null,"Stroud","Gloucestershire","GL5 4AB",null,1453762774,"South West",null,null,"4-11",null,"Primary",null,"Mrs","Stephanie","Layhe",null,"Principal","South West"]
[136982,625,{"$error":"#NAME?"},916,"Gloucestershire",4600,"St Peter's Catholic High School and Sixth Form Centre","GL4 0DD","St Peter's Catholic High School & Sixth Form Centre","Academy Converter","Open","Diocese of Clifton","11-80965192",null,"Mr Blackshaw","Mr","Shane","Blackshaw","sblackshaw@sphs.uk.com","01452 520594",null,null,null,null,null,null,null,null,null,null,null,null,null,null,null,"Supported by a single-academy trust","-",null,"Not applicable",null,10034789,null,null,null,null,"Stroud Road","Tuffley",null,"Gloucester","Gloucestershire","GL4 0DD",null,1452520594,"South West",null,null,"11-18",null,"Secondary",null,"Mrs","Mary","Barnard",null,"Headteacher","South West"]
[115707,629,{"$error":"#NAME?"},916,"Gloucestershire",3356,"St Joseph's Catholic Primary School","GL10 3TY",null,"Voluntary Aided School","Open","Diocese of Clifton","11-69903390",null,"Miss Harper","Miss","Suzanne","Harper","admin@st-josephs.gloucs.sch.uk","01453 860311",null,null,null,null,null,null,null,null,null,null,null,null,null,null,null,"Not applicable","Not applicable",null,"Not under a federation",null,null,null,null,null,null,"Font Street","Nympsfield",null,"Stonehouse","Gloucestershire","GL10 3TY",null,1453860311,"South West",null,null,"4-11",null,"Primary",null,"Mrs","J P","Clayfield","Bsc (Hons)","Headmistress","South West"]
[115813,632,{"$error":"#NAME?"},916,"Gloucestershire",7006,"St Rose's Special School","GL5 4AP",null,"Non-Maintained Special School","Open","Diocese of Clifton","11-30277865",null,"Mrs Webb","Mrs","","Webb","janet.webb@stroses.org.uk","01453 763 793",null,null,null,null,null,null,null,null,null,null,null,null,null,null,null,"Not applicable","Not applicable",null,"Not applicable",null,10017088,null,null,null,null,"Stratford Lawn",null,null,"Stroud","Gloucestershire","GL5 4AP",null,1453763793,"South West",null,null,"2-19",null,"Secondary",null,"Mrs","Bernadette","Greally",null,"Headteacher","London"]
[100193,636,{"$error":"#NAME?"},203,"Greenwich",4682,"St Ursula's Convent School","SE10 8HN",null,"Voluntary Aided School","Open","Archdiocese of Southwark","26-73056410",null,"Mrs Amos","Mrs","Linda","Amos","admin@stursulas.com","02088 584613",null,null,null,null,null,null,null,null,null,null,null,null,null,null,null,"Not applicable","Not applicable",null,"Not under a federation",null,10017241,null,null,null,null,"Crooms Hill","Greenwich",null,"London",null,"SE10 8HN",null,2088584613,"London",null,null,"11-16",null,"Secondary",null,"Ms","Elizabeth","Harris","NPQH","Headteacher","London"]
[100178,637,{"$error":"#NAME?"},203,"Greenwich",3657,"Holy Family Catholic Primary School","SE3 9YX",null,"Voluntary Aided School","Open","Archdiocese of Southwark","26-51469510",null,"Miss Harris","Miss","Elizabeth","Harris","headteacher@holyfamily.greenwich.sch.uk","02088 562708",null,null,null,null,null,null,null,null,null,null,null,null,null,null,null,"Not applicable","Not applicable",null,"Not under a federation",null,null,null,null,null,null,"Tudway Road","Kidbrooke","Greenwich","London",null,"SE3 9YX",null,2088562708,"London",null,null,"3-11",null,"Primary",null,"Mrs","Lisa","Lazell",null,"Executive Headteacher","London"]
[100176,643,{"$f":"_xlfn.CONCAT(D644,F644)","v":{"$error":"#NAME?"}},203,"Greenwich",3604,"St Thomas More Catholic Primary School","SE9 6NS",null,"Voluntary Aided School","Open","Archdiocese of Southwark","26-15754619",null,"Mrs Williams","Mrs",null,"Williams","sao@stmprimary.greenwich.sch.uk","02088 569153",null,null,null,null,null,null,null,null,null,null,null,null,null,null,null,"Not applicable","Not applicable",null,"Not under a federation",null,null,null,null,null,null,"Appleton Road","Eltham",null,"London",null,"SE9 6NS",null,2088569153,"London",null,null,"4-11",null,"Primary",null,"Mr","Sean","Small",null,"Headteacher","London"]
[100168,644,{"$error":"#NAME?"},203,"Greenwich",3382,"Our Lady of Grace Catholic Primary School","SE7 7HR",null,"Voluntary Aided School","Open","Archdiocese of Southwark","26-23375879",null,"Mr Small","Mr","Sean","Small","sao@ourladygrace.greenwich.sch.uk","02088 582262",null,null,null,null,null,null,null,null,null,null,null,null,null,null,null,"Not applicable","Not applicable",null,"Not under a federation",null,null,null,null,null,null,"16 Highcombe","Charlton",null,"London",null,"SE7 7HR",null,2088582262,"London",null,null,"4-11",null,"Primary",null,"Ms","Mary","O'regan",null,"Headteacher","London"]
[132501,647,{"$error":"#NAME?"},706,"Guernsey Offshore Establishments",2014,"St Mary's and St Michael's Primary School","GY2 4HU",null,"Offshore Schools","Open","Diocese of Portsmouth","01-23043921",null,"School Business Manager ","School Business Manager",null,null,"office@stmary-stmichael.sch.gg","01481 245020",null,null,null,null,null,null,null,null,null,null,null,null,null,null,null,"Not applicable","Not applicable",null,"Not applicable",null,null,null,null,null,null,"Rue Des Monts","Delancey",null,"Guernsey","Channel Islands","GY2 4HU",null,1481245020,"Not Applicable",null,null,"5-11",null,"Primary",null,"Mr","Andrew","Warren",null,"Headteacher","Not Applicable"]
[400196,650,{"$error":"#NAME?"},661,"Gwynedd",3301,"Ysgol Ein Harglwyddes","LL57 2UT",null,"Welsh Establishment","Open","Diocese of Wrexham","27-11798924",null,"School Business Manager ","School Business Manager",null,null,"pennaeth@ourladys.gwynedd.sch.uk","01248 352463",null,null,null,null,null,null,null,null,null,null,null,null,null,null,null,"Not applicable","Not applicable",null,"Not applicable",null,null,null,null,null,null,"Caernarfon Road","Bangor","Gwynedd",null,null,"LL57 2UT",null,1248352463,"Wales (pseudo)",null,null,"-",null,"Primary",null,null,null,null,null,"Headteacher","Wales (pseudo)"]
[100285,654,{"$error":"#NAME?"},204,"Hackney",4714,"Cardinal Pole Roman Catholic School","E9 6LG",null,"Voluntary Aided School","Open","Archdiocese of Westminster","06-50690319",null,"Mr Delany","Mr","Michael","Delany","michaeldelany@cardinalpole.co.uk","02089 855150",null,null,null,null,null,null,null,null,null,null,null,null,null,null,null,"Not applicable","Not applicable",null,"Not under a federation",null,10001166,null,null,null,null,"Morning Lane","Hackney",null,"London",null,"E9 6LG",null,2089855150,"London",null,null,"11-19",null,"Secondary",null,"Ms","Justine","McDonald",null,"Headteacher","London"]
[135731,658,{"$error":"#NAME?"},876,"Halton",4721,"St Chads Catholic and Church of England High School","WA7 5YH",null,"Voluntary Aided School","Open","Diocese of Shrewsbury","25-39135208",null,"Miss Smith","Miss","Christine","Smith","admin@st-chads.halton.sch.uk; ‎","01928 564106",null,null,null,null,null,null,null,null,null,null,null,null,null,null,null,"Not applicable","Not applicable",null,"Not under a federation",null,10027994,null,null,null,null,"Grangeway",null,null,"Runcorn","Cheshire","WA7 5YH",null,1928564106,"North West",null,null,"11-19",null,"Secondary",null,"Mrs","Wendy","White",null,"Headteacher","North West"]
[111371,662,{"$error":"#NAME?"},876,"Halton",3614,"St Bede's Catholic Junior School","WA8 6EL",null,"Voluntary Aided School","Open","Archdiocese of Liverpool","17-52497325",null,"Mrs Ryan","Mrs","Jackie","Ryan","jackie.ryan@stbedes.halton.sch.uk","01514 243386",null,null,null,null,null,null,null,null,null,null,null,null,null,null,null,"Not applicable","Not applicable",null,"Not under a federation",null,null,null,null,null,null,"Appleton Village",null,null,"Widnes","Cheshire","WA8 6EL",null,1514243386,"North West",null,null,"7-11",null,"Primary",null,"Mrs","Janet","Ward",null,"Headteacher","North West"]
[111390,665,{"$error":"#NAME?"},876,"Halton",3648,"St Basil's Catholic Primary School","WA8 4SZ",null,"Voluntary Aided School","Open","Archdiocese of Liverpool","17-51756758",null,"Gill Turton",null,"Gill","Turton","sec.stbasils@halton.gov.uk","01514 247887",null,null,null,null,null,null,null,null,null,null,null,null,null,null,null,"Not applicable","Not applicable",null,"Not under a federation",null,null,null,null,null,null,"Hough Green Road",null,null,"Widnes","Cheshire","WA8 4SZ",null,1514247887,"North West",null,null,"5-11",null,"Primary",null,"Mr","Mark","Parker",null,"Headteacher","North West"]
[111391,667,{"$error":"#NAME?"},876,"Halton",3649,"St Gerard's Catholic Primary and Nursery School","WA8 6DD",null,"Voluntary Aided School","Open","Archdiocese of Liverpool","17-35500586",null,"Mary Roach",null,"Mary","Roach","sec.stgerards@halton.gov.uk","01514 242879",null,null,null,null,null,null,null,null,null,null,null,null,null,null,null,"Not applicable","Not applicable",null,"Not under a federation",null,null,null,null,null,null,"Lugsdale Road",null,null,"Widnes","Cheshire","WA8 6DD",null,1514242879,"North West",null,null,"3-11",null,"Primary",null,"Miss","Nichola","Hegarty",null,"Headteacher","North West"]
[111393,670,{"$error":"#NAME?"},876,"Halton",3651,"St Michaels Catholic Primary School","WA8 8TD",null,"Voluntary Aided School","Open","Archdiocese of Liverpool","17-51504514",null,"Sue Mcmullen",null,"Sue","Mcmullen","sec.stmichaels@halton.gov.uk","01514 244468",null,null,null,null,null,null,null,null,null,null,null,null,null,null,null,"Not applicable","Not applicable",null,"Not under a federation",null,null,null,null,null,null,"St Michael's Road",null,null,"Widnes","Cheshire","WA8 8TD",null,1514244468,"North West",null,null,"4-11",null,"Primary",null,"Mr","John","McDonald","B.Ed (Hons) Npqh","Headteacher","North West"]
[100357,673,{"$error":"#NAME?"},205,"Hammersmith and Fulham",3648,"St Thomas of Canterbury Catholic Primary School","SW6 7HB",null,"Voluntary Aided School","Open","Archdiocese of Westminster","06-99107788",null,"Ms Birkinshaw","Ms","Donna","Birkinshaw","Sbm@stthomasrc.lbhf.sch.uk","02073 858165",null,null,null,null,null,null,null,null,null,null,null,null,null,null,null,"Not applicable","Not applicable",null,"Not under a federation",null,null,null,null,null,null,"Estcourt Road","Fulham",null,"London",null,"SW6 7HB",null,2073858165,"London",null,null,"4-11",null,"Primary",null,"Miss","Pauline","Devereux","MA","Acting Headmaster","London"]
[134009,677,{"$error":"#NAME?"},205,"Hammersmith and Fulham",3649,"Larmenier & Sacred Heart Catholic Primary School","W6 7BL",null,"Voluntary Aided School","Open","Archdiocese of Westminster","06-89323436",null,"Ms Considine","Ms","Irene","Considine","iconsidine@larshrc.org","02087 489444",null,null,null,null,null,null,null,null,null,null,null,null,null,null,null,"Not applicable","Not applicable",null,"Not under a federation",null,null,null,null,null,null,"41a Brook Green","Hammersmith",null,"London",null,"W6 7BL",null,2087489444,"London",null,null,"3-11",null,"Primary",null,"Miss","Mary","Kelliher",null,"Headteacher","London"]
[100350,680,{"$error":"#NAME?"},205,"Hammersmith and Fulham",3529,"St Mary's Catholic Primary School","W14 0LT",null,"Voluntary Aided School","Open","Archdiocese of Westminster","06-78753681",null,"Mrs Greene","Mrs","Francesca","Greene","fgreene@stmarysrc.lbhf.sch.uk","02076 037717",null,null,null,null,null,null,null,null,null,null,null,null,null,null,null,"Not applicable","Not applicable",null,"Not under a federation",null,null,null,null,null,null,"Masbro Road",null,null,"London",null,"W14 0LT",null,2076037717,"London",null,null,"3-11",null,"Primary",null,"Mrs","Imogen","Lavelle",null,"Headteacher","London"]
[116543,684,{"$error":"#NAME?"},850,"Hampshire",6022,"Salesian College","GU14 6PA",null,"Other Independent School","Open","Diocese of Portsmouth","01-93736682",null,"Mr Louhgee","Mr","Robert","Louhgee","levya@salesiancollege.com","01252 893000",null,null,null,null,null,null,null,null,null,null,null,null,null,null,null,"Not applicable","Not applicable",null,"Not applicable",null,10017469,null,null,null,null,"119 Reading Road",null,null,"Farnborough","Hampshire","GU14 6PA",null,1252893000,"South East",null,null,"11-18",null,"Secondary",null,"Mr","Bill","James",null,"Headteacher","South East"]
[116381,688,{"$error":"#NAME?"},850,"Hampshire",3417,"St Peter's Catholic Primary School, Winchester","SO22 4JB",null,"Voluntary Aided School","Open","Diocese of Portsmouth","01-67579665",null,"Mrs Palmer","Mrs","Bernadette ","Palmer","admin@st-peters.hants.sch.uk","01962 852820",null,null,null,null,null,null,null,null,null,null,null,null,null,null,null,"Not applicable","Not applicable",null,"Not under a federation",null,null,null,null,null,null,"Olivers Battery Road North",null,null,"Winchester","Hampshire","SO22 4JB",null,1962852820,"South East",null,null,"2-11",null,"Primary",null,"Ms","Jakki","Alexander",null,"Headteacher","South East"]
[116376,691,{"$error":"#NAME?"},850,"Hampshire",3404,"St Jude's Catholic Primary School","PO14 1ND",null,"Voluntary Aided School","Open","Diocese of Portsmouth","01-19140274",null,"Mrs Fry","Mrs","Lorne","Fry","adminoffice@st-judes.hants.sch.uk","01329 235131",null,null,null,null,null,null,null,null,null,null,null,null,null,null,null,"Not applicable","Not applicable",null,"Not under a federation",null,null,null,null,null,null,"Bishopsfield Road",null,null,"Fareham","Hampshire","PO14 1ND",null,1329235131,"South East",null,null,"4-11",null,"Primary",null,"Mr","John","Wright",null,"Headteacher","South East"]
[116380,694,{"$error":"#NAME?"},850,"Hampshire",3415,"St Bede's Catholic Primary School","RG24 9DX",null,"Voluntary Aided School","Open","Diocese of Portsmouth","01-97785877",null,"Mrs Mitchell","Mrs","Coleen","Mitchell","c.mitchell@st-bedes.hants.sch.uk","01256 473379",null,null,null,null,null,null,null,null,null,null,null,null,null,null,null,"Not applicable","Not applicable",null,"Not under a federation",null,null,null,null,null,null,"Popley Way",null,null,"Basingstoke","Hampshire","RG24 9DX",null,1256473379,"South East",null,null,"4-11",null,"Primary",null,"Mrs","Paula","Dix",null,"Headteacher","South East"]
[116390,695,{"$error":"#NAME?"},850,"Hampshire",3551,"St Patrick's Catholic Primary School","GU14 7BW",null,"Voluntary Aided School","Open","Diocese of Portsmouth","01-77802787",null,"Miss Ryan","Miss","Vicky","Ryan","enquiries@st-patricks.hants.sch.uk","01252 542511",null,null,null,null,null,null,null,null,null,null,null,null,null,null,null,"Not applicable","Not applicable",null,"Not under a federation",null,null,null,null,null,null,"Whitefriars","Avenue Road",null,"Farnborough","Hampshire","GU14 7BW",null,1252542511,"South East",null,null,"4-11",null,"Primary",null,null,"Lyndon","Strong",null,null,"South East"]
[116383,701,{"$error":"#NAME?"},850,"Hampshire",3419,"St Swithun Wells Catholic Primary School, Chandlers Ford","SO53 2JP",null,"Voluntary Aided School","Open","Diocese of Portsmouth","01-73712169",null,"Head Teacher",null,"Head","Teacher","adminoffice@st-swithunwells.hants.sch.uk","02380 266210",null,null,null,null,null,null,null,null,null,null,null,null,null,null,null,"Not applicable","Not applicable",null,"Not under a federation",null,null,null,null,null,null,"Hillcrest Avenue","Chandler's Ford",null,"Eastleigh","Hampshire","SO53 2JP",null,2380266210,"South East",null,null,"4-11",null,"Primary",null,"Mrs","Julie","Bray",null,"Headteacher","South East"]
[116584,703,{"$error":"#NAME?"},850,"Hampshire",6032,"St Edward's School","SO51 6ZR",null,"Other Independent Special School","Open","Diocese of Clifton","11-75383915",null,"Mr Rogers","Mr","","Rogers","enquiries@melchetcourt.com","01794 885252",null,null,null,null,null,null,null,null,null,null,null,null,null,null,null,"Not applicable","Not applicable",null,"Not applicable",null,10016978,null,null,null,null,"Melchet Court","Sherfield English",null,"Romsey","Hampshire","SO51 6ZR",null,1794885252,"South East",null,null,"9-18",null,"Secondary",null,"Mr","Martin","Tissot","MA, MBA, NPQH","Executive Headteacher","London"]
[102151,706,{"$error":"#NAME?"},309,"Haringey",3509,"St Gildas' Catholic Junior School","N8 9EP",null,"Voluntary Aided School","Open","Archdiocese of Westminster","06-92368128",null,"Ms Hannon    ​","Ms","Patricia         ","Hannon    ​","admin@st-gildas.haringey.sch.uk","02083 481902",null,null,null,null,null,null,null,null,null,null,null,null,null,null,null,"Not applicable","Not applicable",null,"Not under a federation",null,null,null,null,null,null,"Oakington Way",null,null,"London",null,"N8 9EP",null,2083481902,"London",null,null,"7-11",null,"Primary",null,"Mr","Stephen","McNicholas",null,"Headteacher","London"]
[102145,709,{"$error":"#NAME?"},309,"Haringey",3503,"St Mary's Priory RC Junior School","N15 5RE",null,"Voluntary Aided School","Open","Archdiocese of Westminster","06-10943249",null,"Ms Stan","Ms","Giedre","Stan","gstan.309@lgflmail.org","02088 009305",null,null,null,null,null,null,null,null,null,null,null,null,null,null,null,"Not applicable","Not applicable",null,"Supported by a federation","St Mary's Priory Catholic Infant and Junior Schools",null,null,null,null,null,"Hermitage Road",null,null,"London",null,"N15 5RE",null,2088009305,"London",null,null,"7-11",null,"Primary",null,"Mrs","Florence","Collins",null,"Headteacher","London"]
[102142,713,{"$error":"#NAME?"},309,"Haringey",3500,"Our Lady of Muswell Catholic Primary School","N10 1PS",null,"Voluntary Aided School","Open","Archdiocese of Westminster","06-98957447",null,"Ms Napleton","Ms","Bernadette","Napleton","bnapleton .309@lgflmail.org","02084 446894",null,null,null,null,null,null,null,null,null,null,null,null,null,null,null,"Not applicable","Not applicable",null,"Not under a federation",null,null,null,null,null,null,"Pages Lane","Muswell Hill",null,"London",null,"N10 1PS",null,2084446894,"London",null,null,"3-11",null,"Primary",null,"Mr","Con","Bonner",null,"Headteacher","London"]
[102144,714,{"$error":"#NAME?"},309,"Haringey",3502,"St Ignatius RC Primary School","N15 6ND",null,"Voluntary Aided School","Open","Archdiocese of Westminster","06-25796368",null,"Ms Hibbert","Ms","Marva","Hibbert","admin@st-igs.haringey.sch.uk","02088 002771",null,null,null,null,null,null,null,null,null,null,null,null,null,null,null,"Not applicable","Not applicable",null,"Not under a federation",null,null,null,null,null,null,"St Ann's Road","Tottenham",null,"London",null,"N15 6ND",null,2088002771,"London",null,null,"3-11",null,"Primary",null,null,"James","Lane",null,"Executive Headteacher","London"]
[102231,720,{"$error":"#NAME?"},310,"Harrow",3504,"St Teresa's Catholic Primary School and Nursery","HA3 6LE",null,"Voluntary Aided School","Open","Archdiocese of Westminster","06-59497742",null,"Mrs Breakspear","Mrs","Lorraine","Breakspear","breakspearl@st-teresas.harrow.sch.uk","02084 288640",null,null,null,null,null,null,null,null,null,null,null,null,null,null,null,"Not applicable","Not applicable",null,"Not under a federation",null,null,null,null,null,null,"Long Elmes","Harrow Weald",null,"Harrow","Middlesex","HA3 6LE",null,2084288640,"London",null,null,"3-11",null,"Primary",null,"Mrs","A","Lyons",null,"Headteacher","London"]
[102232,721,{"$error":"#NAME?"},310,"Harrow",3505,"St John Fisher Catholic Primary School","HA5 5RA",null,"Voluntary Aided School","Open","Archdiocese of Westminster","06-46938785",null,"Ms Moriarty","Ms","Antoinette","Moriarty","amoriarty3.310@lgflmail.org","02088 682961",null,null,null,null,null,null,null,null,null,null,null,null,null,null,null,"Not applicable","Not applicable",null,"Not under a federation",null,null,null,null,null,null,"Melrose Road",null,null,"Pinner",null,"HA5 5RA",null,2088682961,"London",null,null,"4-11",null,"Primary",null,"Mrs","Anne","Monahan",null,"Headteacher","London"]
[102233,724,{"$error":"#NAME?"},310,"Harrow",3507,"St Joseph's Catholic Primary School","HA3 7LP",null,"Voluntary Aided School","Open","Archdiocese of Westminster","06-99013526",null,"Ms Nagle","Ms","Marion","Nagle","naglem@stjosephs.harrow.sch.uk","02088 638531",null,null,null,null,null,null,null,null,null,null,null,null,null,null,null,"Not applicable","Not applicable",null,"Not under a federation",null,null,null,null,null,null,"Dobbin Close","Belmont Circle",null,"Harrow",null,"HA3 7LP",null,2088638531,"London",null,null,"4-11",null,"Primary",null,null,"Jeffrey","Cook",null,"Headteacher","North East"]
[111693,728,{"$error":"#NAME?"},805,"Hartlepool",3323,"St Joseph's RC Primary School","TS24 7HT",null,"Voluntary Aided School","Open","Diocese of Hexham and Newcastle","14-79895677",null,"Administration Office","Administration Office",null,null,"admin.stjosephs@school.hartlepool.gov.uk","01429 272747",null,null,null,null,null,null,null,null,null,null,null,null,null,null,null,"Not applicable","Not applicable",null,"Not under a federation",null,null,null,null,null,null,"Musgrave Street",null,null,"Hartlepool",null,"TS24 7HT",null,1429272747,"North East",null,null,"3-11",null,"Primary",null,"Mr","John","Hardy",null,"Headteacher","North East"]
[111692,731,{"$error":"#NAME?"},805,"Hartlepool",3322,"St Cuthbert's RC Primary School","TS25 5AJ",null,"Voluntary Aided School","Open","Diocese of Hexham and Newcastle","14-31691413",null,"School Office","School Office",null,null,"admin.stcuthberts@school.hartlepool.gov.uk","01429 275040",null,null,null,null,null,null,null,null,null,null,null,null,null,null,null,"Not applicable","Not applicable",null,"Not under a federation",null,null,null,null,null,null,"Stratford Road",null,null,"Hartlepool",null,"TS25 5AJ",null,1429275040,"North East",null,null,"3-11",null,"Primary",null,"Mrs","Sheila","Birtles","B.Hum Pgce","Acting Headteacher","London"]
[102329,735,{"$error":"#NAME?"},311,"Havering",3501,"St Mary's Catholic Primary School","RM12 4TL",null,"Voluntary Aided School","Open","Diocese of Brentwood","09-71992424",null,"Mrs Heady","Mrs","Emma","Heady","admin@st-marys.havering.sch.uk","01708 448430",null,null,null,null,null,null,null,null,null,null,null,null,null,null,null,"Not applicable","Not applicable",null,"Not under a federation",null,null,null,null,null,null,"Hornchurch Road",null,null,"Hornchurch","Essex","RM12 4TL",null,1708448430,"London",null,null,"4-11",null,"Primary",null,"Mrs","Lisa","Schaberg","Ba (Hons)","Headteacher","London"]
[102334,739,{"$error":"#NAME?"},311,"Havering",3506,"St Joseph's Catholic Primary School","RM14 2QB",null,"Voluntary Aided School","Open","Diocese of Brentwood","09-28566035",null,"Mrs O'Connor","Mrs","Chris","O'Connor","office@st-josephs.havering.sch.uk","01708 220277",null,null,null,null,null,null,null,null,null,null,null,null,null,null,null,"Not applicable","Not applicable",null,"Not under a federation",null,null,null,null,null,null,"115 St Mary's Lane",null,null,"Upminster","Essex","RM14 2QB",null,1708220277,"London",null,null,"4-11",null,"Primary",null,"Mrs","Jennifer","Waterfield",null,"Headteacher","London"]
[102357,742,{"$error":"#NAME?"},311,"Havering",6054,"St Mary's Hare Park School","RM2 6HH",null,"Other Independent School","Open","Diocese of Brentwood","09-21279267",null,"The Trustees ","The Trustees",null,null,"harepark@btconnect.com","01708 761220",null,null,null,null,null,null,null,null,null,null,null,null,null,null,null,"Not applicable","Not applicable",null,"Not applicable",null,null,null,null,null,null,"South Drive","Gidea Park",null,"Romford","Essex","RM2 6HH",null,1708761220,"London",null,null,"2-11",null,"Primary",null,"Mr","Clive","Lambert","Bsc Cert Ed","Headteacher","West Midlands"]
[116884,744,{"$error":"#NAME?"},884,"Herefordshire",3331,"St Francis Xavier's Primary School","HR1 1DT",null,"Voluntary Aided School","Open","Archdiocese of Cardiff","10-31869994",null,"Administrative Manager","Administrative Manager",null,null,"admin@st-francisxaviers.hereford.sch.uk","01432 273941",null,null,null,null,null,null,null,null,null,null,null,null,null,null,null,"Not applicable","Not applicable",null,"Not under a federation",null,null,null,null,null,null,"Venn's Lane",null,null,"Hereford","Herefordshire","HR1 1DT",null,1432273941,"West Midlands",null,null,"4-11",null,"Primary",null,"Mrs","Maria","Woolaway",null,"Headteacher","West Midlands"]
[117464,747,{"$error":"#NAME?"},919,"Hertfordshire",3382,"Our Lady Roman Catholic Primary School","AL7 3TF",null,"Voluntary Aided School","Open","Archdiocese of Westminster","06-18884165",null,"Ms Hobbs","Ms","Marion","Hobbs","admin@ourladys527.herts.sch.uk","01707 324408",null,null,null,null,null,null,null,null,null,null,null,null,null,null,null,"Not applicable","Not applicable",null,"Not under a federation",null,null,null,null,null,null,"Woodhall Lane",null,null,"Welwyn Garden City","Hertfordshire","AL7 3TF",null,1707324408,"East of England",null,null,"4-11",null,"Primary",null,"Mr","Paul","Neves",null,"Headteacher","Eastern"]
[138316,750,{"$error":"#NAME?"},919,"Hertfordshire",3413,"St John Roman Catholic Primary School","SG7 6TT","Diocese of Westminster Academy Trust, The","Academy Converter","Open","Archdiocese of Westminster","06-19659887",null,"Mrs Condron","Mrs","Jan","Condron","jancondron@stjohns4.herts.sch.uk ","01462 892478",null,null,null,null,null,null,null,null,null,null,null,null,null,null,null,"Supported by a multi-academy trust","-",null,"Not applicable",null,10037768,null,null,null,null,"Providence Way",null,null,"Baldock","Hertfordshire","SG7 6TT",null,1462892478,"East of England",null,null,"3-11",null,"Primary",null,"Mrs","Ciara","Nicholson",null,"Headteacher","Eastern"]
[138354,754,{"$error":"#NAME?"},919,"Hertfordshire",3400,"St Thomas More Roman Catholic Primary School","SG6 3QB","Diocese of Westminster Academy Trust, The","Academy Converter","Open","Archdiocese of Westminster","06-88835297",null,"Mrs Lee","Mrs","Kath","Lee","sbm@strcjmi.herts.sch.uk","01462 620670",null,null,null,null,null,null,null,null,null,null,null,null,null,null,null,"Supported by a multi-academy trust","-",null,"Not applicable",null,10037790,null,null,null,null,"Highfield",null,null,"Letchworth Garden City","Hertfordshire","SG6 3QB",null,1462620670,"East of England",null,null,"3-11",null,"Primary",null,"Mr","Clive","Mathew",null,"Headteacher","Eastern"]
[138288,757,{"$error":"#NAME?"},919,"Hertfordshire",5211,"St Catherine of Siena Catholic Primary School","WD25 7HP","Diocese of Westminster Academy Trust, The","Academy Converter","Open","Archdiocese of Westminster","06-93658183",null,"Ms  Gritten","Ms","Emma"," Gritten","Gritten.e@stmichaelscatholichighschool.co.uk","01923 676022",null,null,null,null,null,null,null,null,null,null,null,null,null,null,null,"Supported by a multi-academy trust","-",null,"Not applicable",null,10037742,null,null,null,null,"Horseshoe Lane","Garston",null,"Watford","Hertfordshire","WD25 7HP",null,1923676022,"East of England",null,null,"4-11",null,"Primary",null,"Mrs","Marie","Lynch",null,"Headteacher","Eastern"]
[117468,761,{"$error":"#NAME?"},919,"Hertfordshire",3386,"St Cuthbert Mayne Catholic Junior School","HP1 3EA",null,"Voluntary Aided School","Open","Archdiocese of Westminster","06-53141657",null,"Ms Deane","Ms","Wendy","Deane","wendydeane@cuthbertmayne.herts.sch.uk","01442 253347",null,null,null,null,null,null,null,null,null,null,null,null,null,null,null,"Not applicable","Not applicable",null,"Not under a federation",null,null,null,null,null,null,"Clover Way","Gadebridge Road",null,"Hemel Hempstead","Hertfordshire","HP1 3EA",null,1442253347,"East of England",null,null,"7-11",null,"Primary",null,"Mr","Stephen","Wheatley","Bed Msc Npqh","Exceutive Headteacher","Eastern"]
[117488,765,{"$error":"#NAME?"},919,"Hertfordshire",3415,"Sacred Heart Catholic Primary School and Nursery","WD23 1SU",null,"Voluntary Aided School","Open","Archdiocese of Westminster","06-16479867",null,"Ms Pryke","Ms","Suzanne","Pryke","spryke@sacredheart682.herts.sch.uk","01923 493040",null,null,null,null,null,null,null,null,null,null,null,null,null,null,null,"Not applicable","Not applicable",null,"Not under a federation",null,null,null,null,null,null,"Merry Hill Road",null,null,"Bushey","Hertfordshire","WD23 1SU",null,1923493040,"East of England",null,null,"3-11",null,"Primary",null,"Mrs","Bernadette","Dempsey","Bsc Hons","Headteacher","Eastern"]
[117470,768,{"$error":"#NAME?"},919,"Hertfordshire",3389,"St Adrian Roman Catholic Primary School","AL1 2PB",null,"Voluntary Aided School","Open","Archdiocese of Westminster","06-33389743",null,"Mrs Flint","Mrs","Janet","Flint","admin@stadrians.herts.sch.uk","01727 852687",null,null,null,null,null,null,null,null,null,null,null,null,null,null,null,"Not applicable","Not applicable",null,"Not under a federation",null,null,null,null,null,null,"Watling View",null,null,"St Albans","Hertfordshire","AL1 2PB",null,1727852687,"East of England",null,null,"3-11",null,"Primary",null,"Mrs","Pauline","Wilson","Ma","Headteacher","Eastern"]
[117495,769,{"$error":"#NAME?"},919,"Hertfordshire",3428,"St Anthony's Catholic Primary School","WD18 6BW",null,"Voluntary Aided School","Open","Archdiocese of Westminster","06-45842121",null,"Ms Jowers","Ms","Monique","Jowers","moniquejowers@gmail.com","01923 226987",null,null,null,null,null,null,null,null,null,null,null,null,null,null,null,"Not applicable","Not applicable",null,"Not under a federation",null,null,null,null,null,null,"Croxley View",null,null,"Watford","Hertfordshire","WD18 6BW",null,1923226987,"East of England",null,null,"3-11",null,"Primary",null,"Mrs","Gillian","Napier",null,"Headteacher","Eastern"]
[117454,772,{"$error":"#NAME?"},919,"Hertfordshire",3367,"St Thomas of Canterbury Roman Catholic Primary School","SG11 1RZ",null,"Voluntary Aided School","Open","Archdiocese of Westminster","06-26714883",null,"Mrs Sellars","Mrs","Wendy","Sellers","admin@stcanterbury.herts.sch.uk","01920 821450",null,null,null,null,null,null,null,null,null,null,null,null,null,null,null,"Not applicable","Not applicable",null,"Not under a federation",null,null,null,null,null,null,"High Street","Puckeridge",null,"Ware","Hertfordshire","SG11 1RZ",null,1920821450,"East of England",null,null,"3-11",null,"Primary",null,"Mrs","Kathryn","Hall",null,"Headteacher","Eastern"]
[117465,778,{"$error":"#NAME?"},919,"Hertfordshire",3383,"St Joseph Catholic Primary School","WD19 7DW",null,"Voluntary Aided School","Open","Archdiocese of Westminster","06-80005841",null,"Ms Tannian","Ms","Dawn","Tannian","admin@stjosephs775.herts.sch.uk","02084 285371",null,null,null,null,null,null,null,null,null,null,null,null,null,null,null,"Not applicable","Not applicable",null,"Not under a federation",null,null,null,null,null,null,"Ainsdale Road","South Oxhey",null,"Watford","Hertfordshire","WD19 7DW",null,2084285371,"East of England",null,null,"3-11",null,"Primary",null,"Mrs","Yvonne","Devereux",null,"Headteacher","Eastern"]
[117484,780,{"$error":"#NAME?"},919,"Hertfordshire",3409,"St Rose's Catholic Infants School","HP1 1QW",null,"Voluntary Aided School","Open","Archdiocese of Westminster","06-40159594",null,"Ms Tregear","Ms","Rebecca","Tregear","head@stroses.herts.sch.uk","01442 398855",null,null,null,null,null,null,null,null,null,null,null,null,null,null,null,"Not applicable","Not applicable",null,"Not under a federation",null,null,null,null,null,null,"Green End Road","Boxmoor",null,"Hemel Hempstead","Hertfordshire","HP1 1QW",null,1442398855,"East of England",null,null,"3-7",null,"Primary",null,"Ms","Teresa","McBride","Ba Npqh","Headteacher","Eastern"]
[117633,783,{"$error":"#NAME?"},919,"Hertfordshire",6115,"St Edmund's College","SG11 1DS",null,"Other Independent School","Open","Archdiocese of Westminster","06-74557091",null,"Mr Tomlinson","Mr","Brian","Tomlinson","lflowerdew@stedmundscollege.org","01920 821504",null,null,null,null,null,null,null,null,null,null,null,null,null,null,null,"Not applicable","Not applicable",null,"Not applicable",null,10016977,null,null,null,null,"Old Hall Green",null,null,"Ware","Hertfordshire","SG11 1DS",null,1920821504,"East of England",null,null,"3-19",null,"Secondary",null,"Mrs","Mairead","Waugh",null,"Headteacher","Eastern"]
[117475,786,{"$error":"#NAME?"},919,"Hertfordshire",3398,"St John Catholic Primary School","WD3 7HG",null,"Voluntary Aided School","Open","Archdiocese of Westminster","06-72505168",null,"Miss Lisney","Miss","Emma","Lisney","finance@stjohns705.herts.sch.uk","01923 774004",null,null,null,null,null,null,null,null,null,null,null,null,null,null,null,"Not applicable","Not applicable",null,"Not under a federation",null,null,null,null,null,null,"Berry Lane","Mill End",null,"Rickmansworth","Hertfordshire","WD3 7HG",null,1923774004,"East of England",null,null,"4-11",null,"Primary",null,"Mr","A","Celano",null,"Headteacher","Eastern"]
[117480,790,{"$error":"#NAME?"},919,"Hertfordshire",3403,"St John Fisher Roman Catholic Primary School","AL4 9RW",null,"Voluntary Aided School","Open","Archdiocese of Westminster","06-28443904",null,"Ms Botley","Ms","Rachael","Botley","sbm@sjfisher.herts.sch.uk","01727 861077",null,null,null,null,null,null,null,null,null,null,null,null,null,null,null,"Not applicable","Not applicable",null,"Not under a federation",null,null,null,null,null,null,"Hazelmere Road",null,null,"St Albans","Hertfordshire","AL4 9RW",null,1727861077,"East of England",null,null,"4-11",null,"Primary",null,"Ms","Kathy","Cox",null,"Principal","Eastern"]
[132015,791,{"$error":"#NAME?"},919,"Hertfordshire",7904,"St Elizabeth's College (The Congregation of the Daughters of the Cross of the Liege)","SG10 6EW",null,"Special Post 16 Institution","Open","Archdiocese of Westminster",{"$error":"#N/A"},null,{"$error":"#N/A"},{"$error":"#N/A"},{"$error":"#N/A"},{"$error":"#N/A"},{"$error":"#N/A"},"01279 844419",null,null,null,null,null,null,null,null,null,null,null,null,null,null,null,"Not applicable","Not applicable",null,"Not applicable",null,10006159,null,null,null,null,"Perry Green",null,"Much Hadham",null,"Hertfordshire","SG10 6EW",null,1279844419,"East of England",null,null,"19-25",null,"Further or Higher",null,"Miss","Isabel","Cerasale",null,"Headteacher","Eastern"]
[137925,795,{"$error":"#NAME?"},312,"Hillingdon",5408,"The Douay Martyrs Catholic Secondary School","UB10 8QY","Diocese of Westminster Academy Trust, The","Academy Converter","Open","Archdiocese of Westminster","06-11874041",null,"Mrs Doyle","Mrs","Teresa","Doyle","TDoyle@douaymartyrs.co.uk","01895 679400",null,null,null,null,null,null,null,null,null,null,null,null,null,null,null,"Supported by a multi-academy trust","-",null,"Not applicable",null,10036743,null,null,null,null,"Edinburgh Drive","Ickenham",null,"Uxbridge","Middlesex","UB10 8QY",null,1895679400,"London",null,null,"11-18",null,"Secondary",null,"Sister","Julie","Rose",null,"Executive Principal","London"]
[102425,798,{"$error":"#NAME?"},312,"Hillingdon",3404,"St Mary's Catholic Primary School","UB8 2UA",null,"Voluntary Aided School","Open","Archdiocese of Westminster","06-16254410",null,"Mrs Law","Mrs","Margaret","Law","office@stmarysuxbridge.org.uk","01895 232814",null,null,null,null,null,null,null,null,null,null,null,null,null,null,null,"Not applicable","Not applicable",null,"Not under a federation",null,null,null,null,null,null,"Rockingham Close",null,null,"Uxbridge",null,"UB8 2UA",null,1895232814,"London",null,null,"3-11",null,"Primary",null,"Ms","Theresa","McManus",null,"Headteacher","London"]
[102421,801,{"$error":"#NAME?"},312,"Hillingdon",3400,"St Swithun Wells Catholic Primary School","HA4 9HS",null,"Voluntary Aided School","Open","Archdiocese of Westminster","06-11706167",null,"Mrs Gomez","Mrs","Angie","Gomez","stswithunwells@hillingdongrid.org","01895 808194",null,null,null,null,null,null,null,null,null,null,null,null,null,null,null,"Not applicable","Not applicable",null,"Not under a federation",null,null,null,null,null,null,"Hunters Hill","South Ruislip",null,"Ruislip","Middlesex","HA4 9HS",null,1895808194,"London",null,null,"3-11",null,"Primary",null,"Mr","Paul","Enright",null,"Headteacher","London"]
[102526,805,{"$error":"#NAME?"},313,"Hounslow",3502,"Our Lady and St John's Catholic Primary School","TW8 9JF",null,"Voluntary Aided School","Open","Archdiocese of Westminster","06-86517427",null,"Ms Hagarty","Ms",null,"Hagarty","admin@stjohnrc.hounslow.sch.uk","02085 607477",null,null,null,null,null,null,null,null,null,null,null,null,null,null,null,"Not applicable","Not applicable",null,"Not under a federation",null,null,null,null,null,null,"Boston Park Road",null,null,"Brentford","Middlesex","TW8 9JF",null,2085607477,"London",null,null,"3-11",null,"Primary",null,null,"Nicola","Duggan",null,"Headteacher","London"]
[102528,808,{"$error":"#NAME?"},313,"Hounslow",3504,"St Mary's Catholic Primary School, Isleworth","TW7 7EE",null,"Voluntary Aided School","Open","Archdiocese of Westminster","06-52592311",null,"Mrs Gardner","Mrs","Lorraine","Gardner","office@smi.hounslow.sch.uk","02085 607166",null,null,null,null,null,null,null,null,null,null,null,null,null,null,null,"Not applicable","Not applicable",null,"Not under a federation",null,null,null,null,null,null,"South Street",null,null,"Isleworth",null,"TW7 7EE",null,2085607166,"London",null,null,"3-11",null,"Primary",null,"Mr","Rory","McCormack","M.Sc, B.Ed","Headteacher","London"]
[143541,813,{"$error":"#NAME?"},921,"Isle of Wight",2003,"St Francis Catholic and Church of England (Aided) Primary School","PO38 1BQ",null,"Academy Sponsor Led","Proposed to open","Diocese of Portsmouth","01-68694106",null,"School Business Manager ","School Business Manager"," ",null,"office@stfrancisventnor.org","01983 857449",null,null,null,null,null,null,null,null,null,null,null,null,null,null,null,"Not supported by a trust","-",null,"Not applicable",null,10061619,null,null,null,null,"Newport Road",null,null,"Ventnor","Isle of Wight","PO38 1BQ",null,1983857449,"South East",null,null,"4-11",null,"Primary",null,"Mrs","Patricia","Goodhead",null,"Principal","South East"]
[118196,816,{"$error":"#NAME?"},921,"Isle of Wight",3311,"St Saviour's Catholic Primary School","PO39 0HQ",null,"Voluntary Aided School","Open","Diocese of Portsmouth","01-18711345",null,"Mrs Bradshaw","Mrs","Carla","Bradshaw","admin@stsaviourspri.co.uk","01983 752175",null,null,null,null,null,null,null,null,null,null,null,null,null,null,null,"Not applicable","Not applicable",null,"Not under a federation",null,null,null,null,null,null,"Summers Lane",null,null,"Totland Bay","Isle of Wight","PO39 0HQ",null,1983752175,"South East",null,null,"5-11",null,"Primary",null,"Mrs","Janet","Tuck",null,"Headteacher","South East"]
[118198,819,{"$error":"#NAME?"},921,"Isle of Wight",3313,"Holy Cross Catholic Primary School","PO32 6AS",null,"Voluntary Aided School","Open","Diocese of Portsmouth","01-22482899",null,"Mrs Bradshaw","Mrs","Carla","Bradshaw","admin@holycrossrcpri.iow.sch.uk","01983 292885",null,null,null,null,null,null,null,null,null,null,null,null,null,null,null,"Not applicable","Not applicable",null,"Not under a federation",null,null,null,null,null,null,"Millfield Avenue",null,null,"East Cowes","Isle of Wight","PO32 6AS",null,1983292885,"South East",null,null,"5-11",null,"Primary",null,"Mr","Tom","Mannion",null,"Headteacher","London"]
[100449,821,{"$error":"#NAME?"},206,"Islington",3631,"St Joan of Arc RC Primary School","N5 2UX",null,"Voluntary Aided School","Open","Archdiocese of Westminster","06-54325983",null,"Mrs Vankan","Mrs","Barbara","Van Kan","barbara@st-joanofarc.islington.sch.uk","02072 263920",null,null,null,null,null,null,null,null,null,null,null,null,null,null,null,"Not applicable","Not applicable",null,"Not under a federation",null,null,null,null,null,null,"Northolme Road","Highbury Park",null,"London",null,"N5 2UX",null,2072263920,"London",null,null,"3-11",null,"Primary",null,"Ms","Romy","Hoster","M.A.(Ed.)  M.A.(Th.)","Head of School","London"]
[100460,824,{"$error":"#NAME?"},206,"Islington",4704,"Mount Carmel Catholic College for Girls","N19 3EU",null,"Voluntary Aided School","Open","Archdiocese of Westminster","06-86631825",null,"Mr Clarke","Mr","Peter","Clarke","clarke@mountcarmel.islington.sch.uk","02072 813536",null,null,null,null,null,null,null,null,null,null,null,null,null,null,null,"Not applicable","Not applicable",null,"Not under a federation",null,10013630,null,null,null,null,"Holland Walk","Duncombe Road",null,"London",null,"N19 3EU",null,2072813536,"London",null,null,"11-16",null,"Secondary",null,"Mrs","N","Flatley","Ba,Ma","Headteacher","London"]
[100438,827,{"$error":"#NAME?"},206,"Islington",3456,"St John Evangelist RC Primary School","N1 8BL",null,"Voluntary Aided School","Open","Archdiocese of Westminster","06-42801234",null,"Ms Oliva","Ms","Tina","Oliva","office@stjohnevangelist.islington.sch.uk","02072 261314",null,null,null,null,null,null,null,null,null,null,null,null,null,null,null,"Not applicable","Not applicable",null,"Not under a federation",null,null,null,null,null,null,"Duncan Street","Islington High Street",null,"London",null,"N1 8BL",null,2072261314,"London",null,null,"3-11",null,"Primary",null,"Miss","C","McFlynn",null,"Headteacher","London"]
[132523,831,{"$error":"#NAME?"},707,"Jersey Offshore Establishments",6002,"Beaulieu Convent School","JE2 4RJ",null,"Offshore Schools","Open","Diocese of Portsmouth","01-99597944",null,"Donna Davidson",null,"Donna","Davidson","davidsond@beaulieu.jersey.sch.uk","01534 731280",null,null,null,null,null,null,null,null,null,null,null,null,null,null,null,"Not applicable","Not applicable",null,"Not applicable",null,null,null,null,null,null,"Wellington Road","St Helier",null,"Jersey",null,"JE2 4RJ",null,153431280,"Not Applicable",null,null,"4-18",null,"Secondary",null,"Mr","Peter","Murray",null,"Headteacher","Not Applicable"]
[100500,834,{"$error":"#NAME?"},207,"Kensington and Chelsea",3613,"Servite RC Primary School","SW10 9NA",null,"Voluntary Aided School","Open","Archdiocese of Westminster","06-54469108",null,"Ms Wilton","Ms","Sarah","Wilton","swilton2010@hotmail.co.uk","02073 522588",null,null,null,null,null,null,null,null,null,null,null,null,null,null,null,"Not applicable","Not applicable",null,"Not under a federation",null,null,null,null,null,null,"252 Fulham Road",null,null,"London",null,"SW10 9NA",null,2073522588,"London",null,null,"3-11",null,"Primary",null,"Mrs","Amanda","Leach","BSC","Headteacher","London"]
[130411,838,{"$error":"#NAME?"},207,"Kensington and Chelsea",8600,"St Charles Catholic Sixth Form College","W10 6EY",null,"Further Education","Open","Archdiocese of Westminster","06-12853260",null,"Ms Taylor","Ms","Elaine","Taylor","eta@stcharles.ac.uk","02089 687755",null,null,null,null,null,null,null,null,null,null,null,null,null,null,null,"Not applicable","Not applicable",null,"Not applicable",null,10006135,null,null,null,null,"74 St Charles Square","North Kensington",null,"London",null,"W10 6EY",null,2089687755,"London",null,null,"16-99",null,"Further or Higher",null,"Mr","Andrew","O'Neill",null,"Headteacher","London"]
[100502,842,{"$error":"#NAME?"},207,"Kensington and Chelsea",4681,"Saint Thomas More Language College","SW3 2QS",null,"Voluntary Aided School","Open","Archdiocese of Westminster","06-19840023",null,"Mr Jackson","Mr","Kevin","Jackson","kjackson29.207@lgflmail.org","02075 899734",null,null,null,null,null,null,null,null,null,null,null,null,null,null,null,"Not applicable","Not applicable",null,"Not under a federation",null,10017544,null,null,null,null,"Cadogan Street",null,null,"London",null,"SW3 2QS",null,2075899734,"London",null,null,"11-16",null,"Secondary",null,"Miss","Joan","Harte",null,"Headteacher","London"]
[100494,845,{"$error":"#NAME?"},207,"Kensington and Chelsea",3437,"Saint Francis of Assisi Catholic Primary School","W11 4BJ",null,"Voluntary Aided School","Open","Archdiocese of Westminster","06-31342878",null,"Ms Potts","Ms","Debbie","Potts","Dpotts7.207@lgflmail.org","02077 278523",null,null,null,null,null,null,null,null,null,null,null,null,null,null,null,"Not applicable","Not applicable",null,"Not under a federation",null,null,null,null,null,null,"Treadgold Street","Notting Hill",null,"London",null,"W11 4BJ",null,2077278523,"London",null,null,"3-11",null,"Primary",null,"Mrs","Jacqueline","Wright",null,"Headteacher","South East"]
[140873,846,{"$error":"#NAME?"},886,"Kent",3889,"St Gregory's Catholic Primary School, Margate","CT9 4BU","Kent Catholic Schools' Partnership","Academy Converter","Open","Archdiocese of Southwark","26-27383308",null,"Mrs Wright","Mrs","T","Wright","office@st-gregorys.kent.sch.uk","01843 221896",null,null,null,null,null,null,null,null,null,null,null,null,null,null,null,"Supported by a multi-academy trust","Linked to a sponsor","Kent Catholic Schools Partnership (KCSP)","Not applicable",null,10045950,null,null,null,null,"Nash Road",null,null,"Margate","Kent","CT9 4BU",null,1843221896,"South East",null,null,"3-11",null,"Primary",null,"Mrs","Karen","Wheeler","Bsc","Headteacher","South East"]
[141065,849,{"$error":"#NAME?"},886,"Kent",3720,"St Mary's Catholic Primary School","CT14 9LF","Kent Catholic Schools' Partnership","Academy Converter","Open","Archdiocese of Southwark","26-55708285",null,"Ms Clarke","Ms","Judith","Clarke","judy.clarke@st-marys-deal.kent.sch.uk","01304 375046",null,null,null,null,null,null,null,null,null,null,null,null,null,null,null,"Supported by a multi-academy trust","Linked to a sponsor","Kent Catholic Schools Partnership (KCSP)","Not applicable",null,10046463,null,null,null,null,"St Richard's Road",null,null,"Deal","Kent","CT14 9LF",null,1304375046,"South East",null,null,"5-11",null,"Primary",null,"Mrs","Claudia","Aquilina",null,"Headteacher","South East"]
[141217,855,{"$error":"#NAME?"},886,"Kent",4013,"St Edmund's Catholic School","CT16 2QB","Kent Catholic Schools' Partnership","Academy Sponsor Led","Open","Archdiocese of Southwark","26-36370682",null,"Mr Petty","Mr","S","Petty","office@st-edmunds-dover.kent.sch.uk","01304 201551",null,null,null,null,null,null,null,null,null,null,null,null,null,null,null,"Supported by a multi-academy trust","Linked to a sponsor","Kent Catholic Schools Partnership (KCSP)","Not applicable",null,10047005,null,null,null,null,"Old Charlton Road",null,null,"Dover","Kent","CT16 2QB",null,1304201551,"South East",null,null,"11-18",null,"Secondary",null,"Ms","Jill","Chapman",null,"Headteacher","South East"]
[140537,857,{"$error":"#NAME?"},886,"Kent",5432,"St Simon Stock Catholic School","ME16 0JP","Kent Catholic Schools' Partnership","Academy Converter","Open","Archdiocese of Southwark","26-41785046",null,"Mr Wall","Mr","Brendan","Wall","wallb@ssscs.co.uk","01622 754551",null,null,null,null,null,null,null,null,null,null,null,null,null,null,null,"Supported by a multi-academy trust","Linked to a sponsor","Kent Catholic Schools Partnership (KCSP)","Not applicable",null,10044507,null,null,null,null,"Oakwood Park",null,null,"Maidstone","Kent","ME16 0JP",null,1622754551,"South East",null,null,"11-18",null,"Secondary",null,"Ms","Linda","Briggs",null,"Headteacher","South East"]
[141471,860,{"$error":"#NAME?"},886,"Kent",3714,"St Peter's Catholic Primary School","ME10 1UJ","Kent Catholic Schools' Partnership","Academy Converter","Open","Archdiocese of Southwark","26-44658725",null,"Mrs Mahoney","Mrs","Sue","Mahoney","finance@st-peters-sittingbourne.kent.sch.uk","01795 423479",null,null,null,null,null,null,null,null,null,null,null,null,null,null,null,"Supported by a multi-academy trust","Linked to a sponsor","Kent Catholic Schools Partnership (KCSP)","Not applicable",null,10047621,null,null,null,null,"West Ridge",null,null,"Sittingbourne","Kent","ME10 1UJ",null,1795423479,"South East",null,null,"4-11",null,"Primary",null,"Ms","Hayley","Liddon",null,null,"South East"]
[141532,864,{"$error":"#NAME?"},886,"Kent",5217,"Our Lady of Hartley Catholic Primary School, Hartley, Longfield","DA3 8BL","Kent Catholic Schools' Partnership","Academy Converter","Open","Archdiocese of Southwark","26-77503888",null,"Mrs Gemmell","Mrs","J","Gemmell","finance@ourladyhartley.kent.sch.uk","01474 706385",null,null,null,null,null,null,null,null,null,null,null,null,null,null,null,"Supported by a multi-academy trust","Linked to a sponsor","Kent Catholic Schools Partnership (KCSP)","Not applicable",null,10047893,null,null,null,null,"Stack Lane","Hartley",null,"Longfield","Kent","DA3 8BL",null,1474706385,"South East",null,null,"4-11",null,"Primary",null,"Mr","Peter","McCabe",null,"Headteacher","South East"]
[141219,867,{"$error":"#NAME?"},886,"Kent",2050,"St Francis' Catholic Primary School, Maidstone","ME16 0LB",null,"Academy Sponsor Led","Proposed to open","Archdiocese of Southwark","26-82762793",null,"Mr Bray","Mr","David","Bray","headteacher@st-francis.kent.sch.uk","01622 771540",null,null,null,null,null,null,null,null,null,null,null,null,null,null,null,"Not supported by a trust","-",null,"Not applicable",null,10047012,null,null,null,null,"Queen's Road",null,null,"Maidstone","Kent","ME16 0LB",null,1622771540,"South East",null,null,"5-11",null,"Primary",null,"Mr","Tony","Holdsworth",null,"Headteacher","South East"]
[141629,868,{"$error":"#NAME?"},886,"Kent",5216,"Stella Maris Catholic Primary School","CT19 5BY","Kent Catholic Schools' Partnership","Academy Converter","Open","Archdiocese of Southwark","26-95362616",null,"Mr Holdsworth","Mr","Tony","Holdsworth","headteacher@stellamaris.kent.sch.uk","01303 252127",null,null,null,null,null,null,null,null,null,null,null,null,null,null,null,"Supported by a multi-academy trust","Linked to a sponsor","Kent Catholic Schools Partnership (KCSP)","Not applicable",null,10048334,null,null,null,null,"Parkfield Road",null,null,"Folkestone","Kent","CT19 5BY",null,1303252127,"South East",null,null,"4-11",null,"Primary",null,"Mr","John","Letts",null,"Headteacher","South East"]
[118761,872,{"$error":"#NAME?"},886,"Kent",3718,"St Augustine's Catholic Primary School","CT21 4BE",null,"Voluntary Aided School","Open","Archdiocese of Southwark","26-72528847",null,"Mrs Parnell","Mrs","Pamela","Parnell","headteacher@st-augustines-hythe.kent.sch.uk","01303 266578",null,null,null,null,null,null,null,null,null,null,null,null,null,null,null,"Not applicable","Not applicable",null,"Not under a federation",null,null,null,null,null,null,"St John's Road",null,null,"Hythe","Kent","CT21 4BE",null,1303266578,"South East",null,null,"5-11",null,"Primary",null,"Mr","Kevin","McPartland","Ba Ma Frca","Headteacher","South East"]
[118949,875,{"$error":"#NAME?"},886,"Kent",6011,"Beechwood Sacred Heart School","TN2 3QD",null,"Other Independent School","Open","Archdiocese of Southwark","26-25749903",null,"Ms Milner","Ms","Elizabeth","Milner","hm@beechwood.org.uk","01892 532747",null,null,null,null,null,null,null,null,null,null,null,null,null,null,null,"Not applicable","Not applicable",null,"Not applicable",null,10014837,null,null,null,null,"Pembury Road",null,null,"Tunbridge Wells","Kent","TN2 3QD",null,1892532747,"South East",null,null,"3-19",null,"Secondary",null,"Mr","Matthew","Barron",null,"Headteacher","South East"]
[118853,879,{"$error":"#NAME?"},886,"Kent",5207,"St Francis' Catholic Primary School, Maidstone","ME16 0LB",null,"Voluntary Aided School","Open, but proposed to close","Archdiocese of Southwark",{"$error":"#N/A"},null,{"$error":"#N/A"},{"$error":"#N/A"},{"$error":"#N/A"},{"$error":"#N/A"},{"$error":"#N/A"},"01622 771540",null,null,null,null,null,null,null,null,null,null,null,null,null,null,null,"Not applicable","Not applicable",null,"Not under a federation",null,null,null,null,null,null,"Queen's Road",null,null,"Maidstone","Kent","ME16 0LB",null,1622771540,"South East",null,null,"5-11",null,"Primary",null,"Mrs","Elizabeth","Hill",null,"Headteacher","South East"]
[140848,882,{"$error":"#NAME?"},810,"Kingston upon Hull City of",2019,"St Vincent's Voluntary Catholic Academy","HU5 2QR","St Cuthbert's Roman Catholic Academy Trust","Academy Sponsor Led","Open","Diocese of Middlesbrough","19-41299803",null,"Angela Hunter",null,"Angela","Hunter","admin@st-vincents.hull.sch.uk","01482 342645",null,null,null,null,null,null,null,null,null,null,null,null,null,null,null,"Supported by a multi-academy trust","Linked to a sponsor","St Cuthbert's Roman Catholic Multi Academy Trust","Not applicable",null,10045891,null,null,null,null,"Queens Road",null,null,"Hull",null,"HU5 2QR",null,1482342645,"Yorkshire and the Humber",null,null,"5-11",null,"Primary",null,"Mrs","Cate","Coldham",null,"Interim Headteacher","Yorkshire and the Humber"]
[118117,885,{"$error":"#NAME?"},810,"Kingston upon Hull City of",4626,"St Mary's College","HU6 7TN",null,"Voluntary Aided School","Open","Diocese of Middlesbrough","19-21227113",null,"Sophie Teasdale",null,"Sophie","Teasdale","admin@staff.st-marys.hull.sch.uk","01482 851136",null,null,null,null,null,null,null,null,null,null,null,null,null,null,null,"Not applicable","Not applicable",null,"Supported by a federation","St Mary's College Federation",10006224,null,null,null,null,"Cranbrook Avenue",null,null,"Hull",null,"HU6 7TN",null,1482851136,"Yorkshire and the Humber",null,null,"11-18",null,"Secondary",null,"Mrs","Elizabeth","Harros",null,"Headteacher","Yorkshire and the Humber"]
[137856,890,{"$error":"#NAME?"},314,"Kingston upon Thames",3503,"St Agatha's Catholic Primary School","KT2 5TY","St Agatha's Catholic Primary School","Academy Converter","Open","Archdiocese of Southwark","26-64767795",null,"Mrs O'Hara","Mrs","Pauline","O'Hara","agp@stagathas.rbksch.org","02085 463879",null,null,null,null,null,null,null,null,null,null,null,null,null,null,null,"Supported by a single-academy trust","-",null,"Not applicable",null,10036428,null,null,null,null,"St Agatha's Drive",null,null,"Kingston upon Thames","Surrey","KT2 5TY",null,2085463879,"London",null,null,"3-11",null,"Primary",null,"Mr","Thomas","Gibson",null,"Headteacher","London"]
[102594,893,{"$error":"#NAME?"},314,"Kingston upon Thames",3500,"Corpus Christi Catholic Primary School","KT3 3JU",null,"Voluntary Aided School","Open","Archdiocese of Southwark","26-41295139",null,"Mrs Vaughan","Mrs","Vanessa","Vaughan","office@corpuschristi.rbksch.org","02089 422645",null,null,null,null,null,null,null,null,null,null,null,null,null,null,null,"Not applicable","Not applicable",null,"Not under a federation",null,null,null,null,null,null,"Chestnut Grove",null,null,"New Malden","Surrey","KT3 3JU",null,2089422645,"London",null,null,"3-11",null,"Primary",null,"Mrs","Sarah","Keefe",null,"Acting Headteacher","London"]
[102615,896,{"$error":"#NAME?"},314,"Kingston upon Thames",6058,"Marymount International School","KT2 7PE",null,"Other Independent School","Open","Archdiocese of Southwark","26-26683994",null,"Mr Souppouris","Mr","","Souppouris","bursar@marymountlondon.com","020-8949 0571",null,null,null,null,null,null,null,null,null,null,null,null,null,null,null,"Not applicable","Not applicable",null,"Not applicable",null,10004229,null,null,null,null,"George Road",null,null,"Kingston upon Thames","Surrey","KT2 7PE",null,2089490571,"London",null,null,"11-18",null,"Secondary",null,"Mr","John","Cooper","Med","Headteacher","Yorkshire and Humber"]
[107733,898,{"$error":"#NAME?"},382,"Kirklees",3310,"St Joseph's Catholic Primary School (Dewsbury)","WF13 4HY",null,"Voluntary Aided School","Open","Diocese of Leeds","16-79578993",null,"Miss Parr","Miss","B","Parr","office.stjosephsdews@kirkleeseducation.uk","01924 325327",null,null,null,null,null,null,null,null,null,null,null,null,null,null,null,"Not applicable","Not applicable",null,"Not under a federation",null,null,null,null,null,null,"Healds Road",null,null,"Dewsbury","West Yorkshire","WF13 4HY",null,1924325327,"Yorkshire and the Humber",null,null,"4-11",null,"Primary",null,"Mr","Kevin","Higgins",null,"Headteacher","Yorkshire and Humber"]
[107782,901,{"$error":"#NAME?"},382,"Kirklees",4613,"All Saints Catholic College Specialist in Humanities","HD2 2JT",null,"Voluntary Aided School","Open","Diocese of Leeds","16-78208478",null,"Debra Walker",null,"Debra","Walker","dwalker@aschc.com","01484 426466",null,null,null,null,null,null,null,null,null,null,null,null,null,null,null,"Not applicable","Not applicable",null,"Not under a federation",null,10000219,null,null,null,null,"Bradley Bar",null,null,"Huddersfield","West Yorkshire","HD2 2JT",null,1484426466,"Yorkshire and the Humber",null,null,"11-16",null,"Secondary",null,"Mr","Harry","Rowan",null,"Headteacher","Yorkshire and Humber"]
[107732,905,{"$error":"#NAME?"},382,"Kirklees",3304,"St Mary's Catholic Primary School, Batley","WF17 8PH",null,"Voluntary Aided School","Open","Diocese of Leeds","16-33647166",null,"Julia Riordan",null,"Julia","Riordan","office@stmarysbatley.co.uk","01924 472273",null,null,null,null,null,null,null,null,null,null,null,null,null,null,null,"Not applicable","Not applicable",null,"Not under a federation",null,null,null,null,null,null,"Upton Street",null,null,"Batley","West Yorkshire","WF17 8PH",null,1924472273,"Yorkshire and the Humber",null,null,"3-11",null,"Primary",null,"Mr","Harry","Rowan",null,"Headteacher","Yorkshire and Humber"]
[131836,908,{"$error":"#NAME?"},340,"Knowsley",3361,"St Joseph the Worker Catholic Primary School","L32 9PF",null,"Voluntary Aided School","Open","Archdiocese of Liverpool","17-77602094",null,"Judith Risley","Ms","Judith","Risley","stjosephtw@knowsley.gov.uk","01514 778173",null,null,null,null,null,null,null,null,null,null,null,null,null,null,null,"Not applicable","Not applicable",null,"Not under a federation",null,null,null,null,null,null,"Bewley Drive","Southdene","Kirkby","Liverpool","Merseyside","L32 9PF",null,1514778173,"North West",null,null,"3-11",null,"Primary",null,"Mr","Tony","McGuinness",null,"Headteacher","North West"]
[104480,911,{"$error":"#NAME?"},340,"Knowsley",3357,"St Columba's Catholic Primary School","L36 8BL",null,"Voluntary Aided School","Open","Archdiocese of Liverpool",{"$error":"#N/A"},null,"Debbie Askew",null,"Debbie","Askew","debbie.askew@knowsley.gov.uk","01514 778360",null,null,null,null,null,null,null,null,null,null,null,null,null,null,null,"Not applicable","Not applicable",null,"Not under a federation",null,null,null,null,null,null,"Hillside Road","Huyton","Knowsley","Liverpool","Merseyside","L36 8BL",null,1514778360,"North West",null,null,"3-11",null,"Primary",null,"Mrs","Janette","Cook-Hannah",null,"Headteacher","North West"]
[104459,915,{"$error":"#NAME?"},340,"Knowsley",3314,"Our Lady's Catholic Primary School","L34 6JJ",null,"Voluntary Aided School","Open","Archdiocese of Liverpool","17-95481442",null,"Mrs Rawsthorn","Mrs",null,"Rawsthorn","ourlady@knowsley.gov.uk","01514 778220",null,null,null,null,null,null,null,null,null,null,null,null,null,null,null,"Not applicable","Not applicable",null,"Not under a federation",null,null,null,null,null,null,"Ward Street",null,null,"Prescot","Merseyside","L34 6JJ",null,1514778220,"North West",null,null,"3-11",null,"Primary",null,"Mrs","Joanna","Mousley",null,"Headteacher","North West"]
[104470,919,{"$error":"#NAME?"},340,"Knowsley",3328,"St Andrew the Apostle Catholic Primary School","L26 1TD",null,"Voluntary Aided School","Open","Archdiocese of Liverpool","17-54289333",null,"Elaine Bakstad",null,"Elaine","Bakstad","standrew@knowsley.gov.uk","01512 888940",null,null,null,null,null,null,null,null,null,null,null,null,null,null,null,"Not applicable","Not applicable",null,"Not under a federation",null,null,null,null,null,null,"Higher Road","Halewood",null,"Liverpool","Merseyside","L26 1TD",null,1512888940,"North West",null,null,"3-11",null,"Primary",null,"Mrs","Maggie","Keating",null,"Headteacher","North West"]
[104477,920,{"$error":"#NAME?"},340,"Knowsley",3353,"St Anne's Catholic Primary School","L36 5XL",null,"Voluntary Aided School","Open","Archdiocese of Liverpool","17-14036434",null,"Cathy McCrystal",null,"Cathy","McCrystal","stanne@knowsley.gov.uk","01514 778260",null,null,null,null,null,null,null,null,null,null,null,null,null,null,null,"Not applicable","Not applicable",null,"Not under a federation",null,null,null,null,null,null,"Marina Crescent","Huyton",null,"Liverpool","Merseyside","L36 5XL",null,1514778260,"North West",null,null,"3-11",null,"Primary",null,"Mrs","R","Tyler",null,"Headteacher","North West"]
[104472,923,{"$error":"#NAME?"},340,"Knowsley",3340,"St Joseph's Catholic Primary School","L36 6DS",null,"Voluntary Aided School","Open","Archdiocese of Liverpool","17-13460759",null,"Mrs Ely","Mrs","Debbie","Ely","stjoseph@knowsley.gov.uk","01514 894072",null,null,null,null,null,null,null,null,null,null,null,null,null,null,null,"Not applicable","Not applicable",null,"Not under a federation",null,null,null,null,null,null,"Edenfield Crescent","Huyton",null,"Liverpool","Merseyside","L36 6DS",null,1514894072,"North West",null,null,"5-11",null,"Primary",null,"Mrs","Sue","McConnell",null,"Headteacher","North West"]
[104460,926,{"$error":"#NAME?"},340,"Knowsley",3315,"St Luke's Catholic Primary School","L35 5AT",null,"Voluntary Aided School","Open","Archdiocese of Liverpool","17-64963598",null,"Miss Evans","Miss","Kerry","Evans","stluke@knowsley.gov.uk","01514 778580",null,null,null,null,null,null,null,null,null,null,null,null,null,null,null,"Not applicable","Not applicable",null,"Not under a federation",null,null,null,null,null,null,"Shaw Lane",null,null,"Prescot","Merseyside","L35 5AT",null,1514778580,"North West",null,null,"3-11",null,"Primary",null,"Mrs","L","Byrne",null,"Headteacher","North West"]
[100623,932,{"$error":"#NAME?"},208,"Lambeth",3641,"St Helen's Catholic School","SW9 0TQ",null,"Voluntary Aided School","Open","Archdiocese of Southwark","26-11234857",null,"Mrs Fairman","Mrs",null,"Fairman","admin@st-helens.lambeth.gov.uk","02072 744343",null,null,null,null,null,null,null,null,null,null,null,null,null,null,null,"Not applicable","Not applicable",null,"Not under a federation",null,null,null,null,null,null,"Knowle Close","Brixton",null,"London",null,"SW9 0TQ",null,2072744343,"London",null,null,"3-11",null,"Primary",null,"Mrs","Ewa","Ostrynska",null,"Co-Headteacher","London"]
[137295,934,{"$error":"#NAME?"},208,"Lambeth",5202,"Corpus Christi Catholic Primary School","SW2 5BL","Corpus Christi Catholic Primary School","Academy Converter","Open","Archdiocese of Southwark","26-12717908",null,"Mrs Gonzalez-Ruiz","Mrs"," ","Gonzalez-Ruiz","office@corpuschristi.lambeth.sch.uk","02072 744722",null,null,null,null,null,null,null,null,null,null,null,null,null,null,null,"Supported by a single-academy trust","-",null,"Not applicable",null,10034566,null,null,null,null,"Trent Road",null,null,"London",null,"SW2 5BL",null,2072744722,"London",null,null,"3-11",null,"Primary",null,"Mrs","Denise","Assid",null,"Headteacher","London"]
[100628,937,{"$error":"#NAME?"},208,"Lambeth",5200,"St Bernadette Catholic Junior School","SW12 0AB",null,"Voluntary Aided School","Open","Archdiocese of Southwark","26-34128138",null,"Miss Walsh","Miss","Dawn","Walsh","office@st-bernadette-rc.lambeth.sch.uk","02086 732061",null,null,null,null,null,null,null,null,null,null,null,null,null,null,null,"Not applicable","Not applicable",null,"Not under a federation",null,null,null,null,null,null,"Atkins Road","Clapham Park",null,"London",null,"SW12 0AB",null,2086732061,"London",null,null,"7-11",null,"Primary",null,"Mr","D","Malins",null,"Headteacher","London"]
[119792,941,{"$error":"#NAME?"},888,"Lancashire",4631,"St Bede's Catholic High School","L39 4TA",null,"Voluntary Aided School","Open","Archdiocese of Liverpool","17-43637597",null,"Mrs Southworth","Mrs","Annette","Southworth","a.southworth@sbchs.co.uk","01695 570335",null,null,null,null,null,null,null,null,null,null,null,null,null,null,null,"Not applicable","Not applicable",null,"Not under a federation",null,10017582,null,null,null,null,"St Anne's Road",null,null,"Ormskirk","Lancashire","L39 4TA",null,1695570335,"North West",null,null,"11-16",null,"Secondary",null,"Miss","Kelly","Hannah",null,"Headteacher","North West"]
[119816,944,{"$error":"#NAME?"},888,"Lancashire",5407,"St Mary's Catholic High School","PR25 1BS",null,"Voluntary Aided School","Open","Archdiocese of Liverpool","17-90435324",null,"Mrs Martin","Mrs","L.","Martin","bursar@lsmchs.com","01772 421909",null,null,null,null,null,null,null,null,null,null,null,null,null,null,null,"Not applicable","Not applicable",null,"Not under a federation",null,10016238,null,null,null,null,"Royal Avenue",null,null,"Leyland","Lancashire","PR25 1BS",null,1772421909,"North West",null,null,"11-16",null,"Secondary",null,"Mrs","Claire","Griffin","B.Ed Npqh","Headteacher","North West"]
[119694,945,{"$error":"#NAME?"},888,"Lancashire",3831,"Our Lady and All Saints Roman Catholic Primary School, Parbold","WN8 7HD",null,"Voluntary Aided School","Open","Archdiocese of Liverpool","17-42174757",null,"Pam Andrews","Ms","Pam","Andrews","bursar@ourladyallsaints.lancs.sch.uk","01257 462466",null,null,null,null,null,null,null,null,null,null,null,null,null,null,null,"Not applicable","Not applicable",null,"Not under a federation",null,null,null,null,null,null,"Brandreth Drive","Parbold",null,"Wigan","Lancashire","WN8 7HD",null,1257462466,"North West",null,null,"4-11",null,"Primary",null,"Mr","Paul","Eaton","Ba Hons, M.Ed, Npqh","Headteacher","North West"]
[119489,949,{"$error":"#NAME?"},888,"Lancashire",3435,"St Mary Magdalene's Roman Catholic Primary School, Burnley","BB12 0JD",null,"Voluntary Aided School","Open","Diocese of Salford","24-83456632",null,"Mrs Peyton","Mrs","Rina","Peyton","bursar@st-marymagdalenesrc.lancs.sch.uk","01282 436880",null,null,null,null,null,null,null,null,null,null,null,null,null,null,null,"Not applicable","Not applicable",null,"Not under a federation",null,null,null,null,null,null,"Wellfield Drive",null,null,"Burnley","Lancashire","BB12 0JD",null,1282436880,"North West",null,null,"4-11",null,"Primary",null,"Mr","Damien","Callagher","Ba (Hons) Npqh","Headteacher","North West"]
[119654,952,{"$error":"#NAME?"},888,"Lancashire",3757,"Holy Saviour Roman Catholic Primary School, Nelson","BB9 8HD",null,"Voluntary Aided School","Open","Diocese of Salford","24-73053503",null,"Mrs Ascroft","Mrs","Liz","Ascroft","admin@holysaviour.lancs.sch.uk","01282 612319",null,null,null,null,null,null,null,null,null,null,null,null,null,null,null,"Not applicable","Not applicable",null,"Not under a federation",null,null,null,null,null,null,"Holland Place","Off Reedyford Road",null,"Nelson","Lancashire","BB9 8HD",null,1282612319,"North West",null,null,"5-11",null,"Primary",null,"Mr","M","FitzGibbon","Ba Qts","Headteacher","North West"]
[119672,956,{"$error":"#NAME?"},888,"Lancashire",3786,"St Mary's Catholic Primary School and Nursery, Chorley","PR7 2RJ",null,"Voluntary Aided School","Open","Archdiocese of Liverpool","17-55764848",null,"Mrs Lyons","Mrs",null,"Lyons","bursar@chorleystmarys.lancs.sch.uk","01257 262811",null,null,null,null,null,null,null,null,null,null,null,null,null,null,null,"Not applicable","Not applicable",null,"Not under a federation",null,null,null,null,null,null,"Hornchurch Drive",null,null,"Chorley","Lancashire","PR7 2RJ",null,1257262811,"North West",null,null,"3-11",null,"Primary",null,"Mrs","Annalisa","Howarth",null,"Headteacher","North West"]
[119611,959,{"$error":"#NAME?"},888,"Lancashire",3653,"Holy Family Catholic Primary School, Ingol, Preston","PR2 3YP",null,"Voluntary Aided School","Open","Diocese of Lancaster","15-62553571",null,"Debbie Harrison",null,"Debbie","Harrison","bursar@holy-family.lancs.sch.uk","01772 727471",null,null,null,null,null,null,null,null,null,null,null,null,null,null,null,"Not applicable","Not applicable",null,"Not under a federation",null,null,null,null,null,null,"59 Whitby Avenue","Ingol",null,"Preston","Lancashire","PR2 3YP",null,1772727471,"North West",null,null,"3-11",null,"Primary",null,"Mrs","M","Lyle","Bed","Headteacher","North West"]
[119637,962,{"$error":"#NAME?"},888,"Lancashire",3729,"St Oswald's Catholic Primary School, Longton","PR4 5EB",null,"Voluntary Aided School","Open","Archdiocese of Liverpool","17-74797621",null,"Kay Bowe",null,"Kay","Bowe","bursar@longton-st-oswalds.lancs.sch.uk","01772 613402",null,null,null,null,null,null,null,null,null,null,null,null,null,null,null,"Not applicable","Not applicable",null,"Not under a federation",null,null,null,null,null,null,"Chapel Lane","Longton",null,"Preston","Lancashire","PR4 5EB",null,1772613402,"North West",null,null,"4-11",null,"Primary",null,"Miss","Patricia","Coulthard",null,"Headteacher","North West"]
[119579,967,{"$error":"#NAME?"},888,"Lancashire",3601,"Our Lady and St Edward's Catholic Primary School, Preston","PR2 3LP",null,"Voluntary Aided School","Open","Diocese of Lancaster","15-76914163",null,"Mrs Kippax","Mrs",null,"Kippax","bursar@ourlady-st-edwards.lancs.sch.uk","01772 862305",null,null,null,null,null,null,null,null,null,null,null,null,null,null,null,"Not applicable","Not applicable",null,"Not under a federation",null,null,null,null,null,null,"Lightfoot Lane","Fulwood",null,"Preston","Lancashire","PR2 3LP",null,1772862305,"North West",null,null,"5-11",null,"Primary",null,"Mrs","Annette","Robinson",null,"Headteacher","North West"]
[119670,970,{"$error":"#NAME?"},888,"Lancashire",3783,"Sacred Heart Catholic Primary School, Chorley","PR6 0LB",null,"Voluntary Aided School","Open","Archdiocese of Liverpool","17-52640850",null,"Hayley Bamford",null,"Hayley","Bamford","bursar@sacredheart-chorley.lancs.sch.uk","01257 262659",null,null,null,null,null,null,null,null,null,null,null,null,null,null,null,"Not applicable","Not applicable",null,"Not under a federation",null,null,null,null,null,null,"Brooke Street",null,null,"Chorley","Lancashire","PR6 0LB",null,1257262659,"North West",null,null,"3-11",null,"Primary",null,"Mr","M","Wright","MA","Headteacher","North West"]
[119801,971,{"$error":"#NAME?"},888,"Lancashire",4725,"St Augustine's Roman Catholic High School, Billington","BB7 9JA",null,"Voluntary Aided School","Open","Diocese of Salford","24-99277461",null,"Ms Desai","Ms","Yasmin","Desai","bursar@sarchs.com","01254 823362",null,null,null,null,null,null,null,null,null,null,null,null,null,null,null,"Not applicable","Not applicable",null,"Not under a federation",null,10017601,null,null,null,null,"Elker Lane","Billington",null,"Clitheroe","Lancashire","BB7 9JA",null,1254823362,"North West",null,null,"11-16",null,"Secondary",null,"Mr","Darren","Mussell","B.Ed (Hons)","Headteacher","North West"]
[119704,974,{"$error":"#NAME?"},888,"Lancashire",3981,"St Mary's and St Benedict's Roman Catholic Primary School","PR5 6TA",null,"Voluntary Aided School","Open","Diocese of Salford","24-10503720",null,"Mrs Altham","Mrs","Jackie","Altham","bursar@smsb.lancs.sch.uk","01772 336650",null,null,null,null,null,null,null,null,null,null,null,null,null,null,null,"Not applicable","Not applicable",null,"Not under a federation",null,null,null,null,null,null,"Brownedge Lane","Bamber Bridge",null,"Preston","Lancashire","PR5 6TA",null,1772336650,"North West",null,null,"4-11",null,"Primary",null,"Mrs","Zoe","Mabbott","Bed Hons, Npqh","Headteacher","North West"]
[119584,979,{"$error":"#NAME?"},888,"Lancashire",3607,"St Bernadette's Catholic Primary School, Lancaster","LA1 4HT",null,"Voluntary Aided School","Open","Diocese of Lancaster","15-95998649",null,"Mrs Postlethwaite","Mrs","Julia","Postlethwaite","bursar@st-bernadettes.lancs.sch.uk","01524 63934",null,null,null,null,null,null,null,null,null,null,null,null,null,null,null,"Not applicable","Not applicable",null,"Not under a federation",null,null,null,null,null,null,"Bowerham Road",null,null,"Lancaster","Lancashire","LA1 4HT",null,152463934,"North West",null,null,"4-11",null,"Primary",null,"Mrs","Mia","Barlow",null,"Headteacher","North West"]
[119800,982,{"$error":"#NAME?"},888,"Lancashire",4721,"St Cecilia's RC High School","PR3 2XA",null,"Voluntary Aided School","Open","Diocese of Salford","24-59047207",null,"Mrs O'Neil","Mrs","J","O'Neil","bursar@st-cecilias.lancs.sch.uk","01772 783074",null,null,null,null,null,null,null,null,null,null,null,null,null,null,null,"Not applicable","Not applicable",null,"Not under a federation",null,10016913,null,null,null,null,"Chapel Hill","Longridge",null,"Preston","Lancashire","PR3 2XA",null,1772783074,"North West",null,null,"11-16",null,"Secondary",null,"Mr","John","Riley",null,"Headteacher","North West"]
[119592,985,{"$error":"#NAME?"},888,"Lancashire",3618,"St Edmund's Catholic Primary School","WN8 8NP",null,"Voluntary Aided School","Open","Archdiocese of Liverpool","17-59710795",null,"Ann Wylie",null,"Ann","Wylie","bursar@st-edmunds.lancs.sch.uk","01695 724798",null,null,null,null,null,null,null,null,null,null,null,null,null,null,null,"Not applicable","Not applicable",null,"Not under a federation",null,null,null,null,null,null,"Windrows","New Church Farm",null,"Skelmersdale","Lancashire","WN8 8NP",null,1695724798,"North West",null,null,"3-11",null,"Primary",null,"Miss","Sarah","Deakin",null,"Headteacher","North West"]
[119588,989,{"$error":"#NAME?"},888,"Lancashire",3614,"St James' Catholic Primary School, Skelmersdale","WN8 6TN",null,"Voluntary Aided School","Open","Archdiocese of Liverpool","17-65149061",null,"Helen Tedford",null,"Helen","Tedford","bursar@st-james-pri.lancs.sch.uk","01695 728989",null,null,null,null,null,null,null,null,null,null,null,null,null,null,null,"Not applicable","Not applicable",null,"Not under a federation",null,null,null,null,null,null,"Ashurst Road","Ashurst",null,"Skelmersdale","Lancashire","WN8 6TN",null,1695728989,"North West",null,null,"3-11",null,"Primary",null,"Mrs","Kathleen","McKeating",null,"Headteacher","North West"]
[119669,992,{"$error":"#NAME?"},888,"Lancashire",3782,"St Joseph's Catholic Primary School, Brindle","PR5 0DQ",null,"Voluntary Aided School","Open","Archdiocese of Liverpool","17-97970474",null,"Angela Macleod",null,"Angela","Macleod","bursar@st-josephs-anderton.lancs.sch.uk","01254 853473",null,null,null,null,null,null,null,null,null,null,null,null,null,null,null,"Not applicable","Not applicable",null,"Not under a federation",null,null,null,null,null,null,"Bournes Row","Gregson Lane","Hoghton","Preston","Lancashire","PR5 0DQ",null,1254853473,"North West",null,null,"4-11",null,"Primary",null,"Mrs","Moya","Smith","Bs (Hons)","Headteacher","North West"]
[119696,996,{"$error":"#NAME?"},888,"Lancashire",3834,"St Joseph's Catholic Primary School, Wrightington","WN6 9RE",null,"Voluntary Aided School","Open","Archdiocese of Liverpool","17-23290532",null,"Alison Massam",null,"Alison","Massam","bursar@st-jospehs-wrightington.lancs.sch.uk","01257 423092",null,null,null,null,null,null,null,null,null,null,null,null,null,null,null,"Not applicable","Not applicable",null,"Not under a federation",null,null,null,null,null,null,"Mossy Lea Road","Wrightington",null,"Wigan","Lancashire","WN6 9RE",null,1257423092,"North West",null,null,"3-11",null,"Primary",null,null,"Elaine","Chambers",null,"Headteacher","North West"]
[119608,997,{"$error":"#NAME?"},888,"Lancashire",3645,"St Maria Goretti Catholic Primary School, Preston","PR2 6SJ",null,"Voluntary Aided School","Open","Diocese of Lancaster","15-35830601",null,"Janet Corker",null,"Janet","Corker","bursar@st-mariagoretti.lancs.sch.uk","01772 700052",null,null,null,null,null,null,null,null,null,null,null,null,null,null,null,"Not applicable","Not applicable",null,"Not under a federation",null,null,null,null,null,null,"Gamull Lane","Ribbleton",null,"Preston","Lancashire","PR2 6SJ",null,1772700052,"North West",null,null,"3-11",null,"Primary",null,null,"Diane","Gallagher",null,"Headteacher","North West"]
[119703,1000,{"$error":"#NAME?"},888,"Lancashire",3980,"St Mary's Roman Catholic Primary School, Burnley","BB10 4BH",null,"Voluntary Aided School","Open","Diocese of Salford","24-50555141",null,"Ms Llewellyn-Evans","Ms","Michelle","Llewellyn-Evans","bursar@st-marys-burnley.lancs.sch.uk","01282 427546",null,null,null,null,null,null,null,null,null,null,null,null,null,null,null,"Not applicable","Not applicable",null,"Not under a federation",null,null,null,null,null,null,"Holcombe Drive",null,null,"Burnley","Lancashire","BB10 4BH",null,1282427546,"North West",null,null,"3-11",null,"Primary",null,"Mrs","Janet","Butterworth",null,"Executive Headteacher","North West"]
[119623,1003,{"$error":"#NAME?"},888,"Lancashire",3709,"St Mary's Catholic Primary School, Fleetwood","FY7 6EU",null,"Voluntary Aided School","Open","Diocese of Lancaster","15-33400175",null,"Karen Chew",null,"Karen","Chew","bursar@st-marys-fleetwood.lancs.sch.uk","01253 878445",null,null,null,null,null,null,null,null,null,null,null,null,null,null,null,"Not applicable","Not applicable",null,"Not under a federation",null,null,null,null,null,null,"London Street",null,null,"Fleetwood","Lancashire","FY7 6EU",null,1253878445,"North West",null,null,"5-11",null,"Primary",null,"Mr","David","Ramsay",null,"Headteacher","North West"]
[119622,1009,{"$error":"#NAME?"},888,"Lancashire",3707,"St Mary's Catholic Primary School, Morecambe","LA4 5PS",null,"Voluntary Aided School","Open","Diocese of Lancaster","15-18944294",null,"Jackie Broadley",null,"Jackie","Broadley","bursar@st-marys-morecambe.lancs.sch.uk","01524 413032",null,null,null,null,null,null,null,null,null,null,null,null,null,null,null,"Not applicable","Not applicable",null,"Not under a federation",null,null,null,null,null,null,"Coniston Road",null,null,"Morecambe","Lancashire","LA4 5PS",null,1524413032,"North West",null,null,"4-11",null,"Primary",null,null,"Lesley","Pemberton",null,"Headteacher","North West"]
[119651,1011,{"$error":"#NAME?"},888,"Lancashire",3753,"St Mary's Roman Catholic Primary School, Sabden","BB7 9ED",null,"Voluntary Aided School","Open","Diocese of Salford","24-66408727",null,"Mrs Thorp","Mrs","Amanda","Thorp","bursar@st-marys-sabden.lancs.sch.uk","01282 771009",null,null,null,null,null,null,null,null,null,null,null,null,null,null,null,"Not applicable","Not applicable",null,"Not under a federation",null,null,null,null,null,null,"Watt Street","Sabden",null,"Clitheroe","Lancashire","BB7 9ED",null,1282771009,"North West",null,null,"4-11",null,"Primary",null,"Mr","Mark","Nolan","Ma Med Ba Hons","Headteacher","North West"]
[119817,1015,{"$error":"#NAME?"},888,"Lancashire",6000,"Stonyhurst College","BB7 9PZ",null,"Other Independent School","Open","Diocese of Salford","24-78138927",null,"Mr Ridley","Mr","Julian","Ridley","bursar@stonyhurst.ac.uk","01254 826345",null,null,null,null,null,null,null,null,null,null,null,null,null,null,null,"Not applicable","Not applicable",null,"Not applicable",null,10017658,null,null,null,null,"Stonyhurst",null,null,"Clitheroe","Lancashire","BB7 9PZ",null,1254826345,"North West",null,null,"3-18",null,"Secondary",null,"Mrs","Elizabeth","Green",null,"Headteacher","North West"]
[119583,1018,{"$error":"#NAME?"},888,"Lancashire",3605,"St Patrick's Catholic Primary School","LA3 2ER",null,"Voluntary Aided School","Open","Diocese of Lancaster","15-86610762",null,"Mrs Plunkett","Mrs",null,"Plunkett","bursar@st-patricks-pri.lancs.sch.uk","01524 851766",null,null,null,null,null,null,null,null,null,null,null,null,null,null,null,"Not applicable","Not applicable",null,"Not under a federation",null,null,null,null,null,null,"Littledale Avenue","Heysham",null,"Morecambe","Lancashire","LA3 2ER",null,1524851766,"North West",null,null,"5-11",null,"Primary",null,"Mrs","Helen","Sullivan",null,"Headteacher","North West"]
[119699,1021,{"$error":"#NAME?"},888,"Lancashire",3953,"Penwortham, St Teresa's Catholic Primary School","PR1 0JH",null,"Voluntary Aided School","Open","Archdiocese of Liverpool","15-20242916",null,"Mr Lewis","Mr","David","Lewis","sbm@st-teresas-penwortham.lancs.sch.uk","01772 742331",null,null,null,null,null,null,null,null,null,null,null,null,null,null,null,"Not applicable","Not applicable",null,"Not under a federation",null,null,null,null,null,null,"Stanley Grove","Penwortham",null,"Preston","Lancashire","PR1 0JH",null,1772742331,"North West",null,null,"4-11",null,"Primary",null,"Mrs","Rosemarie","Hughes",null,"Headteacher","North West"]
[119700,1022,{"$error":"#NAME?"},888,"Lancashire",3954,"St Teresa's Catholic Primary School, Preston","PR1 4RH",null,"Voluntary Aided School","Open","Diocese of Lancaster","15-28698917",null,"Elaine Maguire",null,"Elaine","Maguire","bursar@st-teresas-pri.lancs.sch.uk","01772 797397",null,null,null,null,null,null,null,null,null,null,null,null,null,null,null,"Not applicable","Not applicable",null,"Not under a federation",null,null,null,null,null,null,"Downing Street",null,null,"Preston","Lancashire","PR1 4RH",null,1772797397,"North West",null,null,"3-11",null,"Primary",null,"Mrs","C M","Rigby",null,"Headteacher","North West"]
[119626,1026,{"$error":"#NAME?"},888,"Lancashire",3713,"The Willows Catholic Primary School, Kirkham","PR4 2BT",null,"Voluntary Aided School","Open","Diocese of Lancaster","15-73116211",null,"Mrs Barnes","Mrs","Helen ","Barnes","bursar@willows.lancs.sch.uk","01772 684371",null,null,null,null,null,null,null,null,null,null,null,null,null,null,null,"Not applicable","Not applicable",null,"Not under a federation",null,null,null,null,null,null,"Victoria Road","Kirkham",null,"Preston","Lancashire","PR4 2BT",null,1772684371,"North West",null,null,"4-11",null,"Primary",null,"Mr","JS","White",null,"Headteacher","North West"]
[119624,1030,{"$error":"#NAME?"},888,"Lancashire",3711,"St Wulstan's and St Edmund's Catholic Primary School and Nursery","FY7 7JY",null,"Voluntary Aided School","Open","Diocese of Lancaster","15-88169157",null,"Lynn Kerr",null,"Lynn","Kerr","enquries@st-wulstans.lancs.sch.uk","01253 874785",null,null,null,null,null,null,null,null,null,null,null,null,null,null,null,"Not applicable","Not applicable",null,"Not under a federation",null,null,null,null,null,null,"Poulton Road",null,null,"Fleetwood","Lancashire","FY7 7JY",null,1253874785,"North West",null,null,"3-11",null,"Primary",null,"Mrs","Fiona","Brownsey",null,"Headteacher","North West"]
[119589,1033,{"$error":"#NAME?"},888,"Lancashire",3615,"St Veronica's Roman Catholic Primary School, Helmshore","BB4 4EZ",null,"Voluntary Aided School","Open","Diocese of Salford","24-12669282",null,"Nicola  White",null,"Nicola ","White","head@st-veronicas.lancs.sch.uk","01706 226315",null,null,null,null,null,null,null,null,null,null,null,null,null,null,null,"Not applicable","Not applicable",null,"Not under a federation",null,null,null,null,null,null,"Raven Avenue","Helmshore",null,"Rossendale","Lancashire","BB4 4EZ",null,1706226315,"North West",null,null,"4-11",null,"Primary",null,"Mr","Andrew","Cafferkey",null,"Headteacher","North West"]
[119797,1036,{"$error":"#NAME?"},888,"Lancashire",4709,"All Saints' Roman Catholic High School, Rossendale","BB4 6SJ",null,"Voluntary Aided School","Open","Diocese of Salford","24-90521313",null,"Mrs Adams","Mrs","Margaret","Adams","m.adams@allsaintshigh.lancs.sch.uk","01706 213693",null,null,null,null,null,null,null,null,null,null,null,null,null,null,null,"Not applicable","Not applicable",null,"Not under a federation",null,10014985,null,null,null,null,"Haslingden Road","Rawtenstall",null,"Rossendale","Lancashire","BB4 6SJ",null,1706213693,"North West",null,null,"11-16",null,"Secondary",null,"Mrs","S","Baker",null,"Headteacher","North West"]
[131683,1039,{"$error":"#NAME?"},888,"Lancashire",2015,"St John the Baptist Roman Catholic Primary School","BB10 2PZ",null,"Voluntary Aided School","Open","Diocese of Salford","24-41292469",null,"Ms Manley","Ms","Anne-Marie","Manley","office@stjohns.lancs.sch.uk","01282 438120",null,null,null,null,null,null,null,null,null,null,null,null,null,null,null,"Not applicable","Not applicable",null,"Not under a federation",null,null,null,null,null,null,"Thames Avenue",null,null,"Burnley","Lancashire","BB10 2PZ",null,1282438120,"North West",null,null,"4-11",null,"Primary",null,"Miss","A","Knight",null,"Headteacher","North West"]
[134997,1044,{"$error":"#NAME?"},888,"Lancashire",4804,"Blessed Trinity RC College","BB10 3AA",null,"Voluntary Aided School","Open","Diocese of Salford","24-96513103",null,"Ms Cusick","Ms","Helen","Cusick","hcusick@btrcc.lancs.sch.uk","01282 506200",null,null,null,null,null,null,null,null,null,null,null,null,null,null,null,"Not applicable","Not applicable",null,"Not under a federation",null,10014883,null,null,null,null,"Ormerod Road",null,null,"Burnley","Lancashire","BB10 3AA",null,1282506200,"North West",null,null,"11-16",null,"Secondary",null,"Mrs","Catherine","Barnes",null,"Headteacher","North West"]
[119658,1047,{"$error":"#NAME?"},888,"Lancashire",3764,"Sacred Heart Roman Catholic Primary School, Church","BB5 4HG",null,"Voluntary Aided School","Open","Diocese of Salford","24-17262476",null,"School Office","School Office",null,null,"head@sacredheart-church.lancs.sch.uk","01254 233382",null,null,null,null,null,null,null,null,null,null,null,null,null,null,null,"Not applicable","Not applicable",null,"Not under a federation",null,null,null,null,null,null,"Bradshaw Row","Church",null,"Accrington","Lancashire","BB5 4HG",null,1254233382,"North West",null,null,"3-11",null,"Primary",null,"Mr","Vincent","Murray","Bed Npqh","Headteacher","North West"]
[119645,1048,{"$error":"#NAME?"},888,"Lancashire",3746,"St Hubert's Roman Catholic Primary School, Great Harwood","BB6 7SN",null,"Voluntary Aided School","Open","Diocese of Salford","24-27372211",null,"Mrs Lund ","Administrator","Mrs Lund",null,"head@ourlady-st-huberts.lancs.sch.uk","01254 885778",null,null,null,null,null,null,null,null,null,null,null,null,null,null,null,"Not applicable","Not applicable",null,"Supported by a federation","St Hubert's with St Wulstan's RC Federation",null,null,null,null,null,"Harwood Lane","Great Harwood",null,"Blackburn","Lancashire","BB6 7SN",null,1254885778,"North West",null,null,"4-11",null,"Primary",null,"Mr","John","Robertshaw",null,"Headteacher","North West"]
[119631,1051,{"$error":"#NAME?"},888,"Lancashire",3719,"St John's Catholic Primary School, Poulton-le-Fylde","FY6 7HT",null,"Voluntary Aided School","Open","Diocese of Lancaster","15-66114741",null,"Miss Desborough","Miss","E","Desborough","head@poulton-st-johns.lancs.sch.uk","01253 883690",null,null,null,null,null,null,null,null,null,null,null,null,null,null,null,"Not applicable","Not applicable",null,"Not under a federation",null,null,null,null,null,null,"Breck Road",null,null,"Poulton-le-Fylde","Lancashire","FY6 7HT",null,1253883690,"North West",null,null,"5-11",null,"Primary",null,"Miss","Jan","Hornby",null,"Headteacher","North West"]
[119607,1056,{"$error":"#NAME?"},888,"Lancashire",3643,"St Augustine's Catholic Primary School","PR1 3YJ",null,"Voluntary Aided School","Open","Diocese of Lancaster","15-50955059",null,"Mrs Fishwick","Mrs","Louise","Fishwick","bursar@st-augustines-pri.lancs.sch.uk","01772 253851",null,null,null,null,null,null,null,null,null,null,null,null,null,null,null,"Not applicable","Not applicable",null,"Not under a federation",null,null,null,null,null,null,"St Austin's Place","Avenham",null,"Preston","Lancashire","PR1 3YJ",null,1772253851,"North West",null,null,"5-11",null,"Primary",null,"Mrs","Catherine","Monaghan",null,"Headteacher","North West"]
[119780,1059,{"$error":"#NAME?"},888,"Lancashire",4609,"Corpus Christi Catholic High School","PR2 8QY",null,"Voluntary Aided School","Open","Diocese of Lancaster","15-55080034",null,"School Office","School Office",null,null,"admin@ccc.lancs.sch.uk","01772 716912",null,null,null,null,null,null,null,null,null,null,null,null,null,null,null,"Not applicable","Not applicable",null,"Not under a federation",null,10015269,null,null,null,null,"St Vincent's Road","Fulwood",null,"Preston","Lancashire","PR2 8QY",null,1772716912,"North West",null,null,"11-16",null,"Secondary",null,"Miss","B","Banks",null,"Headteacher","North West"]
[119643,1062,{"$error":"#NAME?"},888,"Lancashire",3743,"St Mary's Roman Catholic Primary School, Chipping","PR3 2QH",null,"Voluntary Aided School","Open","Diocese of Salford","24-94919469",null,"Lisa Cookson ","School Office","Lisa Cookson",null,"head@st-marys-chipping.lancs.sch.uk","01995 61367",null,null,null,null,null,null,null,null,null,null,null,null,null,null,null,"Not applicable","Not applicable",null,"Not under a federation",null,null,null,null,null,null,"Club Lane","Chipping",null,"Preston","Lancashire","PR3 2QH",null,199561367,"North West",null,null,"4-11",null,"Primary",null,null,"John","Mchugh",null,"Headteacher","North West"]
[119639,1066,{"$error":"#NAME?"},888,"Lancashire",3736,"Our Lady and St Gerard's Roman Catholic Primary School, Lostock Hall","PR5 5TB",null,"Voluntary Aided School","Open","Diocese of Salford","24-24081987",null,"School Richards","School","Mrs","Richards","head@ourlady-st-gerards.lancs.sch.uk","01772 335025",null,null,null,null,null,null,null,null,null,null,null,null,null,null,null,"Not applicable","Not applicable",null,"Not under a federation",null,null,null,null,null,null,"Lourdes Avenue","Lostock Hall",null,"Preston","Lancashire","PR5 5TB",null,1772335025,"North West",null,null,"3-11",null,"Primary",null,"Mrs","Julie","McGrath",null,"Headteacher","Yorkshire and Humber"]
[108023,1069,{"$error":"#NAME?"},383,"Leeds",3369,"Christ The King Catholic Primary School","LS13 2DX",null,"Voluntary Aided School","Open","Diocese of Leeds","16-37093646",null,"Mrs Sugden","Mrs","Ann","Sugden","a.sugden@ctkcps.org.uk","01132 579230",null,null,null,null,null,null,null,null,null,null,null,null,null,null,null,"Not applicable","Not applicable",null,"Not under a federation",null,null,null,null,null,null,"Kings Approach","Bramley",null,"Leeds","West Yorkshire","LS13 2DX",null,1132579230,"Yorkshire and the Humber",null,null,"5-11",null,"Primary",null,"Mr","Darren","Beardsley",null,"Headteacher","Yorkshire and Humber"]
[139354,1073,{"$error":"#NAME?"},383,"Leeds",3363,"Ss. Peter and Paul Catholic Primary School, a Voluntary Academy","LS19 7HW","The Bishop Wheeler Catholic Academy Trust","Academy Converter","Open","Diocese of Leeds","16-36154000",null,"School Business Manager ","School Business Manager",null,null,"ssppyeadon@leedslearning.net","01133 230419",null,null,null,null,null,null,null,null,null,null,null,null,null,null,null,"Supported by a multi-academy trust","Linked to a sponsor","The Bishop Wheeler Catholic Academy Trust","Not applicable",null,10041034,null,null,null,null,"Crofters Lea","Off New Road","Yeadon","Leeds","West Yorkshire","LS19 7HW",null,1133230419,"Yorkshire and the Humber",null,null,"4-11",null,"Primary",null,"Mr","Peter","Hughes",null,"Executive Headteacher","Yorkshire and Humber"]
[139352,1074,{"$error":"#NAME?"},383,"Leeds",3359,"St Mary's Catholic Primary School, Horsforth","LS18 5AB","The Bishop Wheeler Catholic Academy Trust","Academy Converter","Open","Diocese of Leeds","16-52575446",null,"Fleur Doidge",null,"Fleur","Doidge","office@stmaryshorsforth.org","01132 584593",null,null,null,null,null,null,null,null,null,null,null,null,null,null,null,"Supported by a multi-academy trust","Linked to a sponsor","The Bishop Wheeler Catholic Academy Trust","Not applicable",null,10040645,null,null,null,null,"Broadgate Lane","Horsforth",null,"Leeds","West Yorkshire","LS18 5AB",null,1132584593,"Yorkshire and the Humber",null,null,"5-11",null,"Primary",null,"Mr","Peter","Hughes",null,"Executive Headteacher","Yorkshire and Humber"]
[108024,1077,{"$error":"#NAME?"},383,"Leeds",3370,"Corpus Christi Catholic Primary School","LS9 0HA",null,"Voluntary Aided School","Open","Diocese of Leeds","16-62220340",null,"School Office","School Office",null,null,"admin@corpusprimaryleeds.org","01132 483095",null,null,null,null,null,null,null,null,null,null,null,null,null,null,null,"Not applicable","Not applicable",null,"Not under a federation",null,null,null,null,null,null,"Halton Moor Avenue",null,null,"Leeds","West Yorkshire","LS9 0HA",null,1132483095,"Yorkshire and the Humber",null,null,"4-11",null,"Primary",null,"Mr","Terry","Coen",null,"Principal","Yorkshire and Humber"]
[108027,1081,{"$error":"#NAME?"},383,"Leeds",3373,"St Urban's Catholic Primary School","LS6 4QD",null,"Voluntary Aided School","Open","Diocese of Leeds","16-41144420",null,"Julie Clements",null,"Julie","Clements","info@sturbans.co.uk","01132 934477",null,null,null,null,null,null,null,null,null,null,null,null,null,null,null,"Not applicable","Not applicable",null,"Not under a federation",null,10062086,null,null,null,null,"Tongue Lane",null,null,"Leeds","West Yorkshire","LS6 4QD",null,1132934477,"Yorkshire and the Humber",null,null,"5-11",null,"Primary",null,"Mr","M","Cooper",null,"Headteacher","Yorkshire and Humber"]
[108031,1086,{"$error":"#NAME?"},383,"Leeds",3377,"Sacred Heart Catholic Primary School","LS4 2TF",null,"Voluntary Aided School","Open","Diocese of Leeds","16-15183059",null,"Cecilia Mcbrinn",null,"Cecilia","Mcbrinn","office@sacredheartleeds.org.uk","01133 368003",null,null,null,null,null,null,null,null,null,null,null,null,null,null,null,"Not applicable","Not applicable",null,"Not under a federation",null,null,null,null,null,null,"Eden Way","Argie Avenue",null,"Leeds","West Yorkshire","LS4 2TF",null,1133368003,"Yorkshire and the Humber",null,null,"4-11",null,"Primary",null,"Miss","Christine","McHale",null,"Headteacher","Yorkshire and Humber"]
[108012,1088,{"$error":"#NAME?"},383,"Leeds",3358,"St Edward's Catholic Primary School, Boston Spa","LS23 6DL",null,"Voluntary Aided School","Open","Diocese of Leeds","16-73360082",null,"Olga Bracewell",null,"Olga","Bracewell","olga.bracewell@stf.st-edwards.leeds.sch.uk","01937 843946",null,null,null,null,null,null,null,null,null,null,null,null,null,null,null,"Not applicable","Not applicable",null,"Not under a federation",null,null,null,null,null,null,"Westwood Way","Boston Spa",null,"Wetherby","West Yorkshire","LS23 6DL",null,1937843946,"Yorkshire and the Humber",null,null,"4-11",null,"Primary",null,"Miss","Louise","Milivojevic",null,"Headteacher","Yorkshire and Humber"]
[108021,1092,{"$error":"#NAME?"},383,"Leeds",3367,"St Anthony's Catholic Primary School, Beeston","LS11 7JS",null,"Voluntary Aided School","Open","Diocese of Leeds","16-51355731",null,"Miss Leonard","Miss","Lisa","Leonard","leonarls01@leedslearning.net","01132 776944",null,null,null,null,null,null,null,null,null,null,null,null,null,null,null,"Not applicable","Not applicable",null,"Not under a federation",null,null,null,null,null,null,"Barkly Road","Beeston",null,"Leeds","West Yorkshire","LS11 7JS",null,1132776944,"Yorkshire and the Humber",null,null,"4-11",null,"Primary",null,null,"Peter","McQuillen Strong",null,"Headteacher","Yorkshire and Humber"]
[108018,1095,{"$error":"#NAME?"},383,"Leeds",3364,"Rothwell St Mary's RC Primary School","LS26 0BJ",null,"Voluntary Aided School","Open","Diocese of Leeds","16-53710006",null,"Ms Macpherson","Ms","Helen ","Macpherson","","01132 828182",null,null,null,null,null,null,null,null,null,null,null,null,null,null,null,"Not applicable","Not applicable",null,"Not under a federation",null,null,null,null,null,null,"Royds Lane","Rothwell",null,"Leeds","West Yorkshire","LS26 0BJ",null,1132828182,"Yorkshire and the Humber",null,null,"4-11",null,"Primary",null,"Mrs","Rose","Harrison",null,"Headteacher","Yorkshire and Humber"]
[108016,1096,{"$error":"#NAME?"},383,"Leeds",3362,"St Francis Catholic Primary School, Morley","LS27 9LX",null,"Voluntary Aided School","Open","Diocese of Leeds","16-54568147",null,"School Office","School Office",null,null,"j.whitfield@stfrancismorley.org.uk","01133 230554",null,null,null,null,null,null,null,null,null,null,null,null,null,null,null,"Not applicable","Not applicable",null,"Not under a federation",null,null,null,null,null,null,"Highcliffe Road","Morley",null,"Leeds","West Yorkshire","LS27 9LX",null,1133230554,"Yorkshire and the Humber",null,null,"3-11",null,"Primary",null,null,"Elizabeth","Richardson",null,"Headteacher","Yorkshire and Humber"]
[108120,1099,{"$error":"#NAME?"},383,"Leeds",7016,"St John's Catholic School for the Deaf (Boston Spa)","LS23 6DF",null,"Non-Maintained Special School","Open","Diocese of Leeds","16-22503021",null,"Ms Lydon","Ms","","Lydon","info@stjohns.org.uk","01937 842144",null,null,null,null,null,null,null,null,null,null,null,null,null,null,null,"Not applicable","Not applicable",null,"Not applicable",null,10006283,null,null,null,null,"Church Street","Boston Spa",null,"Wetherby","West Yorkshire","LS23 6DF",null,1937842144,"Yorkshire and the Humber",null,null,"3-19",null,"Secondary",null,"Mrs","Catherine","Hayles",null,"Headteacher","East Midlands"]
[120307,1103,{"$error":"#NAME?"},856,"Leicester",4723,"Saint Paul's Catholic School","LE5 6HN",null,"Voluntary Aided School","Open","Diocese of Nottingham","21-34781141",null,"Mr Holden","Mr","J","Holden","holt.j@allsaints.notts.sch.uk","01162 414057",null,null,null,null,null,null,null,null,null,null,null,null,null,null,null,"Not applicable","Not applicable",null,"Not under a federation",null,10005637,null,null,null,null,"Spencefield Lane",null,null,"Leicester","Leicestershire","LE5 6HN",null,1162414057,"East Midlands",null,null,"11-18",null,"Secondary",null,"Mr","Martin","Fitzwilliam",null,"Headteacher","East Midlands"]
[120223,1107,{"$error":"#NAME?"},856,"Leicester",3423,"Saint Patrick's Catholic Primary School","LE4 6QN",null,"Voluntary Aided School","Open","Diocese of Nottingham","21-98861464",null,"School Office","School Office",null,null,"school.office@st-patricks.leicester.sch.uk","01162 661149",null,null,null,null,null,null,null,null,null,null,null,null,null,null,null,"Not applicable","Not applicable",null,"Not under a federation",null,null,null,null,null,null,"Harrison Road",null,null,"Leicester","Leicestershire","LE4 6QN",null,1162661149,"East Midlands",null,null,"3-11",null,"Primary",null,"Mrs","Siobhan","Minford",null,"Headteacher","East Midlands"]
[138299,1110,{"$error":"#NAME?"},855,"Leicestershire",3339,"Saint Winefride's Catholic Primary School, Shepshed, Leicestershire","LE12 9AE","The Blessed Cyprian Tansi Catholic Academy Trust","Academy Converter","Open","Diocese of Nottingham","21-14584781",null,"Mrs Baines","Mrs","Louise","Baines","office@winefrides-rc.leics.sch.uk","01509 503353",null,null,null,null,null,null,null,null,null,null,null,null,null,null,null,"Supported by a multi-academy trust","-",null,"Not applicable",null,10037752,null,null,null,null,"Britannia Street","Shepshed",null,"Loughborough","Leicestershire","LE12 9AE",null,1509503353,"East Midlands",null,null,"4-11",null,"Primary",null,null,"Luisa","Rinaldi-Oxley",null,"Headteacher","East Midlands"]
[138295,1113,{"$error":"#NAME?"},855,"Leicestershire",3433,"Saint Mary's Catholic Primary School, Loughborough","LE11 5AX","The Blessed Cyprian Tansi Catholic Academy Trust","Academy Converter","Open","Diocese of Nottingham","21-43470070",null,"Mrs Jones","Mrs","A","Jones","office@stmarys-rc.leics.sch.uk","01509 212621",null,null,null,null,null,null,null,null,null,null,null,null,null,null,null,"Supported by a multi-academy trust","-",null,"Not applicable",null,10037749,null,null,null,null,"Hastings Street",null,null,"Loughborough","Leicestershire","LE11 5AX",null,1509212621,"East Midlands",null,null,"4-11",null,"Primary",null,"Mrs","M","Hirst",null,"Headteacher","East Midlands"]
[138290,1116,{"$error":"#NAME?"},855,"Leicestershire",4602,"Saint Martin's Catholic Voluntary Academy","CV13 6HT","Saint Dominic's Catholic Academy Trust","Academy Converter","Open","Diocese of Nottingham","21-58826732",null,"Joanne Driver",null,"Joanne","Driver","admin@saint-martins.net","01455 212386",null,null,null,null,null,null,null,null,null,null,null,null,null,null,null,"Supported by a multi-academy trust","-",null,"Not applicable",null,10037741,null,null,null,null,"Stoke Golding",null,null,"Nuneaton","Warwickshire","CV13 6HT",null,1455212386,"East Midlands",null,null,"11-16",null,"Secondary",null,null,"Chris","Davies",null,"Headteacher","East Midlands"]
[120212,1121,{"$error":"#NAME?"},855,"Leicestershire",3338,"Saint Charles' Catholic Primary School, Measham, Leicestershire","DE12 7LQ",null,"Voluntary Aided School","Open","Diocese of Nottingham","21-33920924",null,"Helen Lee",null,"Helen","Lee","office@st-charles.leics.sch.uk","01530 270572",null,null,null,null,null,null,null,null,null,null,null,null,null,null,null,"Not applicable","Not applicable",null,"Not under a federation",null,null,null,null,null,null,"Bosworth Road","Measham",null,"Swadlincote","Derbyshire","DE12 7LQ",null,1530270572,"East Midlands",null,null,"5-11",null,"Primary",null,"Mr","Peter","Fisher",null,"Headteacher","East Midlands"]
[120318,1122,{"$error":"#NAME?"},855,"Leicestershire",6007,"Grace Dieu Manor School","LE67 5UG",null,"Other Independent School","Open","Diocese of Nottingham","21-25635001",null,"Registrar","Registrar",null,null,"registrar@gracedieu.com","01530 222276",null,null,null,null,null,null,null,null,null,null,null,null,null,null,null,"Not applicable","Not applicable",null,"Not applicable",null,10018836,null,null,null,null,"Grace Dieu","Thringstone",null,"Coalville","Leicestershire","LE67 5UG",null,1530222276,"East Midlands",null,null,"3-13",null,"Secondary",null,"Mrs","Jo","Anderson",null,"Headteacher","East Midlands"]
[130416,1125,{"$error":"#NAME?"},209,"Lewisham",8600,"Christ The King Sixth Form College","SE13 5GE",null,"Further Education","Open","Archdiocese of Southwark","26-18079977",null,"Mr Carroll","Mr","Martin ","Carroll","m.carroll@ctksfc.ac.uk","02082 979433",null,null,null,null,null,null,null,null,null,null,null,null,null,null,null,"Not applicable","Not applicable",null,"Not applicable",null,10001416,null,null,null,null,"Belmont Grove","Lewisham",null,"London",null,"SE13 5GE",null,2082979433,"London",null,null,"16-99",null,"Further or Higher",null,null,"Serge","Cefai",null,"Principal","London"]
[100732,1128,{"$error":"#NAME?"},209,"Lewisham",3588,"Our Lady and St Philip Neri Roman Catholic Primary School","SE26 5SE",null,"Voluntary Aided School","Open","Archdiocese of Southwark","26-69169082",null,"Mrs Packham","Mrs","Maureen","Packham","admin@olspn.lewisham.sch.uk","02087 784386",null,null,null,null,null,null,null,null,null,null,null,null,null,null,null,"Not applicable","Not applicable",null,"Not under a federation",null,null,null,null,null,null,"208 Sydenham Road",null,null,"London",null,"SE26 5SE",null,2087784386,"London",null,null,"3-11",null,"Primary",null,"Mrs","Hilary","Jarvis",null,"Headteacher","London"]
[100737,1133,{"$error":"#NAME?"},209,"Lewisham",3650,"St William of York Catholic Primary School","SE23 1PS",null,"Voluntary Aided School","Open","Archdiocese of Southwark","26-18992378",null,"Mrs Casey","Mrs","Sandra","Casey","admin@swoy.lewisham.sch.uk","02086 902842",null,null,null,null,null,null,null,null,null,null,null,null,null,null,null,"Not applicable","Not applicable",null,"Not under a federation",null,null,null,null,null,null,"Brockley Park",null,null,"London",null,"SE23 1PS",null,2086902842,"London",null,null,"3-11",null,"Primary",null,"Mrs","Ruth","Holden",null,"Headteacher","London"]
[139627,1136,{"$error":"#NAME?"},925,"Lincolnshire",3346,"The Saint Hugh's Catholic Primary Voluntary Academy, Lincoln","LN6 0SH","St Gilbert of Sempringham Catholic Academy Trust","Academy Converter","Open","Diocese of Nottingham","21-20565611",null,"Mrs Willingham","Mrs",null,"Willingham","enquiries@st-hughs-pri.lincs.sch.uk","01522 501137",null,null,null,null,null,null,null,null,null,null,null,null,null,null,null,"Supported by a multi-academy trust","-",null,"Not applicable",null,10041365,null,null,null,null,"Woodfield Avenue","Doddington Park",null,"Lincoln","Lincolnshire","LN6 0SH",null,1522501137,"East Midlands",null,null,"5-11",null,"Primary",null,"Mr","Damien","Keogh",null,"Headteacher","East Midlands"]
[139622,1140,{"$error":"#NAME?"},925,"Lincolnshire",3347,"Our Lady of Lincoln Catholic Primary School","LN2 2HE","St Gilbert of Sempringham Catholic Academy Trust","Academy Converter","Open","Diocese of Nottingham","21-89705110",null,"Mrs Summers","Mrs","Julia","Summers","enquiries@ourladylincoln.lincs.sch.uk","01522 527500",null,null,null,null,null,null,null,null,null,null,null,null,null,null,null,"Supported by a multi-academy trust","-",null,"Not applicable",null,10041362,null,null,null,null,"Laughton Way",null,null,"Lincoln","Lincolnshire","LN2 2HE",null,1522527500,"East Midlands",null,null,"4-11",null,"Primary",null,"Mrs","Geraldine","Willders","Ba Hons Npqh","Headteacher","East Midlands"]
[120615,1143,{"$error":"#NAME?"},925,"Lincolnshire",3342,"Boston St Mary's RC Primary School","PE21 9PX",null,"Voluntary Aided School","Open","Diocese of Nottingham","21-56116023",null,"Vanessa Cook",null,"Vanessa","Cook","vanessa.cook@bostonstmarys.co.uk","01205 362092",null,null,null,null,null,null,null,null,null,null,null,null,null,null,null,"Not applicable","Not applicable",null,"Not under a federation",null,null,null,null,null,null,"Ashlawn Drive",null,null,"Boston","Lincolnshire","PE21 9PX",null,1205362092,"East Midlands",null,null,"4-11",null,"Primary",null,"Mrs","Clair","Knowles",null,"Headteacher","North West"]
[104652,1146,{"$error":"#NAME?"},341,"Liverpool",3558,"St Hugh's Catholic Primary School","L7 6HE",null,"Voluntary Aided School","Open","Archdiocese of Liverpool","17-20158974",null,"Jenny Fargnoli","Ms","Jenny","Fargnoli","j.fargnoli@sthughsprimary.co.uk","01517 332899",null,null,null,null,null,null,null,null,null,null,null,null,null,null,null,"Not applicable","Not applicable",null,"Supported by a federation","The Federation St Hugh's Catholic Primary School and Chatam Nursery School",null,null,null,null,null,"Earle Road",null,null,"Liverpool","Merseyside","L7 6HE",null,1517332899,"North West",null,null,"4-11",null,"Primary",null,"Mrs","Patricia","Deus",null,null,"North West"]
[104638,1148,{"$error":"#NAME?"},341,"Liverpool",3523,"Our Lady Immaculate Catholic Primary School","L5 3QF",null,"Voluntary Aided School","Open","Archdiocese of Liverpool","17-18058391",null,"Miss Chute","Miss","Marion","Chute","admin@oliprimaryschool.co.uk","01512 608957",null,null,null,null,null,null,null,null,null,null,null,null,null,null,null,"Not applicable","Not applicable",null,"Not under a federation",null,null,null,null,null,null,"Northumberland Terrace","Everton",null,"Liverpool","Merseyside","L5 3QF",null,1512608957,"North West",null,null,"2-11",null,"Primary",null,"Mrs","Paula","Roberts",null,"Head teacher","North West"]
[104667,1151,{"$error":"#NAME?"},341,"Liverpool",3594,"St Vincent de Paul Catholic Primary School","L1 5BY",null,"Voluntary Aided School","Open","Archdiocese of Liverpool","17-70863270",null,"Mrs Greaves","Mrs",null,"Greaves","vincent-ao@st-vincentdepaul.liverpool.sch.uk","01517 092572",null,null,null,null,null,null,null,null,null,null,null,null,null,null,null,"Not applicable","Not applicable",null,"Not under a federation",null,null,null,null,null,null,"Pitt Street",null,null,"Liverpool","Merseyside","L1 5BY",null,1517092572,"North West",null,null,"3-11",null,"Primary",null,"Mr","Stephen","Morris","Morris","Principal","North West"]
[141076,1154,{"$error":"#NAME?"},341,"Liverpool",2025,"Blessed Sacrament Catholic Primary School","L9 9AF",null,"Voluntary Aided School","Open","Archdiocese of Liverpool","17-29811615",null,"Mrs Jones","Mrs","Elizabeth","Jones","admin@bsprimary.com","01515 259600",null,null,null,null,null,null,null,null,null,null,null,null,null,null,null,"Not applicable","Not applicable",null,"Not under a federation",null,null,null,null,null,null,"Cedar Road",null,null,"Liverpool","Merseyside","L9 9AF",null,1515259600,"North West",null,null,"3-11",null,"Primary",null,"Mrs","J","Starkey",null,"Headteacher","North West"]
[104681,1158,{"$error":"#NAME?"},341,"Liverpool",3644,"St Anne's Catholic Primary School","L7 3HJ",null,"Voluntary Aided School","Open","Archdiocese of Liverpool","17-98214496",null,"Mrs Wilson","Mrs",null,"Wilson","annes-ao@st-annes.liverpool.sch.uk","01517 091698",null,null,null,null,null,null,null,null,null,null,null,null,null,null,null,"Not applicable","Not applicable",null,"Not under a federation",null,null,null,null,null,null,"Overbury Street",null,null,"Liverpool","Merseyside","L7 3HJ",null,1517091698,"North West",null,null,"3-11",null,"Primary",null,"Mrs","Helen","Bannon",null,"Head teacher","North West"]
[104677,1163,{"$error":"#NAME?"},341,"Liverpool",3632,"St Cecilia's Catholic Infant School","L13 7HB",null,"Voluntary Aided School","Open","Archdiocese of Liverpool","17-79214336",null,"Alison Heavisides",null,"Alison","Heavisides","ceciliasi-ao@st-cecilias-inf.liverpool.sch.uk","01512 202153",null,null,null,null,null,null,null,null,null,null,null,null,null,null,null,"Not applicable","Not applicable",null,"Not under a federation",null,null,null,null,null,null,"Snaefell Avenue","Tuebrook",null,"Liverpool","Merseyside","L13 7HB",null,1512202153,"North West",null,null,"3-7",null,"Primary",null,null,"Annamaria","Roberts",null,"Headteacher","North West"]
[104648,1166,{"$error":"#NAME?"},341,"Liverpool",3550,"St Clare's Catholic Primary School","L15 0DW",null,"Voluntary Aided School","Open","Archdiocese of Liverpool","17-82518472",null,"Mrs Sefton","Mrs",null,"Sefton","clares-ao@st-clares.liverpool.sch.uk","01517 334318",null,null,null,null,null,null,null,null,null,null,null,null,null,null,null,"Not applicable","Not applicable",null,"Not under a federation",null,null,null,null,null,null,"Garmoyle Close",null,null,"Liverpool","Merseyside","L15 0DW",null,1517334318,"North West",null,null,"3-11",null,"Primary",null,"Mr","Dennis","Hardiman",null,"Executive Headteacher","North West"]
[131105,1169,{"$error":"#NAME?"},341,"Liverpool",3956,"Emmaus Church of England and Catholic Primary School","L12 0JE",null,"Voluntary Aided School","Open","Archdiocese of Liverpool","17-10565557",null,"Kathryn Cheetham",null,"Kathryn","Cheetham","emmaus-ao@emmaus.liverpool.sch.uk","01512 331414",null,null,null,null,null,null,null,null,null,null,null,null,null,null,null,"Not applicable","Not applicable",null,"Not under a federation",null,null,null,null,null,null,"Fir Tree Drive South","Croxteth",null,"Liverpool","Merseyside","L12 0JE",null,1512331414,"North West",null,null,"3-11",null,"Primary",null,"Mr","John","Carney",null,"Headteacher","North West"]
[104640,1172,{"$error":"#NAME?"},341,"Liverpool",3527,"St Finbar's Catholic Primary School","L8 9RY",null,"Voluntary Aided School","Open","Archdiocese of Liverpool","17-78069415",null,"Maureen Kelly",null,"Maureen","Kelly","finbars-rec@st-finbars.liverpool.sch.uk","01517 273963",null,null,null,null,null,null,null,null,null,null,null,null,null,null,null,"Not applicable","Not applicable",null,"Not under a federation",null,null,null,null,null,null,"South Hill Road",null,null,"Liverpool","Merseyside","L8 9RY",null,1517273963,"North West",null,null,"3-11",null,"Primary",null,null,"Joseph","Welsh",null,"Headteacher","North West"]
[136062,1173,{"$error":"#NAME?"},341,"Liverpool",2176,"Holy Family Catholic Primary School","L8 6QB",null,"Voluntary Aided School","Open","Archdiocese of Liverpool","17-58392637",null,"Mrs Darcy","Mrs","Lee","Darcy","holyfamily-ao@holyfamily.liverpool.sch.uk","01517 093672",null,null,null,null,null,null,null,null,null,null,null,null,null,null,null,"Not applicable","Not applicable",null,"Not under a federation",null,null,null,null,null,null,"Upper Essex Street",null,null,"Liverpool","Merseyside","L8 6QB",null,1517093672,"North West",null,null,"3-11",null,"Primary",null,"Mrs","A A","Radford",null,"Headteacher","North West"]
[104713,1176,{"$error":"#NAME?"},341,"Liverpool",4792,"Broughton Hall Catholic High School","L12 9HJ",null,"Voluntary Aided School","Open","Archdiocese of Liverpool","17-31447452",null,"Mrs Jones","Mrs","Kath","Jones","admin@broughtonhall.com","01515 419400",null,null,null,null,null,null,null,null,null,null,null,null,null,null,null,"Not applicable","Not applicable",null,"Not under a federation",null,10000955,null,null,null,null,"Yew Tree Lane","West Derby",null,"Liverpool","Merseyside","L12 9HJ",null,1515419400,"North West",null,null,"11-18",null,"Secondary",null,null,"Philippa","Agate",null,"Headteacher","North West"]
[104635,1180,{"$error":"#NAME?"},341,"Liverpool",3514,"Holy Trinity Catholic Primary School","L19 8JY",null,"Voluntary Aided School","Open","Archdiocese of Liverpool","17-11630241",null,"Margaret Dillon",null,"Margaret","Dillon","m.dillon@holytrinity.liverpool.sch.uk","01514 277466",null,null,null,null,null,null,null,null,null,null,null,null,null,null,null,"Not applicable","Not applicable",null,"Not under a federation",null,null,null,null,null,null,"Banks Road",null,null,"Liverpool","Merseyside","L19 8JY",null,1514277466,"North West",null,null,"3-11",null,"Primary",null,"Mrs","Joanne","Lewis",null,"Headteacher","North West"]
[104734,1184,{"$error":"#NAME?"},341,"Liverpool",7018,"St Vincent's School - A Specialist School for Sensory Impairment and Other Needs","L12 9HN",null,"Non-Maintained Special School","Open","Archdiocese of Liverpool","17-61675793",null,"Mrs Meighan","Mrs","Karen","Meighan","office@stvin.com","01512 289968",null,null,null,null,null,null,null,null,null,null,null,null,null,null,null,"Not applicable","Not applicable",null,"Not applicable",null,10001232,null,null,null,null,"68 Yew Tree Lane","West Derby",null,"Liverpool","Merseyside","L12 9HN",null,1512289968,"North West",null,null,"4-19",null,"Secondary",null,"Mr","Jeremy","Barnes",null,null,"North West"]
[104661,1187,{"$error":"#NAME?"},341,"Liverpool",3584,"St Paul's Catholic Junior School","L12 8SJ",null,"Voluntary Aided School","Open","Archdiocese of Liverpool","17-20067902",null,"Sheila Cummings",null,"Sheila","Cummings","pauls-ao@st-pauls.liverpool.sch.uk","01512 281159",null,null,null,null,null,null,null,null,null,null,null,null,null,null,null,"Not applicable","Not applicable",null,"Not under a federation",null,null,null,null,null,null,"Spring Grove","West Derby",null,"Liverpool","Merseyside","L12 8SJ",null,1512281159,"North West",null,null,"7-11",null,"Primary",null,"Mrs","Anne","Radford",null,"Headteacher","North West"]
[104723,1191,{"$error":"#NAME?"},341,"Liverpool",6004,"Carleton House Preparatory School","L18 3EE",null,"Other Independent School","Open","Archdiocese of Liverpool","17-60943592",null,"Mrs Hunter","Mrs","Lyndsey","Hunter","schooloffice@carletonhouse.co.uk","01517 220756",null,null,null,null,null,null,null,null,null,null,null,null,null,null,null,"Not applicable","Not applicable",null,"Not applicable",null,null,null,null,null,null,"145 Menlove Avenue",null,null,"Liverpool","Merseyside","L18 3EE",null,1517220756,"North West",null,null,"3-11",null,"Primary",null,"Miss","Sarah","Peacock",null,"Acting Headteacher","North West"]
[104664,1193,{"$error":"#NAME?"},341,"Liverpool",3588,"St Sebastian's Catholic Primary School and Nursery","L7 0LH",null,"Voluntary Aided School","Open","Archdiocese of Liverpool","17-92184896",null,"Lorraine Fay",null,"Lorraine","Fay","sebastians-ao@st-sebastians.liverpool.sch.uk","01512 609697",null,null,null,null,null,null,null,null,null,null,null,null,null,null,null,"Not applicable","Not applicable",null,"Supported by a federation","The Federation of St Cuthberts and St Sebastian's Catholic Primary Schools",null,null,null,null,null,"Holly Road",null,null,"Liverpool","Merseyside","L7 0LH",null,1512609697,"North West",null,null,"3-11",null,"Primary",null,"Mr","Leslie","Rippon",null,"Headteacher","North West"]
[104657,1198,{"$error":"#NAME?"},341,"Liverpool",3573,"St Nicholas's Catholic Primary School","L3 5XF",null,"Voluntary Aided School","Open","Archdiocese of Liverpool","17-78113083",null,"Becky Groom",null,"Becky","Groom","nicholas-ao@st-nicholas.liverpool.sch.uk","01517 095532",null,null,null,null,null,null,null,null,null,null,null,null,null,null,null,"Not applicable","Not applicable",null,"Not under a federation",null,null,null,null,null,null,"Orthes Street",null,null,"Liverpool","Merseyside","L3 5XF",null,1517095532,"North West",null,null,"3-11",null,"Primary",null,"Mrs","Moira","Loftus","Ba Hons Bed","Headteacher","North West"]
[132793,1199,{"$error":"#NAME?"},341,"Liverpool",2233,"St Matthew's Catholic Primary School","L4 8UA",null,"Voluntary Aided School","Open","Archdiocese of Liverpool","17-81570327",null,"Tracy Latham",null,"Tracy","Latham","m.loftus@st-matthews-jun.liverpool.sch.uk","01512 261871",null,null,null,null,null,null,null,null,null,null,null,null,null,null,null,"Not applicable","Not applicable",null,"Not under a federation",null,null,null,null,null,null,"Queens Drive","Walton",null,"Liverpool","Merseyside","L4 8UA",null,1512261871,"North West",null,null,"4-11",null,"Primary",null,"Mr","Paul","Dickinson",null,"Executive Headteacher","North West"]
[133337,1202,{"$error":"#NAME?"},341,"Liverpool",2239,"Our Lady of the Assumption Catholic Primary School","L25 2RW",null,"Voluntary Aided School","Open","Archdiocese of Liverpool","17-60213636",null,"Sandra Paisley",null,"Sandra","Paisley","ourladyp-ao@ourlady-pri.liverpool.sch.uk","0151 487 9301",null,null,null,null,null,null,null,null,null,null,null,null,null,null,null,"Not applicable","Not applicable",null,"Not under a federation",null,null,null,null,null,null,"Hedgefield Road",null,null,"Liverpool","Merseyside","L25 2RW",null,1514879301,"North West",null,null,"3-11",null,"Primary",null,"Mrs","Mary","Walsh",null,null,"North West"]
[142310,1206,{"$error":"#NAME?"},821,"Luton",4606,"Cardinal Newman Catholic School A Specialist Science College","LU2 7AE","St Alban Catholic Academies Trust","Academy Converter","Open","Diocese of Northampton","20-46093108",null,"Mrs Meader","Mrs","Sue","Meader","suem@cardinalnewmanschool.net","01582 597125",null,null,null,null,null,null,null,null,null,null,null,null,null,null,null,"Supported by a multi-academy trust","-",null,"Not applicable",null,10053912,null,null,null,null,"Warden Hill Road",null,null,"Luton","Bedfordshire","LU2 7AE",null,1582597125,"East of England",null,null,"11-18",null,"Secondary",null,"Mrs","Joan","Cullen",null,"Headteacher","Eastern"]
[105541,1210,{"$error":"#NAME?"},352,"Manchester",3473,"St Bernard's RC Primary School Manchester","M19 1DR",null,"Voluntary Aided School","Open","Diocese of Salford","24-52523049",null,"Mrs Heard","Mrs","Katherine","Heard","k.heard@st-bernards.manchester.sch.uk","01614 327635",null,null,null,null,null,null,null,null,null,null,null,null,null,null,null,"Not applicable","Not applicable",null,"Not under a federation",null,null,null,null,null,null,"Burnage Lane","Burnage",null,"Manchester","Greater Manchester","M19 1DR",null,1614327635,"North West",null,null,"3-11",null,"Primary",null,"Mr","Dominic","Hemington",null,"Headteacher","North West"]
[140758,1213,{"$error":"#NAME?"},352,"Manchester",3474,"St Elizabeth's Catholic Primary School","M22 5EU","Wythenshawe Catholic Academy Trust, The","Academy Converter","Open","Diocese of Shrewsbury","25-35095840",null,"Mrs Wall","Mrs","Lynn ","Wall","admin@st-elizabeths.manchester.sch.uk","01614 373890",null,null,null,null,null,null,null,null,null,null,null,null,null,null,null,"Supported by a multi-academy trust","-",null,"Not applicable",null,10045634,null,null,null,null,"Calve Croft Road","Peel Hall","Wythenshawe","Manchester",null,"M22 5EU",null,1614373890,"North West",null,null,"3-11",null,"Primary",null,"Mr","A S","Billings",null,"Executive Headteacher","North West"]
[105536,1217,{"$error":"#NAME?"},352,"Manchester",3464,"Sacred Heart Catholic Primary School","M23 1HP",null,"Voluntary Aided School","Open","Diocese of Shrewsbury","25-99007538",null,"Jackie Kennerk",null,"Jackie","Kennerk","admin@sacredheart-baguley.manchester.sch.uk","01619 983419",null,null,null,null,null,null,null,null,null,null,null,null,null,null,null,"Not applicable","Not applicable",null,"Not under a federation",null,null,null,null,null,null,"Floatshall Road","Baguley",null,"Manchester",null,"M23 1HP",null,1619983419,"North West",null,null,"3-11",null,"Primary",null,"Mrs","Sarah","Yates",null,"Headteacher","North West"]
[105523,1220,{"$error":"#NAME?"},352,"Manchester",3429,"St Brigid's RC Primary School","M11 3DR",null,"Voluntary Aided School","Open","Diocese of Salford","24-68347682",null,"Mrs Jarvis","Mrs",null,"Jarvis","admin@st-brigids.manchester.sch.uk","01612 235538",null,null,null,null,null,null,null,null,null,null,null,null,null,null,null,"Not applicable","Not applicable",null,"Not under a federation",null,null,null,null,null,null,"Grey Mare Lane","Beswick",null,"Manchester",null,"M11 3DR",null,1612235538,"North West",null,null,"3-11",null,"Primary",null,"Miss","J D","Chwastek",null,"Headteacher","North West"]
[105554,1223,{"$error":"#NAME?"},352,"Manchester",3501,"St Clare's RC Primary School","M9 0RR",null,"Voluntary Aided School","Open","Diocese of Salford","24-92855707",null,"Mrs Seldon","Mrs","Sheila","Seldon","admin@st-clares.manchester.sch.uk","01617 404993",null,null,null,null,null,null,null,null,null,null,null,null,null,null,null,"Not applicable","Not applicable",null,"Not under a federation",null,null,null,null,null,null,"Victoria Avenue","Blackley",null,"Manchester",null,"M9 0RR",null,1617404993,"North West",null,null,"3-11",null,"Primary",null,"Mr","DG","Mulcahy",null,"Headteacher","North West"]
[105526,1225,{"$error":"#NAME?"},352,"Manchester",3439,"St Dunstan's RC Primary School","M40 9HF",null,"Voluntary Aided School","Open","Diocese of Salford","24-80377544",null,"Mrs Dooner","Mrs","Nicola","Dooner","admin@st-dunstans.manchester.sch.uk","01616 815665",null,null,null,null,null,null,null,null,null,null,null,null,null,null,null,"Not applicable","Not applicable",null,"Not under a federation",null,null,null,null,null,null,"Bacup Street","Moston",null,"Manchester",null,"M40 9HF",null,1616815665,"North West",null,null,"3-11",null,"Primary",null,"Mrs","Anne","Clinton",null,"Headteacher","North West"]
[105546,1228,{"$error":"#NAME?"},352,"Manchester",3489,"St John's RC Primary School","M21 9SN",null,"Voluntary Aided School","Open","Diocese of Salford","24-85178386",null,"Mrs Flynn","Mrs","Greta","Flynn","admin@st-johns-rc.manchester.sch.uk","01618 811040",null,null,null,null,null,null,null,null,null,null,null,null,null,null,null,"Not applicable","Not applicable",null,"Not under a federation",null,null,null,null,null,null,"Chepstow Road","Chorlton-Cum-Hardy",null,"Manchester",null,"M21 9SN",null,1618811040,"North West",null,null,"3-11",null,"Primary",null,null,"Elizabeth","Eccles",null,"Headteacher","North West"]
[105539,1232,{"$error":"#NAME?"},352,"Manchester",3469,"St Wilfrid's RC Primary School","M15 5BJ",null,"Voluntary Aided School","Open","Diocese of Salford","24-54640006",null,"Administrative Officer","Administrative Officer",null,null,"admin@st-wilfrids-pri.manchester.sch.uk","01612 263339",null,null,null,null,null,null,null,null,null,null,null,null,null,null,null,"Not applicable","Not applicable",null,"Not under a federation",null,null,null,null,null,null,"St Wilfrid's Street","Hulme",null,"Manchester",null,"M15 5BJ",null,1612263339,"North West",null,null,"3-11",null,"Primary",null,"Mrs","Claire","McCarron",null,"Headteacher","North West"]
[105540,1235,{"$error":"#NAME?"},352,"Manchester",3472,"St Willibrord's RC Primary School","M11 4WR",null,"Voluntary Aided School","Open","Diocese of Salford","24-22726805",null,"Mrs Butterworth","Mrs","B ","Butterworth","b.butterworth@st-willibrords.manchester.sch.uk","01612 239345",null,null,null,null,null,null,null,null,null,null,null,null,null,null,null,"Not applicable","Not applicable",null,"Not under a federation",null,null,null,null,null,null,"Vale Street","Clayton",null,"Manchester","Greater Manchester","M11 4WR",null,1612239345,"North West",null,null,"3-11",null,"Primary",null,"Mrs","Suzanne","Walker",null,"Head Teacher","North West"]
[105577,1240,{"$error":"#NAME?"},352,"Manchester",4762,"St Matthew's RC High School","M40 0EW",null,"Voluntary Aided School","Open","Diocese of Salford","24-12632837",null,"Mr Blair","Mr","Ian","Blair","contact@smrchs.com","01616 816178",null,null,null,null,null,null,null,null,null,null,null,null,null,null,null,"Not applicable","Not applicable",null,"Not under a federation",null,10017499,null,null,null,null,"Nuthurst Road","Moston",null,"Manchester","Lancashire","M40 0EW",null,1616816178,"North West",null,null,"11-16",null,"Secondary",null,"Mrs","C","Quinn",null,"Headteacher","North West"]
[105555,1243,{"$error":"#NAME?"},352,"Manchester",3503,"Mount Carmel RC Primary School","M9 8BG",null,"Voluntary Aided School","Open","Diocese of Salford","24-62979695",null,"Miss Parry","Miss","Vicy","Parry","finance@mountcarmel.manchester.sch.uk","01617 404696",null,null,null,null,null,null,null,null,null,null,null,null,null,null,null,"Not applicable","Not applicable",null,"Not under a federation",null,null,null,null,null,null,"Wilson Road","Blackley",null,"Manchester",null,"M9 8BG",null,1617404696,"North West",null,null,"3-11",null,"Primary",null,"Mrs","Barbara","Harrold",null,"Headteacher","North West"]
[105576,1246,{"$error":"#NAME?"},352,"Manchester",4761,"Our Lady's RC High School","M9 0RP",null,"Voluntary Aided School","Open","Diocese of Salford","24-29474806",null,"Mr Gosling","Mr","Ian","Gosling","i.gosling@olsc.manchester.sch.uk","01617 959004",null,null,null,null,null,null,null,null,null,null,null,null,null,null,null,"Not applicable","Not applicable",null,"Not under a federation",null,10016882,null,null,null,null,"Alworth Road","Higher Blackley",null,"Manchester",null,"M9 0RP",null,1617959004,"North West",null,null,"11-16",null,"Secondary",null,null,"Anne","Clinton",null,"Headteacher","North West"]
[105594,1249,{"$error":"#NAME?"},352,"Manchester",6032,"St Bede's College","M16 8HX",null,"Other Independent School","Open","Diocese of Salford","24-49640403",null,"Mrs Mataskova","Mrs","Pavla","Mataskova","pmataskova@stbedescollege.co.uk","01612 263323",null,null,null,null,null,null,null,null,null,null,null,null,null,null,null,"Not applicable","Not applicable",null,"Not applicable",null,10017681,null,null,null,null,"Alexandra Park",null,null,"Manchester","Lancashire","M16 8HX",null,1612263323,"North West",null,null,"3-19",null,"Secondary",null,"Mrs","R","Vayro",null,"Headteacher","North West"]
[105520,1250,{"$error":"#NAME?"},352,"Manchester",3418,"St Ambrose RC Primary School","M21 7QA",null,"Voluntary Aided School","Open","Diocese of Salford","24-78345877",null,"School Office","School Office",null,null,"admin@st-ambrose.manchester.sch.uk","01614 453299",null,null,null,null,null,null,null,null,null,null,null,null,null,null,null,"Not applicable","Not applicable",null,"Not under a federation",null,null,null,null,null,null,"Princess Road","Chorlton-Cum-Hardy",null,"Manchester",null,"M21 7QA",null,1614453299,"North West",null,null,"3-11",null,"Primary",null,"Mr","S","Gabriel",null,"Headteacher","North West"]
[118756,1253,{"$error":"#NAME?"},887,"Medway",3712,"St Michael's RC Primary School","ME4 6PX",null,"Voluntary Aided School","Open","Archdiocese of Southwark","26-69692590",null,"Mrs Cleall-Harding","Mrs","Kim","Cleall-Harding","kim.cleall-harding@stmichaelsrcp.org","01634 832578",null,null,null,null,null,null,null,null,null,null,null,null,null,null,null,"Not applicable","Not applicable",null,"Not under a federation",null,null,null,null,null,null,"Hills Terrace",null,null,"Chatham","Kent","ME4 6PX",null,1634832578,"South East",null,null,"3-11",null,"Primary",null,"Mrs","Maureen","Grabski",null,"Headteacher","South East"]
[118908,1258,{"$error":"#NAME?"},887,"Medway",5436,"St John Fisher Catholic Comprehensive School","ME4 6SG",null,"Voluntary Aided School","Open","Archdiocese of Southwark","26-32606785",null,"Mrs Oliver","Mrs","Carol ","Oliver","c.oliver@st-johnfisher.medway.sch.uk","01634 335757",null,null,null,null,null,null,null,null,null,null,null,null,null,null,null,"Not applicable","Not applicable",null,"Not under a federation",null,10006189,null,null,null,null,"Ordnance Street",null,null,"Chatham","Kent","ME4 6SG",null,1634335757,"South East",null,null,"11-18",null,"Secondary",null,"Mrs","Clare","Redmond",null,"Headteacher","South East"]
[118775,1261,{"$error":"#NAME?"},887,"Medway",3746,"St William of Perth Roman Catholic Primary School","ME1 3EN",null,"Voluntary Aided School","Open","Archdiocese of Southwark","26-21448405",null,"Mrs Keywood","Mrs","Anne","Keywood","office@stwilliamperth.medway.sch.uk","01634 404267",null,null,null,null,null,null,null,null,null,null,null,null,null,null,null,"Not applicable","Not applicable",null,"Not under a federation",null,null,null,null,null,null,"Canon Close","Maidstone Road",null,"Rochester","Kent","ME1 3EN",null,1634404267,"South East",null,null,"4-11",null,"Primary",null,null,null,null,null,"Headteacher","Wales (pseudo)"]
[401298,1264,{"$error":"#NAME?"},675,"Merthyr Tydfil",3307,"St Aloysius Primary School","CF47 9PA",null,"Welsh Establishment","Open","Archdiocese of Cardiff","10-87750585",null,"School Business Manager ","School Business Manager",null,null,"office@st-aloysius.merthyr.sch.uk","01685 721741",null,null,null,null,null,null,null,null,null,null,null,null,null,null,null,"Not applicable","Not applicable",null,"Not applicable",null,null,null,null,null,null,"Cedar Way","Gurnos Estate","Merthyr Tydfil",null,null,"CF47 9PA",null,1685721741,"Wales (pseudo)",null,null,"-",null,"Primary",null,null,null,null,null,"Headteacher","Wales (pseudo)"]
[102668,1268,{"$error":"#NAME?"},315,"Merton",3501,"Sacred Heart Catholic Primary School","KT3 4ND",null,"Voluntary Aided School","Open","Archdiocese of Southwark","26-32520137",null,"Mrs Marcelline","Mrs","Sarah","Marcelline","admin@sacredheart.merton.sch.uk","02089 420215",null,null,null,null,null,null,null,null,null,null,null,null,null,null,null,"Not applicable","Not applicable",null,"Not under a federation",null,null,null,null,null,null,"Burlington Road",null,null,"New Malden","Surrey","KT3 4ND",null,2089420215,"London",null,null,"3-11",null,"Primary",null,"Mrs","Anne","Farnish",null,null,"London"]
[102681,1270,{"$error":"#NAME?"},315,"Merton",4701,"Wimbledon College","SW19 4NS",null,"Voluntary Aided School","Open","Archdiocese of Southwark","26-11011049",null,"Reverend Porter","Reverend"," ","Porter","headmaster@wimbledoncollege.org.uk","02089 462533",null,null,null,null,null,null,null,null,null,null,null,null,null,null,null,"Not applicable","Not applicable",null,"Not under a federation",null,10007531,null,null,null,null,"Edge Hill",null,null,"London",null,"SW19 4NS",null,2089462533,"London",null,null,"11-18",null,"Secondary",null,"Mr","G C","McGrath","Ba(Hons)Pgcemba(Ed)","Headmaster","London"]
[102669,1273,{"$error":"#NAME?"},315,"Merton",3502,"St Teresa's Catholic Primary School","SM4 6RL",null,"Voluntary Aided School","Open","Archdiocese of Southwark","26-16112554",null,"Mr Dachtler","Mr","Justin","Dachtler","lorraine.isaac@st-teresas.merton.sch.uk","02086 481846",null,null,null,null,null,null,null,null,null,null,null,null,null,null,null,"Not applicable","Not applicable",null,"Not under a federation",null,null,null,null,null,null,"Montacute Road",null,null,"Morden","Surrey","SM4 6RL",null,2086481846,"London",null,null,"3-11",null,"Primary",null,"Mr","David","Feasey",null,"Headteacher","London"]
[142382,1276,{"$error":"#NAME?"},806,"Middlesbrough",4702,"Trinity Catholic College","TS4 3JW","St Hilda’s Catholic Academy Trust","Academy Converter","Open","Diocese of Middlesbrough","19-16664170",null,"Mr Farquhar","Mr",null,"Farquhar","farquhar.j@trinitycatholiccollege.org.uk","01642 825311",null,null,null,null,null,null,null,null,null,null,null,null,null,null,null,"Supported by a multi-academy trust","Linked to a sponsor","Diocese of Middlesbrough","Not applicable",null,10054172,null,null,null,null,"Saltersgill Avenue",null,null,"Middlesbrough",null,"TS4 3JW",null,1642825311,"North East",null,null,"11-19",null,"Secondary",null,null,"Carol","Walker",null,"Headteacher","North East"]
[142367,1279,{"$error":"#NAME?"},806,"Middlesbrough",3386,"St Alphonsus' RC Primary School","TS3 6PX","St Hilda’s Catholic Academy Trust","Academy Converter","Open","Diocese of Middlesbrough","19-39719562",null,"Jackie McGee",null,"Jackie","McGee","contact@stalphonsusrcschool.co.uk","01642 243400",null,null,null,null,null,null,null,null,null,null,null,null,null,null,null,"Supported by a multi-academy trust","Linked to a sponsor","Diocese of Middlesbrough","Not applicable",null,10054179,null,null,null,null,"Cadogan Street","North Ormesby",null,"Middlesbrough","Cleveland","TS3 6PX",null,1642243400,"North East",null,null,"3-11",null,"Primary",null,null,"Mary","Cobbald","Cert Ed Ccrs","Headteacher","North East"]
[142370,1283,{"$f":"_xlfn.CONCAT(D1284,F1284)","v":{"$error":"#NAME?"}},806,"Middlesbrough",3347,"St Clare's RC Primary School","TS5 8RZ","St Hilda’s Catholic Academy Trust","Academy Converter","Open","Diocese of Middlesbrough","19-77466183",null,"Helen Bell",null,"Helen","Bell","helen.bell@mcschools.org.uk","01642 815412",null,null,null,null,null,null,null,null,null,null,null,null,null,null,null,"Supported by a multi-academy trust","Linked to a sponsor","Diocese of Middlesbrough","Not applicable",null,10054182,null,null,null,null,"Trimdon Avenue",null,null,"Acklam","North Yorkshire","TS5 8RZ",null,1642815412,"North East",null,null,"3-11",null,"Primary",null,null,"Liz","King",null,"Headteacher","North East"]
[111718,1287,{"$error":"#NAME?"},806,"Middlesbrough",3390,"St Pius X RC Primary School","TS3 7HD",null,"Voluntary Aided School","Open","Diocese of Middlesbrough","19-90902113",null,"Suzanne Chell",null,"Suzanne","Chell","suzanne.chell@mcschools.org.uk","01642 314453",null,null,null,null,null,null,null,null,null,null,null,null,null,null,null,"Not applicable","Not applicable",null,"Not under a federation",null,null,null,null,null,null,"Amersham Road","Park End",null,"Middlesbrough",null,"TS3 7HD",null,1642314453,"North East",null,null,"3-11",null,"Primary",null,"Mrs","Rosemarie","Jones",null,"Headteacher","South East"]
[110481,1290,{"$error":"#NAME?"},826,"Milton Keynes",3377,"Bishop Parker Catholic School","MK2 3BT",null,"Voluntary Aided School","Open","Diocese of Northampton","20-29326464",null,"Mrs Ross","Mrs","Helen","Ross","bishopcombined@milton-keynes.gov.ukIhaveputinemailagain","01908 372129",null,null,null,null,null,null,null,null,null,null,null,null,null,null,null,"Not applicable","Not applicable",null,"Supported by a federation","The Bletchley Catholic Schools' Federation",null,null,null,null,null,"Barton Road","Bletchley",null,"Milton Keynes","Buckinghamshire","MK2 3BT",null,1908372129,"South East",null,null,"3-11",null,"Primary",null,"Mr","Robert","O'malley",null,"Headteacher","South East"]
[401500,1294,{"$error":"#NAME?"},679,"Monmouthshire",3317,"Our Lady & St Michael's School","NP7 5UD",null,"Welsh Establishment","Open","Archdiocese of Cardiff","10-65183084",null,"Diana Newman",null,"Diana","Newman","ourladystmichaels@monmouthshire.gov.uk","01873 735080",null,null,null,null,null,null,null,null,null,null,null,null,null,null,null,"Not applicable","Not applicable",null,"Not applicable",null,null,null,null,null,null,"14  Pen Y Pound Road","Abergavenny","Monmouthshire",null,null,"NP7 5UD",null,1873735080,"Wales (pseudo)",null,null,"-",null,"Primary",null,null,null,null,null,"Headteacher","Wales (pseudo)"]
[401019,1297,{"$error":"#NAME?"},671,"Neath Port Talbot",3310,"St Joseph's Catholic Infant School","SA12 6LF",null,"Welsh Establishment","Open","Diocese of Menevia","18-49889647",null,"Office Administrator ","Office Administrator","","","stjosephinfant@npted.org","01639 882579",null,null,null,null,null,null,null,null,null,null,null,null,null,null,null,"Not applicable","Not applicable",null,"Not applicable",null,null,null,null,null,null,"Water Street","Aberavon",null,"Port Talbot",null,"SA12 6LF",null,1639882579,"Wales (pseudo)",null,null,"-",null,"Primary",null,null,null,null,null,"Headteacher","Wales (pseudo)"]
[401788,1300,{"$error":"#NAME?"},671,"Neath Port Talbot",4601,"St Joseph's RC School and 6th Form Centre","SA12 6EY",null,"Welsh Establishment","Open","Diocese of Menevia","18-85522519",null,"Helen Fisher",null,"Helen","Fisher","sjrcc-h.fisher@npted.org","01639 884305",null,null,null,null,null,null,null,null,null,null,null,null,null,null,null,"Not applicable","Not applicable",null,"Not applicable",null,10008848,null,null,null,null,"Newton Avenue","Aberavon",null,"Port Talbot",null,"SA12 6EY",null,1639884305,"Wales (pseudo)",null,null,"-",null,"Primary",null,null,"John","Foster",null,"Headteacher","North East"]
[137708,1302,{"$error":"#NAME?"},391,"Newcastle upon Tyne",4716,"Sacred Heart Catholic High School","NE4 9YH","Sacred Heart Catholic High School","Academy Converter","Open","Diocese of Hexham and Newcastle","14-43265600",null,"Mrs Jeffrey","Mrs","Cathryn ","Jeffrey","Catherine.Jeffrey@shhs.org.uk","01912 747373",null,null,null,null,null,null,null,null,null,null,null,null,null,null,null,"Supported by a single-academy trust","-",null,"Not applicable",null,10035956,null,null,null,null,"Fenham Hall Drive","Fenham",null,"Newcastle-upon-Tyne","Tyne and Wear","NE4 9YH",null,1912747373,"North East",null,null,"11-18",null,"Secondary",null,null,"Carol","Davison",null,"Headteacher","North East"]
[108515,1305,{"$error":"#NAME?"},391,"Newcastle upon Tyne",3874,"St Alban's RC Primary School","NE6 4HQ",null,"Voluntary Aided School","Open","Diocese of Hexham and Newcastle","14-41175730",null,"Mrs Parker","Mrs","Elaine","Parker","admin@stalbans.newcastle.sch.uk","01912 625552",null,null,null,null,null,null,null,null,null,null,null,null,null,null,null,"Not applicable","Not applicable",null,"Not under a federation",null,null,null,null,null,null,"Westbourne Avenue",null,null,"Newcastle-upon-Tyne","Tyne and Wear","NE6 4HQ",null,1912625552,"North East",null,null,"3-11",null,"Primary",null,"Miss","Maria","Elliott",null,"Headteacher","North East"]
[108513,1309,{"$error":"#NAME?"},391,"Newcastle upon Tyne",3835,"St Teresa's Catholic Primary School","NE6 5HN",null,"Voluntary Aided School","Open","Diocese of Hexham and Newcastle","14-56038937",null,"Trish Boyd",null,"Trish","Boyd","trish.boyd@stteresas.newcastle.sch.uk","01912 655076",null,null,null,null,null,null,null,null,null,null,null,null,null,null,null,"Not applicable","Not applicable",null,"Not under a federation",null,null,null,null,null,null,"Heaton Road",null,null,"Newcastle-upon-Tyne","Tyne and Wear","NE6 5HN",null,1912655076,"North East",null,null,"4-11",null,"Primary",null,"Ms","Elaine","Mathews",null,"Headteacher","North East"]
[108500,1312,{"$error":"#NAME?"},391,"Newcastle upon Tyne",3476,"St Cuthbert's RC Primary School","NE15 8JL",null,"Voluntary Aided School","Open","Diocese of Hexham and Newcastle","14-52524745",null,"Emma Denham",null,"Emma","Denham","admin@stcuthbertsw.newcastle.sch.uk","01912 675956",null,null,null,null,null,null,null,null,null,null,null,null,null,null,null,"Not applicable","Not applicable",null,"Not under a federation",null,null,null,null,null,null,"The Green","Walbottle Village",null,"Newcastle-upon-Tyne","Tyne and Wear","NE15 8JL",null,1912675956,"North East",null,null,"4-11",null,"Primary",null,"Mr","Michael","Ewing",null,"Headteacher","North East"]
[108510,1317,{"$error":"#NAME?"},391,"Newcastle upon Tyne",3799,"Our Lady and St Anne's RC Primary School","NE4 6EB",null,"Voluntary Aided School","Open","Diocese of Hexham and Newcastle","14-25586236",null,"Zelda Clennell",null,"Zelda","Clennell","ourladyadmin@olsa.org.uk","01912 325496",null,null,null,null,null,null,null,null,null,null,null,null,null,null,null,"Not applicable","Not applicable",null,"Not under a federation",null,null,null,null,null,null,"Summerhill Terrace",null,null,"Newcastle-upon-Tyne","Tyne and Wear","NE4 6EB",null,1912325496,"North East",null,null,"3-11",null,"Primary",null,"Mrs","Margaret","Kerridge",null,"Headteacher","North East"]
[108509,1320,{"$error":"#NAME?"},391,"Newcastle upon Tyne",3792,"St Lawrence's RC Primary School","NE6 2JX",null,"Voluntary Aided School","Open","Diocese of Hexham and Newcastle","14-58084398",null,"Mr Brown","Mr","P","Brown","admin@stlawrences.newcastle.sch.uk","01912 659881",null,null,null,null,null,null,null,null,null,null,null,null,null,null,null,"Not applicable","Not applicable",null,"Not under a federation",null,null,null,null,null,null,"Headlam Street","Byker",null,"Newcastle-upon-Tyne","Tyne and Wear","NE6 2JX",null,1912659881,"North East",null,null,"3-11",null,"Primary",null,"Ms","Angela","Ness",null,"Headteacher","North East"]
[102769,1323,{"$error":"#NAME?"},316,"Newham",3503,"St Edward's Catholic Primary School","E13 9AX",null,"Voluntary Aided School","Open","Diocese of Brentwood","09-23994594",null,"Mrs Facto","Mrs","Jeanneth","Facto","jeanneth.facto@st-edwards.newham.sch.uk","02084 724337",null,null,null,null,null,null,null,null,null,null,null,null,null,null,null,"Not applicable","Not applicable",null,"Not under a federation",null,null,null,null,null,null,"Green Street","Upton Park",null,"London",null,"E13 9AX",null,2084724337,"London",null,null,"3-11",null,"Primary",null,"Mrs","Gael","Hicks",null,"Headteacher","London"]
[141925,1324,{"$error":"#NAME?"},316,"Newham",3505,"St Helen's Catholic Primary School","E13 8DW","Our Lady Of Grace Catholic Academy Trust","Academy Converter","Open","Diocese of Brentwood","09-87113084",null,"Mrs West","Mrs","Mary","West","info@st-helens.newham.sch.uk","02074 761785",null,null,null,null,null,null,null,null,null,null,null,null,null,null,null,"Supported by a multi-academy trust","-",null,"Not applicable",null,10049320,null,null,null,null,"Chargeable Lane",null,null,"London",null,"E13 8DW",null,2074761785,"London",null,null,"2-11",null,"Primary",null,"Mr","James","Allen",null,"Headteacher","London"]
[102787,1327,{"$error":"#NAME?"},316,"Newham",4601,"St Bonaventure's RC School","E7 9QD",null,"Voluntary Aided School","Open","Diocese of Brentwood","09-82025501",null,"Mr Burns","Mr","Peter ","Burns","p.burns@stbons.org","02084 723844",null,null,null,null,null,null,null,null,null,null,null,null,null,null,null,"Not applicable","Not applicable",null,"Not under a federation",null,10006280,null,null,null,null,"Boleyn Road","Forest Gate",null,"London",null,"E7 9QD",null,2084723844,"London",null,null,"11-18",null,"Secondary",null,"Mr","Paul","Underwood",null,"Headteacher","London"]
[131926,1330,{"$error":"#NAME?"},316,"Newham",3511,"St Antony's RC Primary School","E7 9PN",null,"Voluntary Aided School","Open","Diocese of Brentwood","09-61413457",null,"Head Teacher",null,"Head","Teacher","info@st-antonys-jun.newham.sch.uk","02085 523670",null,null,null,null,null,null,null,null,null,null,null,null,null,null,null,"Not applicable","Not applicable",null,"Not under a federation",null,null,null,null,null,null,"Upton Avenue","Forest Gate",null,"London",null,"E7 9PN",null,2085523670,"London",null,null,"3-11",null,"Primary",null,null,null,null,null,"Headteacher","Wales (pseudo)"]
[401553,1335,{"$error":"#NAME?"},680,"Newport",3305,"St Patrick's R.C. Primary School","NP19 0HR",null,"Welsh Establishment","Open","Archdiocese of Cardiff","10-18917597",null,"Julie Griffin",null,"Julie","Griffin","stpatricks.primary@newport.gov.uk","01633 272488",null,null,null,null,null,null,null,null,null,null,null,null,null,null,null,"Not applicable","Not applicable",null,"Not applicable",null,null,null,null,null,null,"Fairfax Road","Newport",null,null,null,"NP19 0HR",null,1633272488,"Wales (pseudo)",null,null,"-",null,"Primary",null,null,null,null,null,"Headteacher","Wales (pseudo)"]
[142730,1338,{"$error":"#NAME?"},926,"Norfolk",3376,"St Augustine's Catholic Primary School, Costessey","NR8 5AG","St John the Baptist Catholic Multi Academy Trust","Academy Converter","Open","Diocese of East Anglia","12-20519446",null,"School Business Manager ","School Business Manager",null,null,"office@st-augustines.norfolk.sch.uk","01603 743317",null,null,null,null,null,null,null,null,null,null,null,null,null,null,null,"Supported by a multi-academy trust","Linked to a sponsor","St John the Baptist Catholic Multi Academy Trust","Not applicable",null,10056125,null,null,null,null,"Westend","Old Costessey",null,"Norwich","Norfolk","NR8 5AG",null,1603743317,"East of England",null,null,"3-11",null,"Primary",null,"Mrs","Victoria","Long",null,"Headteacher","Eastern"]
[121239,1342,{"$error":"#NAME?"},926,"Norfolk",6114,"Notre Dame Preparatory School (Norwich) Limited","NR2 3TA",null,"Other Independent School","Open","Diocese of East Anglia","12-84573550",null,"Alli Warne",null,"Alli","Warne","bursar@notredameprepschool.co.uk","01603 625593",null,null,null,null,null,null,null,null,null,null,null,null,null,null,null,"Not applicable","Not applicable",null,"Not applicable",null,null,null,null,null,null,"147 Dereham Road",null,null,"Norwich","Norfolk","NR2 3TA",null,1603625593,"East of England",null,null,"2-11",null,"Primary",null,"Mr","Aidan","McGovern",null,"Headteacher","Eastern"]
[139649,1345,{"$error":"#NAME?"},812,"North East Lincolnshire",4000,"Holy Family Catholic Academy","DN35 9NF","Holy Family Catholic Academy","Academy Sponsor Led","Open","Diocese of Nottingham","21-13113134",null,"Mrs Irvin","Mrs","J","Irvin","jis@standrews.ne-lincs.sch.uk","01472 328888",null,null,null,null,null,null,null,null,null,null,null,null,null,null,null,"Supported by a single-academy trust","Linked to a sponsor","Nottingham Roman Catholic Diocesan Education Service (NRCDES)","Not applicable",null,10041590,null,null,null,null,"Chatsworth Place",null,null,"Cleethorpes","North East Lincolnshire","DN35 9NF",null,1472328888,"Yorkshire and the Humber",null,null,"11-16",null,"Secondary",null,"Mrs","Catherine","McHale",null,null,"Yorkshire and Humber"]
[138014,1347,{"$f":"_xlfn.CONCAT(D1348,F1348)","v":{"$error":"#NAME?"}},812,"North East Lincolnshire",3514,"St Joseph's Catholic Primary Voluntary Academy","DN35 9DL","Northern Lincolnshire Catholic Academy Trust, The","Academy Converter","Open","Diocese of Nottingham","21-86184391",null,"Val Matthews",null,"Val","Matthews","office@sjp.academy","01472 690672",null,null,null,null,null,null,null,null,null,null,null,null,null,null,null,"Supported by a multi-academy trust","Linked to a sponsor","Nottingham Roman Catholic Diocesan Education Service (NRCDES)","Not applicable",null,10036994,null,null,null,null,"Philip Avenue",null,null,"Cleethorpes","Lincolnshire","DN35 9DL",null,1472690672,"Yorkshire and the Humber",null,null,"3-11",null,"Primary",null,"Mrs","Pamela","Tonge",null,"Headteacher","Yorkshire and Humber"]
[138016,1350,{"$error":"#NAME?"},813,"North Lincolnshire",3325,"St Bernadette's Catholic Voluntary Academy","DN16 2LW","Northern Lincolnshire Catholic Academy Trust, The","Academy Converter","Open","Diocese of Nottingham","21-27852874",null,"Mrs Ives","Mrs","Janet","Ives","admin.saintbernadettes@northlincs.gov.uk","01724 842382",null,null,null,null,null,null,null,null,null,null,null,null,null,null,null,"Supported by a multi-academy trust","Linked to a sponsor","Nottingham Roman Catholic Diocesan Education Service (NRCDES)","Not applicable",null,10036996,null,null,null,null,"Anne's Crescent","Ashby",null,"Scunthorpe","North Lincolnshire","DN16 2LW",null,1724842382,"Yorkshire and the Humber",null,null,"3-11",null,"Primary",null,"Mr","David","Sidaway",null,"Headteacher","Yorkshire and Humber"]
[109242,1353,{"$error":"#NAME?"},802,"North Somerset",3354,"Corpus Christi Catholic Primary School","BS23 1XW",null,"Voluntary Aided School","Open","Diocese of Clifton","11-71264918",null,"Mrs Reynolds","Mrs","Alison","Reynolds","alison.reynolds@corpuschristiweston.co.uk","01934 621919",null,null,null,null,null,null,null,null,null,null,null,null,null,null,null,"Not applicable","Not applicable",null,"Not under a federation",null,null,null,null,null,null,"Ellenborough Park South",null,null,"Weston-super-Mare","Somerset","BS23 1XW",null,1934621919,"South West",null,null,"4-11",null,"Primary",null,"Ms","Caroline","Hostein",null,"Headteacher","South West"]
[137734,1356,{"$error":"#NAME?"},392,"North Tyneside",4605,"St Thomas More Roman Catholic Academy","NE29 8LF","St Thomas More Roman Catholic Academy","Academy Converter","Open","Diocese of Hexham and Newcastle","14-73215640",null,"Mrs Gollins","Mrs","A ","Gollins","agollings@stmacademy.org.uk","01912 588340",null,null,null,null,null,null,null,null,null,null,null,null,null,null,null,"Supported by a single-academy trust","-",null,"Not applicable",null,10035846,null,null,null,null,"Lynn Road",null,null,"North Shields","Tyne and Wear","NE29 8LF",null,1912588340,"North East",null,null,"11-18",null,"Secondary",null,null,"Colette","Bland",null,"Headteacher","North East"]
[108621,1360,{"$error":"#NAME?"},392,"North Tyneside",3316,"St Stephens Roman Catholic Primary School Aided","NE12 8FA",null,"Voluntary Aided School","Open","Diocese of Hexham and Newcastle","14-21596764",null,"Francesca Celardi",null,"Francesca","Celardi","ststephens.primary@northtyneside.gov.uk","01916 432910",null,null,null,null,null,null,null,null,null,null,null,null,null,null,null,"Not applicable","Not applicable",null,"Not under a federation",null,null,null,null,null,null,"Goathland Avenue","Longbenton",null,"Newcastle-upon-Tyne","Tyne and Wear","NE12 8FA",null,1916432910,"North East",null,null,"3-11",null,"Primary",null,"Mr","J","Hannah",null,"Headteacher","North East"]
[108616,1364,{"$error":"#NAME?"},392,"North Tyneside",3305,"St Cuthberts Roman Catholic Primary School Aided","NE29 0BU",null,"Voluntary Aided School","Open","Diocese of Hexham and Newcastle","14-36618033",null,"Mr Jennings","Mr","Barry","Jennings","StCuthberts.Primary@northtyneside.gov.uk","01912 005620",null,null,null,null,null,null,null,null,null,null,null,null,null,null,null,"Not applicable","Not applicable",null,"Not under a federation",null,null,null,null,null,null,"Lovaine Place",null,null,"North Shields","Tyne and Wear","NE29 0BU",null,1912005620,"North East",null,null,"3-11",null,"Primary",null,"Miss","Claire","Hedley",null,"Headteacher","North East"]
[121751,1368,{"$error":"#NAME?"},815,"North Yorkshire",6021,"St Martin's Ampleforth School","YO62 4HP",null,"Other Independent School","Open","Diocese of Middlesbrough","19-48947925",null,"Ms Rose","Ms","Katherine","Rose","kr@ampleforth.org.uk","01439 766600",null,null,null,null,null,null,null,null,null,null,null,null,null,null,null,"Not applicable","Not applicable",null,"Not applicable",null,10018600,null,null,null,null,"The Castle","Gilling East",null,"York","North Yorkshire","YO62 4HP",null,1439766600,"Yorkshire and the Humber",null,null,"3-13",null,"Secondary",null,"Mrs","Alison","Ashworth",null,"Executive Headteacher","Yorkshire and Humber"]
[142159,1371,{"$error":"#NAME?"},815,"North Yorkshire",3378,"St Joseph's Catholic Primary School, Harrogate, A Voluntary Academy","HG1 2DP","The Bishop Wheeler Catholic Academy Trust","Academy Converter","Open","Diocese of Leeds","16-67491487",null,"Julie Glover",null,"Julie","Glover","admin@stjosephs.n-yorks.sch.uk","01423 562650",null,null,null,null,null,null,null,null,null,null,null,null,null,null,null,"Supported by a multi-academy trust","Linked to a sponsor","The Bishop Wheeler Catholic Academy Trust","Not applicable",null,10053096,null,null,null,null,"Coppice Rise",null,null,"Harrogate","North Yorkshire","HG1 2DP",null,1423562650,"Yorkshire and the Humber",null,null,"4-11",null,"Primary",null,"Mrs","Karen","Williams",null,"Headteacher","Yorkshire and Humber"]
[121718,1374,{"$error":"#NAME?"},815,"North Yorkshire",4610,"Holy Family Catholic High School, Carlton","DN14 9NS",null,"Voluntary Aided School","Open","Diocese of Leeds","16-18061243",null,"Mrs Mitchell","Mrs","I","Mitchell","admin@holyfamilycarlton.org","01405 860276",null,null,null,null,null,null,null,null,null,null,null,null,null,null,null,"Not applicable","Not applicable",null,"Not under a federation",null,10015751,null,null,null,null,"Longhedge Lane","Carlton",null,"Goole",null,"DN14 9NS",null,1405860276,"Yorkshire and the Humber",null,null,"11-16",null,"Secondary",null,"Mr","David","Harrison",null,"Headteacher","Yorkshire and Humber"]
[121653,1375,{"$error":"#NAME?"},815,"North Yorkshire",3609,"St Mary's Roman Catholic Primary School, Malton","YO17 7DB",null,"Voluntary Aided School","Open","Diocese of Middlesbrough","19-78813769",null,"Fiona Robinson",null,"Fiona","Robinson","admin@malton-st-marys.n-yorks.sch.uk","01653 692274",null,null,null,null,null,null,null,null,null,null,null,null,null,null,null,"Not applicable","Not applicable",null,"Not under a federation",null,null,null,null,null,null,"Highfield Road",null,null,"Malton","North Yorkshire","YO17 7DB",null,1653692274,"Yorkshire and the Humber",null,null,"4-11",null,"Primary",null,"Mrs","Emma","Barrs",null,"Head of School","Yorkshire and Humber"]
[121656,1381,{"$error":"#NAME?"},815,"North Yorkshire",3615,"St Peter's Roman Catholic Primary School","YO12 6LX",null,"Voluntary Aided School","Open","Diocese of Middlesbrough","19-94369686",null,"Michelle Appleby",null,"Michelle","Appleby","admin@st-petersrc.n-yorks.sch.uk","01723 372720",null,null,null,null,null,null,null,null,null,null,null,null,null,null,null,"Not applicable","Not applicable",null,"Not under a federation",null,null,null,null,null,null,"North Leas Avenue",null,null,"Scarborough","North Yorkshire","YO12 6LX",null,1723372720,"Yorkshire and the Humber",null,null,"4-11",null,"Primary",null,"Mr","Mark","Taylor",null,"Headteacher","Yorkshire and Humber"]
[121715,1383,{"$error":"#NAME?"},815,"North Yorkshire",4605,"St Francis Xavier School","DL10 7DA",null,"Voluntary Aided School","Open","Diocese of Middlesbrough","19-89960467",null,"Margaret Land",null,"Margaret","Land","contact@sfxschool.org.uk","01748 823414",null,null,null,null,null,null,null,null,null,null,null,null,null,null,null,"Not applicable","Not applicable",null,"Not under a federation",null,10016979,null,null,null,null,"Darlington Road",null,null,"Richmond","North Yorkshire","DL10 7DA",null,1748823414,"Yorkshire and the Humber",null,null,"11-16",null,"Secondary",null,"Mrs","Jill","Allen",null,"Headteacher","Yorkshire and Humber"]
[132728,1386,{"$error":"#NAME?"},815,"North Yorkshire",3902,"Sacred Heart RC Primary School","DL7 8UL",null,"Voluntary Aided School","Open","Diocese of Middlesbrough","19-17212520",null,"Angela Clarkson",null,"Angela","Clarkson","admin@sacredheart.n-yorks.sch.uk","01609 780971",null,null,null,null,null,null,null,null,null,null,null,null,null,null,null,"Not applicable","Not applicable",null,"Not under a federation",null,null,null,null,null,null,"Broomfield Avenue",null,null,"Northallerton","North Yorkshire","DL7 8UL",null,1609780971,"Yorkshire and the Humber",null,null,"4-11",null,"Primary",null,"Miss","Jill","Collins",null,"Headteacher","Yorkshire and Humber"]
[121639,1389,{"$error":"#NAME?"},815,"North Yorkshire",3373,"St Mary's Catholic Primary School","YO8 9AX",null,"Voluntary Aided School","Open","Diocese of Leeds","16-65054123",null,"Denise Land",null,"Denise","Land","admin@st-marys-selby.n-yorks.sch.uk","01757 706616",null,null,null,null,null,null,null,null,null,null,null,null,null,null,null,"Not applicable","Not applicable",null,"Not under a federation",null,null,null,null,null,null,"Baffam Lane",null,null,"Selby","North Yorkshire","YO8 9AX",null,1757706616,"Yorkshire and the Humber",null,null,"4-11",null,"Primary",null,"Mr","Clive","Robinson","M.A.  B.A. Qts","Headteacher","East Midlands"]
[142738,1394,{"$error":"#NAME?"},928,"Northamptonshire",3350,"St Mary's Catholic Primary School","NN5 7HX","St Thomas of Canterbury Catholic Academies Trust","Academy Converter","Open","Diocese of Northampton","20-60460822",null,"Mrs Smith","Mrs","Debbie","Smith","Bursar@Stmarys.northants-ecl.gov.uk","01604 581011",null,null,null,null,null,null,null,null,null,null,null,null,null,null,null,"Supported by a multi-academy trust","-",null,"Not applicable",null,10056148,null,null,null,null,"Woodside Way",null,null,"Northampton","Northamptonshire","NN5 7HX",null,1604581011,"East Midlands",null,null,"4-11",null,"Primary",null,"Mrs","Yvonne","Lucey",null,"Headteacher","East Midlands"]
[141634,1397,{"$error":"#NAME?"},928,"Northamptonshire",3408,"St Edward's Catholic Primary School","NN15 6PT","St Luke Academies Trust","Academy Converter","Open","Diocese of Northampton","20-73069650",null,"Mrs Castley","Mrs","Debbie","Castley","debbie.castley@st-luke-at.co.uk","01536 481430",null,null,null,null,null,null,null,null,null,null,null,null,null,null,null,"Supported by a multi-academy trust","Linked to a sponsor","St Luke Academies Trust","Not applicable",null,10048936,null,null,null,null,"Eastleigh Road",null,null,"Kettering","Northamptonshire","NN15 6PT",null,1536481430,"East Midlands",null,null,"4-11",null,"Primary",null,"Mrs","Niamh","Rolph",null,"Headteacher","East Midlands"]
[122045,1400,{"$error":"#NAME?"},928,"Northamptonshire",3406,"St Patrick's Catholic Primary School, Corby","NN18 9NT",null,"Voluntary Aided School","Open","Diocese of Northampton","20-59264549",null,"Ms Pringle","Ms","Melanie","Pringle","bursar@stpatricks.northants-ecl.gov.uk","01536 744447",null,null,null,null,null,null,null,null,null,null,null,null,null,null,null,"Not applicable","Not applicable",null,"Not under a federation",null,null,null,null,null,null,"Patrick Road",null,null,"Corby","Northamptonshire","NN18 9NT",null,1536744447,"East Midlands",null,null,"3-11",null,"Primary",null,"Mrs","Felicity","Penny",null,"Headteacher","North East"]
[141832,1401,{"$error":"#NAME?"},929,"Northumberland",3770,"St Paul's Catholic Academy","NE23 6DB","Pax Christi Catholic Partnership","Academy Converter","Open","Diocese of Hexham and Newcastle","14-25563749",null,"Ms Lynn","Ms","Angela","Lynn","aln@cardinalhune.com","01670 716343",null,null,null,null,null,null,null,null,null,null,null,null,null,null,null,"Supported by a multi-academy trust","-",null,"Not applicable",null,10048219,null,null,null,null,"Northumbrian Road",null,null,"Cramlington","Northumberland","NE23 6DB",null,1670716343,"North East",null,null,"5-9",null,"Primary",null,"Mrs","Clare","McGregor",null,"Headteacher","North East"]
[141828,1404,{"$error":"#NAME?"},929,"Northumberland",3917,"St Matthew's Catholic Primary School","NE42 6EY","St Thomas More Partnership of Schools","Academy Converter","Open","Diocese of Hexham and Newcastle","14-29426600",null,"Alex Robson",null,"Alex","Robson","smp@stthomasmore.org.uk","01661 835484",null,null,null,null,null,null,null,null,null,null,null,null,null,null,null,"Supported by a multi-academy trust","-",null,"Not applicable",null,10049283,null,null,null,null,"Highfield Lane",null,null,"Prudhoe","Northumberland","NE42 6EY",null,1661835484,"North East",null,null,"3-11",null,"Primary",null,null,"Felicity","Penny",null,"Headteacher","North East"]
[122307,1407,{"$error":"#NAME?"},929,"Northumberland",3726,"St Aidan's Roman Catholic Voluntary Aided First School","NE63 0LF",null,"Voluntary Aided School","Open","Diocese of Hexham and Newcastle","14-49527228",null,"Samantha Leslie",null,"Samantha","Leslie","admin@st-aidans.northumberland.sch.uk","01670 813308",null,null,null,null,null,null,null,null,null,null,null,null,null,null,null,"Not applicable","Not applicable",null,"Not under a federation",null,null,null,null,null,null,"Norham Road",null,null,"Ashington","Northumberland","NE63 0LF",null,1670813308,"North East",null,null,"3-9",null,"Primary",null,"Mrs","C","Birkett",null,"Head of School","North East"]
[122304,1412,{"$error":"#NAME?"},929,"Northumberland",3711,"St Wilfrid's Roman Catholic Voluntary Aided Primary School","NE24 2LE",null,"Voluntary Aided School","Open","Diocese of Hexham and Newcastle","14-17235220",null,"School Office","School Office",null,null,"admin@blythstwilfridsprimary.northumberland.sch.uk","01670 352606",null,null,null,null,null,null,null,null,null,null,null,null,null,null,null,"Not applicable","Not applicable",null,"Not under a federation",null,null,null,null,null,null,"Claremont Terrace",null,null,"Blyth","Northumberland","NE24 2LE",null,1670352606,"North East",null,null,"3-11",null,"Primary",null,"Mrs","Fiona","Conley",null,"Headteacher","North East"]
[137439,1415,{"$error":"#NAME?"},892,"Nottingham",3320,"Our Lady & St Edward Primary & Nursery Catholic Voluntary Academy","NG3 2LG","South Nottingham Catholic Academy Trust","Academy Converter","Open","Diocese of Nottingham","21-54663420",null,"Mrs Jordan","Mrs","Anne-Marie","Jordan","admin@olseacademy.org.uk","01159 155800",null,null,null,null,null,null,null,null,null,null,null,null,null,null,null,"Supported by a multi-academy trust","-",null,"Not applicable",null,10035060,null,null,null,null,"Gordon Road","St Ann's",null,"Nottingham","Nottinghamshire","NG3 2LG",null,1159155800,"East Midlands",null,null,"3-11",null,"Primary",null,"Mr","NICK","BENZIE",null,"Headteacher","East Midlands"]
[138814,1419,{"$error":"#NAME?"},892,"Nottingham",3321,"St Margaret Clitherow Catholic Primary School","NG5 5RS","Pax Christi Catholic Academy Trust","Academy Converter","Open","Diocese of Nottingham","21-35419720",null,"Mrs Turgoose","Mrs","Kathy","Turgoose","admin@st-margaretclitherow.nottingham.sch.uk","01159 150296",null,null,null,null,null,null,null,null,null,null,null,null,null,null,null,"Supported by a multi-academy trust","-",null,"Not applicable",null,10039034,null,null,null,null,"Mildenhall Crescent","Bestwood Park",null,"Nottingham","Nottinghamshire","NG5 5RS",null,1159150296,"East Midlands",null,null,"3-11",null,"Primary",null,null,"Caroline","Caille",null,null,"East Midlands"]
[138338,1422,{"$error":"#NAME?"},892,"Nottingham",3318,"Our Lady of Perpetual Succour Catholic Primary School","NG6 9FN","St Barnabas Catholic Academy Trust","Academy Converter","Open","Diocese of Nottingham","21-87050749",null,"Ms Dove","Ms","Gillian","Dove","finance@ourladyops.nottingham.sch.uk","01159 150500",null,null,null,null,null,null,null,null,null,null,null,null,null,null,null,"Supported by a multi-academy trust","-",null,"Not applicable",null,10037785,null,null,null,null,"Piccadilly","Bulwell",null,"Nottingham","Nottinghamshire","NG6 9FN",null,1159150500,"East Midlands",null,null,"3-11",null,"Primary",null,"Mrs","Luisa","Maylard-Mason",null,"Headteacher","East Midlands"]
[142158,1424,{"$error":"#NAME?"},891,"Nottinghamshire",3710,"St. Joseph's Catholic Primary School, a Voluntary Academy","DN22 7BP","Our Lady of Doncaster Umbrella Trust~St Joseph's Catholic Primary Voluntary Academy Retford","Academy Converter","Open","Diocese of Hallam","13-87620303",null,"Lisa Sherpherd",null,"Lisa","Sherpherd","office@st-josephs.notts.sch.uk","01777 702850",null,null,null,null,null,null,null,null,null,null,null,null,null,null,null,"Supported by a single-academy trust~Supported by an umbrella trust","-",null,"Not applicable",null,10053097,null,null,null,null,"Babworth Road",null,null,"Retford","Nottinghamshire","DN22 7BP",null,1777702850,"East Midlands",null,null,"3-11",null,"Primary",null,"Mrs","Julia","Summers",null,"Headteacher","East Midlands"]
[137909,1427,{"$error":"#NAME?"},891,"Nottinghamshire",3763,"The Priory Catholic Voluntary Academy","NG16 3GT","Saint Robert Lawrence Catholic Academy Trust","Academy Converter","Open","Diocese of Nottingham","21-18983352",null,"Mrs Clarke","Mrs","Sally","Clarke","office@priory-pri.notts.sch.uk","01773 713731",null,null,null,null,null,null,null,null,null,null,null,null,null,null,null,"Supported by a multi-academy trust","Linked to a sponsor","Saint Robert Lawrence Catholic Academy Trust","Not applicable",null,10036757,null,null,null,null,"Raglan Street","Hill Top","Eastwood","Nottingham","Nottinghamshire","NG16 3GT",null,1773713731,"East Midlands",null,null,"4-11",null,"Primary",null,"Mrs","Karen","Taylor",null,"Headteacher","East Midlands"]
[138811,1430,{"$error":"#NAME?"},891,"Nottinghamshire",3696,"The Good Shepherd Catholic Primary, Arnold","NG5 4LT","Pax Christi Catholic Academy Trust","Academy Converter","Open","Diocese of Nottingham","21-58193446",null,"Mrs Della-spina","Mrs","Zoe","Della-spina","office@goodshepherd.notts.sch.uk","01159 262983",null,null,null,null,null,null,null,null,null,null,null,null,null,null,null,"Supported by a multi-academy trust","-",null,"Not applicable",null,10039044,null,null,null,null,"Somersby Road","Arnold",null,"Nottingham","Nottinghamshire","NG5 4LT",null,1159262983,"East Midlands",null,null,"5-11",null,"Primary",null,"Mr","James","McGeachie",null,"Headteacher","East Midlands"]
[140698,1434,{"$error":"#NAME?"},891,"Nottinghamshire",4756,"All Saints Catholic Voluntary Academy","NG19 6BW","The Aquinas Catholic Academy Trust","Academy Converter","Open","Diocese of Nottingham","21-87664256",null,"Mr Holt","Mr","Jon","Holt","holt.j@allsaints.notts.sch.uk","01623 474700",null,null,null,null,null,null,null,null,null,null,null,null,null,null,null,"Supported by a multi-academy trust","-",null,"Not applicable",null,10045639,null,null,null,null,"Broomhill Lane",null,null,"Mansfield","Nottinghamshire","NG19 6BW",null,1623474700,"East Midlands",null,null,"11-18",null,"Secondary",null,"Mrs","Jane","Smedley",null,"Headteacher","East Midlands"]
[122820,1437,{"$error":"#NAME?"},891,"Nottinghamshire",3768,"Holy Family Catholic Primary School","S80 2SF",null,"Voluntary Aided School","Open","Diocese of Hallam","13-40868175",null,"Mrs Matthews","Mrs","Caroline","Matthews","office@holyfamily.notts.sch.uk","01909 473917",null,null,null,null,null,null,null,null,null,null,null,null,null,null,null,"Not applicable","Not applicable",null,"Not under a federation",null,null,null,null,null,null,"Netherton Road",null,null,"Worksop","Nottinghamshire","S80 2SF",null,1909473917,"East Midlands",null,null,"3-11",null,"Primary",null,"Mr","Neil","Harris",null,"Headteacher","East Midlands"]
[105701,1441,{"$error":"#NAME?"},353,"Oldham",3328,"Holy Rosary RC Junior Infant and Nursery School","OL8 2SR",null,"Voluntary Aided School","Open","Diocese of Salford","24-53606263",null,"Mrs Wiseman","Mrs","Ruth","Wiseman","info@holyrosary.oldham.sch.uk","01616 243035",null,null,null,null,null,null,null,null,null,null,null,null,null,null,null,"Not applicable","Not applicable",null,"Not under a federation",null,null,null,null,null,null,"Fir Tree Avenue","Fitton Hill",null,"Oldham","Lancashire","OL8 2SR",null,1616243035,"North West",null,null,"3-11",null,"Primary",null,"Mr","L D","Harrison","Bed (Hons)","Headteacher","North West"]
[105722,1445,{"$error":"#NAME?"},353,"Oldham",3364,"St Herbert's RC School","OL9 9SN",null,"Voluntary Aided School","Open","Diocese of Salford","24-97480830",null,"Mrs Edwards","Mrs","Barbara","Edwards","info@stherberts.oldham.sch.uk","01616 331318",null,null,null,null,null,null,null,null,null,null,null,null,null,null,null,"Not applicable","Not applicable",null,"Not under a federation",null,null,null,null,null,null,"Edward Street","Chadderton",null,"Oldham","Lancashire","OL9 9SN",null,1616331318,"North West",null,null,"3-11",null,"Primary",null,"Mr","Garry","Needle",null,"Headteacher","North West"]
[105726,1448,{"$error":"#NAME?"},353,"Oldham",3402,"St Patrick's RC Primary and Nursery School","OL8 1EF",null,"Voluntary Aided School","Open","Diocese of Salford","24-95653934",null,"Mrs Halliwell","Mrs","Helen","Halliwell","info@st-patricks.oldham.sch.uk","01616 330527",null,null,null,null,null,null,null,null,null,null,null,null,null,null,null,"Not applicable","Not applicable",null,"Not under a federation",null,null,null,null,null,null,"Lee Street",null,null,"Oldham","Lancashire","OL8 1EF",null,1616330527,"North West",null,null,"3-11",null,"Primary",null,"Miss","Sarah","Bradbury",null,null,"North West"]
[136825,1449,{"$error":"#NAME?"},353,"Oldham",2003,"St. Theresa's","OL1 4NA",null,"Voluntary Aided School","Open","Diocese of Salford","24-69278669",null,"Louise Connelly",null,"Louise","Connelly","info@sttheresas.oldham.sch.uk","01617 703173",null,null,null,null,null,null,null,null,null,null,null,null,null,null,null,"Not applicable","Not applicable",null,"Not under a federation",null,null,null,null,null,null,"Whetstone Hill Road","Derker",null,"Oldham","Greater Manchester","OL1 4NA",null,1617703173,"North West",null,null,"3-11",null,"Primary",null,"Mr","Christopher","Hanson",null,"Headteacher","North West"]
[123218,1452,{"$error":"#NAME?"},931,"Oxfordshire",3842,"St Aloysius' Catholic Primary School","OX2 7PH",null,"Voluntary Aided School","Open","Archdiocese of Birmingham","08-94921037",null,"Mrs Clarke","Mrs","Jo","Clarke","office.3842@st-aloysius.oxon.sch.uk","01865 311056",null,null,null,null,null,null,null,null,null,null,null,null,null,null,null,"Not applicable","Not applicable",null,"Not under a federation",null,null,null,null,null,null,"143 Woodstock Road",null,null,"Oxford","Oxfordshire","OX2 7PH",null,1865311056,"South East",null,null,"5-11",null,"Primary",null,"Mr","Stephen","Oliver","Ba Hons; Pgce; Mlitt","Principal","South East"]
[139529,1458,{"$error":"#NAME?"},931,"Oxfordshire",3826,"St Joseph's Catholic Primary School, Thame","OX9 2AB","The Dominic Barberi Multi Academy Company","Academy Converter","Open","Archdiocese of Birmingham","08-53149825",null,"Mrs Durkin","Mrs","Sue","Durkin","admin.3826@st-josephs.oxon.sch.uk","01844 214278",null,null,null,null,null,null,null,null,null,null,null,null,null,null,null,"Supported by a multi-academy trust","Linked to a sponsor","The Dominic Barberi MAC (South Oxfordshire)","Not applicable",null,10041023,null,null,null,null,"Brook Lane",null,null,"Thame","Oxfordshire","OX9 2AB",null,1844214278,"South East",null,null,"4-11",null,"Primary",null,null,"Clare","Smith",null,"Headteacher","South East"]
[139530,1460,{"$error":"#NAME?"},931,"Oxfordshire",3823,"St Thomas More Catholic Primary School, Kidlington","OX5 1EA","The Dominic Barberi Multi Academy Company","Academy Converter","Open","Archdiocese of Birmingham","08-60466098",null,"School Business Manager ","School Business Manager",null,null,"stthomasmore@dbmac.org.uk","01865 373674",null,null,null,null,null,null,null,null,null,null,null,null,null,null,null,"Supported by a multi-academy trust","Linked to a sponsor","The Dominic Barberi MAC (South Oxfordshire)","Not applicable",null,10041028,null,null,null,null,"Oxford Road",null,null,"Kidlington","Oxfordshire","OX5 1EA",null,1865373674,"South East",null,null,"3-11",null,"Primary",null,null,"Fraser","Long","B.Eng(Hons),Ma","Headteacher","South East"]
[139528,1463,{"$error":"#NAME?"},931,"Oxfordshire",4145,"St Gregory the Great Catholic School","OX4 3DR","The Dominic Barberi Multi Academy Company","Academy Converter","Open","Archdiocese of Birmingham","08-76352514",null,"Mr Caffrey","Mr","Ron","Caffrey","r.caffrey@stgregory.ocnmail.net","01865 749933",null,null,null,null,null,null,null,null,null,null,null,null,null,null,null,"Supported by a multi-academy trust","Linked to a sponsor","The Dominic Barberi MAC (South Oxfordshire)","Not applicable",null,10041045,null,null,null,null,"Cricket Road","Cowley",null,"Oxford","Oxfordshire","OX4 3DR",null,1865749933,"South East",null,null,"4-19",null,"Secondary",null,null,"Anna","Majcher",null,"Principal","South East"]
[123282,1466,{"$error":"#NAME?"},931,"Oxfordshire",6034,"The Oratory School","RG8 0PJ",null,"Other Independent School","Open","Archdiocese of Birmingham","08-63491032",null,"Mr Bradshaw","Mr","Alec","Bradshaw","bursary@oratory.co.uk","01491 683500",null,null,null,null,null,null,null,null,null,null,null,null,null,null,null,"Not applicable","Not applicable",null,"Not applicable",null,10013992,null,null,null,null,"Woodcote",null,null,"Nr Reading","Oxfordshire","RG8 0PJ",null,1491683500,"South East",null,null,"11-18",null,"Secondary",null,"Mr","Gez","Davis",null,"Headteacher","South East"]
[123216,1471,{"$error":"#NAME?"},931,"Oxfordshire",3838,"St Joseph's Catholic Primary School, Oxford","OX3 7SX",null,"Voluntary Aided School","Open","Archdiocese of Birmingham","08-36719932",null,"School Office","School Office",null,null,"office.3838@ocnmail.net","01865 763357",null,null,null,null,null,null,null,null,null,null,null,null,null,null,null,"Not applicable","Not applicable",null,"Not under a federation",null,null,null,null,null,null,"Headley Way","Headington",null,"Oxford","Oxfordshire","OX3 7SX",null,1865763357,"South East",null,null,"4-11",null,"Primary",null,null,null,null,null,"Headteacher","Wales (pseudo)"]
[400722,1474,{"$error":"#NAME?"},668,"Pembrokeshire",3313,"Mary Immaculate V.R.C. School","SA61 1PH",null,"Welsh Establishment","Open","Diocese of Menevia","18-14866936",null,"Mandy Foot",null,"Mandy","Foot","admin.maryemmaculate@pembrokshire.gov.uk","01437 762324",null,null,null,null,null,null,null,null,null,null,null,null,null,null,null,"Not applicable","Not applicable",null,"Not applicable",null,null,null,null,null,null,"Merlins Terrace","Haverfordwest","Pembrokeshire",null,null,"SA61 1PH",null,1437762324,"Wales (pseudo)",null,null,"-",null,"Primary",null,null,null,null,null,"Headteacher","Wales (pseudo)"]
[400723,1475,{"$f":"_xlfn.CONCAT(D1476,F1476)","v":{"$error":"#NAME?"}},668,"Pembrokeshire",3314,"St Francis V.R.C. School","SA73 2EE",null,"Welsh Establishment","Open","Diocese of Menevia","18-21102597",null,"Headteacher ","Headteacher","","","admin.stfrancis@pembrokeshire.gov.uk","01646 694830",null,null,null,null,null,null,null,null,null,null,null,null,null,null,null,"Not applicable","Not applicable",null,"Not applicable",null,null,null,null,null,null,"Priory Road","Milford Haven","Pembrokeshire",null,null,"SA73 2EE",null,1646694830,"Wales (pseudo)",null,null,"-",null,"Primary",null,null,null,null,null,"Headteacher","Wales (pseudo)"]
[110854,1478,{"$error":"#NAME?"},874,"Peterborough",3378,"St Thomas More Catholic Primary School","PE1 5JW",null,"Voluntary Aided School","Open","Diocese of East Anglia","12-16019267",null,"Mandy Anclifee","Ms","Mandy","Anclifee","mancliffe@st-thomasmoreprimary.com","01733 566005",null,null,null,null,null,null,null,null,null,null,null,null,null,null,null,"Not applicable","Not applicable",null,"Not under a federation",null,null,null,null,null,null,"Park Lane","Eastfield",null,"Peterborough","Cambridgeshire","PE1 5JW",null,1733566005,"East of England",null,null,"4-11",null,"Primary",null,"Mr","Mark","Cooper",null,"Head of School","Eastern"]
[140676,1481,{"$error":"#NAME?"},879,"Plymouth",2003,"St Paul's Roman Catholic Primary School","PL5 1NE","Plymouth CAST","Academy Sponsor Led","Open","Diocese of Plymouth","22-76414383",null,"Ms Spellman","Ms","Karen","Spellman","kspellman@stpaulsplymouth.com","01752 365459",null,null,null,null,null,null,null,null,null,null,null,null,null,null,null,"Supported by a multi-academy trust","Linked to a sponsor","Plymouth CAST","Not applicable",null,10045424,null,null,null,null,"Pemros Road","St Budeaux",null,"Plymouth","Devon","PL5 1NE",null,1752365459,"South West",null,null,"4-11",null,"Primary",null,"Mrs","Finola","Gill",null,"Acting Headteacher","South West"]
[140726,1484,{"$error":"#NAME?"},879,"Plymouth",3761,"Holy Cross Catholic Primary School","PL4 9BE","Plymouth CAST","Academy Converter","Open","Diocese of Plymouth","22-59209959",null,"Mrs Leach","Mrs","Sharon","Leach","holy.cross.rc.primary.school@plymouth.gov.uk","01752 225420",null,null,null,null,null,null,null,null,null,null,null,null,null,null,null,"Supported by a multi-academy trust","Linked to a sponsor","Plymouth CAST","Not applicable",null,10045689,null,null,null,null,"2 Beaumont Road","St Jude's",null,"Plymouth","Devon","PL4 9BE",null,1752225420,"South West",null,null,"4-11",null,"Primary",null,"Ms","Katherine","White","Bsc Econ, Mba","Headteacher","South West"]
[140777,1489,{"$error":"#NAME?"},836,"Poole",3612,"St Mary's Catholic Primary School, Poole","BH15 3QQ","Plymouth CAST","Academy Converter","Open","Diocese of Plymouth","22-54190211",null,"Mrs Rushton","Mrs","Patricia","Rushton","office@st-marys.poole.sch.uk","01202 676207",null,null,null,null,null,null,null,null,null,null,null,null,null,null,null,"Supported by a multi-academy trust","Linked to a sponsor","Plymouth CAST","Not applicable",null,10045617,null,null,null,null,"Devon Road",null,null,"Poole","Dorset","BH15 3QQ",null,1202676207,"South West",null,null,"4-11",null,"Primary",null,"Mrs","Pola","Bevan",null,"Headteacher","South West"]
[116384,1493,{"$error":"#NAME?"},851,"Portsmouth",3420,"Corpus Christi Catholic Primary School","PO2 9AX",null,"Voluntary Aided School","Open","Diocese of Portsmouth","01-63319747",null,"Mrs Haywood","Mrs"," Jane ","Haywood","jhaywood@corpuschristi.portsmouth.sch.uk","02392 661818",null,null,null,null,null,null,null,null,null,null,null,null,null,null,null,"Not applicable","Not applicable",null,"Not under a federation",null,null,null,null,null,null,"Gladys Avenue",null,null,"Portsmouth","Hampshire","PO2 9AX",null,2392661818,"South East",null,null,"5-11",null,"Primary",null,"Mr","Andrew","Olive",null,"Headteacher","South East"]
[116582,1496,{"$error":"#NAME?"},851,"Portsmouth",6001,"St John's College","PO5 3QW",null,"Other Independent School","Open","Diocese of Portsmouth","01-10473683",null,"Mr Merriam","Mr",null,"Merriam","info@stjohnscollege.co.uk","02392 815118",null,null,null,null,null,null,null,null,null,null,null,null,null,null,null,"Not applicable","Not applicable",null,"Not applicable",null,10008513,null,null,null,null,"Grove Road South",null,null,"Southsea","Hampshire","PO5 3QW",null,2392815118,"South East",null,null,"3-18",null,"Secondary",null,null,null,null,null,"Headteacher","Wales (pseudo)"]
[110004,1499,{"$error":"#NAME?"},870,"Reading",3304,"English Martyrs' Catholic Primary School","RG30 4BE",null,"Voluntary Aided School","Open","Diocese of Portsmouth","01-89997834",null,"Ms Dean","Ms","Elaine","Dean","businessmanager@englishmartyrs.reading.sch.uk","01189 375466",null,null,null,null,null,null,null,null,null,null,null,null,null,null,null,"Not applicable","Not applicable",null,"Not under a federation",null,null,null,null,null,null,"Dee Road","Tilehurst",null,"Reading","Berkshire","RG30 4BE",null,1189375466,"South East",null,null,"4-11",null,"Primary",null,"Mrs","Margot","Buller",null,"Headteacher","South East"]
[110107,1501,{"$error":"#NAME?"},870,"Reading",5411,"Blessed Hugh Faringdon Catholic School","RG30 3EP",null,"Voluntary Aided School","Open","Diocese of Portsmouth","01-20139298",null,"Mrs McDonnell","Mrs","Ann","McDonnell","A.McDonnell@hughfaringdon.org","01189 574730",null,null,null,null,null,null,null,null,null,null,null,null,null,null,null,"Not applicable","Not applicable",null,"Not under a federation",null,10000768,null,null,null,null,"Fawley Road","Southcote",null,"Reading","Berkshire","RG30 3EP",null,1189574730,"South East",null,null,"11-18",null,"Secondary",null,"Mrs","Margot","Buller",null,"Executive Head of School","South East"]
[137088,1504,{"$error":"#NAME?"},317,"Redbridge",4800,"The Palmer Catholic Academy","IG3 8EU","The Palmer Catholic Academy","Academy Converter","Open","Diocese of Brentwood","09-25257930",null,"Mr Islam","Mr","N","Islam","office@tpc.academy","02085 903808",null,null,null,null,null,null,null,null,null,null,null,null,null,null,null,"Supported by a single-academy trust","-",null,"Not applicable",null,10034821,null,null,null,null,"Aldborough Road South","Seven Kings",null,"Ilford","Essex","IG3 8EU",null,2085903808,"London",null,null,"11-18",null,"Secondary",null,"Miss","C M","Curtis",null,"Headteacher","London"]
[102874,1507,{"$error":"#NAME?"},317,"Redbridge",6062,"The Ursuline Prep School Ilford","IG1 4QR",null,"Other Independent School","Open","Diocese of Brentwood","09-40109045",null,"Mrs Boating","Mrs","Paula","Boating","urspsi@urspsi.org.uk","02085 184050",null,null,null,null,null,null,null,null,null,null,null,null,null,null,null,"Not applicable","Not applicable",null,"Not applicable",null,null,null,null,null,null,"2-8 Coventry Road",null,null,"Ilford","Essex","IG1 4QR",null,2085184050,"London",null,null,"3-11",null,"Primary",null,null,"Karen","Reilly",null,"Headteacher","London"]
[102848,1511,{"$error":"#NAME?"},317,"Redbridge",3513,"SS Peter and Paul's Catholic Primary School","IG1 1SA",null,"Voluntary Aided School","Open","Diocese of Brentwood","09-34249317",null,"Mrs Anness","Mrs","Maria","Anness","admin.sspeterandpauls@redbridge.gov.uk","02084 781267",null,null,null,null,null,null,null,null,null,null,null,null,null,null,null,"Not applicable","Not applicable",null,"Not under a federation",null,null,null,null,null,null,"Gordon Road",null,null,"Ilford","Essex","IG1 1SA",null,2084781267,"London",null,null,"4-11",null,"Primary",null,"Mr","G","Nott",null,"Headteacher","London"]
[102842,1514,{"$error":"#NAME?"},317,"Redbridge",3500,"St Augustine's Catholic Primary School","IG2 6RG",null,"Voluntary Aided School","Open","Diocese of Brentwood","09-27680184",null,"School Office","School Office",null,null,"admin.st-augustines@redbridge.gov.uk","02085 541919",null,null,null,null,null,null,null,null,null,null,null,null,null,null,null,"Not applicable","Not applicable",null,"Not under a federation",null,null,null,null,null,null,"Cranbrook Road","Gants Hill",null,"Ilford","Essex","IG2 6RG",null,2085541919,"London",null,null,"3-11",null,"Primary",null,"Mrs","Nicola","Jamalizadeh",null,"Headteacher","North East"]
[141457,1518,{"$error":"#NAME?"},807,"Redcar and Cleveland",3308,"Saint Joseph's Primary Catholic Voluntary Academy","TS13 4PZ","Nicholas Postgate Academy Trust","Academy Converter","Open","Diocese of Middlesbrough","19-13217642",null,"Caroline Farrier",null,"Caroline","Farrier","cfarrier@st-josephs.rac.sch.uk","01287 640613",null,null,null,null,null,null,null,null,null,null,null,null,null,null,null,"Supported by a multi-academy trust","-",null,"Not applicable",null,10047607,null,null,null,null,"Rosecroft Lane","Loftus",null,"Saltburn-by-the-Sea","North Yorkshire","TS13 4PZ",null,1287640613,"North East",null,null,"2-11",null,"Primary",null,null,"M E","Henry",null,null,"North East"]
[141458,1522,{"$error":"#NAME?"},807,"Redcar and Cleveland",3307,"Saint Bede's Catholic VA Primary School","TS11 6AE","Nicholas Postgate Academy Trust","Academy Converter","Open","Diocese of Middlesbrough","19-85579934",null,"Tracy Laveri","Ms","Tracy","Laveri","enquiries@stbedes.rac.sch.uk","01642 485217",null,null,null,null,null,null,null,null,null,null,null,null,null,null,null,"Supported by a multi-academy trust","-",null,"Not applicable",null,10047323,null,null,null,null,"Redcar Road","Marske-by-Sea",null,"Redcar","North Yorkshire","TS11 6AE",null,1642485217,"North East",null,null,"3-11",null,"Primary",null,"Mrs","Zahida","Hammond",null,"Headteacher","North East"]
[401264,1525,{"$error":"#NAME?"},674,"Rhondda, Cynon, Taff",3312,"St Michael's R.C. Primary School","CF37 1SP",null,"Welsh Establishment","Open","Archdiocese of Cardiff","10-31327509",null,"Alison Simmons",null,"Alison","Simmons","admin.stmichaelsrc@rctednet.net","01443 486840",null,null,null,null,null,null,null,null,null,null,null,null,null,null,null,"Not applicable","Not applicable",null,"Not applicable",null,null,null,null,null,null,"John Place","Treforest","Pontypridd","Rhondda, Cynon, Taff",null,"CF37 1SP",null,1443486840,"Wales (pseudo)",null,null,"-",null,"Primary",null,null,null,null,null,"Headteacher","Wales (pseudo)"]
[401265,1526,{"$error":"#NAME?"},674,"Rhondda, Cynon, Taff",3313,"St Gabriel & Raphael R.C.P. School","CF40 1BJ",null,"Welsh Establishment","Open","Archdiocese of Cardiff","10-69792116",null,"Julie Hunt",null,"Julie","Hunt","Admin.SSGabrielraphaelrc@rctednet.net","01443  433094",null,null,null,null,null,null,null,null,null,null,null,null,null,null,null,"Not applicable","Not applicable",null,"Not applicable",null,null,null,null,null,null,"Primrose Street","Tonypandy",null,null,null,"CF40 1BJ",null,1443433094,"Wales (pseudo)",null,null,"-",null,"Primary",null,null,null,null,null,"Headteacher","Wales (pseudo)"]
[102910,1529,{"$error":"#NAME?"},318,"Richmond upon Thames",3310,"St Elizabeth's Catholic Primary School","TW10 6HN",null,"Voluntary Aided School","Open","Archdiocese of Southwark","26-41734361",null,"Ms Brett","Ms","Christine","Brett","admin@st-elizabeths.richmond.sch.uk","02089 403015",null,null,null,null,null,null,null,null,null,null,null,null,null,null,null,"Not applicable","Not applicable",null,"Not under a federation",null,null,null,null,null,null,"Queen's Road",null,null,"Richmond","Surrey","TW10 6HN",null,2089403015,"London",null,null,"4-11",null,"Primary",null,"Mr","Richard","Burke",null,null,"London"]
[102909,1535,{"$error":"#NAME?"},318,"Richmond upon Thames",3309,"St Mary Magdalen's Catholic Primary School","SW14 8HE",null,"Voluntary Aided School","Open","Archdiocese of Southwark","26-36256160",null,"Mrs Cunningham","Mrs","Elysia","Cunningham","info@st-marymagdalens.richmond.sch.uk","02088 766679",null,null,null,null,null,null,null,null,null,null,null,null,null,null,null,"Not applicable","Not applicable",null,"Not under a federation",null,null,null,null,null,null,"Worple Street",null,null,"London",null,"SW14 8HE",null,2088766679,"London",null,null,"4-11",null,"Primary",null,"Ms","F","Lambe",null,"Headteacher","London"]
[139121,1537,{"$error":"#NAME?"},318,"Richmond upon Thames",4000,"St Richard Reynolds Catholic High School","TW1 4LT",null,"Voluntary Aided School","Open","Archdiocese of Westminster","06-79359375",null,"Ms Fisher","Ms","Anna","Fisher","a.fisher@srrcc.org.uk","02083 254630",null,null,null,null,null,null,null,null,null,null,null,null,null,null,null,"Not applicable","Not applicable",null,"Supported by a federation","St Richard Reynolds Catholic College",10045313,null,null,null,null,"Clifden Road","Twickenham",null,"London",null,"TW1 4LT",null,2083254630,"London",null,null,"11-18",null,"Secondary",null,"Mrs","Helen","Arnold",null,"Headteacher","North West"]
[131726,1540,{"$error":"#NAME?"},354,"Rochdale",4801,"Holy Family Roman Catholic and Church of England College","OL10 2AA",null,"Voluntary Aided School","Open","Diocese of Salford","24-59191935",null,"Janet Mckinnon",null,"Janet","Mckinnon","admin@hfch.co.uk","01706 360607",null,null,null,null,null,null,null,null,null,null,null,null,null,null,null,"Not applicable","Not applicable",null,"Not under a federation",null,10025356,null,null,null,null,"Pot Hall","Wilton Grove",null,"Heywood","Lancashire","OL10 2AA",null,1706360607,"North West",null,null,"11-16",null,"Secondary",null,"Dr","C","Meehan",null,"Headteacher","North West"]
[105819,1544,{"$error":"#NAME?"},354,"Rochdale",3314,"Our Lady and St Paul's Roman Catholic Primary School, Heywood","OL10 3PD",null,"Voluntary Aided School","Open","Diocese of Salford","24-20159035",null,"Mrs Griffiths","Mrs",null,"Griffiths","office@ourladystpaulsrc.rochdale.sch.uk","01706 360827",null,null,null,null,null,null,null,null,null,null,null,null,null,null,null,"Not applicable","Not applicable",null,"Not under a federation",null,null,null,null,null,null,"Sutherland Road","Darnhill",null,"Heywood","Lancashire","OL10 3PD",null,1706360827,"North West",null,null,"3-11",null,"Primary",null,"Mrs","Pam","Dungworth","BA Hons","Headteacher","North West"]
[105833,1548,{"$error":"#NAME?"},354,"Rochdale",3510,"St Joseph's Roman Catholic Primary School, Rochdale","OL10 2AA",null,"Voluntary Aided School","Open","Diocese of Salford","24-12788008",null,"Mrs Clarke","Mrs","Hayley","Clarke","office@stjosephsrcprimary.rochdale.sch.uk","01706 369340",null,null,null,null,null,null,null,null,null,null,null,null,null,null,null,"Not applicable","Not applicable",null,"Not under a federation",null,null,null,null,null,null,"Pot Hall","Wilton Grove",null,"Heywood","Lancashire","OL10 2AA",null,1706369340,"North West",null,null,"4-11",null,"Primary",null,"Mr","B","Lavin","B.Ed(Hons)","Headteacher","North West"]
[105817,1551,{"$error":"#NAME?"},354,"Rochdale",3311,"St Peter's Roman Catholic Primary School, Rochdale","M24 1FL",null,"Voluntary Aided School","Open","Diocese of Salford","24-77554599",null,"Mrs Wrigley","Mrs","Beverley","Wrigley","office@stpetersrc.rochdale.sch.uk","01616 433946",null,null,null,null,null,null,null,null,null,null,null,null,null,null,null,"Not applicable","Not applicable",null,"Not under a federation",null,null,null,null,null,null,"Kirkway","Middleton",null,"Manchester",null,"M24 1FL",null,1616433946,"North West",null,null,"4-11",null,"Primary",null,"Mrs","Joanne","Butterworth",null,"Headteacher","North West"]
[105820,1552,{"$error":"#NAME?"},354,"Rochdale",3319,"St Thomas More Roman Catholic Primary School, Middleton, Rochdale","M24 1PY",null,"Voluntary Aided School","Open","Diocese of Salford","24-61215182",null,"Julie Mcbridge",null,"Julie","Mcbridge","office@stthomasmorerc.rochdale.sch.uk","01616 437132",null,null,null,null,null,null,null,null,null,null,null,null,null,null,null,"Not applicable","Not applicable",null,"Not under a federation",null,null,null,null,null,null,"Evesham Road","Alkrington","Middleton","Manchester",null,"M24 1PY",null,1616437132,"North West",null,null,"3-11",null,"Primary",null,"Mr","Stephen","Callaghan","Ba Hons Npqh","Headteacher","North West"]
[106962,1555,{"$error":"#NAME?"},372,"Rotherham",4601,"Saint Pius X Catholic High School A Specialist School in Humanities","S63 7PQ",null,"Voluntary Aided School","Open","Diocese of Hallam","13-29102622",null,"Ms Hatswell","Ms","Louise","Hatswell","info@saintpiusx.school","01709 767900",null,null,null,null,null,null,null,null,null,null,null,null,null,null,null,"Not applicable","Not applicable",null,"Not under a federation",null,10017270,null,null,null,null,"Wath Wood Road","Wath-upon-Dearne",null,"Rotherham","South Yorkshire","S63 7PQ",null,1709767900,"Yorkshire and the Humber",null,null,"11-16",null,"Secondary",null,"Ms","Emma","Lear",null,"Headteacher","Yorkshire and Humber"]
[139880,1559,{"$error":"#NAME?"},372,"Rotherham",3322,"St Mary's Catholic Primary School","S65 2NU","The Holy Spirit Umbrella Trust~St Mary's Catholic Primary School (Herringthorpe), A Catholic Voluntary Academy","Academy Converter","Open","Diocese of Hallam","13-73970460",null,"Mrs Kay","Mrs","D","Kay","stmarysherringthorpe@rotherham.gov.uk","01709 361502",null,null,null,null,null,null,null,null,null,null,null,null,null,null,null,"Supported by a single-academy trust~Supported by an umbrella trust","-",null,"Not applicable",null,10042273,null,null,null,null,"Herringthorpe Valley Road",null,null,"Rotherham","South Yorkshire","S65 2NU",null,1709361502,"Yorkshire and the Humber",null,null,"5-11",null,"Primary",null,"Mrs","Catherine","McLaughlin",null,"Headteacher","Yorkshire and Humber"]
[139876,1561,{"$error":"#NAME?"},372,"Rotherham",3340,"St Bede's Catholic Primary School","S61 1PD","The Holy Spirit Umbrella Trust~St Bede's Catholic Primary School, A Voluntary Academy","Academy Converter","Open","Diocese of Hallam","13-91504752",null,"Mrs Loukes","Mrs","J","Loukes","st.bedesrc.junior-infant@rotherham.gov.uk","01709 740101",null,null,null,null,null,null,null,null,null,null,null,null,null,null,null,"Supported by a single-academy trust~Supported by an umbrella trust","-",null,"Not applicable",null,10042277,null,null,null,null,"Wortley Road",null,null,"Rotherham","South Yorkshire","S61 1PD",null,1709740101,"Yorkshire and the Humber",null,null,"3-11",null,"Primary",null,null,"Louise","Pink",null,"Headteacher","Yorkshire and Humber"]
[105956,1566,{"$error":"#NAME?"},355,"Salford",3520,"St Mark's RC Primary School","M27 8QE",null,"Voluntary Aided School","Open","Diocese of Salford","24-23416311",null,"Ms greenwood","Ms","Cathryn","greenwood","cathryn.greenwood@salford.gov.uk","01617 943876",null,null,null,null,null,null,null,null,null,null,null,null,null,null,null,"Not applicable","Not applicable",null,"Not under a federation",null,null,null,null,null,null,"Queensway","Clifton","Swinton","Manchester",null,"M27 8QE",null,1617943876,"North West",null,null,"3-11",null,"Primary",null,"Miss","Jennifer","Tumelty",null,"Head of School","North West"]
[105964,1570,{"$error":"#NAME?"},355,"Salford",3612,"The Cathedral School of St Peter and St John RC Primary","M3 6LU",null,"Voluntary Aided School","Open","Diocese of Salford","24-63436031",null,"Linda Jordan",null,"Linda","Jordan","linda.jordan@salford.gov.uk","01618 344150",null,null,null,null,null,null,null,null,null,null,null,null,null,null,null,"Not applicable","Not applicable",null,"Not under a federation",null,null,null,null,null,null,"Mount Street",null,null,"Salford","Greater Manchester","M3 6LU",null,1618344150,"North West",null,null,"3-11",null,"Primary",null,"Mrs","Dee","Raynor",null,"Acting Headteacher","North West"]
[105989,1573,{"$error":"#NAME?"},355,"Salford",5400,"St Ambrose Barlow RC High School","M27 9QP",null,"Voluntary Aided School","Open","Diocese of Salford","24-21959943",null,"Mr Walker","Mr","Malcolm","Walker","office@ambrose.salford.sch.uk","01619 211570",null,null,null,null,null,null,null,null,null,null,null,null,null,null,null,"Not applicable","Not applicable",null,"Not under a federation",null,10017781,null,null,null,null,"37 Ash Drive","Wardley","Swinton","Manchester",null,"M27 9QP",null,1619211570,"North West",null,null,"11-19",null,"Secondary",null,"Mrs","Barbara","Rogers",null,"Executive Principal","North West"]
[105955,1576,{"$error":"#NAME?"},355,"Salford",3519,"St Charles' RC Primary School","M27 9PD",null,"Voluntary Aided School","Open","Diocese of Salford","24-81804404",null,"Deborah Shearer",null,"Deborah","Shearer","stcharles.rcprimaryschool@salford.gov.uk","01617 944536",null,null,null,null,null,null,null,null,null,null,null,null,null,null,null,"Not applicable","Not applicable",null,"Not under a federation",null,null,null,null,null,null,"Emlyn Street","Moorside Road","Swinton","Manchester",null,"M27 9PD",null,1617944536,"North West",null,null,"3-11",null,"Primary",null,"Mrs","Claire","Harrison",null,"Headteacher","North West"]
[105961,1578,{"$error":"#NAME?"},355,"Salford",3525,"St Joseph the Worker RC Primary School","M44 6GX",null,"Voluntary Aided School","Open","Diocese of Salford","24-92224036",null,"Mrs Brierley","Mrs","Ann","Brierley","stjosephsworker.rcprimaryschool@salford.gov.uk","01617 754548",null,null,null,null,null,null,null,null,null,null,null,null,null,null,null,"Not applicable","Not applicable",null,"Not under a federation",null,null,null,null,null,null,"Cutnook Lane","Irlam",null,"Salford","Greater Manchester","M44 6GX",null,1617754548,"North West",null,null,"3-11",null,"Primary",null,"Mrs","Julie","Forshaw",null,"Headteacher","North West"]
[105970,1581,{"$error":"#NAME?"},355,"Salford",3625,"St Thomas of Canterbury Primary School","M7 4XG",null,"Voluntary Aided School","Open","Diocese of Salford","24-45178867",null,"Miss Ward","Miss","Bernadette","Ward","stthomasofcanterbury.rcprimaryschool@salford.gov.uk","01619 212060",null,null,null,null,null,null,null,null,null,null,null,null,null,null,null,"Not applicable","Not applicable",null,"Not under a federation",null,null,null,null,null,null,"Hadfield Street","Higher Broughton",null,"Salford","Greater Manchester","M7 4XG",null,1619212060,"North West",null,null,"3-11",null,"Primary",null,"Mr","Anthony","Schilling",null,"Headteacher","North West"]
[136080,1585,{"$error":"#NAME?"},355,"Salford",2043,"Holy Family VA RC Primary School","M6 5WX",null,"Voluntary Aided School","Open","Diocese of Salford","24-30711960",null,"School Business Manager ","School Business Manager",null,null,"christine.bolton@salford.gov.uk","0161 921 2900",null,null,null,null,null,null,null,null,null,null,null,null,null,null,null,"Not applicable","Not applicable",null,"Not under a federation",null,null,null,null,null,null,"No 3 Lower Seedley Road",null,null,"Salford","Lancashire","M6 5WX",null,1619212900,"North West",null,null,"3-11",null,"Primary",null,"Mr","Andrew","Neenan","B.A. Hons, Pgce","Headteacher","West Midlands"]
[141926,1588,{"$error":"#NAME?"},333,"Sandwell",3402,"Our Lady and St Hubert's Catholic Primary School","B68 8ED","St Catherine of SIENA Multi Academy Company","Academy Converter","Open","Archdiocese of Birmingham","08-42835145",null,"Mr Mulligan","Mr","Hugh","Mulligan","anita.davis@st-huberts.sandwell.sch.uk","01214 222629",null,null,null,null,null,null,null,null,null,null,null,null,null,null,null,"Supported by a multi-academy trust","Linked to a sponsor","St Catherine of Sienna MAC (South Sandwell)","Not applicable",null,10049319,null,null,null,null,"Moat Road",null,null,"Oldbury","West Midlands","B68 8ED",null,1214222629,"West Midlands",null,null,"5-11",null,"Primary",null,"Mrs","Krystyna","Bickley",null,"Headteacher","West Midlands"]
[141929,1591,{"$error":"#NAME?"},333,"Sandwell",3404,"St Philip's Catholic Primary School","B66 3DU","St Catherine of SIENA Multi Academy Company","Academy Converter","Open","Archdiocese of Birmingham","08-70883002",null,"Mrs Holwell","Mrs","Vanessa","Holwell","vanessa.holwell@st-philips.sandwell.sch.uk","01215 581643",null,null,null,null,null,null,null,null,null,null,null,null,null,null,null,"Supported by a multi-academy trust","Linked to a sponsor","St Catherine of Sienna MAC (South Sandwell)","Not applicable",null,10049303,null,null,null,null,"Messenger Road",null,null,"Smethwick","West Midlands","B66 3DU",null,1215581643,"West Midlands",null,null,"3-11",null,"Primary",null,"Mr","Jeremy","Harris","Ma Npqh","Headteacher","West Midlands"]
[104932,1595,{"$error":"#NAME?"},343,"Sefton",3362,"St Elizabeth's Catholic Primary School","L21 8JH",null,"Voluntary Aided School","Open","Archdiocese of Liverpool","17-14053005",null,"Mrs Westhead","Mrs","Helen ","Westhead","head.stelizabeths@schools.sefton.gov.uk","01519 225752",null,null,null,null,null,null,null,null,null,null,null,null,null,null,null,"Not applicable","Not applicable",null,"Not under a federation",null,null,null,null,null,null,"Webster Street","Litherland",null,"Liverpool","Merseyside","L21 8JH",null,1519225752,"North West",null,null,"2-11",null,"Primary",null,null,"Maureen","Hillsdon",null,"Headteacher","North West"]
[104926,1599,{"$error":"#NAME?"},343,"Sefton",3353,"Great Crosby Catholic Primary School","L23 2RQ",null,"Voluntary Aided School","Open","Archdiocese of Liverpool","17-10875226",null,"Lynn Mason",null,"Lynn","Mason","admin.greatcrosby@schools.sefton.gov.uk","01519 248661",null,null,null,null,null,null,null,null,null,null,null,null,null,null,null,"Not applicable","Not applicable",null,"Not under a federation",null,null,null,null,null,null,"The Northern Road","Sefton","Crosby","Liverpool","Merseyside","L23 2RQ",null,1519248661,"North West",null,null,"3-11",null,"Primary",null,"Mrs","Louise","Morton",null,"Headteacher","North West"]
[104915,1600,{"$error":"#NAME?"},343,"Sefton",3336,"Holy Family Catholic Primary School","PR9 7DU",null,"Voluntary Aided School","Open","Archdiocese of Liverpool","17-94423255",null,"Louise Watkins",null,"Louise","Watkins","admin.holyfamilyprimary@school.sefton.gov.uk","01704 213084",null,null,null,null,null,null,null,null,null,null,null,null,null,null,null,"Not applicable","Not applicable",null,"Not under a federation",null,null,null,null,null,null,"Norwood Crescent",null,null,"Southport","Merseyside","PR9 7DU",null,1704213084,"North West",null,null,"4-11",null,"Primary",null,"Mrs","Bernadette","Shiels",null,"Headteacher","North West"]
[104929,1603,{"$f":"_xlfn.CONCAT(D1604,F1604)","v":{"$error":"#NAME?"}},343,"Sefton",3357,"Our Lady Star of the Sea Catholic Primary School","L21 3TE",null,"Voluntary Aided School","Open","Archdiocese of Liverpool","17-15137590",null,"Mrs Mitchell","Mrs","H","Mitchell","admin.ourladystarofthesea@schools.sefton.gov.uk","01519 283158",null,null,null,null,null,null,null,null,null,null,null,null,null,null,null,"Not applicable","Not applicable",null,"Not under a federation",null,null,null,null,null,null,"Kepler Street",null,null,"Seaforth","Merseyside","L21 3TE",null,1519283158,"North West",null,null,"3-11",null,"Primary",null,"Mr","KA","Loftus",null,"Headteacher","North West"]
[104906,1606,{"$error":"#NAME?"},343,"Sefton",3316,"St Robert Bellarmine Catholic Primary School","L20 6ED",null,"Voluntary Aided School","Open","Archdiocese of Liverpool","17-34420349",null,"Mrs Clarke","Mrs","Colette","Clarke","admin.strobertbellarmine@schools.sefton.gov.uk","01519 221216",null,null,null,null,null,null,null,null,null,null,null,null,null,null,null,"Not applicable","Not applicable",null,"Not under a federation",null,null,null,null,null,null,"Harris Drive",null,null,"Bootle","Merseyside","L20 6ED",null,1519221216,"North West",null,null,"3-11",null,"Primary",null,"Mrs","E C","Daniels",null,"Headteacher","North West"]
[104918,1612,{"$error":"#NAME?"},343,"Sefton",3339,"St Patrick's Catholic Primary School","PR9 9RR",null,"Voluntary Aided School","Open","Archdiocese of Liverpool","17-81159609",null,"Mrs Campbell","Mrs",null,"Campbell","admin@stpatricks.sefton.org.uk","01704 225906",null,null,null,null,null,null,null,null,null,null,null,null,null,null,null,"Not applicable","Not applicable",null,"Not under a federation",null,null,null,null,null,null,"Radnor Drive","Churchtown",null,"Southport","Lancashire","PR9 9RR",null,1704225906,"North West",null,null,"5-11",null,"Primary",null,"Mr","I","Walker",null,"Headteacher","North West"]
[104940,1614,{"$error":"#NAME?"},343,"Sefton",3374,"Holy Rosary Catholic Primary School","L10 6NJ",null,"Voluntary Aided School","Open","Archdiocese of Liverpool","17-79439768",null,"Mrs Middlehurst","Mrs",null,"Middlehurst","finance.holyrosary@schools.sefton.gov.uk","01512 886206",null,null,null,null,null,null,null,null,null,null,null,null,null,null,null,"Not applicable","Not applicable",null,"Not under a federation",null,null,null,null,null,null,"Oriel Drive","Aintree",null,"Liverpool","Merseyside","L10 6NJ",null,1512886206,"North West",null,null,"3-11",null,"Primary",null,"Mr","Mathew","Byrne",null,"Headteacher","North West"]
[104964,1617,{"$error":"#NAME?"},343,"Sefton",4800,"Christ The King Catholic High School and Sixth Form Centre","PR8 4EX",null,"Voluntary Aided School","Open","Archdiocese of Liverpool","17-90171042",null,"Mrs Coughlan","Mrs","Pauline","Coughlan","info@christtheking-school.com","01704 565121",null,null,null,null,null,null,null,null,null,null,null,null,null,null,null,"Not applicable","Not applicable",null,"Not under a federation",null,10001414,null,null,null,null,"Stamford Road",null,null,"Southport","Merseyside","PR8 4EX",null,1704565121,"North West",null,null,"11-18",null,"Secondary",null,"Mr","Brendan","McLoughlin",null,"Headteacher","North West"]
[135085,1621,{"$error":"#NAME?"},343,"Sefton",3382,"St Benedict's Catholic Primary School","L30 7PG",null,"Voluntary Aided School","Open","Archdiocese of Liverpool","17-42968353",null,"School Office","School Office",null,null,"admin.stbenedicts@schools.sefton.gov.uk","01515 266423",null,null,null,null,null,null,null,null,null,null,null,null,null,null,null,"Not applicable","Not applicable",null,"Not under a federation",null,null,null,null,null,null,"Copy Lane","Netherton",null,"Bootle","Merseyside","L30 7PG",null,1515266423,"North West",null,null,"3-11",null,"Primary",null,"Mr","P","Chapman",null,"Headteacher","North West"]
[104975,1625,{"$error":"#NAME?"},343,"Sefton",6131,"Clarence High School","L37 7AZ",null,"Other Independent Special School","Open","Archdiocese of Liverpool","17-92039298",null,"Mrs Stojiljkovic","Mrs","","Stojiljkovic","sstojiljkovic@nugentcare.org","01704 872 151",null,null,null,null,null,null,null,null,null,null,null,null,null,null,null,"Not applicable","Not applicable",null,"Not applicable",null,10017995,null,null,null,null,"West Lane","Freshfield","Formby","Liverpool","Merseyside","L37 7AZ",null,1704872151,"North West",null,null,"7-18",null,"Secondary",null,"Mrs","Helen","Simmerson",null,null,"Yorkshire and the Humber"]
[140826,1626,{"$error":"#NAME?"},373,"Sheffield",2028,"Emmaus Catholic and CofE Primary School","S2 5FT","The Hallam Schools' Partnership Academy Trust","Academy Sponsor Led","Open","Diocese of Hallam","13-17301024",null,"Mrs Poole","Mrs","Anna","Poole","apoole@emmaus.sheffield.sch.uk","01142 766474",null,null,null,null,null,null,null,null,null,null,null,null,null,null,null,"Supported by a multi-academy trust","Linked to a sponsor","Diocese of Hallam","Not applicable",null,10045846,null,null,null,null,"Southend Road","Manor Lane",null,"Sheffield","South Yorkshire","S2 5FT",null,1142766474,"Yorkshire and the Humber",null,null,"3-11",null,"Primary",null,"Mr","Frank","Barratt",null,null,"Yorkshire and the Humber"]
[140588,1629,{"$error":"#NAME?"},373,"Sheffield",3402,"St Catherine's Catholic Voluntary Academy (Hallam)","S4 7BX","Our Lady's~St. Catherine's Catholic Primary School (Hallam)","Academy Converter","Open","Diocese of Hallam","13-15238503",null,"School Business Manager ","School Business Manager",null,null,"enquiries@st-catherines.sheffield.sch.uk","01143 030381",null,null,null,null,null,null,null,null,null,null,null,null,null,null,null,"Supported by a single-academy trust~Supported by an umbrella trust","-",null,"Not applicable",null,10044815,null,null,null,null,"Firshill Crescent",null,null,"Sheffield","South Yorkshire","S4 7BX",null,1143030381,"Yorkshire and the Humber",null,null,"3-11",null,"Primary",null,"Ms","Sarah","Eady",null,"Headteacher","Yorkshire and the Humber"]
[140440,1632,{"$error":"#NAME?"},373,"Sheffield",3423,"St Mary's Primary School, A Catholic Voluntary Academy","S35 3HY","Our Lady's~St Mary's Primary School, A Catholic Voluntary Academy","Academy Converter","Open","Diocese of Hallam","13-38064412",null,"Miss Allott","Miss","Jacqueline","Allott","enquiries@st-marysgreen.sheffield.sch.uk","01142 848488",null,null,null,null,null,null,null,null,null,null,null,null,null,null,null,"Supported by a single-academy trust~Supported by an umbrella trust","-",null,"Not applicable",null,10044272,null,null,null,null,"Pack Horse Lane","High Green",null,"Sheffield","South Yorkshire","S35 3HY",null,1142848488,"Yorkshire and the Humber",null,null,"5-11",null,"Primary",null,null,"Andrew","Truby",null,"Headteacher","Yorkshire and the Humber"]
[138361,1636,{"$error":"#NAME?"},373,"Sheffield",5400,"Notre Dame High School","S10 3BT","Our Lady's~Notre Dame High School","Academy Converter","Open","Diocese of Hallam","13-65228218",null,"Mike Dooley",null,"Mike","Dooley","school@notredame-high.co.uk","01142 302536",null,null,null,null,null,null,null,null,null,null,null,null,null,null,null,"Supported by a single-academy trust~Supported by an umbrella trust","-",null,"Not applicable",null,10037587,null,null,null,null,"Fulwood Road",null,null,"Sheffield","South Yorkshire","S10 3BT",null,1142302536,"Yorkshire and the Humber",null,null,"11-18",null,"Secondary",null,"Mrs","Finnuala","Nelis",null,"Headteacher","Yorkshire and the Humber"]
[142600,1638,{"$error":"#NAME?"},373,"Sheffield",3424,"St Thomas More Catholic Primary, A Voluntary Academy","S35 8NN","St Thomas More Catholic Primary, a Voluntary Academy","Academy Converter","Open","Diocese of Hallam","13-79697053",null,"Linette Atkin",null,"Linette","Atkin","latkin@st-thomasmore.sheffield.sch.uk","01142 468020",null,null,null,null,null,null,null,null,null,null,null,null,null,null,null,"Supported by a single-academy trust","-",null,"Not applicable",null,10055407,null,null,null,null,"Creswick Lane","Grenoside",null,"Sheffield","South Yorkshire","S35 8NN",null,1142468020,"Yorkshire and the Humber",null,null,"4-11",null,"Primary",null,"Mrs","Clare","Scott",null,"Headteacher","Yorkshire and the Humber"]
[123551,1643,{"$error":"#NAME?"},893,"Shropshire",3350,"St John's Catholic Primary School","WV16 4HW",null,"Voluntary Aided School","Open","Diocese of Shrewsbury","25-92636619",null,"Kasha Miller",null,"Kasha","Miller","admin@st-johns.shropshire.sch.uk","01746 762061",null,null,null,null,null,null,null,null,null,null,null,null,null,null,null,"Not applicable","Not applicable",null,"Not under a federation",null,null,null,null,null,null,"Innage Gardens",null,null,"Bridgnorth","Shropshire","WV16 4HW",null,1746762061,"West Midlands",null,null,"4-11",null,"Primary",null,"Mr","Charlie","Minogue",null,"Head Master","West Midlands"]
[110090,1647,{"$error":"#NAME?"},871,"Slough",5202,"Holy Family Catholic Primary School","SL3 8NF",null,"Voluntary Aided School","Open","Diocese of Northampton","20-50434553",null,"Mrs Tushingham","Mrs","Tina","Tushingham","school.admin@holyfamilycatholicschool.org.uk","01753 541442",null,null,null,null,null,null,null,null,null,null,null,null,null,null,null,"Not applicable","Not applicable",null,"Not under a federation",null,null,null,null,null,null,"High Street","Langley",null,"Slough","Berkshire","SL3 8NF",null,1753541442,"South East",null,null,"3-11",null,"Primary",null,"Mr","Michael","Stimpson","Ma","Headteacher","South East"]
[110160,1650,{"$error":"#NAME?"},871,"Slough",6000,"St Bernard's Preparatory School","SL1 1TB",null,"Other Independent School","Open","Diocese of Northampton","20-36087070",null,"Mr Martin","Mr","Dean","Martin","bursar@stbernardsprep.org","01753 521821",null,null,null,null,null,null,null,null,null,null,null,null,null,null,null,"Not applicable","Not applicable",null,"Not applicable",null,null,null,null,null,null,"Hawtrey Close",null,null,"Slough","Berkshire","SL1 1TB",null,1753521821,"South East",null,null,"2-11",null,"Primary",null,"Mrs","Margaret","Stacey",null,"Headteacher","South East"]
[143804,1651,{"$error":"#NAME?"},871,"Slough",3364,"St Anthony's Catholic Primary School","SL2 3AA","St Peter Catholic Academy Trust","Academy Converter","Open","Diocese of Northampton","20-51207494",null,"Mrs MacKenzie","Mrs","Sam","MacKenzie","bursar@stanthonys.slough.sch.uk","01753 645828",null,null,null,null,null,null,null,null,null,null,null,null,null,null,null,"Supported by a multi-academy trust","-",null,"Not applicable",null,10061993,null,null,null,null,"Farnham Road","Farnham Royal",null,"Slough","Berkshire","SL2 3AA",null,1753645828,"South East",null,null,"3-11",null,"Primary",null,"Mr","Ciran","Stapleton",null,"Headteacher","South East"]
[136347,1655,{"$error":"#NAME?"},334,"Solihull",4661,"John Henry Newman Catholic College","B37 5GA","The John Henry Newman Catholic College","Academy Sponsor Led","Open","Archdiocese of Birmingham","08-23584922",null,"Ms Prince","Ms","Rachel","Prince","rprince@jhncc.org","01217 705331",null,null,null,null,null,null,null,null,null,null,null,null,null,null,null,"Supported by a single-academy trust","Linked to a sponsor","Bishop Challoner Catholic College","Not applicable",null,10032599,null,null,null,null,"Chelmsley Road","Chelmsley Wood",null,"Birmingham","West Midlands","B37 5GA",null,1217705331,"West Midlands",null,null,"11-18",null,"Secondary",null,"Mr","Ben","Taylor",null,"Headteacher","West Midlands"]
[104102,1658,{"$error":"#NAME?"},334,"Solihull",3504,"Our Lady of Compassion Catholic Primary School","B92 7EG",null,"Voluntary Aided School","Open","Archdiocese of Birmingham","08-80306288",null,"Mrs Martin","Mrs","Jane","Martin","office@olc.solihull.sch.uk","01217 069508",null,null,null,null,null,null,null,null,null,null,null,null,null,null,null,"Not applicable","Not applicable",null,"Not under a federation",null,null,null,null,null,null,"Kineton Green Road",null,null,"Solihull","West Midlands","B92 7EG",null,1217069508,"West Midlands",null,null,"3-11",null,"Primary",null,"Mrs","Marie","Conway",null,"Headteacher","West Midlands"]
[104101,1662,{"$error":"#NAME?"},334,"Solihull",3503,"St George and St Teresa Catholic Primary School","B93 8PA",null,"Voluntary Aided School","Open","Archdiocese of Birmingham","08-58851338",null,"Mrs Mitchell","Mrs","Anne Marie","Mitchell","s86amitchell@stgandt.solihull.sch.uk","01564 774906",null,null,null,null,null,null,null,null,null,null,null,null,null,null,null,"Not applicable","Not applicable",null,"Not under a federation",null,null,null,null,null,null,"Mill Lane","Bentley Heath",null,"Solihull","West Midlands","B93 8PA",null,1564774906,"West Midlands",null,null,"3-11",null,"Primary",null,"Mr","Ian","Gallagher",null,"Headteacher","West Midlands"]
[123910,1665,{"$error":"#NAME?"},933,"Somerset",6021,"Downside School","BA3 4RJ",null,"Other Independent School","Open","Diocese of Clifton","11-56291851",null,"Mr Trelor","Mr","Scott","Trelor","strelar@downside.co.uk","01761 235100",null,null,null,null,null,null,null,null,null,null,null,null,null,null,null,"Not applicable","Not applicable",null,"Not applicable",null,10008200,null,null,null,null,"Stratton-on-the-Fosse",null,null,"Radstock","Somerset","BA3 4RJ",null,1761235100,"South West",null,null,"11-18",null,"Secondary",null,"Mrs","Deborah","Evans",null,"Headteacher","South West"]
[123847,1669,{"$error":"#NAME?"},933,"Somerset",3402,"St Joseph's Catholic Primary School and Nursery","TA8 1LG",null,"Voluntary Aided School","Open","Diocese of Clifton","11-78474286",null,"Mr Harland","Mr","P","Harland","pharland@educ.somerset.gov.uk","01278 784641",null,null,null,null,null,null,null,null,null,null,null,null,null,null,null,"Not applicable","Not applicable",null,"Not under a federation",null,null,null,null,null,null,"Oxford Street",null,null,"Burnham-on-Sea","Somerset","TA8 1LG",null,1278784641,"South West",null,null,"3-11",null,"Primary",null,"Mrs","Helen","Taylor",null,"Headteacher","South West"]
[123858,1672,{"$error":"#NAME?"},933,"Somerset",3488,"Our Lady of Mount Carmel Catholic Primary School, Wincanton","BA9 9DH",null,"Voluntary Aided School","Open","Diocese of Clifton","11-14550072",null,"Mrs Allison","Mrs","Lorraine ","Allison","office@ourladys.somerset.sch.uk","01963 32660",null,null,null,null,null,null,null,null,null,null,null,null,null,null,null,"Not applicable","Not applicable",null,"Not under a federation",null,null,null,null,null,null,"Tout Hill",null,null,"Wincanton","Somerset","BA9 9DH",null,196332660,"South West",null,null,"4-11",null,"Primary",null,"Ms","Anne","Lee",null,"Head","South West"]
[131410,1676,{"$error":"#NAME?"},803,"South Gloucestershire",3300,"St Mary's Catholic Primary School","BS32 8EJ",null,"Voluntary Aided School","Open","Diocese of Clifton","11-33351750",null,"Mrs Lane","Mrs","Dawn","Lane","dawn.lane@stmarysbs.org.uk","01454 866390",null,null,null,null,null,null,null,null,null,null,null,null,null,null,null,"Not applicable","Not applicable",null,"Not under a federation",null,null,null,null,null,null,"Webbs Wood Road","Bradley Stoke",null,"Bristol",null,"BS32 8EJ",null,1454866390,"South West",null,null,"4-11",null,"Primary",null,"Mr","Julian","Clements",null,"Headteacher","South West"]
[109268,1677,{"$error":"#NAME?"},803,"South Gloucestershire",3437,"St Augustines of Canterbury RC Primary School","BS16 6QR",null,"Voluntary Aided School","Open","Diocese of Clifton","11-39285596",null,"Mrs Elvy","Mrs","M","Elvy","office@staugustinesprimary.org.uk","01454 866690",null,null,null,null,null,null,null,null,null,null,null,null,null,null,null,"Not applicable","Not applicable",null,"Not under a federation",null,null,null,null,null,null,"Boscombe Crescent","Downend",null,"Bristol",null,"BS16 6QR",null,1454866690,"South West",null,null,"4-11",null,"Primary",null,"Mrs","Dawn","Breeze",null,"Headteacher","South West"]
[139878,1680,{"$error":"#NAME?"},393,"South Tyneside",4603,"St Joseph's Catholic Academy","NE31 2ET","St. Joseph's Catholic Education Trust","Academy Converter","Open","Diocese of Hexham and Newcastle","14-22929021",null,"Mrs Gardner","Mrs","Jackie","Gardner","gardnerj@stjosephs.uk.net","01914 282700",null,null,null,null,null,null,null,null,null,null,null,null,null,null,null,"Supported by a multi-academy trust","-",null,"Not applicable",null,10042275,null,null,null,null,"Mill Lane",null,null,"Hebburn","Tyne and Wear","NE31 2ET",null,1914282700,"North East",null,null,"11-18",null,"Secondary",null,"Mr","Thomas Brendan","Tapping",null,"Headteacher","North East"]
[108715,1683,{"$error":"#NAME?"},393,"South Tyneside",3301,"St Bede's RC Voluntary Aided Primary School, South Shields","NE33 4PG",null,"Voluntary Aided School","Open","Diocese of Hexham and Newcastle","14-91377312",null,"Mrs Griffiths","Mrs","Amanda","Griffiths","info@st-bedes.s-tyneside.sch.uk","01914 560108",null,null,null,null,null,null,null,null,null,null,null,null,null,null,null,"Not applicable","Not applicable",null,"Not under a federation",null,null,null,null,null,null,"Claypath Lane",null,null,"South Shields","Tyne and Wear","NE33 4PG",null,1914560108,"North East",null,null,"3-11",null,"Primary",null,"Mr","Martin","Clephane",null,"Headteacher","North East"]
[108722,1689,{"$error":"#NAME?"},393,"South Tyneside",3312,"St Mary's RC Voluntary Aided Primary School","NE32 4AW",null,"Voluntary Aided School","Open","Diocese of Hexham and Newcastle","14-72570536",null,"Mrs Smith","Mrs","Susan","Smith","ssmith@stmarysjarrow.co.uk","01914 898336",null,null,null,null,null,null,null,null,null,null,null,null,null,null,null,"Not applicable","Not applicable",null,"Not under a federation",null,null,null,null,null,null,"Ayr Drive",null,null,"Jarrow","Tyne and Wear","NE32 4AW",null,1914898336,"North East",null,null,"3-11",null,"Primary",null,"Mrs","Maria","Butt",null,"Headteacher","North East"]
[108716,1691,{"$error":"#NAME?"},393,"South Tyneside",3303,"St Gregory's RC Voluntary Aided Primary School","NE34 6DZ",null,"Voluntary Aided School","Open","Diocese of Hexham and Newcastle","14-56192328",null,"Michelle Rochford",null,"Michelle","Rochford","stgregorysrc@s-tyneside.net","01914 552909",null,null,null,null,null,null,null,null,null,null,null,null,null,null,null,"Not applicable","Not applicable",null,"Not under a federation",null,null,null,null,null,null,"Harton House Road East",null,null,"South Shields","Tyne and Wear","NE34 6DZ",null,1914552909,"North East",null,null,"4-11",null,"Primary",null,"Mrs","M B","Lightfoot",null,"Headteacher","North East"]
[138476,1695,{"$error":"#NAME?"},852,"Southampton",5417,"St Anne's Catholic School","SO15 2WZ","St Anne's Catholic School","Academy Converter","Open","Diocese of Portsmouth","01-99794671",null,"Mrs Murphy","Mrs","Anne","Murphy","info@st-annes.southampton.sch.uk","02380 328200",null,null,null,null,null,null,null,null,null,null,null,null,null,null,null,"Supported by a single-academy trust","-",null,"Not applicable",null,10038101,null,null,null,null,"Carlton Road",null,null,"Southampton","Hampshire","SO15 2WZ",null,2380328200,"South East",null,null,"11-18",null,"Secondary",null,"Mr","Graham","Wilson",null,"Headteacher","South East"]
[116567,1698,{"$error":"#NAME?"},852,"Southampton",6003,"St Mary's Independent School","SO18 4DJ",null,"Other Independent School","Open","Diocese of Portsmouth","01-84662195",null,"Mr Dark","Mr","","Dark","senior@stmiss.co.uk","02380 670150",null,null,null,null,null,null,null,null,null,null,null,null,null,null,null,"Not applicable","Not applicable",null,"Not applicable",null,10017790,null,null,null,null,"57 Midanbury Lane","Bitterne Park",null,"Southampton","Hampshire","SO18 4DJ",null,2380670150,"South East",null,null,"3-16",null,"Secondary",null,"Mrs","Annabelle","Delgado","Bed Hons","Headteacher","East of England"]
[115147,1702,{"$error":"#NAME?"},882,"Southend-on-Sea",3327,"St Helen's Catholic Primary School","SS0 7AY",null,"Voluntary Aided School","Open","Diocese of Brentwood","09-81280861",null,"Mrs Sowerbutts","Mrs","Anne","Sowerbutts","aks2@st-helens.southend.sch.uk","01702 343823",null,null,null,null,null,null,null,null,null,null,null,null,null,null,null,"Not applicable","Not applicable",null,"Not under a federation",null,null,null,null,null,null,"North Road",null,null,"Westcliff-on-Sea","Essex","SS0 7AY",null,1702343823,"East of England",null,null,"4-11",null,"Primary",null,"Mrs","Margaret","Sullivan",null,"Headteacher","East of England"]
[115148,1703,{"$error":"#NAME?"},882,"Southend-on-Sea",3328,"Our Lady of Lourdes Catholic Primary School","SS9 3HS",null,"Voluntary Aided School","Open","Diocese of Brentwood","09-82320349",null,"Mrs Willats","Mrs","A","Willats","finance@ourladyoflourdes.southend.sch.uk","01702 475689",null,null,null,null,null,null,null,null,null,null,null,null,null,null,null,"Not applicable","Not applicable",null,"Not under a federation",null,null,null,null,null,null,"Manchester Drive",null,null,"Leigh-on-Sea","Essex","SS9 3HS",null,1702475689,"East of England",null,null,"5-11",null,"Primary",null,"Mrs","Sally","Nutman",null,"Headteacher","East of England"]
[138961,1706,{"$error":"#NAME?"},210,"Southwark",5403,"St Michael's Catholic College","SE16 4UN","St. Michael's Catholic College","Academy Converter","Open","Archdiocese of Southwark","26-45114470",null,"Mr Haxby","Mr","Nick","Haxby","n.haxby@stmichaelscollege.org.uk","02072 376432",null,null,null,null,null,null,null,null,null,null,null,null,null,null,null,"Supported by a single-academy trust","-",null,"Not applicable",null,10038068,null,null,null,null,"Llewellyn Street","Bermondsey",null,"London",null,"SE16 4UN",null,2072376432,"London",null,null,"11-18",null,"Secondary",null,"Mr","Serge E","Cefai","Ma, Npqh","Headteacher","London"]
[100828,1710,{"$error":"#NAME?"},210,"Southwark",3447,"St George's Cathedral Catholic Primary School","SE1 7JB",null,"Voluntary Aided School","Open","Archdiocese of Southwark","26-36376267",null,"Mrs Higgs","Mrs",null,"Higgs","ahiggs@stgcs.southwark.sch.uk","02075 259250",null,null,null,null,null,null,null,null,null,null,null,null,null,null,null,"Not applicable","Not applicable",null,"Not under a federation",null,null,null,null,null,null,"33 Westminster Bridge Road","Southwark",null,"London",null,"SE1 7JB",null,2075259250,"London",null,null,"3-11",null,"Primary",null,"Mrs","Clare","Garofalo",null,"Headteacher","London"]
[100824,1713,{"$error":"#NAME?"},210,"Southwark",3341,"English Martyrs Roman Catholic Primary School","SE17 1QD",null,"Voluntary Aided School","Open","Archdiocese of Southwark","26-81159590",null,"Mrs Bates","Mrs","Frances","Bates","office@englishmartyrs.southwark.sch.uk","02077 034726",null,null,null,null,null,null,null,null,null,null,null,null,null,null,null,"Not applicable","Not applicable",null,"Not under a federation",null,null,null,null,null,null,"Flint Street","Walworth",null,"London",null,"SE17 1QD",null,2077034726,"London",null,null,"4-11",null,"Primary",null,"Mrs","J","Martin",null,"Headteacher","London"]
[100826,1715,{"$error":"#NAME?"},210,"Southwark",3435,"St Francis RC Primary School","SE15 1RQ",null,"Voluntary Aided School","Open","Archdiocese of Southwark","26-88125592",null,"Mrs Eldrige","Mrs","Claire","Eldrige","office@stfrancis.southwark.sch.uk","02076 390187",null,null,null,null,null,null,null,null,null,null,null,null,null,null,null,"Not applicable","Not applicable",null,"Not under a federation",null,null,null,null,null,null,"Friary Road","Peckham",null,"London",null,"SE15 1RQ",null,2076390187,"London",null,null,"3-11",null,"Primary",null,"Mrs","Janice","Babb",null,"Headteacher","London"]
[104802,1721,{"$error":"#NAME?"},342,"St. Helens",2071,"St. Mary's  Catholic Primary Blackbrook","WA11 9QY",null,"Voluntary Aided School","Open","Archdiocese of Liverpool","17-59088589",null,"Mrs Barr","Mrs",null,"Barr","susan.barr@sthelens.org.uk","01744 678161",null,null,null,null,null,null,null,null,null,null,null,null,null,null,null,"Not applicable","Not applicable",null,"Not under a federation",null,null,null,null,null,null,"Chain Lane","Blackbrook",null,"St Helens","Merseyside","WA11 9QY",null,1744678161,"North West",null,null,"5-11",null,"Primary",null,"Mrs","Rebecca","Flynn",null,"Headteacher","North West"]
[136421,1724,{"$error":"#NAME?"},342,"St. Helens",4803,"Hope Academy","WA12 0AQ","Newton Academy Trust","Academy Sponsor Led","Open","Archdiocese of Liverpool","17-63994423",null,"Mr Southward","Mr","Alan ","Southward","alan.southward@sthelens.org.uk","01744 671930",null,null,null,null,null,null,null,null,null,null,null,null,null,null,null,"Supported by a single-academy trust","Linked to a sponsor","This is a co-sponsored academy. Details of the sponsors of co-sponsored academies are not included in the current version of performance tables but this information will be available early in 2016","Not applicable",null,10034913,null,null,null,null,"Ashton Road",null,null,"Newton-le-Willows","Merseyside","WA12 0AQ",null,1744671930,"North West",null,null,"11-18",null,"Secondary",null,"Mrs","Samantha","Birchall","Bed Hons","Headteacher","North West"]
[104834,1727,{"$error":"#NAME?"},342,"St. Helens",4714,"De La Salle School","WA10 4QH",null,"Voluntary Aided School","Open","Archdiocese of Liverpool","17-92652273",null,"Mrs Denholm","Mrs","Joan","Denholm","delasalle@sthelens.org.uk","01744 20511",null,null,null,null,null,null,null,null,null,null,null,null,null,null,null,"Not applicable","Not applicable",null,"Not under a federation",null,10015283,null,null,null,null,"Mill Brow","Eccleston",null,"St Helens","Merseyside","WA10 4QH",null,174420511,"North West",null,null,"11-16",null,"Secondary",null,"Miss","Karen","Prescott","Acting Head","Headteacher","North West"]
[104818,1728,{"$error":"#NAME?"},342,"St. Helens",3455,"Haydock English Martyrs' Catholic Primary School","WA11 0JY",null,"Voluntary Aided School","Open","Archdiocese of Liverpool","17-74767835",null,"Mrs Comber","Mrs","Claire","Comber","englishmartyrs@sthelens.org.uk","01942 723552",null,null,null,null,null,null,null,null,null,null,null,null,null,null,null,"Not applicable","Not applicable",null,"Not under a federation",null,null,null,null,null,null,"Piele Road","Haydock",null,"St Helens","Merseyside","WA11 0JY",null,1942723552,"North West",null,null,"3-11",null,"Primary",null,"Mrs","M","Matthews",null,"Headteacher","North West"]
[104805,1732,{"$error":"#NAME?"},342,"St. Helens",3414,"St Anne's Catholic Primary School","WA9 3SP",null,"Voluntary Aided School","Open","Archdiocese of Liverpool","17-34645909",null,"Julie Nicholson",null,"Julie","Nicholson","stannesrc@sthelens.org.uk","01744 671909",null,null,null,null,null,null,null,null,null,null,null,null,null,null,null,"Not applicable","Not applicable",null,"Not under a federation",null,null,null,null,null,null,"Monastery Lane","Sutton",null,"St Helens","Merseyside","WA9 3SP",null,1744671909,"North West",null,null,"3-11",null,"Primary",null,null,"Margaret","Roberts",null,"Headteacher","North West"]
[104813,1736,{"$error":"#NAME?"},342,"St. Helens",3450,"Birchley St Mary's Catholic Primary School","WN5 7QJ",null,"Voluntary Aided School","Open","Archdiocese of Liverpool","17-32974507",null,"Mrs Ollerton","Mrs",null,"Ollerton","stmaryrcbp@sthelens.org.uk","01744 678610",null,null,null,null,null,null,null,null,null,null,null,null,null,null,null,"Not applicable","Not applicable",null,"Not under a federation",null,null,null,null,null,null,"Birchley Road","Billinge",null,"Wigan","Lancashire","WN5 7QJ",null,1744678610,"North West",null,null,"4-11",null,"Primary",null,"Mrs","S","Johnson",null,"Headteacher","North West"]
[104815,1739,{"$error":"#NAME?"},342,"St. Helens",3452,"St Bartholomew's Catholic Primary School","L35 6NN",null,"Voluntary Aided School","Open","Archdiocese of Liverpool","17-94402851",null,"Mrs Mcdermott","Mrs","Elaine","Mcdermott","stbartholomew@sthelens.org.uk","01744 678550",null,null,null,null,null,null,null,null,null,null,null,null,null,null,null,"Not applicable","Not applicable",null,"Not under a federation",null,null,null,null,null,null,"School Lane","Rainhill",null,"Prescot","Merseyside","L35 6NN",null,1744678550,"North West",null,null,"5-11",null,"Primary",null,"Mrs","A M","Hodgson","Ba (Hons)","Acting Headteacher","North West"]
[132188,1742,{"$error":"#NAME?"},342,"St. Helens",2072,"Holy Spirit Catholic Primary School","WA9 2JE",null,"Voluntary Aided School","Open","Archdiocese of Liverpool","17-55616333",null,"School Office","School Office",null,null,"holyspirit@sthelens.org.uk","01744 678670",null,null,null,null,null,null,null,null,null,null,null,null,null,null,null,"Not applicable","Not applicable",null,"Not under a federation",null,null,null,null,null,null,"Brunswick Street","Parr",null,"St Helens","Merseyside","WA9 2JE",null,1744678670,"North West",null,null,"3-11",null,"Primary",null,"Ms","Carol","Parkinson",null,"Principal","North West"]
[124357,1746,{"$error":"#NAME?"},860,"Staffordshire",3464,"St Joseph's Catholic Primary School","WS14 9AN",null,"Voluntary Aided School","Open","Archdiocese of Birmingham","08-72474168",null,"Mrs Alison Hunt","Mrs","Alison","Hunt","finance@st-josephs-lichfield.staffs.sch.uk","01543 263505",null,null,null,null,null,null,null,null,null,null,null,null,null,null,null,"Not applicable","Not applicable",null,"Not under a federation",null,null,null,null,null,null,"Cherry Orchard",null,null,"Lichfield","Staffordshire","WS14 9AN",null,1543263505,"West Midlands",null,null,"4-11",null,"Primary",null,null,"Anne-Marie","Cheadle",null,"Principal","West Midlands"]
[142213,1749,{"$error":"#NAME?"},860,"Staffordshire",3460,"St John's Catholic Primary School","ST18 0SL","Holy Trinity Catholic Multi Academy Company","Academy Converter","Open","Archdiocese of Birmingham","08-29026628",null,"Mrs Brown","Mrs","Leanne","Brown","bursar@st-johns-greathaywood.staffs.sch.uk","01889 808190",null,null,null,null,null,null,null,null,null,null,null,null,null,null,null,"Supported by a multi-academy trust","Linked to a sponsor","The Holy Trinity MAC (South Staffordshire)","Not applicable",null,10053369,null,null,null,null,"School Lane","Great Haywood",null,"Stafford","Staffordshire","ST18 0SL",null,1889808190,"West Midlands",null,null,"4-11",null,"Primary",null,null,"Gillian","Wretham","Bed (Hons)","Principal","West Midlands"]
[138726,1753,{"$error":"#NAME?"},860,"Staffordshire",3473,"St Thomas' Catholic Primary School","ST10 4DS","The Painsley Catholic Academy","Academy Converter","Open","Archdiocese of Birmingham","08-45449932",null,"Mrs Hopkins","Mrs","Sue","Hopkins","office@st-thomas-tean.staffs.sch.uk","01538 722378",null,null,null,null,null,null,null,null,null,null,null,null,null,null,null,"Supported by a multi-academy trust","Linked to a sponsor","The Painsley MAC (Staffordshire)","Not applicable",null,10038694,null,null,null,null,"Parklands Road","Tean",null,"Stoke-on-Trent","Staffordshire","ST10 4DS",null,1538722378,"West Midlands",null,null,"5-11",null,"Primary",null,null,"Anne","Green","Ma.Pgce, Npqh","Headteacher","West Midlands"]
[138722,1754,{"$error":"#NAME?"},860,"Staffordshire",3300,"The Faber Catholic Primary School","ST10 3DN","The Painsley Catholic Academy","Academy Converter","Open","Archdiocese of Birmingham","08-63441288",null,"Mrs Bayley","Mrs","Jean","Bayley","headteacher@faber.staffs.sch.uk","01538 702324",null,null,null,null,null,null,null,null,null,null,null,null,null,null,null,"Supported by a multi-academy trust","Linked to a sponsor","The Painsley MAC (Staffordshire)","Not applicable",null,10038688,null,null,null,null,"Cotton Lane","Cotton",null,"Stoke-on-Trent","Staffordshire","ST10 3DN",null,1538702324,"West Midlands",null,null,"4-11",null,"Primary",null,"Mrs","S","Spendelow",null,"Headteacher","West Midlands"]
[142193,1757,{"$error":"#NAME?"},860,"Staffordshire",4607,"Blessed William Howard Catholic School","ST17 9AB","Holy Trinity Catholic Multi Academy Company","Academy Converter","Open","Archdiocese of Birmingham","08-67653810",null,"Mrs Deakin","Mrs","Emma","Deakin","office@bwh.staffs.sch.uk","01785 244236",null,null,null,null,null,null,null,null,null,null,null,null,null,null,null,"Supported by a multi-academy trust","Linked to a sponsor","The Holy Trinity MAC (South Staffordshire)","Not applicable",null,10053517,null,null,null,null,"Rowley Avenue",null,null,"Stafford","Staffordshire","ST17 9AB",null,1785244236,"West Midlands",null,null,"11-18",null,"Secondary",null,"Mr","Ian","Beardmore",null,"Principal","West Midlands"]
[142209,1761,{"$error":"#NAME?"},860,"Staffordshire",3468,"St Austin's Catholic (VA) Primary School","ST17 4BT","Holy Trinity Catholic Multi Academy Company","Academy Converter","Open","Archdiocese of Birmingham","08-88226721",null,"Mrs Calis","Mrs","Marjorie","Calis","office@st-austins.staffs.sch.uk","01785 356765",null,null,null,null,null,null,null,null,null,null,null,null,null,null,null,"Supported by a multi-academy trust","Linked to a sponsor","The Holy Trinity MAC (South Staffordshire)","Not applicable",null,10053368,null,null,null,null,"Garden Street",null,null,"Stafford","Staffordshire","ST17 4BT",null,1785356765,"West Midlands",null,null,"4-11",null,"Primary",null,"Ms","Bernadette","Sims",null,"Executive Headteacher","West Midlands"]
[124459,1766,{"$error":"#NAME?"},860,"Staffordshire",4710,"Blessed Robert Sutton Catholic Sports College","DE15 9SD",null,"Voluntary Aided School","Open","Diocese of Nottingham","08-96427838",null,"Mrs Margerrison","Mrs","Gladys","Margerrison","bursar@robertsutton.staffs.sch.uk","01283 749450",null,null,null,null,null,null,null,null,null,null,null,null,null,null,null,"Not applicable","Not applicable",null,"Not under a federation",null,10005503,null,null,null,null,"Bluestone Lane","Stapenhill",null,"Burton-on-Trent","Staffordshire","DE15 9SD",null,1283749450,"West Midlands",null,null,"11-18",null,"Secondary",null,"Mrs","Rebecca","Harrison",null,null,"West Midlands"]
[124327,1768,{"$error":"#NAME?"},860,"Staffordshire",3422,"Holy Rosary Catholic Primary School","DE15 0JE","Saint Robert Lawrence Catholic Academy Trust","Voluntary Aided School","Open","Diocese of Nottingham","21-12823459",null,"Mrs Dunn","Mrs","Elaine","Dunn","office@holyrosary.staffs.sch.uk","01283 239030",null,null,null,null,null,null,null,null,null,null,null,null,null,null,null,"Not applicable","Not applicable",null,"Not under a federation",null,null,null,null,null,null,"Alexandra Road",null,null,"Burton-on-Trent","Staffordshire","DE15 0JE",null,1283239030,"West Midlands",null,null,"4-11",null,"Primary",null,"Mr","B","Grove","Npqh","Headteacher","West Midlands"]
[124369,1772,{"$error":"#NAME?"},860,"Staffordshire",3478,"St Elizabeth's Catholic Primary School","B79 8EN",null,"Voluntary Aided School","Open","Archdiocese of Birmingham","08-23462457",null,"Mrs Atkins","Mrs","Jenny","Atkins","office@st-elizabeths.staffs.sch.uk","01827 475860",null,null,null,null,null,null,null,null,null,null,null,null,null,null,null,"Not applicable","Not applicable",null,"Not under a federation",null,null,null,null,null,null,"Claremont Road",null,null,"Tamworth","Staffordshire","B79 8EN",null,1827475860,"West Midlands",null,null,"4-11",null,"Primary",null,"Mr","John","Hayes",null,"Headteacher","West Midlands"]
[124360,1775,{"$error":"#NAME?"},860,"Staffordshire",3467,"St Joseph's Catholic Primary School","WS15 1BN",null,"Voluntary Aided School","Open","Archdiocese of Birmingham","08-75558935",null,"Mrs Phillips","Mrs","Sheila","Phillips","office@st-josephs-rugeley.staffs.sch.uk","01889 256120",null,null,null,null,null,null,null,null,null,null,null,null,null,null,null,"Not applicable","Not applicable",null,"Not under a federation",null,null,null,null,null,null,"Newman Grove",null,null,"Rugeley","Staffordshire","WS15 1BN",null,1889256120,"West Midlands",null,null,"3-11",null,"Primary",null,"Mrs","Patricia","Davies",null,"Headteacher","West Midlands"]
[124351,1776,{"$error":"#NAME?"},860,"Staffordshire",3458,"St Joseph and St Theresa Catholic Primary","WS7 3XL",null,"Voluntary Aided School","Open","Archdiocese of Birmingham","08-36383468",null,"Mrs Hames","Mrs","Carol","Hames","office@st-joseph-st-theresa.staffs.sch.uk","01543 510485",null,null,null,null,null,null,null,null,null,null,null,null,null,null,null,"Not applicable","Not applicable",null,"Not under a federation",null,null,null,null,null,null,"High Street","Chasetown",null,"Burntwood","Staffordshire","WS7 3XL",null,1543510485,"West Midlands",null,null,"4-11",null,"Primary",null,"Mr","Stephen","Breeze","Bed","Headteacher","West Midlands"]
[124376,1779,{"$error":"#NAME?"},860,"Staffordshire",3485,"St Thomas More Catholic Primary School","WS6 6PG",null,"Voluntary Aided School","Open","Archdiocese of Birmingham","08-48839270",null,"Mrs Powell","Mrs","Maria","Powell","office@st-thomasmore.staffs.sch.uk","01922 857075",null,null,null,null,null,null,null,null,null,null,null,null,null,null,null,"Not applicable","Not applicable",null,"Not under a federation",null,null,null,null,null,null,"Huthill Lane","Great Wyrley",null,"Walsall","West Midlands","WS6 6PG",null,1922857075,"West Midlands",null,null,"3-11",null,"Primary",null,null,"Joanne","Kirkham","B Ed","Headteacher","West Midlands"]
[106143,1783,{"$error":"#NAME?"},356,"Stockport",4601,"Harrytown Catholic High School","SK6 3BU",null,"Voluntary Aided School","Open","Diocese of Shrewsbury","25-73600348",null,"Mrs Thomas","Mrs","Paula","Thomas","headteacher@harrytown.stockport.sch.uk","01614 305277",null,null,null,null,null,null,null,null,null,null,null,null,null,null,null,"Not applicable","Not applicable",null,"Not under a federation",null,10015562,null,null,null,null,"Harrytown","Romiley",null,"Stockport","Cheshire","SK6 3BU",null,1614305277,"North West",null,null,"11-16",null,"Secondary",null,null,"Ann","Hamilton",null,"Headteacher","North West"]
[130514,1787,{"$error":"#NAME?"},356,"Stockport",8603,"Aquinas College","SK2 6TH",null,"Further Education","Open","Diocese of Shrewsbury","25-79313381",null,"Miss Blackburn","Miss","Debbie","Blackburn","debbie@aquinas.ac.uk","01614 833237",null,null,null,null,null,null,null,null,null,null,null,null,null,null,null,"Not applicable","Not applicable",null,"Not applicable",null,10000330,null,null,null,null,"Nangreave Road",null,null,"Stockport","Cheshire","SK2 6TH",null,1614833237,"North West",null,null,"16-99",null,"Further or Higher",null,"Mrs","Kirsty","Lofthouse","B.Ed (Hons),  Npqh","Headteacher","North West"]
[106114,1790,{"$error":"#NAME?"},356,"Stockport",3506,"Our Lady's Catholic Primary School","SK3 9HX",null,"Voluntary Aided School","Open","Diocese of Shrewsbury","25-80569320",null,"Mrs Tracey","Mrs","Eileen","Tracey","headteacher@ourladys.stockport.sch.uk","01614 805345",null,null,null,null,null,null,null,null,null,null,null,null,null,null,null,"Not applicable","Not applicable",null,"Not under a federation",null,null,null,null,null,null,"Old Chapel Street","Edgeley",null,"Stockport","Cheshire","SK3 9HX",null,1614805345,"North West",null,null,"5-11",null,"Primary",null,"Mrs","Stella","Rosindale",null,null,"North West"]
[106116,1792,{"$error":"#NAME?"},356,"Stockport",3509,"St Bernadette's Catholic Primary School","SK5 8AR",null,"Voluntary Aided School","Open","Diocese of Shrewsbury","25-42623931",null,"Jackie Challinor",null,"Jackie","Challinor","jacqueline.challinor@st-bernadettes.stockport.sch.uk","01614 304601",null,null,null,null,null,null,null,null,null,null,null,null,null,null,null,"Not applicable","Not applicable",null,"Not under a federation",null,10032930,null,null,null,null,"Foliage Road","Brinnington",null,"Stockport","Cheshire","SK5 8AR",null,1614304601,"North West",null,null,"3-11",null,"Primary",null,"Mr","Paul","Towey",null,"Headteacher","North West"]
[106117,1798,{"$error":"#NAME?"},356,"Stockport",3510,"St Christopher's Catholic Primary School","SK6 3AX",null,"Voluntary Aided School","Open","Diocese of Shrewsbury","25-63298612",null,"Mrs Fallows","Mrs",null,"Fallows","headteacher@st-christophers.stockport.sch.uk","01614 304473",null,null,null,null,null,null,null,null,null,null,null,null,null,null,null,"Not applicable","Not applicable",null,"Not under a federation",null,null,null,null,null,null,"Warwick Road","Romiley",null,"Stockport","Cheshire","SK6 3AX",null,1614304473,"North West",null,null,"4-11",null,"Primary",null,"Mrs","Rachel","Crisp",null,"Headteacher","North West"]
[140442,1801,{"$error":"#NAME?"},808,"Stockton-on-Tees",3317,"St Bede's Catholic Academy","TS19 0DW","Carmel Education Trust","Academy Converter","Open","Diocese of Hexham and Newcastle","14-12188871",null,"Mrs Owen","Mrs","Caprice","Owen","admin@stbedesacademy.org.uk","01642 678071",null,null,null,null,null,null,null,null,null,null,null,null,null,null,null,"Supported by a multi-academy trust","Linked to a sponsor","Carmel College Academy Trust","Not applicable",null,10044274,null,null,null,null,"Green Lane",null,null,"Stockton-on-Tees","Teesside","TS19 0DW",null,1642678071,"North East",null,null,"3-11",null,"Primary",null,null,"Andrew","Ramsey",null,"Headteacher","North East"]
[139656,1802,{"$error":"#NAME?"},808,"Stockton-on-Tees",4002,"St Michael's Catholic Academy","TS23 3DX","Carmel Education Trust","Academy Sponsor Led","Open","Diocese of Hexham and Newcastle","14-27160577",null,"Francesca Magog",null,"Francesca","Magog","enquiries@stmichaelsacademy.org.uk","01642 870003",null,null,null,null,null,null,null,null,null,null,null,null,null,null,null,"Supported by a multi-academy trust","Linked to a sponsor","Carmel College Academy Trust","Not applicable",null,10041587,null,null,null,null,"Beamish Road",null,null,"Billingham",null,"TS23 3DX",null,1642870003,"North East",null,null,"11-16",null,"Secondary",null,null,"Ruth","Whyte",null,"Headteacher","North East"]
[141370,1805,{"$error":"#NAME?"},808,"Stockton-on-Tees",4006,"Our Lady & St. Bede Catholic Academy","TS19 0QH","Carmel Education Trust","Academy Sponsor Led","Open","Diocese of Hexham and Newcastle","14-70379622",null,"School Business Manager ","School Business Manager",null,null,"enquiries@ourladyandstbede.org.uk","01642 890800",null,null,null,null,null,null,null,null,null,null,null,null,null,null,null,"Supported by a multi-academy trust","Linked to a sponsor","Carmel College Academy Trust","Not applicable",null,10047496,null,null,null,null,"Bishopton Road West",null,null,"Stockton-on-Tees","Cleveland","TS19 0QH",null,1642890800,"North East",null,null,"11-16",null,"Secondary",null,null,"Sheena","Sinclair",null,"Headteacher","North East"]
[142282,1809,{"$error":"#NAME?"},808,"Stockton-on-Tees",3325,"St. Patrick's Roman Catholic Primary School, A Voluntary Catholic Academy","TS17 6NE","Our Lady of Light Catholic Academy Trust","Academy Converter","Open","Diocese of Middlesbrough","19-31805331",null,"Louise Crooks",null,"Louise","Crooks","stpatricksrcpri@sbcschools.org.uk","01642 676724",null,null,null,null,null,null,null,null,null,null,null,null,null,null,null,"Supported by a multi-academy trust","-",null,"Not applicable",null,10053805,null,null,null,null,"Westbury Street","Thornaby",null,"Stockton-on-Tees",null,"TS17 6NE",null,1642676724,"North East",null,null,"3-11",null,"Primary",null,null,"Morita","Metcalfe",null,"Headteacher","North East"]
[111676,1813,{"$error":"#NAME?"},808,"Stockton-on-Tees",3303,"Our Lady of the Most Holy Rosary RC Primary School","TS23 2BS",null,"Voluntary Aided School","Open","Diocese of Hexham and Newcastle","14-75074270",null,"School Office","School Office",null,null,"office@mostholyrosary.org.uk","01642 552274",null,null,null,null,null,null,null,null,null,null,null,null,null,null,null,"Not applicable","Not applicable",null,"Not under a federation",null,null,null,null,null,null,"Rievaulx Avenue",null,null,"Billingham",null,"TS23 2BS",null,1642552274,"North East",null,null,"3-11",null,"Primary",null,"Miss","Mary","Tate",null,"Headteacher","North East"]
[140151,1816,{"$error":"#NAME?"},861,"Stoke-on-Trent",3487,"St Wilfrid's Catholic Primary School","ST6 6EE","The Newman Catholic Collegiate","Academy Converter","Open","Archdiocese of Birmingham","08-65603277",null,"Mrs Lavelle","Mrs","Denise","Lavelle","office@stwilfridsnewman.co.uk","01782 235676",null,null,null,null,null,null,null,null,null,null,null,null,null,null,null,"Supported by a multi-academy trust","Linked to a sponsor","The Newman Collegiate MAC (North Stoke)","Not applicable",null,10043105,null,null,null,null,"Queen's Avenue","Tunstall",null,"Stoke-on-Trent","Staffordshire","ST6 6EE",null,1782235676,"West Midlands",null,null,"3-11",null,"Primary",null,"Mr","Nathan","Price",null,"Acting Headteacher","West Midlands"]
[140304,1819,{"$error":"#NAME?"},861,"Stoke-on-Trent",5400,"St Thomas More Catholic Academy","ST3 2NJ","All Saints Catholic Collegiate","Academy Converter","Open","Archdiocese of Birmingham","08-14346441",null,"Mrs Adams","Mrs","Chris","Adams","office@stmca.org.uk","01782 882900",null,null,null,null,null,null,null,null,null,null,null,null,null,null,null,"Supported by a multi-academy trust","Linked to a sponsor","The All Saints Collegiate MAC (South Stoke)","Not applicable",null,10043916,null,null,null,null,"Longton Hall Road","Longton",null,"Stoke-on-Trent","Staffordshire","ST3 2NJ",null,1782882900,"West Midlands",null,null,"11-18",null,"Secondary",null,"Mrs","Rosanna","Snee",null,"Headteacher","West Midlands"]
[140148,1823,{"$error":"#NAME?"},861,"Stoke-on-Trent",3400,"St Joseph's Catholic Academy, Goldenhill","ST6 5RN","The Newman Catholic Collegiate","Academy Converter","Open","Archdiocese of Birmingham","08-52006192",null,"Ms James","Ms","Nicky","James","stjoseph@sjnewman.co.uk","01782 235393",null,null,null,null,null,null,null,null,null,null,null,null,null,null,null,"Supported by a multi-academy trust","Linked to a sponsor","The Newman Collegiate MAC (North Stoke)","Not applicable",null,10043110,null,null,null,null,"Mobberley Road","Goldenhill",null,"Stoke-on-Trent","Staffordshire","ST6 5RN",null,1782235393,"West Midlands",null,null,"3-11",null,"Primary",null,"Mrs","Debbie","Sims","Ba Hons Npqh","Headteacher","West Midlands"]
[140297,1826,{"$error":"#NAME?"},861,"Stoke-on-Trent",3488,"St Gregory's Catholic Primary School","ST3 2QN","All Saints Catholic Collegiate","Academy Converter","Open","Archdiocese of Birmingham","08-69139207",null,"Mrs Brough","Mrs","Sally","Brough","office@stgca.org.uk","01782 235340",null,null,null,null,null,null,null,null,null,null,null,null,null,null,null,"Supported by a multi-academy trust","Linked to a sponsor","The All Saints Collegiate MAC (South Stoke)","Not applicable",null,10043944,null,null,null,null,"Spring Garden Road","Longton",null,"Stoke-on-Trent","Staffordshire","ST3 2QN",null,1782235340,"West Midlands",null,null,"3-11",null,"Primary",null,"Mrs","Patricia","Bekalo",null,"Headteacher","West Midlands"]
[140149,1828,{"$error":"#NAME?"},861,"Stoke-on-Trent",4711,"St Margaret Ward Catholic Academy","ST6 6LZ","The Newman Catholic Collegiate","Academy Converter","Open","Archdiocese of Birmingham","08-79045220",null,"Ms Stanway","Ms","Liz","Stanway"," \nestanway@smwca.org.uk","01782 883000",null,null,null,null,null,null,null,null,null,null,null,null,null,null,null,"Supported by a multi-academy trust","Linked to a sponsor","The Newman Collegiate MAC (North Stoke)","Not applicable",null,10043065,null,null,null,null,"Little Chell Lane","Tunstall",null,"Stoke-on-Trent","Staffordshire","ST6 6LZ",null,1782883000,"West Midlands",null,null,"11-18",null,"Secondary",null,"Mrs","Margaret","Yates",null,"Executive Headteacher","West Midlands"]
[124484,1831,{"$error":"#NAME?"},861,"Stoke-on-Trent",6000,"St Joseph's Preparatory School","ST4 5RF",null,"Other Independent School","Open","Archdiocese of Birmingham","08-80764047",null,"Mrs Edwards","Mrs","R","Edwards","enquiries@stjosephsprepschool.co.uk","01782 417533",null,null,null,null,null,null,null,null,null,null,null,null,null,null,null,"Not applicable","Not applicable",null,"Not applicable",null,null,null,null,null,null,"Rookery Lane","Trent Vale",null,"Stoke On Trent","Staffordshire","ST4 5RF",null,1782417533,"West Midlands",null,null,"3-12",null,"Secondary",null,"Mr","Alex","Savage",null,"Headteacher","Eastern"]
[143624,1834,{"$error":"#NAME?"},935,"Suffolk",3320,"St Felix Roman Catholic Primary School, Haverhill","CB9 9DE","Our Lady of Walsingham Catholic Multi Academy Trust","Academy Converter","Open","Diocese of East Anglia","12-58912285",null,"Sue Shackell",null,"Sue","Shackell","Sue.Shackell@st-felixrc.suffolk.sch.uk","01440 703775",null,null,null,null,null,null,null,null,null,null,null,null,null,null,null,"Supported by a multi-academy trust","-",null,"Not applicable",null,10061761,null,null,null,null,"School Lane",null,null,"Haverhill","Suffolk","CB9 9DE",null,1440703775,"East of England",null,null,"3-11",null,"Primary",null,null,"Colin","Walker","Bsc (Hons)","Principal","Eastern"]
[124861,1838,{"$error":"#NAME?"},935,"Suffolk",4600,"St Benedict's Catholic School","IP32 6RH",null,"Voluntary Aided School","Open","Diocese of East Anglia","12-61212474",null,"Christine Kennedy",null,"Christine","Kennedy","ckennedy@st-benedicts.suffolk.sch.uk","01284 753512",null,null,null,null,null,null,null,null,null,null,null,null,null,null,null,"Not applicable","Not applicable",null,"Not under a federation",null,10006122,null,null,null,null,"Beetons Way",null,null,"Bury St Edmunds","Suffolk","IP32 6RH",null,1284753512,"East of England",null,null,"11-18",null,"Secondary",null,"Mrs","Maria","Kemble",null,"Executive Headteacher","Eastern"]
[124784,1843,{"$error":"#NAME?"},935,"Suffolk",3340,"St Mary's Catholic Primary School, Ipswich","IP4 4EU",null,"Voluntary Aided School","Open","Diocese of East Anglia","12-79161505",null,"Theresa Rowland",null,"Theresa","Rowland","admin@st-marys-ipswich.suffolk.sch.uk","01473 728372",null,null,null,null,null,null,null,null,null,null,null,null,null,null,null,"Not applicable","Not applicable",null,"Not under a federation",null,null,null,null,null,null,"Woodbridge Road",null,null,"Ipswich","Suffolk","IP4 4EU",null,1473728372,"East of England",null,null,"4-11",null,"Primary",null,"Mr","Chris","Moxon","Ma (Cantab), Pgce","Headmaster","Eastern"]
[108842,1846,{"$error":"#NAME?"},394,"Sunderland",3313,"English Martyrs' Roman Catholic Voluntary Aided Primary School","SR5 5AU",null,"Voluntary Aided School","Open","Diocese of Hexham and Newcastle","14-15917744",null,"Mrs Thwaite","Mrs","Bernadette","Thwaite","bernadette.thwaite@englishmartyrssunderland.org.uk","01915 535540",null,null,null,null,null,null,null,null,null,null,null,null,null,null,null,"Not applicable","Not applicable",null,"Not under a federation",null,null,null,null,null,null,"Redcar Road",null,null,"Sunderland","Tyne and Wear","SR5 5AU",null,1915535540,"North East",null,null,"3-11",null,"Primary",null,"Mrs","Denise","Cushlow",null,"Headteacher","North East"]
[108850,1849,{"$error":"#NAME?"},394,"Sunderland",3326,"St Joseph's Washington RC School","NE38 7HU",null,"Voluntary Aided School","Open","Diocese of Hexham and Newcastle","14-36550736",null,"Mrs Swanson","Mrs","Philippa","Swanson","philippa.swanston@schools.sunderland.gov.uk","01912 193805",null,null,null,null,null,null,null,null,null,null,null,null,null,null,null,"Not applicable","Not applicable",null,"Not under a federation",null,null,null,null,null,null,"Village Lane",null,null,"Washington","Tyne and Wear","NE38 7HU",null,1912193805,"North East",null,null,"3-11",null,"Primary",null,null,"Dominic","Curran",null,"Headteacher","North East"]
[139538,1852,{"$error":"#NAME?"},394,"Sunderland",4607,"St Aidan's Catholic Academy","SR2 7HJ","St Aidan's Education Trust","Academy Converter","Open","Diocese of Hexham and Newcastle","14-71503124",null,"Mrs Hope","Mrs","Madeleine","Hope","madeleine.hope@staidanscatholicacademy.co.uk","01915 536073",null,null,null,null,null,null,null,null,null,null,null,null,null,null,null,"Supported by a multi-academy trust","-",null,"Not applicable",null,10041038,null,null,null,null,"Willow Bank Road","Ashbrooke",null,"Sunderland","Tyne and Wear","SR2 7HJ",null,1915536073,"North East",null,null,"11-18",null,"Secondary",null,"Mr","Gerry","Kelly",null,"Headteacher","North East"]
[108845,1853,{"$error":"#NAME?"},394,"Sunderland",3317,"St Patrick's Roman Catholic Voluntary Aided Primary School","SR2 0RQ",null,"Voluntary Aided School","Open","Diocese of Hexham and Newcastle","14-95191251",null,"Mrs Robson","Mrs","Elaine","Robson","elaine.robson@schools.sunderland.gov.uk","01915 536255",null,null,null,null,null,null,null,null,null,null,null,null,null,null,null,"Not applicable","Not applicable",null,"Not under a federation",null,null,null,null,null,null,"Smith Street","Ryhope",null,"Sunderland","Tyne and Wear","SR2 0RQ",null,1915536255,"North East",null,null,"4-11",null,"Primary",null,"Mrs","Dianne","Prayle",null,"Acting Headteacher","North East"]
[108841,1856,{"$error":"#NAME?"},394,"Sunderland",3308,"St Joseph's Roman Catholic Voluntary Aided Primary School, Sunderland","SR4 6HY",null,"Voluntary Aided School","Open","Diocese of Hexham and Newcastle","14-18838669",null,"Mrs Atkinson","Mrs","Nicola","Atkinson","nicola.atkinson@schools.sunderland.gov.uk","01915 537725",null,null,null,null,null,null,null,null,null,null,null,null,null,null,null,"Not applicable","Not applicable",null,"Not under a federation",null,null,null,null,null,null,"Rutland Street",null,null,"Sunderland","Tyne and Wear","SR4 6HY",null,1915537725,"North East",null,null,"3-11",null,"Primary",null,"Mrs","Barbara","Reilly-O'donnell",null,"Headteacher","North East"]
[108838,1860,{"$error":"#NAME?"},394,"Sunderland",3302,"St Cuthbert's Roman Catholic Voluntary Aided Primary School","SR4 8HP",null,"Voluntary Aided School","Open","Diocese of Hexham and Newcastle","14-64288085",null,"Mrs McGill","Mrs","Susan","McGill","susan.mcgill@schools.sunderland.gov.uk","01915 536080",null,null,null,null,null,null,null,null,null,null,null,null,null,null,null,"Not applicable","Not applicable",null,"Not under a federation",null,null,null,null,null,null,"Grindon Lane",null,null,"Sunderland","Tyne and Wear","SR4 8HP",null,1915536080,"North East",null,null,"3-11",null,"Primary",null,"Mrs","Lucie","Stephenson",null,"Executive Headteacher","North East"]
[125205,1864,{"$error":"#NAME?"},936,"Surrey",3423,"St Joseph's Catholic Primary School","KT18 7RT",null,"Voluntary Aided School","Open","Diocese of Arundel and Brighton","07-36500030",null,"Mrs Goss","Mrs","Jane","Goss","bursar@stjosephs-epsom.surrey.sch.uk","01372 727850",null,null,null,null,null,null,null,null,null,null,null,null,null,null,null,"Not applicable","Not applicable",null,"Not under a federation",null,null,null,null,null,null,"Rosebank","West Street",null,"Epsom","Surrey","KT18 7RT",null,1372727850,"South East",null,null,"5-11",null,"Primary",null,"Mr","Stephen","Holt","Ba Hons Pgce","Headteacher","South East"]
[143364,1867,{"$error":"#NAME?"},936,"Surrey",3919,"Cardinal Newman Catholic Primary School","KT12 4QT","Xavier Catholic Education Trust","Academy Converter","Open","Diocese of Arundel and Brighton","07-28454632",null,"Ms Madden","Ms","Claire","Madden","office@cardinalnewmanschool.co.uk","01932 222536",null,null,null,null,null,null,null,null,null,null,null,null,null,null,null,"Supported by a multi-academy trust","-",null,"Not applicable",null,10057677,null,null,null,null,"Arch Road",null,null,"Hersham","Surrey","KT12 4QT",null,1932222536,"South East",null,null,"4-11",null,"Primary",null,"Mr","M","Brannigan",null,"Headteacher","South East"]
[143368,1869,{"$error":"#NAME?"},936,"Surrey",3441,"Holy Family Catholic Primary School","KT15 1BP","Xavier Catholic Education Trust","Academy Converter","Open","Diocese of Arundel and Brighton","07-40717616",null,"Chris Fields",null,"Chris","Fields","info@holy-family.surrey.sch.uk","01932 846366",null,null,null,null,null,null,null,null,null,null,null,null,null,null,null,"Supported by a multi-academy trust","-",null,"Not applicable",null,10057680,null,null,null,null,"Ongar Hill",null,null,"Addlestone","Surrey","KT15 1BP",null,1932846366,"South East",null,null,"4-11",null,"Primary",null,"Mr","Michael","George","Ba Hons (Qts), Npqh","Headteacher","South East"]
[125315,1875,{"$error":"#NAME?"},936,"Surrey",5415,"All Hallows Catholic School","GU9 9HF",null,"Voluntary Aided School","Open","Diocese of Portsmouth","01-69799738",null,"Mrs Antrobus","Mrs","Caroline","Antrobus","c.antrobus@allhallows.net","01252 319211",null,null,null,null,null,null,null,null,null,null,null,null,null,null,null,"Not applicable","Not applicable",null,"Not under a federation",null,10000215,null,null,null,null,"Weybourne Road",null,null,"Farnham","Surrey","GU9 9HF",null,1252319211,"South East",null,null,"11-18",null,"Secondary",null,"Mrs","Patricia","Hickman",null,"Headteacher","South East"]
[125369,1878,{"$error":"#NAME?"},936,"Surrey",6111,"Woldingham School","CR3 7YA",null,"Other Independent School","Open","Diocese of Arundel and Brighton","07-53633482",null,"Bursar","Bursar",null,null,"bursar@woldinghamschool.co.uk","01883 349431",null,null,null,null,null,null,null,null,null,null,null,null,null,null,null,"Not applicable","Not applicable",null,"Not applicable",null,10033893,null,null,null,null,"Marden Park","Woldingham",null,"Caterham","Surrey","CR3 7YA",null,1883349431,"South East",null,null,"10-18",null,"Secondary",null,"Mr","A J W","Hudson",null,"Headteacher","South East"]
[125443,1879,{"$error":"#NAME?"},936,"Surrey",6566,"St George's Junior School Weybridge","KT13 8NL",null,"Other Independent School","Open","Diocese of Arundel and Brighton","07-17121371",null,"Elizabeth Draper",null,"Elizabeth","Draper","contact@stgeorgesweybridge.com","01932 839400",null,null,null,null,null,null,null,null,null,null,null,null,null,null,null,"Not applicable","Not applicable",null,"Not applicable",null,null,null,null,null,null,"Thames Street",null,null,"Weybridge","Surrey","KT13 8NL",null,1932839400,"South East",null,null,"3-11",null,"Primary",null,"Mrs","Kate","Licence",null,"Headteacher","South East"]
[125219,1882,{"$error":"#NAME?"},936,"Surrey",3469,"St Anne's Catholic Primary School","SM7 2PH",null,"Voluntary Aided School","Open","Diocese of Arundel and Brighton","07-55918284",null,"Mrs Hutson","Mrs","Rachel","Hutson","info@stannes-school.uk","01737 350012",null,null,null,null,null,null,null,null,null,null,null,null,null,null,null,"Not applicable","Not applicable",null,"Not under a federation",null,null,null,null,null,null,"Court Road",null,null,"Banstead","Surrey","SM7 2PH",null,1737350012,"South East",null,null,"4-11",null,"Primary",null,"Mrs","N","McCarthy",null,"Interim Headteacher","South East"]
[125212,1886,{"$error":"#NAME?"},936,"Surrey",3446,"St Paul's Catholic Primary School, Thames Ditton","KT7 0LP",null,"Voluntary Aided School","Open","Diocese of Arundel and Brighton","07-44856360",null,"Mrs Smith","Mrs","L","Smith","info@stpauls-thamesditton.surrey.sch.uk","02083 986791",null,null,null,null,null,null,null,null,null,null,null,null,null,null,null,"Not applicable","Not applicable",null,"Not under a federation",null,null,null,null,null,null,"Hampton Court Way",null,null,"Thames Ditton","Surrey","KT7 0LP",null,2083986791,"South East",null,null,"4-11",null,"Primary",null,null,"Sarah","Conrad",null,"Headteacher","South East"]
[125416,1890,{"$error":"#NAME?"},936,"Surrey",6519,"Cranmore Preparatory School","KT24 6AT",null,"Other Independent School","Open","Diocese of Arundel and Brighton","07-14902707",null,"Mr Bogel","Mr","Andrew","Bogel","office@cranmoreprep.co.uk","01483 280340",null,null,null,null,null,null,null,null,null,null,null,null,null,null,null,"Not applicable","Not applicable",null,"Not applicable",null,10018456,null,null,null,null,"Epsom Road","West Horsley",null,"Leatherhead","Surrey","KT24 6AT",null,1483280340,"South East",null,null,"2-13",null,"Secondary",null,"Mrs","Maria","Wheeler",null,"Headteacher","South East"]
[125278,1893,{"$error":"#NAME?"},936,"Surrey",4622,"St Bede's School","RH1 2LQ",null,"Voluntary Aided School","Open","Diocese of Arundel and Brighton","07-38945654",null,"Mr Salmons","Mr",null,"Salmons","rsa@st-bedes.surrey.sch.uk","01737 212108",null,null,null,null,null,null,null,null,null,null,null,null,null,null,null,"Not applicable","Not applicable",null,"Not under a federation",null,10006120,null,null,null,null,"Carlton Road",null,null,"Redhill","Surrey","RH1 2LQ",null,1737212108,"South East",null,null,"11-18",null,"Secondary",null,"Mr","Jonathan","Hetherington",null,"Headmaster","South East"]
[125291,1897,{"$error":"#NAME?"},936,"Surrey",5209,"St Thomas of Canterbury Catholic Primary School","GU1 2SX",null,"Voluntary Aided School","Open","Diocese of Arundel and Brighton","07-50341482",null,"Ms Clay","Ms","Jacqui","Clay","admin@st-thomas.surrey.sch.uk","01483 888388",null,null,null,null,null,null,null,null,null,null,null,null,null,null,null,"Not applicable","Not applicable",null,"Not under a federation",null,null,null,null,null,null,"Horseshoe Lane West","Merrow",null,"Guildford","Surrey","GU1 2SX",null,1483888388,"South East",null,null,"4-11",null,"Primary",null,"Mrs","Julianne","Birch",null,"Headteacher","South East"]
[125206,1900,{"$error":"#NAME?"},936,"Surrey",3424,"St Polycarp's Catholic Primary School, Farnham","GU9 8BQ",null,"Voluntary Aided School","Open","Diocese of Arundel and Brighton","07-20909947",null,"Mrs Lee","Mrs",null,"Lee","info@stpolycarps.surrey.sch.uk","01252 716307",null,null,null,null,null,null,null,null,null,null,null,null,null,null,null,"Not applicable","Not applicable",null,"Not under a federation",null,null,null,null,null,null,"Waverley Lane",null,null,"Farnham","Surrey","GU9 8BQ",null,1252716307,"South East",null,null,"4-11",null,"Primary",null,"Mrs","A","King",null,"Headmistress","South East"]
[125220,1903,{"$error":"#NAME?"},936,"Surrey",3470,"St Clement's Catholic Primary School","KT17 1TX",null,"Voluntary Aided School","Open","Diocese of Arundel and Brighton","07-72380159",null,"Ms Barlow","Ms","Dawn","Barlow","head@stclements.surrey.sch.uk","02083 938789",null,null,null,null,null,null,null,null,null,null,null,null,null,null,null,"Not applicable","Not applicable",null,"Not under a federation",null,null,null,null,null,null,"Fennells Mead","Chessington Road","Ewell","Epsom","Surrey","KT17 1TX",null,2083938789,"South East",null,null,"5-11",null,"Primary",null,"Mr","Richard","McKenzie",null,"Headteacher","South East"]
[125402,1905,{"$error":"#NAME?"},936,"Surrey",6418,"St Teresa's School","RH5 6ST",null,"Other Independent School","Open","Diocese of Arundel and Brighton","07-24017665",null,"Mr Miller","Mr","Allan","Miller","info@st-teresas.com","01372 452037",null,null,null,null,null,null,null,null,null,null,null,null,null,null,null,"Not applicable","Not applicable",null,"Not applicable",null,10008525,null,null,null,null,"Effingham Hill",null,null,"Dorking","Surrey","RH5 6ST",null,1372452037,"South East",null,null,"10-18",null,"Secondary",null,"Mrs","Jackie","Gillin",null,"Headteacher","South East"]
[102995,1908,{"$error":"#NAME?"},319,"Sutton",3502,"St Mary's RC Infants School","SM5 2PT",null,"Voluntary Aided School","Open","Archdiocese of Southwark","26-41665102",null,"Mrs Sinclair","Mrs","Margaret","Sinclair","office@stmarysinfschool.org.uk","02086 475711",null,null,null,null,null,null,null,null,null,null,null,null,null,null,null,"Not applicable","Not applicable",null,"Not under a federation",null,null,null,null,null,null,"West Street",null,null,"Carshalton","Surrey","SM5 2PT",null,2086475711,"London",null,null,"3-7",null,"Primary",null,"Mr","P E","McCullagh","Bsc (Hons) Ma Npqh","Headteacher","London"]
[102993,1912,{"$error":"#NAME?"},319,"Sutton",3500,"St Cecilia's Catholic Primary School","SM3 9DL",null,"Voluntary Aided School","Open","Archdiocese of Southwark","26-80233813",null,"Mrs Mayhew","Mrs","C","Mayhew","stceciliasprimary@suttonlea.org","02083 374566",null,null,null,null,null,null,null,null,null,null,null,null,null,null,null,"Not applicable","Not applicable",null,"Not under a federation",null,null,null,null,null,null,"London Road","North Cheam",null,"Sutton","Surrey","SM3 9DL",null,2083374566,"London",null,null,"3-11",null,"Primary",null,null,"Shirley","Hulme",null,"Headteacher","London"]
[400947,1915,{"$error":"#NAME?"},670,"Swansea",3303,"St David's Catholic Primary School","SA3 5TS",null,"Welsh Establishment","Open","Diocese of Menevia","18-14798148",null,"Maggie Thomas",null,"Maggie","Thomas","st.davids.primaryschool@swansea-edunet.gov.uk","01792 512212",null,null,null,null,null,null,null,null,null,null,null,null,null,null,null,"Not applicable","Not applicable",null,"Not applicable",null,null,null,null,null,null,"West Cross Avenue","West Cross","Swansea",null,null,"SA3 5TS",null,1792512212,"Wales (pseudo)",null,null,"-",null,"Primary",null,null,null,null,null,"Headteacher","Wales (pseudo)"]
[137074,1920,{"$error":"#NAME?"},866,"Swindon",3426,"Holy Rood Catholic Primary School","SN1 2LU","Holy Rood Catholic Primary School","Academy Converter","Open","Diocese of Clifton","11-90163309",null,"Mrs Deighton","Mrs","Rebecca","Deighton","admin3@holyroodprimary.co.uk","01793 523802",null,null,null,null,null,null,null,null,null,null,null,null,null,null,null,"Supported by a single-academy trust","-",null,"Not applicable",null,10034256,null,null,null,null,"Groundwell Road",null,null,"Swindon","Wiltshire","SN1 2LU",null,1793523802,"South West",null,null,"4-11",null,"Primary",null,"Mr","Tony","Mc Ateer",null,"Headteacher","South West"]
[138636,1923,{"$f":"_xlfn.CONCAT(D1924,F1924)","v":{"$error":"#NAME?"}},866,"Swindon",3001,"Holy Family Catholic Primary School","SN3 2PT","Holy Family Catholic Primary School","Academy Converter","Open","Diocese of Clifton","11-45315042",null,"Mrs Edwards","Mrs","Vanessa","Edwards","bursar@holyfamily.swindon.sch.uk","01793 521933",null,null,null,null,null,null,null,null,null,null,null,null,null,null,null,"Supported by a single-academy trust","-",null,"Not applicable",null,10038711,null,null,null,null,"Marlowe Avenue",null,null,"Swindon","Wiltshire","SN3 2PT",null,1793521933,"South West",null,null,"4-11",null,"Primary",null,null,"Paul","Hughes",null,"Principal","South West"]
[106270,1926,{"$error":"#NAME?"},357,"Tameside",4602,"St Damian's RC Science College","OL6 8BH",null,"Voluntary Aided School","Open","Diocese of Salford","24-83596394",null,"Mrs Ogden","Mrs","Angela","Ogden","admin@stdamians.co.uk","01613 305974",null,null,null,null,null,null,null,null,null,null,null,null,null,null,null,"Not applicable","Not applicable",null,"Not under a federation",null,10016974,null,null,null,null,"Lees Road",null,null,"Ashton-under-Lyne","Lancashire","OL6 8BH",null,1613305974,"North West",null,null,"11-16",null,"Secondary",null,"Mr","John","Cornally",null,"Executive Head Teacher","North West"]
[106239,1929,{"$error":"#NAME?"},357,"Tameside",3305,"St James Catholic Primary School","SK14 3DQ",null,"Voluntary Aided School","Open","Diocese of Shrewsbury","25-28834376",null,"Paula Boyce",null,"Paula","Boyce","admin@st-james-hyde.tameside.sch.uk","01613 683455",null,null,null,null,null,null,null,null,null,null,null,null,null,null,null,"Not applicable","Not applicable",null,"Not under a federation",null,null,null,null,null,null,"Cheriton Close","Off Underwood Road","Hattersley","Hyde","Cheshire","SK14 3DQ",null,1613683455,"North West",null,null,"3-11",null,"Primary",null,"Mrs","Helen","Hayes",null,"Headteacher","North West"]
[106255,1930,{"$error":"#NAME?"},357,"Tameside",3325,"St John Fisher RC Primary School, Denton","M34 7SW",null,"Voluntary Aided School","Open","Diocese of Salford","24-52902116",null,"Mrs Thorley","Mrs",null,"Thorley","admin@st-johnfisher.tameside.sch.uk","01613 365308",null,null,null,null,null,null,null,null,null,null,null,null,null,null,null,"Not applicable","Not applicable",null,"Not under a federation",null,null,null,null,null,null,"Manor Road","Haughton Green","Denton","Manchester",null,"M34 7SW",null,1613365308,"North West",null,null,"3-11",null,"Primary",null,"Mrs","Irene","Williams",null,"Headteacher","North West"]
[106242,1933,{"$error":"#NAME?"},357,"Tameside",3310,"St Raphael's Catholic Primary School","SK15 3JL",null,"Voluntary Aided School","Open","Diocese of Shrewsbury","25-25590616",null,"Claire Fletcher",null,"Claire","Fletcher","admin@st-raphaels.tameside.sch.uk","01613 384095",null,null,null,null,null,null,null,null,null,null,null,null,null,null,null,"Not applicable","Not applicable",null,"Not under a federation",null,null,null,null,null,null,"Huddersfield Road","Millbrook",null,"Stalybridge","Cheshire","SK15 3JL",null,1613384095,"North West",null,null,"3-11",null,"Primary",null,"Mr","Brendan","Marley",null,"Headteacher","North West"]
[106241,1938,{"$error":"#NAME?"},357,"Tameside",3309,"St Peter's Catholic Primary School","SK15 2HB",null,"Voluntary Aided School","Open","Diocese of Shrewsbury","25-77952969",null,"Mrs Chadwick","Mrs","Trish","Chadwick","trish.chadwick@st-peters.tameside.sch.uk","01613 383303",null,null,null,null,null,null,null,null,null,null,null,null,null,null,null,"Not applicable","Not applicable",null,"Not under a federation",null,null,null,null,null,null,"Hough Hill Road",null,null,"Stalybridge","Cheshire","SK15 2HB",null,1613383303,"North West",null,null,"3-11",null,"Primary",null,"Ms","D","Reeves",null,"Headteacher","North West"]
[123556,1941,{"$error":"#NAME?"},894,"Telford and Wrekin",3357,"St Mary's Catholic Primary School","TF7 5EJ",null,"Voluntary Aided School","Open","Diocese of Shrewsbury","25-73059282",null,"Suzanne Evans",null,"Suzanne","Evans","a3357@telford.gov.uk","01952 388255",null,null,null,null,null,null,null,null,null,null,null,null,null,null,null,"Not applicable","Not applicable",null,"Not under a federation",null,null,null,null,null,null,"Coronation Crescent","Madeley",null,"Telford","Shropshire","TF7 5EJ",null,1952388255,"West Midlands",null,null,"4-11",null,"Primary",null,"Mrs","Stacey","Beale",null,"Headteacher","West Midlands"]
[142067,1944,{"$error":"#NAME?"},894,"Telford and Wrekin",4000,"Holy Trinity School","TF2 9SQ",null,"Voluntary Aided School","Open","Diocese of Shrewsbury",{"$error":"#N/A"},null,{"$error":"#N/A"},{"$error":"#N/A"},{"$error":"#N/A"},{"$error":"#N/A"},{"$error":"#N/A"},"01952 386100",null,null,null,null,null,null,null,null,null,null,null,null,null,null,null,"Not applicable","Not applicable",null,"Not under a federation",null,10055372,null,null,null,null,"Teece Drive","Priorslee",null,"Telford","Shropshire","TF2 9SQ",null,1952386100,"West Midlands",null,null,"11-18",null,"Secondary",null,"Mrs","Stacey","Beale","Bed Hons","Headteacher","West Midlands"]
[401125,1946,{"$error":"#NAME?"},673,"The Vale of Glamorgan",3361,"St Helen's R.C. Infant & Nursery School","CF63 4EH",null,"Welsh Establishment","Open","Archdiocese of Cardiff","10-16947698",null,"Alison Ford",null,"Alison","Ford","sthelensis@valeofglamorgan.gov.uk","01446 732834",null,null,null,null,null,null,null,null,null,null,null,null,null,null,null,"Not applicable","Not applicable",null,"Not applicable",null,null,null,null,null,null,"Maes-Y-Cwm Street","Barry","Vale of Glamorgan",null,null,"CF63 4EH",null,1446732834,"Wales (pseudo)",null,null,"-",null,"Primary",null,null,null,null,null,"Headteacher","Wales (pseudo)"]
[115173,1952,{"$error":"#NAME?"},883,"Thurrock",3512,"St Joseph's Catholic Primary School","SS17 0PA",null,"Voluntary Aided School","Open","Diocese of Brentwood","09-94696833",null,"Mrs Jackson","Mrs","Sharon","Jackson","admin@stjosephsprimary.thurrock.sch.uk","01375 672217",null,null,null,null,null,null,null,null,null,null,null,null,null,null,null,"Not applicable","Not applicable",null,"Not under a federation",null,null,null,null,null,null,"Scratton Road",null,null,"Stanford-le-Hope","Essex","SS17 0PA",null,1375672217,"East of England",null,null,"4-11",null,"Primary",null,"Mr","Christopher","Birtles",null,"Headteacher","Eastern"]
[115180,1953,{"$error":"#NAME?"},883,"Thurrock",3603,"St Thomas of Canterbury Catholic Primary School","RM17 5RW",null,"Voluntary Aided School","Open","Diocese of Brentwood","09-88967911",null,"Mrs Castellette","Mrs","Ann","Castellette","finance@stthomasofcanterbury.thurrock.sch.uk","01375 375826",null,null,null,null,null,null,null,null,null,null,null,null,null,null,null,"Not applicable","Not applicable",null,"Not under a federation",null,null,null,null,null,null,"Ward Avenue",null,null,"Grays","Essex","RM17 5RW",null,1375375826,"East of England",null,null,"4-11",null,"Primary",null,"Mrs","Maria","Shepherd",null,"Headteacher","Eastern"]
[140749,1956,{"$error":"#NAME?"},880,"Torbay",3613,"Sacred Heart Catholic School","TQ3 2SH","Plymouth CAST","Academy Converter","Open","Diocese of Plymouth","22-38449754",null,"Mrs Humber","Mrs","Jacquie","Humber","admin@sacred-heart-primary.torbay.sch.uk","01803 558298",null,null,null,null,null,null,null,null,null,null,null,null,null,null,null,"Supported by a multi-academy trust","Linked to a sponsor","Plymouth CAST","Not applicable",null,10045705,null,null,null,null,"Cecil Road",null,null,"Paignton","Devon","TQ3 2SH",null,1803558298,"South West",null,null,"3-11",null,"Primary",null,null,"Matthew","Tookey",null,"Headteacher","South West"]
[140745,1959,{"$error":"#NAME?"},880,"Torbay",3614,"Queensway Catholic Primary School","TQ2 6DB","Plymouth CAST","Academy Converter","Open","Diocese of Plymouth","22-81760057",null,"Hilary Morley",null,"Hilary","Morley","admin@queensway-primary.torbay.sch.uk","01803 613095",null,null,null,null,null,null,null,null,null,null,null,null,null,null,null,"Supported by a multi-academy trust","Linked to a sponsor","Plymouth CAST","Not applicable",null,10045703,null,null,null,null,"Queensway","Chelston",null,"Torquay","Devon","TQ2 6DB",null,1803613095,"South West",null,null,"4-11",null,"Primary",null,null,null,null,null,"Headteacher","Wales (pseudo)"]
[402200,1963,{"$error":"#NAME?"},678,"Torfaen",3331,"Padre Pio RC Primary","NP4 6HL",null,"Welsh Establishment","Open","Archdiocese of Cardiff","10-69476673",null,"School Business Manager ","School Business Manager",null,null,"head.padrepiorc@torfaen.gov.uk","01495 742074",null,null,null,null,null,null,null,null,null,null,null,null,null,null,null,"Not applicable","Not applicable",null,"Not applicable",null,null,null,null,null,null,"Conway Road",null,null,"Pontypool","Torfaen (Tor-faen)","NP4 6HL",null,1633762730,"Wales (pseudo)",null,null,"-",null,"Primary",null,"Ms","B","McDaid",null,"Headteacher","London"]
[100951,1967,{"$error":"#NAME?"},211,"Tower Hamlets",3431,"St Edmund's Catholic School","E14 3RS",null,"Voluntary Aided School","Open","Archdiocese of Westminster","06-22810304",null,"Mrs Hannan","Mrs","Joanne","Hannan","Jhannan1.211@lgflmail.org","02079 872546",null,null,null,null,null,null,null,null,null,null,null,null,null,null,null,"Not applicable","Not applicable",null,"Not under a federation",null,null,null,null,null,null,"299 Westferry Road","Millwall",null,"London",null,"E14 3RS",null,2079872546,"London",null,null,"3-11",null,"Primary",null,"Miss","Angelina","John",null,"Headteacher","London"]
[100978,1970,{"$error":"#NAME?"},211,"Tower Hamlets",4726,"Bishop Challoner Catholic Federations of Girls School","E1 0LB",null,"Voluntary Aided School","Open","Archdiocese of Westminster","06-16528820",null,"Mrs Mata","Mrs","Gaby","Mata","Bus.& Ops.Manager businessmanager@bishop.towerhamlets.sch.uk ","02077 919500",null,null,null,null,null,null,null,null,null,null,null,null,null,null,null,"Not applicable","Not applicable",null,"Supported by a federation","The Bishop Challoner Federation of Schools",10010917,null,null,null,null,"352 Commercial Road",null,null,"London",null,"E1 0LB",null,2077919500,"London",null,null,"11-18",null,"Secondary",null,"Mrs","Sheila","Mouna",null,"Headteacher","London"]
[106372,1974,{"$error":"#NAME?"},358,"Trafford",4602,"St Antony's Catholic College","M41 9PD",null,"Voluntary Aided School","Open","Diocese of Salford","24-16465040",null,"Mrs Redmond","Mrs","B","Redmond","b.redmond@st-antonys.com","01619 118001",null,null,null,null,null,null,null,null,null,null,null,null,null,null,null,"Not applicable","Not applicable",null,"Not under a federation",null,10017801,null,null,null,null,"Bradfield Road","Urmston",null,"Manchester","Greater Manchester","M41 9PD",null,1619118001,"North West",null,null,"11-16",null,"Secondary",null,"Mr","J","Cornally","Mbe","Headteacher","North West"]
[138134,1977,{"$error":"#NAME?"},358,"Trafford",5900,"Saint Ambrose College","WA15 0HE","St. Ambrose College Edmund Rice Academy Trust","Academy Converter","Open","Diocese of Shrewsbury","25-36651532",null,"Mrs Evans","Mrs","Gill","Evans","office@st-ambrosecollege.org.uk","01619 802711",null,null,null,null,null,null,null,null,null,null,null,null,null,null,null,"Supported by a single-academy trust","-",null,"Not applicable",null,10035808,null,null,null,null,"Hale Road","Hale Barns",null,"Altrincham","Cheshire","WA15 0HE",null,1619802711,"North West",null,null,"11-18",null,"Secondary",null,"Mr","Frank","Driscoll",null,"Headteacher","North West"]
[136087,1980,{"$error":"#NAME?"},358,"Trafford",3332,"St Vincent's Catholic Primary School","WA15 8EY",null,"Voluntary Aided School","Open","Diocese of Shrewsbury","25-90383691",null,"Mrs Castro","Mrs","Carla","Castro","admin@stvincents.trafford.sch.uk","01619 118040",null,null,null,null,null,null,null,null,null,null,null,null,null,null,null,"Not applicable","Not applicable",null,"Not under a federation",null,null,null,null,null,null,"Orchard Road",null,null,"Altrincham","Cheshire","WA15 8EY",null,1619118040,"North West",null,null,"4-11",null,"Primary",null,"Mrs","Anita","Fagan",null,"Headteacher","North West"]
[106355,1982,{"$error":"#NAME?"},358,"Trafford",3324,"St Teresa's RC Primary School","M16 0GQ",null,"Voluntary Aided School","Open","Diocese of Salford","24-10515815",null,"Mr Parkes","Mr","Richard","Parkes","head@saintteresas.com","01618 813163",null,null,null,null,null,null,null,null,null,null,null,null,null,null,null,"Not applicable","Not applicable",null,"Not under a federation",null,null,null,null,null,null,"St Teresa's Road","Stretford",null,"Manchester",null,"M16 0GQ",null,1618813163,"North West",null,null,"3-11",null,"Primary",null,null,"Linda","Davison",null,"Headteacher","North West"]
[106358,1985,{"$error":"#NAME?"},358,"Trafford",3327,"Our Lady of the Rosary RC Primary School","M41 7DS",null,"Voluntary Aided School","Open","Diocese of Salford","24-28704822",null,"Mrs Jones","Mrs","Diane","Jones","rosary.admin@trafford.gov.uk","01617 484626",null,null,null,null,null,null,null,null,null,null,null,null,null,null,null,"Not applicable","Not applicable",null,"Not under a federation",null,null,null,null,null,null,"Davyhulme Road","Davyhulme","Urmston","Manchester",null,"M41 7DS",null,1617484626,"North West",null,null,"4-11",null,"Primary",null,"Mr","J","O'brien",null,"Headteacher","North West"]
[106348,1989,{"$error":"#NAME?"},358,"Trafford",3312,"St Joseph's Catholic Primary School","M33 3AF",null,"Voluntary Aided School","Open","Diocese of Shrewsbury","25-36922446",null,"Mrs Cameron","Mrs",null,"Cameron","stjosephs.admin@trafford.gov.uk","01619 734938",null,null,null,null,null,null,null,null,null,null,null,null,null,null,null,"Not applicable","Not applicable",null,"Not under a federation",null,null,null,null,null,null,"Marlborough Road",null,null,"Sale","Cheshire","M33 3AF",null,1619734938,"North West",null,null,"3-11",null,"Primary",null,"Mr","Jason","Hughes",null,"Headteacher","North West"]
[106346,1992,{"$error":"#NAME?"},358,"Trafford",3310,"Our Lady of Lourdes Catholic Primary School","M31 4PJ",null,"Voluntary Aided School","Open","Diocese of Shrewsbury","25-36930037",null,"School Office","School Office",null,null,"lourdes.admin@trafford.gov.uk","01617 752847",null,null,null,null,null,null,null,null,null,null,null,null,null,null,null,"Not applicable","Not applicable",null,"Not under a federation",null,null,null,null,null,null,"Lock Lane","Partington",null,"Manchester",null,"M31 4PJ",null,1617752847,"North West",null,null,"3-11",null,"Primary",null,"Mrs","L C","Davies","B Ed (Hons) N P Q H","Headteacher","North West"]
[141595,1997,{"$error":"#NAME?"},384,"Wakefield",3311,"English Martyrs Catholic Primary School, A Voluntary Academy","WF2 9DD","The Bishop Konstant Catholic Academy Trust","Academy Converter","Open","Diocese of Leeds","16-29271708",null,"Mrs Holmes","Mrs","Catherine","Holmes","office@englishmartyrs.wakefield.sch.uk","01924 299244",null,null,null,null,null,null,null,null,null,null,null,null,null,null,null,"Supported by a multi-academy trust","Linked to a sponsor","Bishop Konstant Catholic Academy Trust","Not applicable",null,10048089,null,null,null,null,"Dewsbury Road",null,null,"Wakefield","West Yorkshire","WF2 9DD",null,1924299244,"Yorkshire and the Humber",null,null,"3-11",null,"Primary",null,"Mrs","Jacqueline","Rush",null,"Headteacher","Yorkshire and the Humber"]
[138941,2000,{"$error":"#NAME?"},384,"Wakefield",3329,"Sacred Heart Catholic Primary School","WF9 4LJ","The Bishop Konstant Catholic Academy Trust","Academy Converter","Open","Diocese of Leeds","16-52637223",null,"Mrs Norcup","Mrs","Alison","Norcup","headteacher@hfsm.bkcat.co.uk","01977 625354",null,null,null,null,null,null,null,null,null,null,null,null,null,null,null,"Supported by a multi-academy trust","Linked to a sponsor","Bishop Konstant Catholic Academy Trust","Not applicable",null,10039395,null,null,null,null,"Highfield Road","Hemsworth",null,"Pontefract","West Yorkshire","WF9 4LJ",null,1977625354,"Yorkshire and the Humber",null,null,"4-11",null,"Primary",null,"Mrs","Helen","Gilroy",null,"Acting Headteacher","Yorkshire and the Humber"]
[141594,2003,{"$error":"#NAME?"},384,"Wakefield",3336,"Holy Family and St Michael's Catholic Primary School, A Voluntary Academy","WF8 2HN","The Bishop Konstant Catholic Academy Trust","Academy Converter","Open","Diocese of Leeds","16-83269514",null,"Mrs Durdy","Mrs","Helen ","Durdy","headteacher@hfsm.bkcat.co.uk","01977 798303",null,null,null,null,null,null,null,null,null,null,null,null,null,null,null,"Supported by a multi-academy trust","Linked to a sponsor","Bishop Konstant Catholic Academy Trust","Not applicable",null,10048088,null,null,null,null,"Cobblers Lane",null,null,"Pontefract","West Yorkshire","WF8 2HN",null,1977798303,"Yorkshire and the Humber",null,null,"4-11",null,"Primary",null,"Mr","Darren","Redfern",null,"Headteacher","Yorkshire and the Humber"]
[138947,2004,{"$error":"#NAME?"},384,"Wakefield",3333,"St Joseph's Catholic Primary School","WF8 4AA","The Bishop Konstant Catholic Academy Trust","Academy Converter","Open","Diocese of Leeds","16-85661424",null,"Mr Rowley","Mr","Tony","Rowley"," headteacher@sjp.bkcat.co.uk","01977 701493",null,null,null,null,null,null,null,null,null,null,null,null,null,null,null,"Supported by a multi-academy trust","Linked to a sponsor","Bishop Konstant Catholic Academy Trust","Not applicable",null,10039399,null,null,null,null,"Newgate",null,null,"Pontefract","West Yorkshire","WF8 4AA",null,1977701493,"Yorkshire and the Humber",null,null,"3-11",null,"Primary",null,"Mrs","Sarah","Spencer",null,"Headteacher","Yorkshire and the Humber"]
[104239,2007,{"$error":"#NAME?"},335,"Walsall",3322,"St Francis Catholic Primary School","WS4 1RH",null,"Voluntary Aided School","Open","Archdiocese of Birmingham","08-39712381",null,"Mrs Cooksey","Mrs","Anne","Cooksey","acooksey@st-francis-p.walsall.sch.uk","01922 682583",null,null,null,null,null,null,null,null,null,null,null,null,null,null,null,"Not applicable","Not applicable",null,"Not under a federation",null,null,null,null,null,null,"Mill Road","Shelfield",null,"Walsall","West Midlands","WS4 1RH",null,1922682583,"West Midlands",null,null,"3-11",null,"Primary",null,"Mr","Stephen","Godber","B.Ed","Acting Headteacher","West Midlands"]
[104240,2010,{"$error":"#NAME?"},335,"Walsall",3323,"St Mary of the Angels Catholic Primary School","WS9 0HA",null,"Voluntary Aided School","Open","Archdiocese of Birmingham","08-86078332",null,"Mrs Henley","Mrs","Anne","Henley","postbox@st-maryangel.walsall.sch.uk","01922 743411",null,null,null,null,null,null,null,null,null,null,null,null,null,null,null,"Not applicable","Not applicable",null,"Not under a federation",null,null,null,null,null,null,"Weston Crescent","Aldridge",null,"Walsall","West Midlands","WS9 0HA",null,1922743411,"West Midlands",null,null,"3-11",null,"Primary",null,"Mrs","Catherine","Amos","Bed","Headteacher","West Midlands"]
[104242,2015,{"$error":"#NAME?"},335,"Walsall",3325,"St Bernadette's Catholic Primary School","WS8 6HX",null,"Voluntary Aided School","Open","Archdiocese of Birmingham","08-53237269",null,"Mrs Strazzanti","Mrs","Sue","Strazzanti","sstrazzanti@stbernadette.walsall.sch.uk","01543 452921",null,null,null,null,null,null,null,null,null,null,null,null,null,null,null,"Not applicable","Not applicable",null,"Not under a federation",null,null,null,null,null,null,"Narrow Lane","Brownhills",null,"Walsall","West Midlands","WS8 6HX",null,1543452921,"West Midlands",null,null,"3-11",null,"Primary",null,"Dr","Sarah","Hatfield","Ba(Hons)","Headteacher","West Midlands"]
[103090,2018,{"$error":"#NAME?"},320,"Waltham Forest",3305,"St Joseph's Catholic Infant School","E10 7BL",null,"Voluntary Aided School","Open","Diocese of Brentwood","09-29426885",null,"Mrs Powers","Mrs","Maria","Powers","Please take off and see notes","02085 393000",null,null,null,null,null,null,null,null,null,null,null,null,null,null,null,"Not applicable","Not applicable",null,"Not under a federation",null,null,null,null,null,null,"Marsh Lane",null,null,"London",null,"E10 7BL",null,2085393000,"London",null,null,"3-7",null,"Primary",null,"Mr","John","Alexander",null,"Headteacher","London"]
[103085,2022,{"$error":"#NAME?"},320,"Waltham Forest",3300,"St Mary's Catholic Primary School","E4 7BJ",null,"Voluntary Aided School","Open","Diocese of Brentwood","09-17254946",null,"Mrs Geraty","Mrs","Elaine","Geraty","school@st-marys-pri.waltham.sch.uk","02085 294723",null,null,null,null,null,null,null,null,null,null,null,null,null,null,null,"Not applicable","Not applicable",null,"Not under a federation",null,null,null,null,null,null,"Station Road","Chingford",null,"London",null,"E4 7BJ",null,2085294723,"London",null,null,"4-11",null,"Primary",null,"Mrs","S","Kerins",null,"Headteacher","London"]
[101042,2023,{"$error":"#NAME?"},212,"Wandsworth",3422,"St Boniface RC Primary School","SW17 8PP",null,"Voluntary Aided School","Open","Archdiocese of Southwark","26-63877486",null,"Mrs Kerins","Mrs","Siobhan ","Kerins","admin@stboniface.wandsworth.sch.uk","02086 725874",null,null,null,null,null,null,null,null,null,null,null,null,null,null,null,"Not applicable","Not applicable",null,"Not under a federation",null,null,null,null,null,null,"Undine Street","Tooting",null,"London",null,"SW17 8PP",null,2086725874,"London",null,null,"3-11",null,"Primary",null,"Mrs","Yvonne","Wozniak",null,"Headteacher","London"]
[135762,2029,{"$error":"#NAME?"},212,"Wandsworth",4008,"Saint John Bosco College","SW11 3DQ",null,"Voluntary Aided School","Open","Archdiocese of Southwark","26-26205718",null,"Mr Uttley","Mr","Simon ","Uttley","info@sjbc.wandsworth.sch.uk","02077 381867",null,null,null,null,null,null,null,null,null,null,null,null,null,null,null,"Not applicable","Not applicable",null,"Not under a federation",null,10035180,null,null,null,null,"Parkham Street","Battersea",null,"London",null,"SW11 3DQ",null,2077381867,"London",null,null,"11-18",null,"Secondary",null,"Mrs","Stella","Flannery",null,"Principal","London"]
[130422,2030,{"$error":"#NAME?"},212,"Wandsworth",8600,"St Francis Xavier Sixth Form College","SW12 8EN",null,"Further Education","Open","Archdiocese of Southwark","26-93587565",null,"Mrs Thompson","Mrs","Karen","Thompson","k.thompson@sfx.ac.uk","02087 726000",null,null,null,null,null,null,null,null,null,null,null,null,null,null,null,"Not applicable","Not applicable",null,"Not applicable",null,10008007,null,null,null,null,"Malwood Road",null,null,"London",null,"SW12 8EN",null,2087726000,"London",null,null,"16-99",null,"Further or Higher",null,"Miss","S","Lawless",null,"Headteacher","London"]
[101050,2033,{"$error":"#NAME?"},212,"Wandsworth",3629,"Sacred Heart Catholic Primary School, Roehampton","SW15 5NX",null,"Voluntary Aided School","Open","Archdiocese of Southwark","26-78892085",null,"Ms McCarthy","Ms","Yvonne","McCarthy","ymccarthy@sacredheart-roe.wandsworth.sch.uk","02088 767074",null,null,null,null,null,null,null,null,null,null,null,null,null,null,null,"Not applicable","Not applicable",null,"Not under a federation",null,null,null,null,null,null,"Roehampton Lane","Roehampton",null,"London",null,"SW15 5NX",null,2088767074,"London",null,null,"3-11",null,"Primary",null,"Mr","Kevin","McCourt",null,"Headteacher","North West"]
[111454,2036,{"$error":"#NAME?"},877,"Warrington",4622,"St Gregory's Catholic High School","WA5 1HG",null,"Voluntary Aided School","Open","Archdiocese of Liverpool","17-98904055",null,"Mrs Field","Mrs","Paula","Field","pfield@stgregoryshigh.com","01925 574888",null,null,null,null,null,null,null,null,null,null,null,null,null,null,null,"Not applicable","Not applicable",null,"Not under a federation",null,10017463,null,null,null,null,"Cromwell Avenue","Westbrook",null,"Warrington","Cheshire","WA5 1HG",null,1925574888,"North West",null,null,"11-16",null,"Secondary",null,"Mrs","Julie","Warburton",null,"Headteacher","North West"]
[111309,2040,{"$error":"#NAME?"},877,"Warrington",3409,"St Augustine's Catholic Primary School","WA4 1PY",null,"Voluntary Aided School","Open","Diocese of Shrewsbury","25-97566349",null,"Mrs Halliwell","Mrs","Suzanne","Halliwell","staugustines_primary@warrington.gov.uk","01925 633317",null,null,null,null,null,null,null,null,null,null,null,null,null,null,null,"Not applicable","Not applicable",null,"Not under a federation",null,null,null,null,null,null,"Henshall Avenue","Latchford",null,"Warrington","Cheshire","WA4 1PY",null,1925633317,"North West",null,null,"3-11",null,"Primary",null,"Mrs","Annette","Norman",null,"Headteacher","North West"]
[111369,2044,{"$error":"#NAME?"},877,"Warrington",3612,"St Oswald's Catholic Primary School","WA1 3LB",null,"Voluntary Aided School","Open","Archdiocese of Liverpool","17-18702659",null,"Christine Southern",null,"Christine","Southern","stoswalds_primary@warrington.gov.uk","01925 813015",null,null,null,null,null,null,null,null,null,null,null,null,null,null,null,"Not applicable","Not applicable",null,"Not under a federation",null,null,null,null,null,null,"Padgate Lane","Padgate",null,"Warrington","Cheshire","WA1 3LB",null,1925813015,"North West",null,null,"4-11",null,"Primary",null,"Mrs","Maria","McGarry",null,"Headteacher","North West"]
[111373,2048,{"$error":"#NAME?"},877,"Warrington",3622,"St Joseph's Catholic Primary School","WA5 2AU",null,"Voluntary Aided School","Open","Archdiocese of Liverpool","17-42507794",null,"Mrs Denton","Mrs","Linda","Denton","stjosephs_primary@warrington.gov.uk","01925 723340",null,null,null,null,null,null,null,null,null,null,null,null,null,null,null,"Not applicable","Not applicable",null,"Not under a federation",null,null,null,null,null,null,"Walton Avenue","Penketh",null,"Warrington","Cheshire","WA5 2AU",null,1925723340,"North West",null,null,"4-11",null,"Primary",null,"Mr","Dominic","Vernon",null,"Headteacher","North West"]
[125707,2051,{"$f":"_xlfn.CONCAT(D2052,F2052)","v":{"$error":"#NAME?"}},937,"Warwickshire",3503,"St Edward's Catholic Primary School","B46 3JE",null,"Voluntary Aided School","Open","Archdiocese of Birmingham","08-25776810",null,"Mrs Graham","Mrs","Michelle","Graham","admin3503@welearn365.com","01675 463249",null,null,null,null,null,null,null,null,null,null,null,null,null,null,null,"Not applicable","Not applicable",null,"Not under a federation",null,null,null,null,null,null,"Packington Lane","Coleshill",null,"Birmingham","Warwickshire","B46 3JE",null,1675463249,"West Midlands",null,null,"2-11",null,"Primary",null,"Mrs","Charlotte","Culleton",null,"Headteacher","West Midlands"]
[141803,2054,{"$error":"#NAME?"},937,"Warwickshire",3520,"Our Lady of the Angels Catholic Infant School","CV11 5TY","The Holy Spirit Catholic Multi Academy Company Ltd","Academy Converter","Open, but proposed to close","Archdiocese of Birmingham",{"$error":"#N/A"},null,"L. Cook",null,"L.","Cook","admin3520@welearn365.com","02476 326080",null,null,null,null,null,null,null,null,null,null,null,null,null,null,null,"Supported by a multi-academy trust","Linked to a sponsor","Holy Spirit MAC (Warwickshire)","Not applicable",null,10048989,null,null,null,null,"Riversley Park","Coton Road",null,"Nuneaton","Warwickshire","CV11 5TY",null,2476326080,"West Midlands",null,null,"3-7",null,"Primary",null,"Mrs","Sara","Chapman",null,"Headteacher","West Midlands"]
[125704,2057,{"$error":"#NAME?"},937,"Warwickshire",3500,"Our Lady's Catholic Primary School, Alcester","B49 6AG",null,"Voluntary Aided School","Open","Archdiocese of Birmingham","08-53233259",null,"Mrs Cavanagh","Mrs","Jill","Cavanagh","admin3500@we-learn.com","01789 762555",null,null,null,null,null,null,null,null,null,null,null,null,null,null,null,"Not applicable","Not applicable",null,"Not under a federation",null,null,null,null,null,null,"St Faith's Road",null,null,"Alcester","Warwickshire","B49 6AG",null,1789762555,"West Midlands",null,null,"4-11",null,"Primary",null,"Mrs","Jane","Price",null,"Headteacher","West Midlands"]
[125709,2059,{"$error":"#NAME?"},937,"Warwickshire",3506,"St Gregory's Catholic Primary School","CV37 6UZ",null,"Voluntary Aided School","Open","Archdiocese of Birmingham","08-55982416",null,"Mrs Watson","Mrs","Clare","Watson","admin3506@we-learn.com","01789 204517",null,null,null,null,null,null,null,null,null,null,null,null,null,null,null,"Not applicable","Not applicable",null,"Not under a federation",null,null,null,null,null,null,"Avenue Road",null,null,"Stratford-upon-Avon","Warwickshire","CV37 6UZ",null,1789204517,"West Midlands",null,null,"4-11",null,"Primary",null,"Mr","Owen","Finnegan",null,"Headteacher","West Midlands"]
[125714,2063,{"$error":"#NAME?"},937,"Warwickshire",3542,"St Peter's Catholic Primary School","CV32 5EL",null,"Voluntary Aided School","Open","Archdiocese of Birmingham","08-65204402",null,"Mrs Bains","Mrs","Nina","Bains","admin3542@we-learn.com","01926 427497",null,null,null,null,null,null,null,null,null,null,null,null,null,null,null,"Not applicable","Not applicable",null,"Not under a federation",null,null,null,null,null,null,"Augusta Place",null,null,"Leamington Spa","Warwickshire","CV32 5EL",null,1926427497,"West Midlands",null,null,"4-11",null,"Primary",null,"Mrs","Jane","McSharry",null,"Headteacher","West Midlands"]
[125718,2066,{"$error":"#NAME?"},937,"Warwickshire",3546,"Our Lady and St Teresa's Catholic Primary School","CV32 7LN",null,"Voluntary Aided School","Open","Archdiocese of Birmingham","08-68200935",null,"Mr Allen","Mr","Geoff","Allen","admin3546@we-learn.com","01926 424420",null,null,null,null,null,null,null,null,null,null,null,null,null,null,null,"Not applicable","Not applicable",null,"Not under a federation",null,null,null,null,null,null,"Windmill Hill","Cubbington",null,"Leamington Spa","Warwickshire","CV32 7LN",null,1926424420,"West Midlands",null,null,"4-11",null,"Primary",null,"Mrs","K","Madia",null,"Headteacher","West Midlands"]
[125756,2069,{"$error":"#NAME?"},937,"Warwickshire",4752,"Trinity Catholic School","CV32 6NB",null,"Voluntary Aided School","Open","Archdiocese of Birmingham","08-92381654",null,"Mr Brown","Mr","Simon","Brown","brown.s2@welearn365.com","01926 428416",null,null,null,null,null,null,null,null,null,null,null,null,null,null,null,"Not applicable","Not applicable",null,"Not under a federation",null,10006838,null,null,null,null,"Guy's Cliffe Avenue",null,null,"Leamington Spa","Warwickshire","CV32 6NB",null,1926428416,"West Midlands",null,null,"11-18",null,"Secondary",null,"Mr","E D","Hester",null,"Headmaster","West Midlands"]
[125715,2074,{"$error":"#NAME?"},937,"Warwickshire",3543,"St Patrick's Catholic Primary School","CV31 3EU",null,"Voluntary Aided School","Open","Archdiocese of Birmingham","08-90544059",null,"Mr Edmonds","Mr","Grahame","Edmonds","sbm3543@we-learn.com","01926 425958",null,null,null,null,null,null,null,null,null,null,null,null,null,null,null,"Not applicable","Not applicable",null,"Not under a federation",null,null,null,null,null,null,"Cashmore Avenue",null,null,"Leamington Spa","Warwickshire","CV31 3EU",null,1926425958,"West Midlands",null,null,"3-11",null,"Primary",null,"Mr","N","Gibson",null,"Headteacher","West Midlands"]
[110037,2077,{"$error":"#NAME?"},869,"West Berkshire",3358,"St Finian's Catholic Primary School","RG18 9HU",null,"Voluntary Aided School","Open","Diocese of Portsmouth","01-47256516",null,"Mrs Harrison","Mrs","Michelle","Harrison","office@stfinians.w-berks.sch.uk","01635 865925",null,null,null,null,null,null,null,null,null,null,null,null,null,null,null,"Not applicable","Not applicable",null,"Not under a federation",null,null,null,null,null,null,"The Ridge","Cold Ash",null,"Thatcham","Berkshire","RG18 9HU",null,1635865925,"South East",null,null,"4-11",null,"Primary",null,"Mrs","N","Oster",null,"Headteacher","South East"]
[126124,2080,{"$error":"#NAME?"},938,"West Sussex",6138,"The Towers Convent School","BN44 3TF",null,"Other Independent School","Open","Diocese of Arundel and Brighton","07-45377127",null,"Mrs Edwards","Mrs",null,"Edwards","admin@towers.w-sussex.sch.uk","01903 812185",null,null,null,null,null,null,null,null,null,null,null,null,null,null,null,"Not applicable","Not applicable",null,"Not applicable",null,10015978,null,null,null,null,"The Towers","Henfield Road",null,"Upper Beeding","West Sussex","BN44 3TF",null,1903812185,"South East",null,null,"2-16",null,"Secondary",null,"Mrs","Catherine","Hunn",null,"Headteacher","South East"]
[126038,2081,{"$error":"#NAME?"},938,"West Sussex",3330,"St Richard's Catholic Primary School","PO19 1XB",null,"Voluntary Aided School","Open","Diocese of Arundel and Brighton","07-36285016",null,"Ms Lowe","Ms","Susie","Lowe","bursar@st-richards.w-sussex.sch.uk","01243 784549",null,null,null,null,null,null,null,null,null,null,null,null,null,null,null,"Not applicable","Not applicable",null,"Not under a federation",null,null,null,null,null,null,"Cawley Road",null,null,"Chichester","West Sussex","PO19 1XB",null,1243784549,"South East",null,null,"5-11",null,"Primary",null,"Mr","David","Carter",null,"Headteacher","South East"]
[126115,2084,{"$error":"#NAME?"},938,"West Sussex",6030,"Our Lady of Sion School","BN11 4BL",null,"Other Independent School","Open","Diocese of Arundel and Brighton","07-37337188",null,"Mr Miles","Mr","G ","Miles","milesg@sionschool.org.uk","01903 204063",null,null,null,null,null,null,null,null,null,null,null,null,null,null,null,"Not applicable","Not applicable",null,"Not applicable",null,10008676,null,null,null,null,"Gratwicke Road",null,null,"Worthing","West Sussex","BN11 4BL",null,1903204063,"South East",null,null,"3-19",null,"Secondary",null,"Mr","Michael","Madden",null,"Headteacher","South East"]
[126046,2087,{"$error":"#NAME?"},938,"West Sussex",3340,"St Francis of Assisi Catholic Primary School, Crawley","RH10 6HD",null,"Voluntary Aided School","Open","Diocese of Arundel and Brighton","07-27139597",null,"Ms Saturnus","Ms","Parnela","Saturnus","office@st-francisassisi.w-sussex.sch.uk","01293 521009",null,null,null,null,null,null,null,null,null,null,null,null,null,null,null,"Not applicable","Not applicable",null,"Not under a federation",null,null,null,null,null,null,"Southgate Drive",null,null,"Crawley","West Sussex","RH10 6HD",null,1293521009,"South East",null,null,"4-11",null,"Primary",null,"Mrs","Catherine","Walker","Bed Hons Ma","Headteacher","South East"]
[126035,2092,{"$error":"#NAME?"},938,"West Sussex",3327,"St Wilfrids Catholic Primary School","BN16 4JR",null,"Voluntary Aided School","Open","Diocese of Arundel and Brighton","07-24556979",null,"Mrs Smith","Mrs","Jan","Smith","office@st-wilfreds-angmering.w-sussex.sch.uk","01903 782188",null,null,null,null,null,null,null,null,null,null,null,null,null,null,null,"Not applicable","Not applicable",null,"Not under a federation",null,null,null,null,null,null,"Arundel Road","Angmering",null,"Littlehampton","West Sussex","BN16 4JR",null,1903782188,"South East",null,null,"4-11",null,"Primary",null,"Mrs","Angela","O'Hara","Ma Npqh","Headteacher","South East"]
[126060,2095,{"$error":"#NAME?"},938,"West Sussex",3356,"St Peter's Catholic Primary School","RH19 1JB",null,"Voluntary Aided School","Open","Diocese of Arundel and Brighton","07-15718813",null,"Mrs Bellingham","Mrs",null,"Bellingham","sbm@stpeters.eg.co.uk","01342 321985",null,null,null,null,null,null,null,null,null,null,null,null,null,null,null,"Not applicable","Not applicable",null,"Not under a federation",null,null,null,null,null,null,"Chapmans Lane",null,null,"East Grinstead","West Sussex","RH19 1JB",null,1342321985,"South East",null,null,"4-11",null,"Primary",null,"Mr","Stuart","McPherson",null,"Headteacher","South East"]
[126037,2099,{"$error":"#NAME?"},938,"West Sussex",3329,"St Mary's Catholic Primary School","PO21 1DJ",null,"Voluntary Aided School","Open","Diocese of Arundel and Brighton","07-51786942",null,"Ms Hanks","Ms","April","Hanks","office@st-marys-bognor.w-sussex.sch.uk","01243 822287",null,null,null,null,null,null,null,null,null,null,null,null,null,null,null,"Not applicable","Not applicable",null,"Not under a federation",null,null,null,null,null,null,"Glamis Street",null,null,"Bognor Regis","West Sussex","PO21 1DJ",null,1243822287,"South East",null,null,"4-11",null,"Primary",null,"Mrs","Victoria","Bono","Ba Hons Pgce","Headteacher","South East"]
[126039,2100,{"$error":"#NAME?"},938,"West Sussex",3331,"St John's Catholic Primary School","RH12 1RR",null,"Voluntary Aided School","Open","Diocese of Arundel and Brighton","07-62571018",null,"Ms Beaumont","Ms","Val","Beaumont","office@stjohnsp-hor.w-sussex.sch.uk","01403 265447",null,null,null,null,null,null,null,null,null,null,null,null,null,null,null,"Not applicable","Not applicable",null,"Not under a federation",null,null,null,null,null,null,"Blackbridge Lane",null,null,"Horsham","West Sussex","RH12 1RR",null,1403265447,"South East",null,null,"5-11",null,"Primary",null,"Miss","Clare","O'Connor",null,"Headteacher","London"]
[101124,2104,{"$error":"#NAME?"},213,"Westminster",3381,"Our Lady of Dolours RC Primary School","W2 5SR",null,"Voluntary Aided School","Open","Archdiocese of Westminster","06-80117849",null,"Ms Britton","Ms","Sharlene","Britton","admin@ourladydolours.co.uk","02076 414326",null,null,null,null,null,null,null,null,null,null,null,null,null,null,null,"Not applicable","Not applicable",null,"Not under a federation",null,null,null,null,null,null,"19 Cirencester Street","Paddington",null,"London",null,"W2 5SR",null,2076414326,"London",null,null,"3-11",null,"Primary",null,"Mrs","Violet","Richardson",null,"Interim Headteacher","London"]
[101133,2105,{"$error":"#NAME?"},213,"Westminster",3473,"St Joseph's RC Primary School","W9 1DF",null,"Voluntary Aided School","Open","Archdiocese of Westminster","06-36602176",null,"Ms O'Connor","Ms","Rosemary","O'Connor","roconnor@stjosephsschool.org.uk","02072 863518",null,null,null,null,null,null,null,null,null,null,null,null,null,null,null,"Not applicable","Not applicable",null,"Not under a federation",null,null,null,null,null,null,"Lanark Road","Maida Vale",null,"London",null,"W9 1DF",null,2072863518,"London",null,null,"3-11",null,"Primary",null,"Mrs","Mary","Wilson",null,"Headteacher","London"]
[101137,2106,{"$error":"#NAME?"},213,"Westminster",3532,"St Mary of the Angels RC Primary School","W2 5PR",null,"Voluntary Aided School","Open","Archdiocese of Westminster","06-68890407",null,"Ms Coleman","Ms","Tina","Coleman","office@stmaryangels.co.uk","02077 921883",null,null,null,null,null,null,null,null,null,null,null,null,null,null,null,"Not applicable","Not applicable",null,"Not under a federation",null,null,null,null,null,null,"Shrewsbury Road","Bayswater",null,"London",null,"W2 5PR",null,2077921883,"London",null,null,"3-11",null,"Primary",null,"Mr","Nathaniel","Scott Cree",null,"Headteacher","London"]
[101144,2107,{"$error":"#NAME?"},213,"Westminster",3611,"St Vincent de Paul RC Primary School","SW1P 1EP",null,"Voluntary Aided School","Open","Archdiocese of Westminster","06-36363305",null,"Ms ScottCree","Ms","Nathanial","ScottCree","office@svpschool.co.uk","02076 415990",null,null,null,null,null,null,null,null,null,null,null,null,null,null,null,"Not applicable","Not applicable",null,"Not under a federation",null,null,null,null,null,null,"Morpeth Terrace",null,null,"London",null,"SW1P 1EP",null,2076415990,"London",null,null,"3-11",null,"Primary",null,"Mr","Neil","McLaughlan",null,"Headteacher","London"]
[101166,2108,{"$error":"#NAME?"},213,"Westminster",6197,"Westminster Cathedral Choir School","SW1P 1QH",null,"Other Independent School","Open","Archdiocese of Westminster","06-65455546",null,"Ms Stephens","Ms","Joanna","Stephens","jstephens@choirschool.com","02077 989081",null,null,null,null,null,null,null,null,null,null,null,null,null,null,null,"Not applicable","Not applicable",null,"Not applicable",null,10015604,null,null,null,null,"Ambrosden Avenue",null,null,"London",null,"SW1P 1QH",null,2077989081,"London",null,null,"7-13",null,"Secondary",null,"Mrs","Alexandra","Stacey",null,"Acting Headteacher","London"]
[101146,2109,{"$error":"#NAME?"},213,"Westminster",3623,"Westminster Cathedral RC Primary School","SW1V 3SE",null,"Voluntary Aided School","Open","Archdiocese of Westminster","06-60277900",null,"Angela Hatch",null,"Angela","Hatch","office@westcathsch.co.uk","02076 415915",null,null,null,null,null,null,null,null,null,null,null,null,null,null,null,"Not applicable","Not applicable",null,"Not under a federation",null,null,null,null,null,null,"Bessborough Place",null,null,"London",null,"SW1V 3SE",null,2076415915,"London",null,null,"5-11",null,"Primary",null,"Miss","Jenny","Finlayson",null,"Headteacher","London"]
[101169,2110,{"$error":"#NAME?"},213,"Westminster",6225,"St Christina's School","NW8 7PY",null,"Other Independent School","Open","Archdiocese of Westminster","06-98219348",null,"Ms Reilly","Ms","Joanne","Reilly","bursar@saintchristinas.org.uk","02077 228784",null,null,null,null,null,null,null,null,null,null,null,null,null,null,null,"Not applicable","Not applicable",null,"Not applicable",null,null,null,null,null,null,"25 St Edmund's Terrace","Primrose Hill",null,"London",null,"NW8 7PY",null,2077228784,"London",null,null,"3-11",null,"Primary",null,"Mr","Stephen","Barrand",null,"Headteacher","North West"]
[130384,2111,{"$error":"#NAME?"},359,"Wigan",3431,"St Jude's Catholic Primary School Wigan","WN3 5AN",null,"Voluntary Aided School","Open","Archdiocese of Liverpool","17-75289339",null,"Angela Shaw","Ms","Angela","Shaw","bman@saintjudes.wigan.sch.uk","01942 204091",null,null,null,null,null,null,null,null,null,null,null,null,null,null,null,"Not applicable","Not applicable",null,"Not under a federation",null,null,null,null,null,null,"Worsley Mesnes Drive","Worsley Mesnes",null,"Wigan","Lancashire","WN3 5AN",null,1942204091,"North West",null,null,"3-11",null,"Primary",null,"Mr","Peter","McGhee",null,"Principal","North West"]
[130523,2112,{"$error":"#NAME?"},359,"Wigan",8601,"St John Rigby RC Sixth Form College","WN5 0LJ",null,"Further Education","Open","Archdiocese of Liverpool","17-18285051",null,"Mr Keating","Mr","Alan ","Keating","enquiries@sjr.ac.uk","01942 214797",null,null,null,null,null,null,null,null,null,null,null,null,null,null,null,"Not applicable","Not applicable",null,"Not applicable",null,10006195,null,null,null,null,"Gathurst Road","Orrell",null,"Wigan","Lancashire","WN5 0LJ",null,1942214797,"North West",null,null,"16-99",null,"Further or Higher",null,"Mrs","Kathryn","Mitty",null,"Headteacher","North West"]
[106496,2113,{"$error":"#NAME?"},359,"Wigan",3393,"Holy Family Catholic Primary School Platt Bridge","WN2 5JF",null,"Voluntary Aided School","Open","Archdiocese of Liverpool","17-16759109",null,"Miss Assleck","Miss",null,"Assleck","enquiries@admin.infholyfamily.wigan.sch.uk","01942 704148",null,null,null,null,null,null,null,null,null,null,null,null,null,null,null,"Not applicable","Not applicable",null,"Not under a federation",null,null,null,null,null,null,"Wigan Street","Platt Bridge",null,"Wigan","Lancashire","WN2 5JF",null,1942704148,"North West",null,null,"2-11",null,"Primary",null,"Ms","Michelle","Daley",null,"Acting Headteacher","North West"]
[106501,2114,{"$error":"#NAME?"},359,"Wigan",3400,"St Joseph's Catholic Primary School Leigh","WN7 2PR",null,"Voluntary Aided School","Open","Archdiocese of Liverpool","17-17287737",null,"Anne Hartshorn","Ms","Anne","Hartshorn","enquires@admin.saintjosephs.wigan.sch.uk","01942 606395",null,null,null,null,null,null,null,null,null,null,null,null,null,null,null,"Not applicable","Not applicable",null,"Not under a federation",null,null,null,null,null,null,"Mather Lane",null,null,"Leigh","Lancashire","WN7 2PR",null,1942606395,"North West",null,null,"4-11",null,"Primary",null,"Mr","J","Bruen",null,"Headteacher","North West"]
[131228,2115,{"$f":"_xlfn.CONCAT(D2116,F2116)","v":{"$error":"#NAME?"}},359,"Wigan",3433,"St Cuthbert's Catholic Primary School Wigan","WN5 9LW",null,"Voluntary Aided School","Open","Archdiocese of Liverpool","17-75584726",null,"Judith Terry","Ms","Judith","Terry","enquiries@admin.saintcuthberts.wigan.sch.uk","01942 222721",null,null,null,null,null,null,null,null,null,null,null,null,null,null,null,"Not applicable","Not applicable",null,"Not under a federation",null,null,null,null,null,null,"Thorburn Road","Norley Hall",null,"Wigan","Lancashire","WN5 9LW",null,1942222721,"North West",null,null,"4-11",null,"Primary",null,"Mrs","Christine","Mason",null,"Headteacher","North West"]
[106461,2116,{"$error":"#NAME?"},359,"Wigan",3331,"Sacred Heart Catholic Primary School","WN6 7RH",null,"Voluntary Aided School","Open","Archdiocese of Liverpool","17-45332671",null,"Hilary Morrison","Ms","Hilary","Morrison","enquiries@admin.sacredheart.wigan.sch.uk","01942 231478",null,null,null,null,null,null,null,null,null,null,null,null,null,null,null,"Not applicable","Not applicable",null,"Not under a federation",null,null,null,null,null,null,"Springfield Road",null,null,"Wigan","Lancashire","WN6 7RH",null,1942231478,"North West",null,null,"3-11",null,"Primary",null,"Mr","Andy","McGlown","Ma (Oxon) Npqh","Headteacher","North West"]
[106537,2117,{"$error":"#NAME?"},359,"Wigan",4614,"St Peter's Catholic High School","WN5 8NU",null,"Voluntary Aided School","Open","Archdiocese of Liverpool","17-95954487",null,"Mr Roberts","Mr","Matt","Roberts","Robertsm@saintpetershigh.wigan.sch.uk","01942 747693",null,null,null,null,null,null,null,null,null,null,null,null,null,null,null,"Not applicable","Not applicable",null,"Not under a federation",null,10017675,null,null,null,null,"Howards Lane","Orrell",null,"Wigan","Lancashire","WN5 8NU",null,1942747693,"North West",null,null,"11-16",null,"Secondary",null,"Mrs","Patricia","Carter",null,"Headteacher","North West"]
[106488,2118,{"$error":"#NAME?"},359,"Wigan",3382,"St Oswald's Catholic Primary School","WN4 9AZ",null,"Voluntary Aided School","Open","Archdiocese of Liverpool","17-58292916",null,"Mrs Hollywood","Mrs",null,"Hollywood","angela.hollywood@saintoswalds.wigan.sch.uk","01942 724820",null,null,null,null,null,null,null,null,null,null,null,null,null,null,null,"Not applicable","Not applicable",null,"Not under a federation",null,null,null,null,null,null,"Council Avenue","Ashton-in-Makerfield",null,"Wigan","Lancashire","WN4 9AZ",null,1942724820,"North West",null,null,"4-11",null,"Primary",null,"Mr","John","Hanley",null,"Headteacher","North West"]
[106508,2119,{"$error":"#NAME?"},359,"Wigan",3413,"St Bernadette's Catholic Primary School","WN6 8BD",null,"Voluntary Aided School","Open","Archdiocese of Liverpool","17-46218323",null,"Mrs Heapy","Mrs","Karen","Heapy","bmann@admin.saintbernadettes.wigan.sch.uk","01257 401125",null,null,null,null,null,null,null,null,null,null,null,null,null,null,null,"Not applicable","Not applicable",null,"Not under a federation",null,null,null,null,null,null,"Church Lane","Shevington",null,"Wigan","Lancashire","WN6 8BD",null,1257401125,"North West",null,null,"4-11",null,"Primary",null,"Mr","John","Rushton",null,"Headteacher","North West"]
[106490,2120,{"$error":"#NAME?"},359,"Wigan",3386,"Our Lady's RC Primary School Wigan","WN2 1RU",null,"Voluntary Aided School","Open","Diocese of Salford","24-99462386",null,"Mr Bithell","Mr","Chris","Bithell","cbithell@7pds.com","01942 832299",null,null,null,null,null,null,null,null,null,null,null,null,null,null,null,"Not applicable","Not applicable",null,"Not under a federation",null,null,null,null,null,null,"Holly Road","Aspull",null,"Wigan","Greater Manchester","WN2 1RU",null,1942832299,"North West",null,null,"4-11",null,"Primary",null,"Mrs","Helen","Ahmed","Bsc Msc Npqh","Headteacher","North West"]
[106502,2121,{"$error":"#NAME?"},359,"Wigan",3403,"Sacred Heart Catholic Primary School Leigh","WN7 1UX",null,"Voluntary Aided School","Open","Archdiocese of Liverpool","17-39495491",null,"Miss Lawton","Miss",null,"Lawton","enquires@admin.leighsacredheart.wigan.sch.uk","01942 674226",null,null,null,null,null,null,null,null,null,null,null,null,null,null,null,"Not applicable","Not applicable",null,"Not under a federation",null,null,null,null,null,null,"Windermere Road",null,null,"Leigh","Lancashire","WN7 1UX",null,1942674226,"North West",null,null,"4-11",null,"Primary",null,"Mrs","Janice","Taberner",null,"Headteacher","North West"]
[106494,2122,{"$error":"#NAME?"},359,"Wigan",3390,"St Benedict's Catholic Primary School Hindley","WN2 3DG",null,"Voluntary Aided School","Open","Archdiocese of Liverpool","17-74144522",null,"Jackie Fowler",null,"Jackie","Fowler","enquires@admin.saintbenedicts.wigan.sch.uk","01942 253522",null,null,null,null,null,null,null,null,null,null,null,null,null,null,null,"Not applicable","Not applicable",null,"Not under a federation",null,null,null,null,null,null,"Abbott Street","Hindley",null,"Wigan","Lancashire","WN2 3DG",null,1942253522,"North West",null,null,"4-11",null,"Primary",null,"Mr","Damian","Winstanley",null,"Headteacher","North West"]
[106489,2123,{"$error":"#NAME?"},359,"Wigan",3383,"Our Lady Immaculate Catholic Primary School","WN4 0LZ",null,"Voluntary Aided School","Open","Archdiocese of Liverpool","17-44369777",null,"Joanne White",null,"Joanne","White","enquiries@admin.ashtonourladys.wigan.sch.uk","01942 727067",null,null,null,null,null,null,null,null,null,null,null,null,null,null,null,"Not applicable","Not applicable",null,"Not under a federation",null,null,null,null,null,null,"Downall Green Road","Bryn",null,"Wigan","Lancashire","WN4 0LZ",null,1942727067,"North West",null,null,"4-11",null,"Primary",null,"Mrs","C C","Orrell","M Mus Acp","Headteacher","North West"]
[106509,2124,{"$error":"#NAME?"},359,"Wigan",3414,"St Wilfrids Catholic Primary School","WN4 8SJ",null,"Voluntary Aided School","Open","Archdiocese of Liverpool","17-42070268",null,"Diane Smith",null,"Diane","Smith","enquiries@admin.ashtonsaintwilfrids.wigan.sch.uk","01942 707101",null,null,null,null,null,null,null,null,null,null,null,null,null,null,null,"Not applicable","Not applicable",null,"Not under a federation",null,null,null,null,null,null,"Golborne Road","Ashton-in-Makerfield",null,"Wigan","Lancashire","WN4 8SJ",null,1942707101,"North West",null,null,"3-11",null,"Primary",null,"Mr","Stephen","Gallagher",null,"Gallagher","North West"]
[106491,2125,{"$error":"#NAME?"},359,"Wigan",3387,"Holy Family Catholic Primary School, New Springs, Wigan","WN2 1EL",null,"Voluntary Aided School","Open","Diocese of Salford","24-60659519",null,"Mrs Beckett","Mrs","Lisa","Beckett","enquiries@admin.aspullholyfamily.wigan.sch.uk","01942 246376",null,null,null,null,null,null,null,null,null,null,null,null,null,null,null,"Not applicable","Not applicable",null,"Not under a federation",null,null,null,null,null,null,"Longfield Street","New Springs",null,"Wigan","Lancashire","WN2 1EL",null,1942246376,"North West",null,null,"4-11",null,"Primary",null,"Miss","Carrie","Morrow",null,"Headteacher","North West"]
[106499,2126,{"$error":"#NAME?"},359,"Wigan",3397,"Sacred Heart RC Primary School","M46 9BN",null,"Voluntary Aided School","Open","Archdiocese of Liverpool","17-16605454",null,"Mr Gore","Mr","Steven","Gore","enquiries@admin.athertonsacredheart.wigan.sch.uk","01942 883429",null,null,null,null,null,null,null,null,null,null,null,null,null,null,null,"Not applicable","Not applicable",null,"Not under a federation",null,null,null,null,null,null,"Lodge Lane","Hindsford","Atherton","Manchester",null,"M46 9BN",null,1942883429,"North West",null,null,"4-11",null,"Primary",null,"Mrs","Clare","Roberts",null,"Headteacher","North West"]
[106504,2127,{"$error":"#NAME?"},359,"Wigan",3406,"Holy Family Catholic Primary School","M28 1AG",null,"Voluntary Aided School","Open","Archdiocese of Liverpool","17-26356794",null,"Stephen ","Bursar","Stephen",null,"enquiries@admin.boothstownholyfamily.wigan.sch.uk","01617 902123",null,null,null,null,null,null,null,null,null,null,null,null,null,null,null,"Not applicable","Not applicable",null,"Not under a federation",null,null,null,null,null,null,"Kendal Road","Boothstown","Worsley","Manchester",null,"M28 1AG",null,1617902123,"North West",null,null,"4-11",null,"Primary",null,"Mrs","W","Hughes",null,"Headteacher","North West"]
[106505,2128,{"$error":"#NAME?"},359,"Wigan",3407,"All Saints Catholic Primary School, Golborne, Wigan","WA3 3LU",null,"Voluntary Aided School","Open","Archdiocese of Liverpool","17-23676392",null,"Denise Whelan",null,"Denise","Whelan","enquiries@admin.golborneallsaints.wigan.sch.uk","01942 747655",null,null,null,null,null,null,null,null,null,null,null,null,null,null,null,"Not applicable","Not applicable",null,"Not under a federation",null,null,null,null,null,null,"Hazel Grove","Golborne",null,"Warrington","Cheshire","WA3 3LU",null,1942747655,"North West",null,null,"3-11",null,"Primary",null,"Mrs","CM","Ryding","B.Ed(Hons) Npqh","Headteacher","North West"]
[130955,2129,{"$error":"#NAME?"},359,"Wigan",3432,"Sacred Heart Catholic Primary School, Hindley Green","WN2 4HD",null,"Voluntary Aided School","Open","Archdiocese of Liverpool","17-41094834",null,"Cathy Lawton",null,"Cathy","Lawton","enquiries@admin.hindleygreensacredheart.wigan.sch.uk","01942 767768",null,null,null,null,null,null,null,null,null,null,null,null,null,null,null,"Not applicable","Not applicable",null,"Not under a federation",null,null,null,null,null,null,"Swan Lane","Hindley Green",null,"Wigan","Lancashire","WN2 4HD",null,1942767768,"North West",null,null,"4-11",null,"Primary",null,"Mrs","S","Leck",null,"Headteacher","North West"]
[106507,2130,{"$error":"#NAME?"},359,"Wigan",3412,"St Catherine's Catholic Primary School, Lowton","WA3 2PQ",null,"Voluntary Aided School","Open","Archdiocese of Liverpool","17-50788634",null,"Mrs Watson","Mrs",null,"Watson","enquiries@admin.lowtonsaintcatherines.wigan.sch.uk","01942 671528",null,null,null,null,null,null,null,null,null,null,null,null,null,null,null,"Not applicable","Not applicable",null,"Not under a federation",null,null,null,null,null,null,"Cranham Avenue","Lowton",null,"Warrington","Cheshire","WA3 2PQ",null,1942671528,"North West",null,null,"4-11",null,"Primary",null,"Mr","Gary","Hayes",null,"Headteacher","North West"]
[106492,2131,{"$error":"#NAME?"},359,"Wigan",3388,"St James' Catholic Primary School Orrell","WN5 7AA",null,"Voluntary Aided School","Open","Archdiocese of Liverpool","17-35482759",null,"Mrs Crusham","Mrs",null,"Crusham","enquiries@admin.orrellsaintjames.wigan.sch.uk","01942 748455",null,null,null,null,null,null,null,null,null,null,null,null,null,null,null,"Not applicable","Not applicable",null,"Not under a federation",null,null,null,null,null,null,"St James Road","Orrell",null,"Wigan","Lancashire","WN5 7AA",null,1942748455,"North West",null,null,"4-11",null,"Primary",null,"Mr","D","McCann",null,"Headteacher","North West"]
[106510,2132,{"$error":"#NAME?"},359,"Wigan",3415,"St Ambrose Barlow Catholic Primary School","M29 7DY",null,"Voluntary Aided School","Open","Archdiocese of Liverpool","17-89603295",null,"Mrs Dilsworth","Mrs",null,"Dilsworth","enquiries@admin.saintambrosebarlow.wigan.sch.uk","01942 883912",null,null,null,null,null,null,null,null,null,null,null,null,null,null,null,"Not applicable","Not applicable",null,"Not under a federation",null,null,null,null,null,null,"Manchester Road","Astley","Tyldesley","Manchester",null,"M29 7DY",null,1942883912,"North West",null,null,"4-11",null,"Primary",null,"Mrs","Cathie","Williams",null,"Headteacher","North West"]
[106506,2133,{"$error":"#NAME?"},359,"Wigan",3411,"St Gabriel's Catholic Primary School","WN7 2XG",null,"Voluntary Aided School","Open","Archdiocese of Liverpool","17-92371886",null,"Amanda Jamieson",null,"Amanda","Jamieson","enquiries@admin.saintgabriels.wigan.sch.uk","01942 769712",null,null,null,null,null,null,null,null,null,null,null,null,null,null,null,"Not applicable","Not applicable",null,"Not under a federation",null,null,null,null,null,null,"Queensway","Higher Folds",null,"Leigh","Lancashire","WN7 2XG",null,1942769712,"North West",null,null,"3-11",null,"Primary",null,"Mrs","E J","Somers",null,"Headteacher","North West"]
[106493,2134,{"$error":"#NAME?"},359,"Wigan",3389,"St Marie's Catholic Primary School Standish","WN6 0LF",null,"Voluntary Aided School","Open","Archdiocese of Liverpool","17-50975016",null,"Chris Bithell",null,"Chris","Bithell","enquiries@admin.saintmaries.wigan.sch.uk","01257 422975",null,null,null,null,null,null,null,null,null,null,null,null,null,null,null,"Not applicable","Not applicable",null,"Not under a federation",null,null,null,null,null,null,"Avondale Street","Standish",null,"Wigan","Lancashire","WN6 0LF",null,1257422975,"North West",null,null,"4-11",null,"Primary",null,"Mrs","L","Vose",null,"Headteacher","North West"]
[106459,2135,{"$error":"#NAME?"},359,"Wigan",3326,"St Mary and St John Catholic Primary School","WN1 1XL",null,"Voluntary Aided School","Open","Archdiocese of Liverpool","17-97097144",null,"Mrs Malley","Mrs",null,"Malley","enquiries@admin.saintmaryandjohn.wigan.sch.uk","01942 206733",null,null,null,null,null,null,null,null,null,null,null,null,null,null,null,"Not applicable","Not applicable",null,"Not under a federation",null,null,null,null,null,null,"Standishgate",null,null,"Wigan","Lancashire","WN1 1XL",null,1942206733,"North West",null,null,"4-11",null,"Primary",null,"Mrs","DM","Nulty","Msc,B.Ed(Hons),Npqh","Headteacher","North West"]
[106498,2136,{"$error":"#NAME?"},359,"Wigan",3396,"St Richard's Roman Catholic Primary School Atherton","M46 0HA",null,"Voluntary Aided School","Open","Archdiocese of Liverpool","17-56509803",null,"Georgina Kippling",null,"Georgina","Kippling","enquiries@admin.saintrichards.wigan.sch.uk","01942 882980",null,null,null,null,null,null,null,null,null,null,null,null,null,null,null,"Not applicable","Not applicable",null,"Not under a federation",null,null,null,null,null,null,"Flapper Fold Lane","Atherton",null,"Manchester",null,"M46 0HA",null,1942882980,"North West",null,null,"4-11",null,"Primary",null,"Mrs","S M","Newton",null,"Headteacher","North West"]
[106503,2137,{"$error":"#NAME?"},359,"Wigan",3405,"Twelve Apostles Catholic Primary School","WN7 5JS",null,"Voluntary Aided School","Open","Archdiocese of Liverpool","17-88762468",null,"Susan Twist",null,"Susan","Twist","enquiries@admin.twelveapostles.wigan.sch.uk","01942 674312",null,null,null,null,null,null,null,null,null,null,null,null,null,null,null,"Not applicable","Not applicable",null,"Not under a federation",null,null,null,null,null,null,"Nel Pan Lane",null,null,"Leigh","Lancashire","WN7 5JS",null,1942674312,"North West",null,null,"4-11",null,"Primary",null,null,"Andrew","Dawson","Bed Frsca","Headteacher","North West"]
[106538,2138,{"$error":"#NAME?"},359,"Wigan",4615,"St Mary's Catholic High School","M29 7EE",null,"Voluntary Aided School","Open","Archdiocese of Liverpool","17-19432531",null,"Mrs Roberts","Mrs","K","Roberts","robertsk@smchs.org.uk","01942 884144",null,null,null,null,null,null,null,null,null,null,null,null,null,null,null,"Not applicable","Not applicable",null,"Not under a federation",null,10006288,null,null,null,null,"Manchester Road","Astley","Tyldesley","Manchester",null,"M29 7EE",null,1942884144,"North West",null,null,"11-18",null,"Secondary",null,"Mr","S","Coyle",null,"Head of School","North West"]
[106535,2139,{"$error":"#NAME?"},359,"Wigan",4609,"St John Fisher Catholic High School","WN6 7RN",null,"Voluntary Aided School","Open","Archdiocese of Liverpool","17-45186729",null,"Mrs Ford","Mrs","Sheila","Ford","s.ford@sjs.wigan.sch.uk","01942 510715",null,null,null,null,null,null,null,null,null,null,null,null,null,null,null,"Not applicable","Not applicable",null,"Not under a federation",null,10017023,null,null,null,null,"Baytree Road","Springfield",null,"Wigan","Lancashire","WN6 7RN",null,1942510715,"North West",null,null,"11-16",null,"Secondary",null,"Mr","Mark","Dumican","Ba, Pgce, Npqh, Msc","Headteacher","North West"]
[106540,2140,{"$error":"#NAME?"},359,"Wigan",4805,"St Edmund Arrowsmith Catholic High School, Ashton-in-Makerfield","WN4 9PF",null,"Voluntary Aided School","Open","Archdiocese of Liverpool","17-82597353",null,"Mrs Chapman","Mrs","Suzanne","Chapman","schapman@arrowsmith.wigan.sch.uk","01942 728651",null,null,null,null,null,null,null,null,null,null,null,null,null,null,null,"Not applicable","Not applicable",null,"Not under a federation",null,10017746,null,null,null,null,"Rookery Avenue","Ashton-in-Makerfield",null,"Wigan","Lancashire","WN4 9PF",null,1942728651,"North West",null,null,"11-16",null,"Secondary",null,"Mrs","Susan Anne","Bruen",null,"Headteacher","North West"]
[106460,2141,{"$error":"#NAME?"},359,"Wigan",3329,"St Patrick's Catholic Primary School","WN1 3RZ",null,"Voluntary Aided School","Open","Archdiocese of Liverpool","17-46337411",null,"Mrs Bruen","Mrs","Susan","Bruen","enquiries@admin.saintpatricks.wigan.sch.uk","01942 244361",null,null,null,null,null,null,null,null,null,null,null,null,null,null,null,"Not applicable","Not applicable",null,"Not under a federation",null,null,null,null,null,null,"Hardybutts",null,null,"Wigan","Lancashire","WN1 3RZ",null,1942244361,"North West",null,null,"3-11",null,"Primary",null,"Mrs","Emily","Ellis",null,"Headteacher","North West"]
[106497,2142,{"$error":"#NAME?"},359,"Wigan",3394,"St William's Catholic Primary School","WN2 2DG",null,"Voluntary Aided School","Open","Archdiocese of Liverpool","17-76098128",null,"Denise Gill",null,"Denise","Gill","enquiries@admin.saintwilliams.wigan.sch.uk","01942 235782",null,null,null,null,null,null,null,null,null,null,null,null,null,null,null,"Not applicable","Not applicable",null,"Not under a federation",null,null,null,null,null,null,"Ince Green Lane","Ince-in-Makerfield","Ince","Wigan","Lancashire","WN2 2DG",null,1942235782,"North West",null,null,"3-11",null,"Primary",null,"Mrs","Joanne","Farrimond",null,"Headteacher","North West"]
[106463,2143,{"$error":"#NAME?"},359,"Wigan",3336,"St Aidan's Catholic Primary School, Wigan","WN3 6EE",null,"Voluntary Aided School","Open","Archdiocese of Liverpool","17-69332087",null,"Vicky Barker",null,"Vicky","Barker","enquiries@admin.saintaidans.wigan.sch.uk","01942 223544",null,null,null,null,null,null,null,null,null,null,null,null,null,null,null,"Not applicable","Not applicable",null,"Not under a federation",null,null,null,null,null,null,"Holmes House Avenue","Winstanley",null,"Wigan","Lancashire","WN3 6EE",null,1942223544,"North West",null,null,"3-11",null,"Primary",null,"Mr","Jerome","McCormack",null,"Headteacher","South West"]
[126423,2144,{"$error":"#NAME?"},865,"Wiltshire",3412,"Christ The King Catholic School, Amesbury","SP4 7LX",null,"Voluntary Aided School","Open","Diocese of Clifton","11-71673741",null,"Mrs Sharpe","Mrs","Tracey","Sharpe","admin@christtheking.wilts.sch.uk","01980 622039",null,null,null,null,null,null,null,null,null,null,null,null,null,null,null,"Not applicable","Not applicable",null,"Not under a federation",null,null,null,null,null,null,"Earls Court Road","Amesbury",null,"Salisbury","Wiltshire","SP4 7LX",null,1980622039,"South West",null,null,"4-11",null,"Primary",null,"Mrs","Sarah","Wembridge",null,"Headteacher","South West"]
[126482,2145,{"$error":"#NAME?"},865,"Wiltshire",5208,"St Mary's RC Primary School","SN15 2AH",null,"Voluntary Aided School","Open","Diocese of Clifton","11-24657939",null,"Mrs Heavey","Mrs","Melanie","Heavey","admin@st-marys-pri.wilts.sch.uk","01249 460231",null,null,null,null,null,null,null,null,null,null,null,null,null,null,null,"Not applicable","Not applicable",null,"Not under a federation",null,null,null,null,null,null,"Rowden Hill",null,null,"Chippenham","Wiltshire","SN15 2AH",null,1249460231,"South West",null,null,"2-11",null,"Primary",null,null,"Mike","O'Keefe",null,null,"South West"]
[137371,2146,{"$error":"#NAME?"},865,"Wiltshire",5214,"St Joseph's Catholic Primary School, Devizes","SN10 1DD","Saint Joseph's Catholic Primary School, Devizes","Academy Converter","Open","Diocese of Clifton","11-76695349",null,"Mrs Tomlin","Mrs","Naomi","Tomlin","bursar@stjosdevizes.wilts.sch.uk","01380 723084",null,null,null,null,null,null,null,null,null,null,null,null,null,null,null,"Supported by a single-academy trust","-",null,"Not applicable",null,10035100,null,null,null,null,"St Joseph's Place",null,null,"Devizes","Wiltshire","SN10 1DD",null,1380723084,"South West",null,null,"4-11",null,"Primary",null,null,"Michael","O'Keefe",null,"Headteacher","South West"]
[137426,2147,{"$error":"#NAME?"},865,"Wiltshire",5204,"Saint Edmund's Roman Catholic Primary School","SN11 9BX","Saint Edmund's Catholic Academy","Academy Converter","Open","Diocese of Clifton","11-88797123",null,"Ms Minns","Ms","Angela","Minns","admin@st-edmunds-pri.wilts.sch.uk","01249 813821",null,null,null,null,null,null,null,null,null,null,null,null,null,null,null,"Supported by a single-academy trust","-",null,"Not applicable",null,10034881,null,null,null,null,"Duncan Street",null,null,"Calne","Wiltshire","SN11 9BX",null,1249813821,"South West",null,null,"4-11",null,"Primary",null,"Mr","Jonathan","Aslop","Ba Hons and Ma","Headteacher","South West"]
[137375,2148,{"$error":"#NAME?"},865,"Wiltshire",5400,"St Augustine's Catholic College","BA14 9EN","Saint Augustine's Catholic College","Academy Converter","Open","Diocese of Clifton","11-98453706",null,"Mrs lawrence","Mrs","E","lawrence","edl@st-augustines.wilts.sch.uk","01225 350001",null,null,null,null,null,null,null,null,null,null,null,null,null,null,null,"Supported by a single-academy trust","-",null,"Not applicable",null,10035124,null,null,null,null,"Wingfield Road",null,null,"Trowbridge","Wiltshire","BA14 9EN",null,1225350001,"South West",null,null,"11-18",null,"Secondary",null,"Mrs","Louise","Croker",null,"Headteacher","South West"]
[126481,2149,{"$error":"#NAME?"},865,"Wiltshire",5207,"St George's Catholic Primary School, Warminster","BA12 9EZ",null,"Voluntary Aided School","Open","Diocese of Clifton","11-54448220",null,"Mrs Phillips","Mrs","Sarah","Phillips","admin@st-georgesrc.wilts.sch.uk","01985 218284",null,null,null,null,null,null,null,null,null,null,null,null,null,null,null,"Not applicable","Not applicable",null,"Not under a federation",null,null,null,null,null,null,"Woodcock Road",null,null,"Warminster","Wiltshire","BA12 9EZ",null,1985218284,"South West",null,null,"4-11",null,"Primary",null,"Mrs","Elizabeth","Christopher","BEd Hons Npqh","Headteacher","South West"]
[126424,2150,{"$error":"#NAME?"},865,"Wiltshire",3418,"St Joseph's Catholic Primary School, Malmesbury","SN16 9BB",null,"Voluntary Aided School","Open","Diocese of Clifton","11-47188330",null,"Mrs Pearce","Mrs","E","Pearce","admin@st-josephs-malmesbury.wilts.sch.uk","01666 822331",null,null,null,null,null,null,null,null,null,null,null,null,null,null,null,"Not applicable","Not applicable",null,"Not under a federation",null,null,null,null,null,null,"Holloway Hill",null,null,"Malmesbury","Wiltshire","SN16 9BB",null,1666822331,"South West",null,null,"4-11",null,"Primary",null,"Mr","Richard","Sanderson",null,"Headteacher","South West"]
[126425,2151,{"$error":"#NAME?"},865,"Wiltshire",3425,"St Osmund's Catholic Primary School, Salisbury","SP1 2SG",null,"Voluntary Aided School","Open","Diocese of Clifton","11-60732017",null,"Mrs Dicker","Mrs","Jane","Dicker","admin@st-osmunds.wilts.sch.uk","01722 322632",null,null,null,null,null,null,null,null,null,null,null,null,null,null,null,"Not applicable","Not applicable",null,"Not under a federation",null,null,null,null,null,null,"Exeter Street",null,null,"Salisbury","Wiltshire","SP1 2SG",null,1722322632,"South West",null,null,"4-11",null,"Primary",null,"Miss","Rita","McLoughlin",null,"Headteacher","South West"]
[126431,2152,{"$error":"#NAME?"},865,"Wiltshire",3437,"St Patrick's Catholic Primary School, Corsham","SN13 9HS",null,"Voluntary Aided School","Open","Diocese of Clifton","11-30780496",null,"Mrs Gilbert","Mrs","Sharon","Gilbert","admin@st-patricks.wilts.sch.uk","01249 713125",null,null,null,null,null,null,null,null,null,null,null,null,null,null,null,"Not applicable","Not applicable",null,"Not under a federation",null,null,null,null,null,null,"Lacock Road",null,null,"Corsham","Wiltshire","SN13 9HS",null,1249713125,"South West",null,null,"4-11",null,"Primary",null,"Miss","Caroline","Lander","Ba (Hons)","Headteacher","South West"]
[126430,2153,{"$error":"#NAME?"},865,"Wiltshire",3435,"Wardour Catholic Primary School","SP3 6RF",null,"Voluntary Aided School","Open","Diocese of Clifton","11-55471829",null,"Mrs Windsor","Mrs","Jackie","Windsor","admin@wardour.wilts.sch.uk","01747 870537",null,null,null,null,null,null,null,null,null,null,null,null,null,null,null,"Not applicable","Not applicable",null,"Not under a federation",null,null,null,null,null,null,"Wardour","Tisbury",null,"Salisbury","Wiltshire","SP3 6RF",null,1747870537,"South West",null,null,"4-11",null,"Primary",null,"Mrs","Rachel","Ridley",null,"Headteacher","South West"]
[126473,2154,{"$error":"#NAME?"},865,"Wiltshire",4610,"St Joseph's Catholic School","SP1 1QY",null,"Voluntary Aided School","Open","Diocese of Clifton","11-13714591",null,"Mrs Martin","Mrs","Geraldine","Martin","bursar@st-josephs-salisbury.wilts.sch.uk","01722 335380",null,null,null,null,null,null,null,null,null,null,null,null,null,null,null,"Not applicable","Not applicable",null,"Not under a federation",null,10017684,null,null,null,null,"Church Road","Laverstock",null,"Salisbury","Wiltshire","SP1 1QY",null,1722335380,"South West",null,null,"11-16",null,"Secondary",null,"Mr","Mark","Pearce",null,"Headmaster","South West"]
[126533,2155,{"$error":"#NAME?"},865,"Wiltshire",6028,"Prior Park Preparatory School","SN6 6BB",null,"Other Independent School","Open","Diocese of Clifton","11-66895908",null,"Mrs Sadler","Mrs","Iona","Sadler","isadler@priorparkschools.com","01793 750275",null,null,null,null,null,null,null,null,null,null,null,null,null,null,null,"Not applicable","Not applicable",null,"Not applicable",null,10017391,null,null,null,null,"Manor House","Calcutt Street","Cricklade","Swindon","Wiltshire","SN6 6BB",null,1793750275,"South West",null,null,"3-13",null,"Secondary",null,null,"Francis","Toner",null,"Headteacher","South West"]
[126429,2156,{"$error":"#NAME?"},865,"Wiltshire",3430,"St John's Catholic Primary School, Trowbridge","BA14 9EA",null,"Voluntary Aided School","Open","Diocese of Clifton","11-15215942",null,"Mrs Pagan","Mrs","Erica","Pagan","admin@st-johns-trowbridge.wilts.sch.uk","01225 752006",null,null,null,null,null,null,null,null,null,null,null,null,null,null,null,"Not applicable","Not applicable",null,"Not under a federation",null,null,null,null,null,null,"Wingfield Road",null,null,"Trowbridge","Wiltshire","BA14 9EA",null,1225752006,"South West",null,null,"4-11",null,"Primary",null,"Mrs","M","Breen",null,"Headteacher","South East"]
[110120,2157,{"$error":"#NAME?"},868,"Windsor and Maidenhead",6002,"St Mary's School Ascot","SL5 9JF",null,"Other Independent School","Open","Diocese of Portsmouth","01-14612344",null,"Mr Brand","Mr","G","Brand","bursar@st-marys-ascot.co.uk","01344 623721",null,null,null,null,null,null,null,null,null,null,null,null,null,null,null,"Not applicable","Not applicable",null,"Not applicable",null,10006235,null,null,null,null,"St Mary's Road","South Ascot",null,"Ascot","Berkshire","SL5 9JF",null,1344623721,"South East",null,null,"11-18",null,"Secondary",null,null,"Jane","Gow","Bed Hons Npqh","Head Teacher","South East"]
[141818,2158,{"$error":"#NAME?"},868,"Windsor and Maidenhead",3335,"St Francis Catholic Primary School, South Ascot","SL5 9HG","The Catholic Academy Trust in East Berkshire","Academy Converter","Open","Diocese of Portsmouth","01-20964996",null,"Mrs Farrell","Mrs","Sarah","Farrell","office@stfrancisprimary.org","01344 622840",null,null,null,null,null,null,null,null,null,null,null,null,null,null,null,"Supported by a multi-academy trust","-",null,"Not applicable",null,10053778,null,null,null,null,"Coronation Road",null,null,"Ascot","Berkshire","SL5 9HG",null,1344622840,"South East",null,null,"4-11",null,"Primary",null,null,"Janice","Laycock","Bsc Hons PGCE","Headteacher","South East"]
[139882,2159,{"$error":"#NAME?"},868,"Windsor and Maidenhead",3334,"St Mary's Catholic Primary School, Maidenhead","SL6 7EG","The Catholic Academy Trust in East Berkshire","Academy Converter","Open","Diocese of Portsmouth","01-67530524",null,"Mrs Neelam","Mrs","Chawla","Neelam","office@stmarys-maidenhead.org.uk","01628 622570",null,null,null,null,null,null,null,null,null,null,null,null,null,null,null,"Supported by a multi-academy trust","-",null,"Not applicable",null,10042270,null,null,null,null,"Cookham Road",null,null,"Maidenhead","Berkshire","SL6 7EG",null,1628622570,"South East",null,null,"5-11",null,"Primary",null,"Mrs","P","Opalko",null,"Headteacher","South East"]
[110030,2160,{"$error":"#NAME?"},868,"Windsor and Maidenhead",3337,"St Edmund Campion Catholic Primary School, Maidenhead","SL6 4PX",null,"Voluntary Aided School","Open","Diocese of Portsmouth","01-81610374",null,"Mrs Foreman","Mrs","Kate","Foreman","school@st-edmund.org.uk","01628 620183",null,null,null,null,null,null,null,null,null,null,null,null,null,null,null,"Not applicable","Not applicable",null,"Not under a federation",null,null,null,null,null,null,"Altwood Road",null,null,"Maidenhead","Berkshire","SL6 4PX",null,1628620183,"South East",null,null,"4-11",null,"Primary",null,"Mr","Simon","Larter","Ba (Hons)","Head of Education","South East"]
[110147,2161,{"$error":"#NAME?"},868,"Windsor and Maidenhead",6011,"Brigidine School Limited","SL4 2AX",null,"Other Independent School","Open","Diocese of Portsmouth","01-19061435",null,"Mrs Fleming","Mrs","Dawn","Fleming","mail@Brigidine.org.uk","01753 863779",null,null,null,null,null,null,null,null,null,null,null,null,null,null,null,"Not applicable","Not applicable",null,"Not applicable",null,10008121,null,null,null,null,"Kings Road",null,null,"Windsor","Berkshire","SL4 2AX",null,1753863779,"South East",null,null,"2-19",null,"Secondary",null,"Mrs","Sarah","Matthews",null,"Headteacher","South East"]
[110031,2162,{"$error":"#NAME?"},868,"Windsor and Maidenhead",3338,"St Edward's Catholic First School","SL4 5EN",null,"Voluntary Aided School","Open","Diocese of Portsmouth","01-94855064",null,"School Office","School Office",null,null,"office@secfs.org.uk","01753 860607",null,null,null,null,null,null,null,null,null,null,null,null,null,null,null,"Not applicable","Not applicable",null,"Not under a federation",null,null,null,null,null,null,"Parsonage Lane",null,null,"Windsor","Berkshire","SL4 5EN",null,1753860607,"South East",null,null,"5-9",null,"Primary",null,"Mr","Rod","Welsh","BA(Hons), MA, NPQH","Headteacher","South East"]
[110086,2163,{"$error":"#NAME?"},868,"Windsor and Maidenhead",4704,"St Edward's Royal Free Ecumenical Middle School, Windsor","SL4 5EN",null,"Voluntary Aided School","Open","Diocese of Portsmouth","01-41871975",null,"Mrs Amar-Choi","Mrs","N","Amar-Choi","NAmar-Choi@sterf.org.uk","01753 867809",null,null,null,null,null,null,null,null,null,null,null,null,null,null,null,"Not applicable","Not applicable",null,"Not under a federation",null,10018871,null,null,null,null,"Parsonage Lane",null,null,"Windsor","Berkshire","SL4 5EN",null,1753867809,"South East",null,null,"9-13",null,"Secondary",null,"Mr","Karl","McCloskey","Ba(Hons) Pgce Ma","Principal","South East"]
[110152,2164,{"$error":"#NAME?"},868,"Windsor and Maidenhead",6013,"The Marist School","SL5 7PS",null,"Other Independent School","Open","Diocese of Portsmouth","01-50696521",null,"John Philpott",null,"John","Philpott","officesenior@themaristschools.com","01344 624291",null,null,null,null,null,null,null,null,null,null,null,null,null,null,null,"Not applicable","Not applicable",null,"Not applicable",null,10008374,null,null,null,null,"Kings Road","Sunninghill",null,"Ascot","Berkshire","SL5 7PS",null,1344624291,"South East",null,null,"2-18",null,"Secondary",null,"Miss","R M","Jones",null,"Headmistress","North West"]
[105125,2165,{"$error":"#NAME?"},344,"Wirral",6025,"Redcourt - St Anselm's","CH43 1TX",null,"Other Independent School","Open","Diocese of Shrewsbury","25-50343417",null,"Mrs Darroch","Mrs","Helen","Darroch","hdarroch@redcourt.net","01516 525228",null,null,null,null,null,null,null,null,null,null,null,null,null,null,null,"Not applicable","Not applicable",null,"Not applicable",null,null,null,null,null,null,"7 Devonshire Place","Oxton",null,"Prenton",null,"CH43 1TX",null,1516525228,"North West",null,null,"3-11",null,"Primary",null,"Mrs","J","Farrelly",null,"Headteacher","North West"]
[105069,2166,{"$error":"#NAME?"},344,"Wirral",3322,"St Peter's Catholic Primary School","CH43 9QR",null,"Voluntary Aided School","Open","Diocese of Shrewsbury","25-39130656",null,"Claire Hughes","Ms","Claire","Hughes","schooloffice@stpeters-noctorum.wirrall.sch.uk","01516 778438",null,null,null,null,null,null,null,null,null,null,null,null,null,null,null,"Not applicable","Not applicable",null,"Not under a federation",null,null,null,null,null,null,"St Peter's Way","Noctorum",null,"Prenton","Merseyside","CH43 9QR",null,1516778438,"North West",null,null,"3-11",null,"Primary",null,"Mrs","Susan","Ralph",null,"Headteacher","North West"]
[105090,2167,{"$error":"#NAME?"},344,"Wirral",3371,"St Michael and All Angels Catholic Primary School","CH49 5LE",null,"Voluntary Aided School","Open","Diocese of Shrewsbury","25-80043058",null,"Jayne Barnes","Ms","Jayne","Barnes","schooloffice@stmichael-allangels.wirrall.sch.uk","01516 774088",null,null,null,null,null,null,null,null,null,null,null,null,null,null,null,"Not applicable","Not applicable",null,"Not under a federation",null,null,null,null,null,null,"New Hey Road","Upton",null,"Wirral","Merseyside","CH49 5LE",null,1516774088,"North West",null,null,"3-11",null,"Primary",null,"Mrs","Patricia","Young",null,"Headteacher","North West"]
[137929,2168,{"$error":"#NAME?"},344,"Wirral",5901,"Upton Hall School FCJ","CH49 6LJ","Upton Hall School FCJ","Academy Converter","Open","Diocese of Shrewsbury","25-36373785",null,"Mrs Chesters","Mrs","D","Chesters","uhs@uptonhall.wirral.sch.uk","01516 777696",null,null,null,null,null,null,null,null,null,null,null,null,null,null,null,"Supported by a single-academy trust","-",null,"Not applicable",null,10036601,null,null,null,null,"Upton",null,null,"Wirral","Merseyside","CH49 6LJ",null,1516777696,"North West",null,null,"11-18",null,"Secondary",null,null,"Simon","Duggan",null,"Headteacher","North West"]
[136780,2169,{"$error":"#NAME?"},344,"Wirral",5900,"St Anselm's College","CH43 1UQ","St. Anselm's College Edmund Rice Academy Trust","Academy Converter","Open","Diocese of Shrewsbury","25-42125432",null,"Mr Morgan","Mr","Brian ","Morgan","bmorgan@st-anselms.com","01516 521408",null,null,null,null,null,null,null,null,null,null,null,null,null,null,null,"Supported by a single-academy trust","-",null,"Not applicable",null,10033784,null,null,null,null,"Manor Hill",null,null,"Prenton","Merseyside","CH43 1UQ",null,1516521408,"North West",null,null,"11-18",null,"Secondary",null,"Mr","Thomas","Quinn",null,"Headteacher","North West"]
[139031,2170,{"$error":"#NAME?"},344,"Wirral",4605,"St John Plessington Catholic College","CH63 7LF","Holy Family Catholic Multi Academy Trust","Academy Converter","Open","Diocese of Shrewsbury","25-62315322",null,"Mrs Jones","Mrs","Debbie","Jones","schooloffice@stjohnplessington.com","01516 455049",null,null,null,null,null,null,null,null,null,null,null,null,null,null,null,"Supported by a multi-academy trust","Linked to a sponsor","Holy Family Catholic Multi Academy Trust","Not applicable",null,10039683,null,null,null,null,"Old Chester Road","Bebington",null,"Wirral","Merseyside","CH63 7LF",null,1516455049,"North West",null,null,"11-18",null,"Secondary",null,"Mr","M","Cotton",null,"Headteacher","North West"]
[140458,2171,{"$error":"#NAME?"},344,"Wirral",3364,"Our Lady of Pity Catholic Primary School","CH49 1RE","Holy Family Catholic Multi Academy Trust","Academy Converter","Open","Diocese of Shrewsbury","25-79987996",null,"Mrs Harvey","Mrs","Janet","Harvey","jharvey@ourladyofpity.co.uk","01516 776262",null,null,null,null,null,null,null,null,null,null,null,null,null,null,null,"Supported by a multi-academy trust","Linked to a sponsor","Holy Family Catholic Multi Academy Trust","Not applicable",null,10044283,null,null,null,null,"Rigby Drive","Greasby",null,"Wirral","Merseyside","CH49 1RE",null,1516776262,"North West",null,null,"4-11",null,"Primary",null,"Mr","Anthony","Boyle",null,null,"North West"]
[143554,2172,{"$error":"#NAME?"},344,"Wirral",4001,"St Mary's Catholic College, A Voluntary Academy","CH45 3LN","Holy Family Catholic Multi Academy Trust","Academy Sponsor Led","Open","Diocese of Shrewsbury","25-80954730",null,"Ms Moyes","Ms","Sheila","Moyes","headteacher@stmaryscollege.wirral.sch.uk","01516 397531",null,null,null,null,null,null,null,null,null,null,null,null,null,null,null,"Supported by a multi-academy trust","Linked to a sponsor","Holy Family Catholic Multi Academy Trust","Not applicable",null,10061777,null,null,null,null,"Wallasey Village",null,null,"Wallasey","Merseyside","CH45 3LN",null,1516397531,"North West",null,null,"11-18",null,"Secondary",null,"Mrs","S","McShane",null,"Acting Headteacher","North West"]
[105088,2173,{"$error":"#NAME?"},344,"Wirral",3369,"St Anne's Catholic Primary School","CH42 4NE",null,"Voluntary Aided School","Open","Diocese of Shrewsbury","25-86331060",null,"Mrs Coast","Mrs",null,"Coast","businessmanager@stannes.wirral.sch.uk","01516 453682",null,null,null,null,null,null,null,null,null,null,null,null,null,null,null,"Not applicable","Not applicable",null,"Not under a federation",null,null,null,null,null,null,"Highfield South","Rock Ferry",null,"Birkenhead","Merseyside","CH42 4NE",null,1516453682,"North West",null,null,"3-11",null,"Primary",null,"Mrs","Monique","Stevenson",null,"Acting Headteacher","North West"]
[105091,2174,{"$error":"#NAME?"},344,"Wirral",3372,"St Werburgh's Catholic Primary School","CH41 2TD",null,"Voluntary Aided School","Open","Diocese of Shrewsbury","25-95286486",null,"Mrs Eakins","Mrs","Amanda Hopkins","Eakins","businessmanager@stwerburghs.wirral.sch.uk","01516 478404",null,null,null,null,null,null,null,null,null,null,null,null,null,null,null,"Not applicable","Not applicable",null,"Not under a federation",null,null,null,null,null,null,"Park Grove",null,null,"Birkenhead","Merseyside","CH41 2TD",null,1516478404,"North West",null,null,"2-11",null,"Primary",null,"Mr","Paul","Parry","BA Hons, PGCE","Headteacher","North West"]
[105068,2175,{"$error":"#NAME?"},344,"Wirral",3321,"St Joseph's Catholic Primary School Upton","CH49 6LL",null,"Voluntary Aided School","Open","Diocese of Shrewsbury","25-46527696",null,"Mrs Davies","Mrs","Jane","Davies","jdavies@stjosephs-upton.wirral.sch.uk","01516 773970",null,null,null,null,null,null,null,null,null,null,null,null,null,null,null,"Not applicable","Not applicable",null,"Not under a federation",null,null,null,null,null,null,"Moreton Road","Upton",null,"Wirral","Merseyside","CH49 6LL",null,1516773970,"North West",null,null,"4-11",null,"Primary",null,"Mr","Kevin","Doogan",null,"Headteacher","North West"]
[105081,2176,{"$error":"#NAME?"},344,"Wirral",3361,"Christ The King Catholic Primary School","CH62 6AE",null,"Voluntary Aided School","Open","Diocese of Shrewsbury","25-95409358",null,"Mrs Harding","Mrs","Brenda","Harding","schooloffice@christtheking.wirral.sch.uk","01513 344345",null,null,null,null,null,null,null,null,null,null,null,null,null,null,null,"Not applicable","Not applicable",null,"Not under a federation",null,null,null,null,null,null,"Allport Road","Bromborough",null,"Wirral","Merseyside","CH62 6AE",null,1513344345,"North West",null,null,"4-11",null,"Primary",null,"Mrs","Margaret","Jackson",null,"Headteacher","North West"]
[105074,2177,{"$error":"#NAME?"},344,"Wirral",3335,"Sacred Heart Catholic Primary School","CH46 8UG",null,"Voluntary Aided School","Open","Diocese of Shrewsbury","25-40309111",null,"Ms Fisher","Ms","Janie","Fisher","janiefisher@sacredheart.wirral.sch.uk","01516 771091",null,null,null,null,null,null,null,null,null,null,null,null,null,null,null,"Not applicable","Not applicable",null,"Not under a federation",null,null,null,null,null,null,"Danger Lane","Moreton",null,"Wirral","Merseyside","CH46 8UG",null,1516771091,"North West",null,null,"3-11",null,"Primary",null,"Mrs","Catherine","Frost",null,"Headteacher","North West"]
[105072,2178,{"$error":"#NAME?"},344,"Wirral",3331,"St Alban's Catholic Primary School","CH44 5XB",null,"Voluntary Aided School","Open","Diocese of Shrewsbury","25-13282065",null,"Mrs Price","Mrs","Ollie","Price","schooloffice@stalbans.wirral.sch.uk","01516 386373",null,null,null,null,null,null,null,null,null,null,null,null,null,null,null,"Not applicable","Not applicable",null,"Not under a federation",null,null,null,null,null,null,"Ashburton Road",null,null,"Wallasey","Merseyside","CH44 5XB",null,1516386373,"North West",null,null,"4-11",null,"Primary",null,"Mrs","Elaine","Mullins",null,"Headteacher","North West"]
[105080,2179,{"$f":"_xlfn.CONCAT(D2180,F2180)","v":{"$error":"#NAME?"}},344,"Wirral",3360,"St John's Catholic Junior School","CH63 7LH",null,"Voluntary Aided School","Open","Diocese of Shrewsbury","25-32321551",null,"Mrs Hoey","Mrs",null,"Hoey","schooloffice@stjohns-junior.wirral.sch.uk","01516 459615",null,null,null,null,null,null,null,null,null,null,null,null,null,null,null,"Not applicable","Not applicable",null,"Not under a federation",null,null,null,null,null,null,"Old Chester Road","Bebington",null,"Wirral","Merseyside","CH63 7LH",null,1516459615,"North West",null,null,"7-11",null,"Primary",null,"Mrs","Chris","Fenna",null,"Headteacher","North West"]
[105070,2180,{"$error":"#NAME?"},344,"Wirral",3324,"St Paul's Catholic Primary School","CH43 7TE",null,"Voluntary Aided School","Open","Diocese of Shrewsbury","25-68363452",null,"Miss Rooney","Miss","Lauren","Rooney","schooloffice@stpauls.wirral.sch.uk","01516 527828",null,null,null,null,null,null,null,null,null,null,null,null,null,null,null,"Not applicable","Not applicable",null,"Not under a federation",null,null,null,null,null,null,"Farmfield Drive",null,"Beechwood","Prenton","Merseyside","CH43 7TE",null,1516527828,"North West",null,null,"2-11",null,"Primary",null,"Mrs","Paula","Graham",null,"Headteacher","North West"]
[105071,2181,{"$error":"#NAME?"},344,"Wirral",3330,"Saints Peter and Paul Catholic Primary School","CH45 9LT",null,"Voluntary Aided School","Open","Diocese of Shrewsbury","25-85153847",null,"Mrs Nolan","Mrs","Gaynor","Nolan","schooloffice@stpeter-stpauls.wirral.sch.uk","01516 392991",null,null,null,null,null,null,null,null,null,null,null,null,null,null,null,"Not applicable","Not applicable",null,"Not under a federation",null,null,null,null,null,null,"Atherton Street",null,null,"Wallasey","Merseyside","CH45 9LT",null,1516392991,"North West",null,null,"2-11",null,"Primary",null,"Mrs","Elaine","McGunigall",null,"Headteacher","North West"]
[105086,2182,{"$error":"#NAME?"},344,"Wirral",3367,"Our Lady and St Edward's Catholic Primary School","CH41 8DU",null,"Voluntary Aided School","Open","Diocese of Shrewsbury","25-79478820",null,"Michelle Winter",null,"Michelle","Winter","schoolofficefinance@ourlady-saintedwards.wirrall.sch.uk","01516 523366",null,null,null,null,null,null,null,null,null,null,null,null,null,null,null,"Not applicable","Not applicable",null,"Not under a federation",null,null,null,null,null,null,"Price Street",null,null,"Birkenhead","Merseyside","CH41 8DU",null,1516523366,"North West",null,null,"3-11",null,"Primary",null,"Miss","Jane","Bradley",null,"Headteacher","North West"]
[105087,2183,{"$error":"#NAME?"},344,"Wirral",3368,"Holy Cross Catholic Primary School","CH41 7DU",null,"Voluntary Aided School","Open","Diocese of Shrewsbury","25-74735759",null,"Head Teacher",null,"Head","Teacher","schooloffice@holycross.wirral.sch.uk","01516 528454",null,null,null,null,null,null,null,null,null,null,null,null,null,null,null,"Not applicable","Not applicable",null,"Not under a federation",null,null,null,null,null,null,"Gautby Road","Bidston",null,"Birkenhead","Merseyside","CH41 7DU",null,1516528454,"North West",null,null,"3-11",null,"Primary",null,"Mr","A","Turner",null,"Acting Headteacher","North West"]
[105092,2184,{"$error":"#NAME?"},344,"Wirral",3373,"St Joseph's Catholic Primary School, Birkenhead","CH43 5UT",null,"Voluntary Aided School","Open","Diocese of Shrewsbury","25-46431775",null,"Mr Turner","Mr","Alex","Turner","headteacher@stjosephs-birkenhead.wirral.sch.uk","01516 526781",null,null,null,null,null,null,null,null,null,null,null,null,null,null,null,"Not applicable","Not applicable",null,"Not under a federation",null,null,null,null,null,null,"Woodchurch Road",null,null,"Prenton","Merseyside","CH43 5UT",null,1516526781,"North West",null,null,"3-11",null,"Primary",null,"Mrs","Kathryn","Vernon",null,"Headteacher","North West"]
[105073,2185,{"$error":"#NAME?"},344,"Wirral",3333,"St Joseph's Catholic Primary School, Wallasey","CH44 7ED",null,"Voluntary Aided School","Open","Diocese of Shrewsbury","25-95794178",null,"School Office","School Office",null,null,"schooloffice@stjosephs-wallasey.wirral.sch.uk","01516 383919",null,null,null,null,null,null,null,null,null,null,null,null,null,null,null,"Not applicable","Not applicable",null,"Not under a federation",null,null,null,null,null,null,"Wheatland Lane",null,null,"Wallasey","Merseyside","CH44 7ED",null,1516383919,"North West",null,null,"3-11",null,"Primary",null,"Mrs","Joanne","Cartmell",null,null,"North West"]
[136124,2186,{"$error":"#NAME?"},344,"Wirral",3363,"Holy Spirit Catholic and Church of England Primary School","CH46 2RP",null,"Voluntary Aided School","Open","Diocese of Shrewsbury","25-14917984",null,"School Office","School Office",null,null,"schooloffice@holyspirit.wirral.sch.uk","01516 385180",null,null,null,null,null,null,null,null,null,null,null,null,null,null,null,"Not applicable","Not applicable",null,"Not under a federation",null,null,null,null,null,null,"Gardenside","Leasowe",null,"Wirral","Merseyside","CH46 2RP",null,1516385180,"North West",null,null,"3-11",null,"Primary",null,"Miss","Angela","Williams",null,"Headteacher","North West"]
[105084,2187,{"$error":"#NAME?"},344,"Wirral",3365,"Ladymount Catholic Primary School","CH61 5YD",null,"Voluntary Aided School","Open","Diocese of Shrewsbury","25-65746333",null,"School Office","School Office",null,null,"schooloffice@ladymount.wirral.sch.uk","01516 484326",null,null,null,null,null,null,null,null,null,null,null,null,null,null,null,"Not applicable","Not applicable",null,"Not under a federation",null,null,null,null,null,null,"Portal Road","Pensby",null,"Wirral","Merseyside","CH61 5YD",null,1516484326,"North West",null,null,"4-11",null,"Primary",null,"Mrs","M S","Bulmer",null,"Headteacher","North West"]
[105082,2188,{"$error":"#NAME?"},344,"Wirral",3362,"St John's Catholic Infant School","CH63 7LH",null,"Voluntary Aided School","Open","Diocese of Shrewsbury","25-63290728",null,"Mrs Trinder","Mrs","Sue","Trinder","schooloffice@stjohns-infant.wirral.sch.uk","01516 455291",null,null,null,null,null,null,null,null,null,null,null,null,null,null,null,"Not applicable","Not applicable",null,"Not under a federation",null,null,null,null,null,null,"Old Chester Road","Bebington",null,"Wirral","Merseyside","CH63 7LH",null,1516455291,"North West",null,null,"5-7",null,"Primary",null,"Mr","James","Broadbridge","Ba (Hons) Npqh","Headteacher","South East"]
[110041,2189,{"$error":"#NAME?"},872,"Wokingham",3368,"St Dominic Savio Catholic Primary School","RG5 3BH",null,"Voluntary Aided School","Open","Diocese of Portsmouth","01-78513248",null,"Mrs Willoughby","Mrs",null,"Willoughby","admin@st-dominicsavio.wokingham.sch.uk","01189 693893",null,null,null,null,null,null,null,null,null,null,null,null,null,null,null,"Not applicable","Not applicable",null,"Not under a federation",null,null,null,null,null,null,"Western Avenue",null,null,"Woodley","Berkshire","RG5 3BH",null,1189693893,"South East",null,null,"4-11",null,"Primary",null,"Mrs","Nikki","Peters",null,"Headteacher","South East"]
[110032,2190,{"$error":"#NAME?"},872,"Wokingham",3341,"St Teresa's Catholic Primary School, Wokingham","RG40 2EB",null,"Voluntary Aided School","Open","Diocese of Portsmouth","01-91311244",null,"Mrs Boucher","Mrs","Karen","Boucher","admin@st-teresas.wokingham.sch.uk","01189 784310",null,null,null,null,null,null,null,null,null,null,null,null,null,null,null,"Not applicable","Not applicable",null,"Not under a federation",null,null,null,null,null,null,"Easthampstead Road",null,null,"Wokingham","Berkshire","RG40 2EB",null,1189784310,"South East",null,null,"3-11",null,"Primary",null,"Mrs","H","Robinson",null,"Headteacher","South East"]
[110154,2191,{"$error":"#NAME?"},872,"Wokingham",6007,"Our Lady's Preparatory School","RG45 6PB",null,"Other Independent School","Open","Diocese of Portsmouth","01-60562090",null,"School Business Manager ","School Business Manager",null,null,"office@olps.co.uk","01344 773394",null,null,null,null,null,null,null,null,null,null,null,null,null,null,null,"Not applicable","Not applicable",null,"Not applicable",null,null,null,null,null,null,"The Avenue",null,null,"Crowthorne","Berkshire","RG45 6PB",null,1344773394,"South East",null,null,"1-11",null,"Primary",null,"Mr","Karl","Russell",null,"Principal","West Midlands"]
[141789,2192,{"$error":"#NAME?"},336,"Wolverhampton",3302,"Holy Rosary Catholic Primary School","WV1 2BS","Pope John XXIII Catholic Multi Academy Company","Academy Converter","Open","Archdiocese of Birmingham","08-58187488",null,"Mrs Safrany","Mrs","S","Safrany","ssafrany@holyrosary.co.uk","01902 878440",null,null,null,null,null,null,null,null,null,null,null,null,null,null,null,"Supported by a multi-academy trust","Linked to a sponsor","Pope John 23rd MAC (Wolverhampton)","Not applicable",null,10048980,null,null,null,null,"Hickman Avenue",null,null,"Wolverhampton","West Midlands","WV1 2BS",null,1902878440,"West Midlands",null,null,"5-11",null,"Primary",null,"Mrs","T","Davis",null,"Headteacher","West Midlands"]
[104374,2193,{"$error":"#NAME?"},336,"Wolverhampton",3303,"St Anthony's Catholic Primary School","WV10 6NW",null,"Voluntary Aided School","Open","Archdiocese of Birmingham","08-86682896",null,"Mrs Rutter","Mrs","Janine","Rutter","stanthonysoffice@cloudw.co.uk","01902 558935",null,null,null,null,null,null,null,null,null,null,null,null,null,null,null,"Not applicable","Not applicable",null,"Not under a federation",null,null,null,null,null,null,"Stafford Road","Fordhouses",null,"Wolverhampton","West Midlands","WV10 6NW",null,1902558935,"West Midlands",null,null,"3-11",null,"Primary",null,"Mrs","Jenny","Byrne",null,"Principal","West Midlands"]
[139894,2194,{"$error":"#NAME?"},336,"Wolverhampton",3315,"SS Peter and Paul Catholic Primary Academy & Nursery","WV6 0HR","Bishop Cleary Catholic Multi Academy Company","Academy Converter","Open","Archdiocese of Birmingham","08-23977787",null,"School Business Manager ","School Business Manager",null,null,"sspeterandpaulacademy@wolverhampton.gov.uk","01902 556447",null,null,null,null,null,null,null,null,null,null,null,null,null,null,null,"Supported by a multi-academy trust","Linked to a sponsor","The Bishop Cleary MAC (Wolverhampton)","Not applicable",null,10042225,null,null,null,null,"Hordern Close","Hordern Road","Newbridge","Wolverhampton","West Midlands","WV6 0HR",null,1902556447,"West Midlands",null,null,"3-11",null,"Primary",null,"Mrs","Margaret","Hughes",null,"Principal","West Midlands"]
[139891,2195,{"$error":"#NAME?"},336,"Wolverhampton",4605,"St Edmunds Catholic Academy","WV3 9DU","Bishop Cleary Catholic Multi Academy Company","Academy Converter","Open","Archdiocese of Birmingham","08-34653049",null,"Mrs Raj","Mrs","B","Raj","enquiries@stedmunds.org","01902 558888",null,null,null,null,null,null,null,null,null,null,null,null,null,null,null,"Supported by a multi-academy trust","Linked to a sponsor","The Bishop Cleary MAC (Wolverhampton)","Not applicable",null,10042229,null,null,null,null,"Compton Park","Compton Road West",null,"Wolverhampton","West Midlands","WV3 9DU",null,1902558888,"West Midlands",null,null,"11-18",null,"Secondary",null,"Mrs","Lynette","Holden-Gough",null,"Headteacher","West Midlands"]
[141769,2196,{"$error":"#NAME?"},336,"Wolverhampton",3310,"Corpus Christi Catholic Primary Academy","WV11 2LT","Pope John XXIII Catholic Multi Academy Company","Academy Converter","Open","Archdiocese of Birmingham","08-38710264",null,"Mrs Ward","Mrs","Doreen","Ward","corpuschristiprimaryschool@wolverhampton.gov.uk","01902 866840",null,null,null,null,null,null,null,null,null,null,null,null,null,null,null,"Supported by a multi-academy trust","Linked to a sponsor","Pope John 23rd MAC (Wolverhampton)","Not applicable",null,10048970,null,null,null,null,"Ashmore Avenue","Ashmore Park","Wednesfield","Wolverhampton","West Midlands","WV11 2LT",null,1902866840,"West Midlands",null,null,"3-11",null,"Primary",null,"Ms","Joanne","Hanslip","B.Ed. Hons, Npqh","Executive Head","West Midlands"]
[139800,2197,{"$error":"#NAME?"},336,"Wolverhampton",2008,"Ss Mary and John's Catholic Primary Academy","WV2 1HZ","Bishop Cleary Catholic Multi Academy Company","Academy Sponsor Led","Open","Archdiocese of Birmingham","08-71302217",null,"Mrs Bennett","Mrs","Penny","Bennett","ssmaryandjohnsprimaryschool@wolverhampton.gov.uk","01902 558780",null,null,null,null,null,null,null,null,null,null,null,null,null,null,null,"Supported by a multi-academy trust","Linked to a sponsor","The Bishop Cleary MAC (Wolverhampton)","Not applicable",null,10042029,null,null,null,null,"Caledonia Road",null,null,"Wolverhampton","West Midlands","WV2 1HZ",null,1902558780,"West Midlands",null,null,"5-11",null,"Primary",null,"Mr","Karl","Russell",null,"Headteacher","West Midlands"]
[141827,2198,{"$error":"#NAME?"},336,"Wolverhampton",3304,"St Mary's Catholic Primary School, Wolverhampton","WV10 8PG","Pope John XXIII Catholic Multi Academy Company","Academy Converter","Open","Archdiocese of Birmingham","08-80688247",null,"Mrs Ashcroft","Mrs","Shona","Ashcroft","stmarysprimaryschool@wolverhampton.gov.uk","01902 556355",null,null,null,null,null,null,null,null,null,null,null,null,null,null,null,"Supported by a multi-academy trust","Linked to a sponsor","Pope John 23rd MAC (Wolverhampton)","Not applicable",null,10048885,null,null,null,null,"Cannock Road","Fallings Park",null,"Wolverhampton","West Midlands","WV10 8PG",null,1902556355,"West Midlands",null,null,"3-11",null,"Primary",null,"Mrs","Joanne","Hanslip",null,"Executive Head","West Midlands"]
[139893,2199,{"$error":"#NAME?"},336,"Wolverhampton",3311,"St Teresa's Catholic Primary Academy","WV4 6AW","Bishop Cleary Catholic Multi Academy Company","Academy Converter","Open","Archdiocese of Birmingham","08-82400883",null,"Kully Mal",null,"Kully","Mal","StTeresasCatholicPrimary.GroupEmail@wolverhampton.gov.uk","01902 558862",null,null,null,null,null,null,null,null,null,null,null,null,null,null,null,"Supported by a multi-academy trust","Linked to a sponsor","The Bishop Cleary MAC (Wolverhampton)","Not applicable",null,10042227,null,null,null,null,"Malins Road","Parkfields",null,"Wolverhampton","West Midlands","WV4 6AW",null,1902558862,"West Midlands",null,null,"5-11",null,"Primary",null,"Ms","Toni","Ellis",null,"Headteacher","West Midlands"]
[141802,2200,{"$error":"#NAME?"},336,"Wolverhampton",4606,"Our Lady and St Chad Catholic Academy","WV10 8BL","Pope John XXIII Catholic Multi Academy Company","Academy Converter","Open","Archdiocese of Birmingham","08-88560806",null,"Mrs Birch","Mrs","Shirley","Birch","sbirch@olscmail.org.uk","01902 558250",null,null,null,null,null,null,null,null,null,null,null,null,null,null,null,"Supported by a multi-academy trust","Linked to a sponsor","Pope John 23rd MAC (Wolverhampton)","Not applicable",null,10048946,null,null,null,null,"Old Fallings Lane",null,null,"Wolverhampton","West Midlands","WV10 8BL",null,1902558250,"West Midlands",null,null,"11-18",null,"Secondary",null,"Mrs","Stacy","McHale",null,"Principal","West Midlands"]
[139892,2201,{"$error":"#NAME?"},336,"Wolverhampton",3307,"St Michael's Catholic Primary Academy and Nursery","WV3 7LE","Bishop Cleary Catholic Multi Academy Company","Academy Converter","Open","Archdiocese of Birmingham","08-91690218",null,"Ms Alecsandrowicz","Ms","Astra","Alecsandrowicz","stmichaelsrcprimaryschool@wolverhampton.gov.uk","01902 556368",null,null,null,null,null,null,null,null,null,null,null,null,null,null,null,"Supported by a multi-academy trust","Linked to a sponsor","The Bishop Cleary MAC (Wolverhampton)","Not applicable",null,10042324,null,null,null,null,"Telford Gardens","Merry Hill",null,"Wolverhampton","West Midlands","WV3 7LE",null,1902556368,"West Midlands",null,null,"3-11",null,"Primary",null,"Mrs","C A T","McNally","Bed Hons","Headteacher","West Midlands"]
[104378,2202,{"$error":"#NAME?"},336,"Wolverhampton",3309,"Holy Trinity Catholic Primary School","WV14 7PD",null,"Voluntary Aided School","Open","Archdiocese of Birmingham","08-98150650",null,"Mrs O'Hara","Mrs",null,"O'Hara","holytrinityprimaryschool@wolverhampton.gov.uk","01902 558977",null,null,null,null,null,null,null,null,null,null,null,null,null,null,null,"Not applicable","Not applicable",null,"Not under a federation",null,null,null,null,null,null,"Fraser Street",null,null,"Bilston","West Midlands","WV14 7PD",null,1902558977,"West Midlands",null,null,"3-11",null,"Primary",null,"Mrs","W","Wozmirska",null,"Headteacher","West Midlands"]
[104381,2203,{"$error":"#NAME?"},336,"Wolverhampton",3312,"St Patrick's Catholic Primary School, Wednesfield","WV11 1PG",null,"Voluntary Aided School","Open","Archdiocese of Birmingham","08-75739358",null,"Mrs Clive","Mrs","Louise","Clive","stpatricksprimaryschool@wolverhampton.gov.uk","01902 556451",null,null,null,null,null,null,null,null,null,null,null,null,null,null,null,"Not applicable","Not applicable",null,"Not under a federation",null,null,null,null,null,null,"Graiseley Lane","Wednesfield",null,"Wolverhampton","West Midlands","WV11 1PG",null,1902556451,"West Midlands",null,null,"3-11",null,"Primary",null,"Mr","Sean","Devlin",null,"Principal","West Midlands"]
[116999,2204,{"$error":"#NAME?"},885,"Worcestershire",5402,"Blessed Edward Oldcorne Catholic College","WR5 2XD",null,"Voluntary Aided School","Open","Archdiocese of Birmingham","08-16100988",null,"Mrs Thomas","Mrs","Margaret","Thomas","mthomas@blessededwardoldcorne.worcs.sch.uk","01905 352615",null,null,null,null,null,null,null,null,null,null,null,null,null,null,null,"Not applicable","Not applicable",null,"Not under a federation",null,10014888,null,null,null,null,"Timberdine Avenue",null,null,"Worcester","Worcestershire","WR5 2XD",null,1905352615,"West Midlands",null,null,"11-16",null,"Secondary",null,"Mr","Terence","Hammond","Bsc Pgce Npqh","Headteacher","West Midlands"]
[141414,2205,{"$error":"#NAME?"},885,"Worcestershire",4800,"Hagley Catholic High School","DY8 2XL","Saint Nicholas Owen Catholic Multi Academy Company","Academy Converter","Open","Archdiocese of Birmingham","08-10553026",null,"Mr Wilcox","Mr","Karl","Wilcox","kwilcox@hagleyrc.worcs.sch.uk","01562 883193",null,null,null,null,null,null,null,null,null,null,null,null,null,null,null,"Supported by a multi-academy trust","Linked to a sponsor","St Nicholas Owen MAC (North Worcestershire/Dudley/Birmingham)","Not applicable",null,10047639,null,null,null,null,"Brake Lane",null,null,"Hagley","Worcestershire","DY8 2XL",null,1562883193,"West Midlands",null,null,"11-18",null,"Secondary",null,"Mr","A","Quinn",null,"Principal","West Midlands"]
[141063,2206,{"$error":"#NAME?"},885,"Worcestershire",5400,"St Augustine's Catholic High School","B97 5LX","Our Lady of Lourdes Catholic Multi-Academy Company","Academy Converter","Open","Archdiocese of Birmingham","08-26351194",null,"Mrs Davenport","Mrs","Anne","Davenport","apd9@st-augustines.worcs.sch.uk","01527 550400",null,null,null,null,null,null,null,null,null,null,null,null,null,null,null,"Supported by a multi-academy trust","Linked to a sponsor","Our Lady of Lourdes MAC (North Worcs)","Not applicable",null,10046460,null,null,null,null,"Stonepits Lane","Hunt End",null,"Redditch","Worcestershire","B97 5LX",null,1527550400,"West Midlands",null,null,"13-18",null,"Secondary",null,"Mrs","Kim","Savage",null,"Principal","West Midlands"]
[141444,2207,{"$error":"#NAME?"},885,"Worcestershire",3380,"St Wulstan's Catholic Primary School","DY13 8TX","Saint Nicholas Owen Catholic Multi Academy Company","Academy Converter","Open","Archdiocese of Birmingham","08-61040051",null,"Mrs Cahill","Mrs","Julie","Cahill","secretary@wulsev.worcs.sch.uk","01299 877808",null,null,null,null,null,null,null,null,null,null,null,null,null,null,null,"Supported by a multi-academy trust","Linked to a sponsor","St Nicholas Owen MAC (North Worcestershire/Dudley/Birmingham)","Not applicable",null,10047598,null,null,null,null,"Elmfield Walk","Stagborough Way",null,"Stourport-on-Severn","Worcestershire","DY13 8TX",null,1299877808,"West Midlands",null,null,"4-11",null,"Primary",null,"Mrs","M","Woods",null,"Headteacher","West Midlands"]
[141058,2208,{"$error":"#NAME?"},885,"Worcestershire",5200,"Our Lady of Mount Carmel Catholic First School","B97 5RR","Our Lady of Lourdes Catholic Multi-Academy Company","Academy Converter","Open","Archdiocese of Birmingham","08-83216419",null,"School Business Manager ","School Business Manager",null,null,"office@mountcarmel.worcs.sch.uk","01527 546398",null,null,null,null,null,null,null,null,null,null,null,null,null,null,null,"Supported by a multi-academy trust","Linked to a sponsor","Our Lady of Lourdes MAC (North Worcs)","Not applicable",null,10046471,null,null,null,null,"Downsell Road","Webheath",null,"Redditch","Worcestershire","B97 5RR",null,1527546398,"West Midlands",null,null,"5-9",null,"Primary",null,"Mr","L","Roberts","Ba Npqh","Prijncipal","West Midlands"]
[141064,2209,{"$error":"#NAME?"},885,"Worcestershire",5401,"St Bede's Catholic Middle School","B98 7HA","Our Lady of Lourdes Catholic Multi-Academy Company","Academy Converter","Open","Archdiocese of Birmingham","08-91623160",null,"Ms Crow","Ms","Di","Crow","dc50@st-bedes.worcs.sch.uk","01527 525916",null,null,null,null,null,null,null,null,null,null,null,null,null,null,null,"Supported by a multi-academy trust","Linked to a sponsor","Our Lady of Lourdes MAC (North Worcs)","Not applicable",null,10046464,null,null,null,null,"Holloway Lane",null,null,"Redditch","Worcestershire","B98 7HA",null,1527525916,"West Midlands",null,null,"9-13",null,"Secondary",null,null,"Andrew","Dickinson","Ba Npqh","Executive Head Teacher","West Midlands"]
[141413,2210,{"$error":"#NAME?"},885,"Worcestershire",3393,"St Ambrose Catholic Primary","DY10 1RP","Saint Nicholas Owen Catholic Multi Academy Company","Academy Converter","Open","Archdiocese of Birmingham","08-97806395",null,"Mrs Fish","Mrs","Kate","Fish","office@st-ambrose.worcs.sch.uk","01562 823568",null,null,null,null,null,null,null,null,null,null,null,null,null,null,null,"Supported by a multi-academy trust","Linked to a sponsor","St Nicholas Owen MAC (North Worcestershire/Dudley/Birmingham)","Not applicable",null,10047596,null,null,null,null,"Leswell Street",null,null,"Kidderminster","Worcestershire","DY10 1RP",null,1562823568,"West Midlands",null,null,"4-11",null,"Primary",null,"Mrs","Catherine","Clubley",null,"Headteacher","West Midlands"]
[141066,2211,{"$error":"#NAME?"},885,"Worcestershire",3310,"St Peter's Catholic First School","B61 7LH","Our Lady of Lourdes Catholic Multi-Academy Company","Academy Converter","Open","Archdiocese of Birmingham","08-99180957",null,"Mrs Morris","Mrs","Nicky","Morris","office@st-petersrc.worcs.sch.uk","01527 831872",null,null,null,null,null,null,null,null,null,null,null,null,null,null,null,"Supported by a multi-academy trust","Linked to a sponsor","Our Lady of Lourdes MAC (North Worcs)","Not applicable",null,10046462,null,null,null,null,"Rock Hill",null,null,"Bromsgrove","Worcestershire","B61 7LH",null,1527831872,"West Midlands",null,null,"5-9",null,"Primary",null,"Mrs","Maria","Miles","Bed (Hons)","Head Teacher","West Midlands"]
[116921,2212,{"$error":"#NAME?"},885,"Worcestershire",3387,"Our Lady Queen of Peace Catholic Primary","WR2 4EN",null,"Voluntary Aided School","Open","Archdiocese of Birmingham","08-96329404",null,"Mrs McHugh","Mrs","Marie","McHugh","admin@ourlady.worcs.sch.uk","01905 421409",null,null,null,null,null,null,null,null,null,null,null,null,null,null,null,"Not applicable","Not applicable",null,"Not under a federation",null,null,null,null,null,null,"Bransford Road","St John's",null,"Worcester","Worcestershire","WR2 4EN",null,1905421409,"West Midlands",null,null,"4-11",null,"Primary",null,"Mrs","Gill","Gittins",null,"Headteacher","West Midlands"]
[116924,2213,{"$error":"#NAME?"},885,"Worcestershire",3390,"St George's Catholic Primary School","WR1 3JY",null,"Voluntary Aided School","Open","Archdiocese of Birmingham","08-25005102",null,"Mrs Hicks","Mrs","Sue","Hicks","admin@st-georgescatholic.worcs.sch.uk","01905 25841",null,null,null,null,null,null,null,null,null,null,null,null,null,null,null,"Not applicable","Not applicable",null,"Not under a federation",null,null,null,null,null,null,"Thorneloe Walk","Barbourne",null,"Worcester","Worcestershire","WR1 3JY",null,190525841,"West Midlands",null,null,"5-11",null,"Primary",null,"Mrs","C","Hall",null,"Headteacher","West Midlands"]
[116908,2214,{"$error":"#NAME?"},885,"Worcestershire",3368,"Holy Redeemer Catholic Primary School","WR10 1EB",null,"Voluntary Aided School","Open","Archdiocese of Birmingham","08-29209450",null,"Sam Duckett",null,"Sam","Duckett","office@holyredeemer.worcs.sch.uk","01386 552518",null,null,null,null,null,null,null,null,null,null,null,null,null,null,null,"Not applicable","Not applicable",null,"Not under a federation",null,null,null,null,null,null,"Priest Lane",null,null,"Pershore","Worcestershire","WR10 1EB",null,1386552518,"West Midlands",null,null,"4-11",null,"Primary",null,"Mrs","T M","Langford",null,"Acting Headteacher","West Midlands"]
[116901,2215,{"$error":"#NAME?"},885,"Worcestershire",3358,"St Joseph's Catholic Primary School","WR14 1PF",null,"Voluntary Aided School","Open","Archdiocese of Birmingham","08-47291500",null,"Mrs Coles","Mrs","Delyth","Coles","office@stjoesmalvern.worcs.sch.uk","01684 573016",null,null,null,null,null,null,null,null,null,null,null,null,null,null,null,"Not applicable","Not applicable",null,"Not under a federation",null,null,null,null,null,null,"Newtown Road",null,null,"Malvern","Worcestershire","WR14 1PF",null,1684573016,"West Midlands",null,null,"4-11",null,"Primary",null,"Mrs","Catherine","Bryan",null,"Headteacher","West Midlands"]
[116876,2216,{"$error":"#NAME?"},885,"Worcestershire",3317,"St Joseph's Catholic Primary School","WR9 0RY",null,"Voluntary Aided School","Open","Archdiocese of Birmingham","08-71825773",null,"Mrs Pointon","Mrs","Shelly","Pointon","office@st-josephs-droitwich.worcs.sch.uk","01905 773572",null,null,null,null,null,null,null,null,null,null,null,null,null,null,null,"Not applicable","Not applicable",null,"Not under a federation",null,null,null,null,null,null,"St Joseph's Close","Ombersley Way",null,"Droitwich","Worcestershire","WR9 0RY",null,1905773572,"West Midlands",null,null,"4-11",null,"Primary",null,"Mrs","Louise","Bury","Bed","Headteacher","West Midlands"]
[116925,2217,{"$error":"#NAME?"},885,"Worcestershire",3391,"St Joseph's Catholic Primary School","WR4 9PG",null,"Voluntary Aided School","Open","Archdiocese of Birmingham","08-20838843",null,"Mrs Hunt","Mrs","Kim","Hunt","office@st-josephs-pri.worcs.sch.uk","01905 452772",null,null,null,null,null,null,null,null,null,null,null,null,null,null,null,"Not applicable","Not applicable",null,"Not under a federation",null,null,null,null,null,null,"Chedworth Drive","Warndon",null,"Worcester","Worcestershire","WR4 9PG",null,1905452772,"West Midlands",null,null,"2-11",null,"Primary",null,"Mrs","Jacqui","Le Maitre","Ma Npqh Nle","Headteacher","West Midlands"]
[116871,2218,{"$error":"#NAME?"},885,"Worcestershire",3309,"St Mary's Catholic Primary School","WR12 7DZ",null,"Voluntary Aided School","Open","Archdiocese of Birmingham","08-22945095",null,"Mrs Penny","Mrs","Pat","Penny","office@st-marysrc.worcs.sch.uk","01386 853337",null,null,null,null,null,null,null,null,null,null,null,null,null,null,null,"Not applicable","Not applicable",null,"Not under a federation",null,null,null,null,null,null,"Leamington Road",null,null,"Broadway","Worcestershire","WR12 7DZ",null,1386853337,"West Midlands",null,null,"5-11",null,"Primary",null,"Miss","Teresita","Moriani","BEd","Headteacher","West Midlands"]
[116910,2219,{"$error":"#NAME?"},885,"Worcestershire",5202,"St Thomas More Catholic First School","B98 7RY",null,"Voluntary Aided School","Open","Archdiocese of Birmingham","08-66709260",null,"Mrs Kimberley","Mrs","Helen","Kimberley","office@st-thomasmore.worcs.sch.uk","01527 525821",null,null,null,null,null,null,null,null,null,null,null,null,null,null,null,"Not applicable","Not applicable",null,"Not under a federation",null,null,null,null,null,null,"Woodrow Centre","Studley Road",null,"Redditch","Worcestershire","B98 7RY",null,1527525821,"West Midlands",null,null,"5-9",null,"Primary",null,null,"Jacqueline","Smith",null,"Headteacher","West Midlands"]
[116878,2220,{"$error":"#NAME?"},885,"Worcestershire",3322,"St Mary's Catholic Primary School","WR11 4EJ",null,"Voluntary Aided School","Open","Archdiocese of Birmingham","08-33175108",null,"Mrs Stean","Mrs","Janet","Stean","secretary@stmarysrc.worcs.sch.uk","01386 446748",null,null,null,null,null,null,null,null,null,null,null,null,null,null,null,"Not applicable","Not applicable",null,"Not under a federation",null,null,null,null,null,null,"High Street",null,null,"Evesham","Worcestershire","WR11 4EJ",null,1386446748,"West Midlands",null,null,"5-11",null,"Primary",null,null,null,null,null,"Headteacher","Wales (pseudo)"]
[400456,2221,{"$error":"#NAME?"},665,"Wrexham",3334,"St Mary's R.C. Primary School","LL13 7NA",null,"Welsh Establishment","Open","Diocese of Wrexham","27-23710601",null,"Beccy Pugh",null,"Beccy","Pugh","mailbox@stmarys-wxm-pri.wrexham.sch.uk","01978 352406",null,null,null,null,null,null,null,null,null,null,null,null,null,null,null,"Not applicable","Not applicable",null,"Not applicable",null,null,null,null,null,null,"Lea Road","Wrexham",null,null,null,"LL13 7NA",null,1978352406,"Wales (pseudo)",null,null,"-",null,"Primary",null,null,null,null,null,"Headteacher","Wales (pseudo)"]
[400461,2222,{"$error":"#NAME?"},665,"Wrexham",3343,"St Anne's R.C. Primary School","LL13 8TH",null,"Welsh Establishment","Open","Diocese of Wrexham","27-41615681",null,"Bev Thomas",null,"Bev","Thomas","mailbox@stannes.pri.wrexham.sch.uk","01978 261623",null,null,null,null,null,null,null,null,null,null,null,null,null,null,null,"Not applicable","Not applicable",null,"Not applicable",null,null,null,null,null,null,"Prince Charles Road","Wrexham",null,null,null,"LL13 8TH",null,1978261623,"Wales (pseudo)",null,null,"-",null,"Primary",null,null,null,null,null,null,"Wales (pseudo)"]
[402123,2223,{"$error":"#NAME?"},665,"Wrexham",4603,"St Joseph's Catholic and Anglican Secondary School","LL13 7EN",null,"Welsh Establishment","Open","Diocese of Wrexham","27-88184540",null,"School Business Manager ","School Business Manager",null,null,"mailbox@st-joseph.wrexham.sch.uk","01978 360310",null,null,null,null,null,null,null,null,null,null,null,null,null,null,null,"Not applicable","Not applicable",null,"Not applicable",null,10025525,null,null,null,null,"Sontley Road","Wrexham",null,null,null,"LL13 7EN",null,1978265209,"Wales (pseudo)",null,null,"-",null,"Primary",null,"Mrs","Jane","Conway",null,"Headteacher","Yorkshire and the Humber"]
[121648,2224,{"$error":"#NAME?"},816,"York",3403,"St Wilfrid's, York, Roman Catholic Primary School","YO31 7PB",null,"Voluntary Aided School","Open","Diocese of Middlesbrough","19-47445583",null,"Kerry Macdonald",null,"Kerry","Macdonald","kerrry.macdonald@york.gov.uk","01904 659726",null,null,null,null,null,null,null,null,null,null,null,null,null,null,null,"Not applicable","Not applicable",null,"Not under a federation",null,null,null,null,null,null,"Monkgate",null,null,"York","North Yorkshire","YO31 7PB",null,1904659726,"Yorkshire and the Humber",null,null,"4-11",null,"Primary",null,"Mr","Derek","Sutherland","Bed Hons",null,"Yorkshire and the Humber"]
[136435,2225,{"$error":"#NAME?"},816,"York",3904,"Our Lady Queen of Martyrs Roman Catholic Voluntary Aided Primary School","YO24 4JW",null,"Voluntary Aided School","Open","Diocese of Middlesbrough","19-17504073",null,"Mrs Wrenn","Mrs",null,"Wrenn","olqm.pirmary@york.gov.uk","01904 555222",null,null,null,null,null,null,null,null,null,null,null,null,null,null,null,"Not applicable","Not applicable",null,"Not under a federation",null,null,null,null,null,null,"Hamilton Drive",null,null,"York","North Yorkshire","YO24 4JW",null,1904555222,"Yorkshire and the Humber",null,null,"3-11",null,"Primary",null,"Mr","Bill","Scriven",null,"Headteacher","Yorkshire and the Humber"]
[121720,2226,{"$error":"#NAME?"},816,"York",4702,"All Saints RC School","YO24 1BJ",null,"Voluntary Aided School","Open","Diocese of Middlesbrough","19-85099862",null,"Simon Baxter",null,"Simon","Baxter","s.baxter@allsaints.york.sch.uk","01904 647877",null,null,null,null,null,null,null,null,null,null,null,null,null,null,null,"Not applicable","Not applicable",null,"Not under a federation",null,10000225,null,null,null,null,"Mill Mount Lane",null,null,"York","North Yorkshire","YO24 1BJ",null,1904647877,"Yorkshire and the Humber",null,null,"11-18",null,"Secondary",null,"Mr","Derek","Sutherland","Bed Honours","Headteacher","Yorkshire and the Humber"]
[121646,2227,{"$error":"#NAME?"},816,"York",3401,"St Aelred's Roman Catholic Voluntary Aided Primary School","YO31 0QQ",null,"Voluntary Aided School","Open","Diocese of Middlesbrough","19-89732034",null,"Ms andrew","Ms","Tamara","Andrew","st.aelreds@york.gov.uk","01904 551885",null,null,null,null,null,null,null,null,null,null,null,null,null,null,null,"Not applicable","Not applicable",null,"Not under a federation",null,null,null,null,null,null,"Fifth Avenue",null,null,"York","North Yorkshire","YO31 0QQ",null,1904551885,"Yorkshire and the Humber",null,null,"3-11",null,"Primary",null,"Mrs","Dee","Statham",null,"Headteacher","Yorkshire and the Humber"]
[null,2228,{"$error":"#NAME?"},816,"York",3402,"St George's Roman Catholic Primary School, York","YO10 4BT",null,"Voluntary Aided School","Open","Diocese of Middlesbrough","19-74215569",null,"Mrs Bradshaw","Mrs","Lorraine","Bradshaw","stgeorges.primary@york.gov.uk","01904 552440",null,null,null,null,null,null,null,null,null,null,null,null,null,null,null,"Not applicable","Not applicable",null,"Not under a federation",null,null,null,null,null,null,"1 Winterscale Street","Fishergate",null,"York","North Yorkshire","YO10 4BT",null,1904552440,"Yorkshire and the Humber",null,null,"3-11",null,"Primary"]

{"sheet":"Energy","index":4,"n_rows":9,"n_cols":13,"rows_kept":9,"cut":false,"hidden":false,"merged":[]}
[]
["Contents","Product Service","Supplier Name","Contract End Date","Annual Spend","Would you recommend this supplier? Y/N","Meter","MPAN No.","Annual KWH","Notes","Location","Latest Bill Date","Notice Period(days)"]
[null,"Energy - electricity"]
[null,"Energy - electricity"]
[null,"Energy - gas"]
[null,"Energy - gas"]
[null,"Energy - gas"]
[null,"Energy- oil"]
[null,"biomass"]

{"sheet":"Sheet10","index":5,"n_rows":13,"n_cols":13,"rows_kept":13,"cut":false,"hidden":true,"merged":[]}
[]
[]
[]
[null,null,null,null,null,"Energy - electricity",null,null,null,"Y",null,null,1]
[null,null,null,null,null,"Energy - gas",null,null,null,"N",null,null,2]
[null,null,null,null,null,"Energy- oil",null,null,null,null,null,null,3]
[null,null,null,null,null,"biomass",null,null,null,null,null,null,4]
[null,null,null,null,null,null,null,null,null,null,null,null,5]
[null,null,null,null,null,null,null,null,null,null,null,null,6]
[null,null,null,null,null,null,null,null,null,null,null,null,7]
[null,null,null,null,null,null,null,null,null,null,null,null,8]
[null,null,null,null,null,null,null,null,null,null,null,null,9]
[null,null,null,null,null,null,null,null,null,null,null,null,10]

{"sheet":"Professional Services","index":6,"n_rows":9,"n_cols":8,"rows_kept":9,"cut":false,"hidden":false,"merged":[]}
[]
["Contents","Product/service","Supplier name","Contract end date","Annual Spend","Would you recommend this supplier? Y/N","Notes","Notice Period(days)"]
[null,"Payroll provider"]
[null,"DBS check service"]
[null,"HR Provider"]
[null,"Legal Provider"]
[null,"Accountancy and Audit Services"]
[null,"School Catering service"]
[null,"School cleaning service"]

{"sheet":"Soft_Hardware solutions","index":7,"n_rows":13,"n_cols":8,"rows_kept":13,"cut":false,"hidden":false,"merged":[]}
[]
["Contents","Product/service","Supplier name","Contract end date","Annual Spend  £","Would you recommend this supplier? Y/N","Notes","Notice Period(days)"]
[null,"Financial Management Systems"]
[null,"Budget Management Software"]
[null,"Administrative hardware"]
[null,"Curriculum hardware"]
[null,"Network hardware"]
[null,"Software Curiculum"]
[null,"Software administrative"]
[null,"Management Info systems staff"]
[null,"Management Info systems pupils"]
[null,"Timetable software"]
[null,"Cashless payments i.e parent pay"]

{"sheet":"Telecoms","index":8,"n_rows":7,"n_cols":10,"rows_kept":7,"cut":false,"hidden":false,"merged":[]}
[]
["Contents","Product/service","Supplier name","Contract end date","Annual Spend  £","Would you recommend this supplier? Y/N","Handsets","Leased","Notes","Notice Period(days)"]
[null,"Telecommunications - calls"]
[null,"Telecommunications - systems"]
[null,"Annual Maintenance"]
[null,"Broadband provider"]
[null,"Mobile Phones"]

{"sheet":"Print Management","index":9,"n_rows":4,"n_cols":11,"rows_kept":4,"cut":false,"hidden":false,"merged":[]}
[]
["Contents","Product/service","Supplier name","Contract end date","Annual Spend  £","Would you recommend this supplier? Y/N","Num of Machines","Annual Print Volume","Leased","Notes","Notice Period(days)"]
[null,"Photocopying & print management"]
[null,"Service Maintenance"]

{"sheet":"Facilities","index":10,"n_rows":31,"n_cols":8,"rows_kept":31,"cut":false,"hidden":false,"merged":[]}
[]
["Contents","Product Service","Supplier Name","Contract End Date","Annual Spend","Would you recommend this supplier? Y/N","Notes","Notice Period(days)"]
[null,"Fire Alarm Supplier and Maintenance"]
[null,"Fire Extinguishers Supplier and Maintenance"]
[null,"Emergency Lighting Supplier and Maintenance"]
[null,"Safety Signage"]
[null,"Portable Electrical Appliance Testing (PAT)"]
[null,"Gas Tightness"]
[null,"Boiler Maintenance"]
[null,"Legionella Risk Assessment"]
[null,"Legionella Testing and Precautions"]
[null,"Swimming pool filtration plant"]
[null,"Catering Equipment "]
[null,"Kitchen Fixed Mechanical Supply & Extract Equipment "]
[null,"Kitchen Deep Clean (to include Fixed Mechanical Extract Equipment) "]
[null,"Food Waste, Storage & Removal (including cooker hood filters)"]
[null,"Mechanical Extraction Equipment (Fume Cupboards) maintenance"]
[null,"Kiln Servicing"]
[null,"Five Yearly Electrical Test (per circuit) "]
[null,"Asbestos Management "]
[null,"Asbestos Management - Update  "]
[null,"Fire Risk Assessment "]
[null,"CCTV System supplier and maintenance"]
[null,"Passenger & Goods Lifts (where fitted) - maintenance "]
[null,"Display Energy Certificate"]
[null,"DEC Annual Review"]
[null,"Personal Hygiene Services"]
[null,"Refuse Collection"]
[null,"Vehicle Leasing"]
[null,"Contract Cleaning services"]
[null,"Catering Contractor (If In-house please state)"]

{"sheet":"Furniture","index":11,"n_rows":4,"n_cols":8,"rows_kept":4,"cut":false,"hidden":false,"merged":[]}
[]
["Contents","Product Sevice","Supplier Name","Contract End Date","Annual Spend","Would you recommend this supplier? Y/N","Notes","Notice Period(days)"]
[null,"Furniture - small items/volumes"]
[null,"Furniture - large projects"]

{"sheet":"Office & Cleaning Supplies","index":12,"n_rows":5,"n_cols":8,"rows_kept":5,"cut":false,"hidden":false,"merged":[]}
[]
["Contents","Product Sevice","Supplier Name","Contract End Date","Annual Spend","Would you recommend this supplier? Y/N","Notes","Notice Period(days)"]
[null,"Office, stationery & school supplies"]
[null,"Paper supplier"]
[null,"Cleaning consumables"]

{"sheet":"import","index":13,"n_rows":374,"n_cols":18,"rows_kept":374,"cut":false,"hidden":false,"merged":[]}
["urn","ServiceType","ProductService","SupplierName","ContractEndDate","AnnualSpend","supplierrecommend","electricitymeter","electricitympanno","electricityannualkwh","Handsets","Leased","machines","printvolume","Notes","Location","Latest Bill Date","notice period(days)"]
[{"$f":"'Academy or School Details'!$C$2","v":"Enter School URN here"},{"$f":"IF(C2=0,\"\",\"Energy\")","v":"Energy"},{"$f":"Energy!B3","v":"Energy - electricity"},{"$f":"Energy!C3","v":0},{"$f":"Energy!D3","v":"00:00:00"},{"$f":"Energy!E3","v":0},{"$f":"Energy!F3","v":0},{"$f":"Energy!G3","v":0},{"$f":"Energy!H3","v":0},{"$f":"Energy!I3","v":0},null,null,null,null,{"$f":"Energy!J3","v":0},{"$f":"Energy!K3","v":0},{"$f":"Energy!L3","v":"00:00:00"},{"$f":"Energy!M3","v":0}]
[{"$f":"'Academy or School Details'!$C$2","v":"Enter School URN here"},{"$f":"IF(C3=0,\"\",\"Energy\")","v":"Energy"},{"$f":"Energy!B4","v":"Energy - electricity"},{"$f":"Energy!C4","v":0},{"$f":"Energy!D4","v":"00:00:00"},{"$f":"Energy!E4","v":0},{"$f":"Energy!F4","v":0},{"$f":"Energy!G4","v":0},{"$f":"Energy!H4","v":0},{"$f":"Energy!I4","v":0},null,null,null,null,{"$f":"Energy!J4","v":0},{"$f":"Energy!K4","v":0},{"$f":"Energy!L4","v":"00:00:00"},{"$f":"Energy!M4","v":0}]
[{"$f":"'Academy or School Details'!$C$2","v":"Enter School URN here"},"Energy",{"$f":"Energy!B5","v":"Energy - gas"},{"$f":"Energy!C5","v":0},{"$f":"Energy!D5","v":"00:00:00"},{"$f":"Energy!E5","v":0},{"$f":"Energy!F5","v":0},{"$f":"Energy!G5","v":0},{"$f":"Energy!H5","v":0},{"$f":"Energy!I5","v":0},null,null,null,null,{"$f":"Energy!J5","v":0},{"$f":"Energy!K5","v":0},{"$f":"Energy!L5","v":"00:00:00"},{"$f":"Energy!M5","v":0}]
[{"$f":"'Academy or School Details'!$C$2","v":"Enter School URN here"},"Energy",{"$f":"Energy!B6","v":"Energy - gas"},{"$f":"Energy!C6","v":0},{"$f":"Energy!D6","v":"00:00:00"},{"$f":"Energy!E6","v":0},{"$f":"Energy!F6","v":0},{"$f":"Energy!G6","v":0},{"$f":"Energy!H6","v":0},{"$f":"Energy!I6","v":0},null,null,null,null,{"$f":"Energy!J6","v":0},{"$f":"Energy!K6","v":0},{"$f":"Energy!L6","v":"00:00:00"},{"$f":"Energy!M6","v":0}]
[{"$f":"'Academy or School Details'!$C$2","v":"Enter School URN here"},"Energy",{"$f":"Energy!B7","v":"Energy - gas"},{"$f":"Energy!C7","v":0},{"$f":"Energy!D7","v":"00:00:00"},{"$f":"Energy!E7","v":0},{"$f":"Energy!F7","v":0},{"$f":"Energy!G7","v":0},{"$f":"Energy!H7","v":0},{"$f":"Energy!I7","v":0},null,null,null,null,{"$f":"Energy!J7","v":0},{"$f":"Energy!K7","v":0},{"$f":"Energy!L7","v":"00:00:00"},{"$f":"Energy!M7","v":0}]
[{"$f":"'Academy or School Details'!$C$2","v":"Enter School URN here"},"Energy",{"$f":"Energy!B8","v":"Energy- oil"},{"$f":"Energy!C8","v":0},{"$f":"Energy!D8","v":"00:00:00"},{"$f":"Energy!E8","v":0},{"$f":"Energy!F8","v":0},{"$f":"Energy!G8","v":0},{"$f":"Energy!H8","v":0},{"$f":"Energy!I8","v":0},null,null,null,null,{"$f":"Energy!J8","v":0},{"$f":"Energy!K8","v":0},{"$f":"Energy!L8","v":"00:00:00"},{"$f":"Energy!M8","v":0}]
[{"$f":"'Academy or School Details'!$C$2","v":"Enter School URN here"},"Energy",{"$f":"Energy!B9","v":"biomass"},{"$f":"Energy!C9","v":0},{"$f":"Energy!D9","v":"00:00:00"},{"$f":"Energy!E9","v":0},{"$f":"Energy!F9","v":0},{"$f":"Energy!G9","v":0},{"$f":"Energy!H9","v":0},{"$f":"Energy!I9","v":0},null,null,null,null,{"$f":"Energy!J9","v":0},{"$f":"Energy!K9","v":0},{"$f":"Energy!L9","v":"00:00:00"},{"$f":"Energy!M9","v":0}]
[{"$f":"'Academy or School Details'!$C$2","v":"Enter School URN here"},"",{"$f":"Energy!B10","v":0},{"$f":"Energy!C10","v":0},{"$f":"Energy!D10","v":"00:00:00"},{"$f":"Energy!E10","v":0},{"$f":"Energy!F10","v":0},{"$f":"Energy!G10","v":0},{"$f":"Energy!H10","v":0},{"$f":"Energy!I10","v":0},null,null,null,null,{"$f":"Energy!J10","v":0},{"$f":"Energy!K10","v":0},{"$f":"Energy!L10","v":"00:00:00"},{"$f":"Energy!M10","v":0}]
[{"$f":"'Academy or School Details'!$C$2","v":"Enter School URN here"},"",{"$f":"Energy!B11","v":0},{"$f":"Energy!C11","v":0},{"$f":"Energy!D11","v":"00:00:00"},{"$f":"Energy!E11","v":0},{"$f":"Energy!F11","v":0},{"$f":"Energy!G11","v":0},{"$f":"Energy!H11","v":0},{"$f":"Energy!I11","v":0},null,null,null,null,{"$f":"Energy!J11","v":0},{"$f":"Energy!K11","v":0},{"$f":"Energy!L11","v":"00:00:00"},{"$f":"Energy!M11","v":0}]
[{"$f":"'Academy or School Details'!$C$2","v":"Enter School URN here"},"",{"$f":"Energy!B12","v":0},{"$f":"Energy!C12","v":0},{"$f":"Energy!D12","v":"00:00:00"},{"$f":"Energy!E12","v":0},{"$f":"Energy!F12","v":0},{"$f":"Energy!G12","v":0},{"$f":"Energy!H12","v":0},{"$f":"Energy!I12","v":0},null,null,null,null,{"$f":"Energy!J12","v":0},{"$f":"Energy!K12","v":0},{"$f":"Energy!L12","v":"00:00:00"},{"$f":"Energy!M12","v":0}]
[{"$f":"'Academy or School Details'!$C$2","v":"Enter School URN here"},"",{"$f":"Energy!B13","v":0},{"$f":"Energy!C13","v":0},{"$f":"Energy!D13","v":"00:00:00"},{"$f":"Energy!E13","v":0},{"$f":"Energy!F13","v":0},{"$f":"Energy!G13","v":0},{"$f":"Energy!H13","v":0},{"$f":"Energy!I13","v":0},null,null,null,null,{"$f":"Energy!J13","v":0},{"$f":"Energy!K13","v":0},{"$f":"Energy!L13","v":"00:00:00"},{"$f":"Energy!M13","v":0}]
[{"$f":"'Academy or School Details'!$C$2","v":"Enter School URN here"},"",{"$f":"Energy!B14","v":0},{"$f":"Energy!C14","v":0},{"$f":"Energy!D14","v":"00:00:00"},{"$f":"Energy!E14","v":0},{"$f":"Energy!F14","v":0},{"$f":"Energy!G14","v":0},{"$f":"Energy!H14","v":0},{"$f":"Energy!I14","v":0},null,null,null,null,{"$f":"Energy!J14","v":0},{"$f":"Energy!K14","v":0},{"$f":"Energy!L14","v":"00:00:00"},{"$f":"Energy!M14","v":0}]
[{"$f":"'Academy or School Details'!$C$2","v":"Enter School URN here"},"",{"$f":"Energy!B15","v":0},{"$f":"Energy!C15","v":0},{"$f":"Energy!D15","v":"00:00:00"},{"$f":"Energy!E15","v":0},{"$f":"Energy!F15","v":0},{"$f":"Energy!G15","v":0},{"$f":"Energy!H15","v":0},{"$f":"Energy!I15","v":0},null,null,null,null,{"$f":"Energy!J15","v":0},{"$f":"Energy!K15","v":0},{"$f":"Energy!L15","v":"00:00:00"},{"$f":"Energy!M15","v":0}]
[{"$f":"'Academy or School Details'!$C$2","v":"Enter School URN here"},"",{"$f":"Energy!B16","v":0},{"$f":"Energy!C16","v":0},{"$f":"Energy!D16","v":"00:00:00"},{"$f":"Energy!E16","v":0},{"$f":"Energy!F16","v":0},{"$f":"Energy!G16","v":0},{"$f":"Energy!H16","v":0},{"$f":"Energy!I16","v":0},null,null,null,null,{"$f":"Energy!J16","v":0},{"$f":"Energy!K16","v":0},{"$f":"Energy!L16","v":"00:00:00"},{"$f":"Energy!M16","v":0}]
[{"$f":"'Academy or School Details'!$C$2","v":"Enter School URN here"},"",{"$f":"Energy!B17","v":0},{"$f":"Energy!C17","v":0},{"$f":"Energy!D17","v":"00:00:00"},{"$f":"Energy!E17","v":0},{"$f":"Energy!F17","v":0},{"$f":"Energy!G17","v":0},{"$f":"Energy!H17","v":0},{"$f":"Energy!I17","v":0},null,null,null,null,{"$f":"Energy!J17","v":0},{"$f":"Energy!K17","v":0},{"$f":"Energy!L17","v":"00:00:00"},{"$f":"Energy!M17","v":0}]
[{"$f":"'Academy or School Details'!$C$2","v":"Enter School URN here"},"",{"$f":"Energy!B18","v":0},{"$f":"Energy!C18","v":0},{"$f":"Energy!D18","v":"00:00:00"},{"$f":"Energy!E18","v":0},{"$f":"Energy!F18","v":0},{"$f":"Energy!G18","v":0},{"$f":"Energy!H18","v":0},{"$f":"Energy!I18","v":0},null,null,null,null,{"$f":"Energy!J18","v":0},{"$f":"Energy!K18","v":0},{"$f":"Energy!L18","v":"00:00:00"},{"$f":"Energy!M18","v":0}]
[{"$f":"'Academy or School Details'!$C$2","v":"Enter School URN here"},"",{"$f":"Energy!B19","v":0},{"$f":"Energy!C19","v":0},{"$f":"Energy!D19","v":"00:00:00"},{"$f":"Energy!E19","v":0},{"$f":"Energy!F19","v":0},{"$f":"Energy!G19","v":0},{"$f":"Energy!H19","v":0},{"$f":"Energy!I19","v":0},null,null,null,null,{"$f":"Energy!J19","v":0},{"$f":"Energy!K19","v":0},{"$f":"Energy!L19","v":"00:00:00"},{"$f":"Energy!M19","v":0}]
[{"$f":"'Academy or School Details'!$C$2","v":"Enter School URN here"},"",{"$f":"Energy!B20","v":0},{"$f":"Energy!C20","v":0},{"$f":"Energy!D20","v":"00:00:00"},{"$f":"Energy!E20","v":0},{"$f":"Energy!F20","v":0},{"$f":"Energy!G20","v":0},{"$f":"Energy!H20","v":0},{"$f":"Energy!I20","v":0},null,null,null,null,{"$f":"Energy!J20","v":0},{"$f":"Energy!K20","v":0},{"$f":"Energy!L20","v":"00:00:00"},{"$f":"Energy!M20","v":0}]
[{"$f":"'Academy or School Details'!$C$2","v":"Enter School URN here"},"",{"$f":"Energy!B21","v":0},{"$f":"Energy!C21","v":0},{"$f":"Energy!D21","v":"00:00:00"},{"$f":"Energy!E21","v":0},{"$f":"Energy!F21","v":0},{"$f":"Energy!G21","v":0},{"$f":"Energy!H21","v":0},{"$f":"Energy!I21","v":0},null,null,null,null,{"$f":"Energy!J21","v":0},{"$f":"Energy!K21","v":0},{"$f":"Energy!L21","v":"00:00:00"},{"$f":"Energy!M21","v":0}]
[{"$f":"'Academy or School Details'!$C$2","v":"Enter School URN here"},{"$f":"IF(C21=0,\"\",\"Professional Services\")","v":"Professional Services"},{"$f":"'Professional Services'!B3","v":"Payroll provider"},{"$f":"'Professional Services'!C3","v":0},{"$f":"'Professional Services'!D3","v":"00:00:00"},{"$f":"'Professional Services'!E3","v":0},{"$f":"'Professional Services'!F3","v":0},null,null,null,null,null,null,null,{"$f":"'Professional Services'!G3","v":0},null,null,{"$f":"'Professional Services'!H3","v":0}]
[{"$f":"'Academy or School Details'!$C$2","v":"Enter School URN here"},{"$f":"IF(C22=0,\"\",\"Professional Services\")","v":"Professional Services"},{"$f":"'Professional Services'!B4","v":"DBS check service"},{"$f":"'Professional Services'!C4","v":0},{"$f":"'Professional Services'!D4","v":"00:00:00"},{"$f":"'Professional Services'!E4","v":0},{"$f":"'Professional Services'!F4","v":0},null,null,null,null,null,null,null,{"$f":"'Professional Services'!G4","v":0},null,null,{"$f":"'Professional Services'!H4","v":0}]
[{"$f":"'Academy or School Details'!$C$2","v":"Enter School URN here"},"Professional Services",{"$f":"'Professional Services'!B5","v":"HR Provider"},{"$f":"'Professional Services'!C5","v":0},{"$f":"'Professional Services'!D5","v":"00:00:00"},{"$f":"'Professional Services'!E5","v":0},{"$f":"'Professional Services'!F5","v":0},null,null,null,null,null,null,null,{"$f":"'Professional Services'!G5","v":0},null,null,{"$f":"'Professional Services'!H5","v":0}]
[{"$f":"'Academy or School Details'!$C$2","v":"Enter School URN here"},"Professional Services",{"$f":"'Professional Services'!B6","v":"Legal Provider"},{"$f":"'Professional Services'!C6","v":0},{"$f":"'Professional Services'!D6","v":"00:00:00"},{"$f":"'Professional Services'!E6","v":0},{"$f":"'Professional Services'!F6","v":0},null,null,null,null,null,null,null,{"$f":"'Professional Services'!G6","v":0},null,null,{"$f":"'Professional Services'!H6","v":0}]
[{"$f":"'Academy or School Details'!$C$2","v":"Enter School URN here"},"Professional Services",{"$f":"'Professional Services'!B7","v":"Accountancy and Audit Services"},{"$f":"'Professional Services'!C7","v":0},{"$f":"'Professional Services'!D7","v":"00:00:00"},{"$f":"'Professional Services'!E7","v":0},{"$f":"'Professional Services'!F7","v":0},null,null,null,null,null,null,null,{"$f":"'Professional Services'!G7","v":0},null,null,{"$f":"'Professional Services'!H7","v":0}]
[{"$f":"'Academy or School Details'!$C$2","v":"Enter School URN here"},"Professional Services",{"$f":"'Professional Services'!B8","v":"School Catering service"},{"$f":"'Professional Services'!C8","v":0},{"$f":"'Professional Services'!D8","v":"00:00:00"},{"$f":"'Professional Services'!E8","v":0},{"$f":"'Professional Services'!F8","v":0},null,null,null,null,null,null,null,{"$f":"'Professional Services'!G8","v":0},null,null,{"$f":"'Professional Services'!H8","v":0}]
[{"$f":"'Academy or School Details'!$C$2","v":"Enter School URN here"},"Professional Services",{"$f":"'Professional Services'!B9","v":"School cleaning service"},{"$f":"'Professional Services'!C9","v":0},{"$f":"'Professional Services'!D9","v":"00:00:00"},{"$f":"'Professional Services'!E9","v":0},{"$f":"'Professional Services'!F9","v":0},null,null,null,null,null,null,null,{"$f":"'Professional Services'!G9","v":0},null,null,{"$f":"'Professional Services'!H9","v":0}]
[{"$f":"'Academy or School Details'!$C$2","v":"Enter School URN here"},"",{"$f":"'Professional Services'!B10","v":0},{"$f":"'Professional Services'!C10","v":0},{"$f":"'Professional Services'!D10","v":"00:00:00"},{"$f":"'Professional Services'!E10","v":0},{"$f":"'Professional Services'!F10","v":0},null,null,null,null,null,null,null,{"$f":"'Professional Services'!G10","v":0},null,null,{"$f":"'Professional Services'!H10","v":0}]
[{"$f":"'Academy or School Details'!$C$2","v":"Enter School URN here"},"",{"$f":"'Professional Services'!B11","v":0},{"$f":"'Professional Services'!C11","v":0},{"$f":"'Professional Services'!D11","v":"00:00:00"},{"$f":"'Professional Services'!E11","v":0},{"$f":"'Professional Services'!F11","v":0},null,null,null,null,null,null,null,{"$f":"'Professional Services'!G11","v":0},null,null,{"$f":"'Professional Services'!H11","v":0}]
[{"$f":"'Academy or School Details'!$C$2","v":"Enter School URN here"},"",{"$f":"'Professional Services'!B12","v":0},{"$f":"'Professional Services'!C12","v":0},{"$f":"'Professional Services'!D12","v":"00:00:00"},{"$f":"'Professional Services'!E12","v":0},{"$f":"'Professional Services'!F12","v":0},null,null,null,null,null,null,null,{"$f":"'Professional Services'!G12","v":0},null,null,{"$f":"'Professional Services'!H12","v":0}]
[{"$f":"'Academy or School Details'!$C$2","v":"Enter School URN here"},"",{"$f":"'Professional Services'!B13","v":0},{"$f":"'Professional Services'!C13","v":0},{"$f":"'Professional Services'!D13","v":"00:00:00"},{"$f":"'Professional Services'!E13","v":0},{"$f":"'Professional Services'!F13","v":0},null,null,null,null,null,null,null,{"$f":"'Professional Services'!G13","v":0},null,null,{"$f":"'Professional Services'!H13","v":0}]
[{"$f":"'Academy or School Details'!$C$2","v":"Enter School URN here"},"",{"$f":"'Professional Services'!B14","v":0},{"$f":"'Professional Services'!C14","v":0},{"$f":"'Professional Services'!D14","v":"00:00:00"},{"$f":"'Professional Services'!E14","v":0},{"$f":"'Professional Services'!F14","v":0},null,null,null,null,null,null,null,{"$f":"'Professional Services'!G14","v":0},null,null,{"$f":"'Professional Services'!H14","v":0}]
[{"$f":"'Academy or School Details'!$C$2","v":"Enter School URN here"},"",{"$f":"'Professional Services'!B15","v":0},{"$f":"'Professional Services'!C15","v":0},{"$f":"'Professional Services'!D15","v":"00:00:00"},{"$f":"'Professional Services'!E15","v":0},{"$f":"'Professional Services'!F15","v":0},null,null,null,null,null,null,null,{"$f":"'Professional Services'!G15","v":0},null,null,{"$f":"'Professional Services'!H15","v":0}]
[{"$f":"'Academy or School Details'!$C$2","v":"Enter School URN here"},"",{"$f":"'Professional Services'!B16","v":0},{"$f":"'Professional Services'!C16","v":0},{"$f":"'Professional Services'!D16","v":"00:00:00"},{"$f":"'Professional Services'!E16","v":0},{"$f":"'Professional Services'!F16","v":0},null,null,null,null,null,null,null,{"$f":"'Professional Services'!G16","v":0},null,null,{"$f":"'Professional Services'!H16","v":0}]
[{"$f":"'Academy or School Details'!$C$2","v":"Enter School URN here"},"",{"$f":"'Professional Services'!B17","v":0},{"$f":"'Professional Services'!C17","v":0},{"$f":"'Professional Services'!D17","v":"00:00:00"},{"$f":"'Professional Services'!E17","v":0},{"$f":"'Professional Services'!F17","v":0},null,null,null,null,null,null,null,{"$f":"'Professional Services'!G17","v":0},null,null,{"$f":"'Professional Services'!H17","v":0}]
[{"$f":"'Academy or School Details'!$C$2","v":"Enter School URN here"},"",{"$f":"'Professional Services'!B18","v":0},{"$f":"'Professional Services'!C18","v":0},{"$f":"'Professional Services'!D18","v":"00:00:00"},{"$f":"'Professional Services'!E18","v":0},{"$f":"'Professional Services'!F18","v":0},null,null,null,null,null,null,null,{"$f":"'Professional Services'!G18","v":0},null,null,{"$f":"'Professional Services'!H18","v":0}]
[{"$f":"'Academy or School Details'!$C$2","v":"Enter School URN here"},"",{"$f":"'Professional Services'!B19","v":0},{"$f":"'Professional Services'!C19","v":0},{"$f":"'Professional Services'!D19","v":"00:00:00"},{"$f":"'Professional Services'!E19","v":0},{"$f":"'Professional Services'!F19","v":0},null,null,null,null,null,null,null,{"$f":"'Professional Services'!G19","v":0},null,null,{"$f":"'Professional Services'!H19","v":0}]
[{"$f":"'Academy or School Details'!$C$2","v":"Enter School URN here"},"",{"$f":"'Professional Services'!B20","v":0},{"$f":"'Professional Services'!C20","v":0},{"$f":"'Professional Services'!D20","v":"00:00:00"},{"$f":"'Professional Services'!E20","v":0},{"$f":"'Professional Services'!F20","v":0},null,null,null,null,null,null,null,{"$f":"'Professional Services'!G20","v":0},null,null,{"$f":"'Professional Services'!H20","v":0}]
[{"$f":"'Academy or School Details'!$C$2","v":"Enter School URN here"},"",{"$f":"'Professional Services'!B21","v":0},{"$f":"'Professional Services'!C21","v":0},{"$f":"'Professional Services'!D21","v":"00:00:00"},{"$f":"'Professional Services'!E21","v":0},{"$f":"'Professional Services'!F21","v":0},null,null,null,null,null,null,null,{"$f":"'Professional Services'!G21","v":0},null,null,{"$f":"'Professional Services'!H21","v":0}]
[{"$f":"'Academy or School Details'!$C$2","v":"Enter School URN here"},"",{"$f":"'Professional Services'!B22","v":0},{"$f":"'Professional Services'!C22","v":0},{"$f":"'Professional Services'!D22","v":"00:00:00"},{"$f":"'Professional Services'!E22","v":0},{"$f":"'Professional Services'!F22","v":0},null,null,null,null,null,null,null,{"$f":"'Professional Services'!G22","v":0},null,null,{"$f":"'Professional Services'!H22","v":0}]
[{"$f":"'Academy or School Details'!$C$2","v":"Enter School URN here"},"",{"$f":"'Professional Services'!B23","v":0},{"$f":"'Professional Services'!C23","v":0},{"$f":"'Professional Services'!D23","v":"00:00:00"},{"$f":"'Professional Services'!E23","v":0},{"$f":"'Professional Services'!F23","v":0},null,null,null,null,null,null,null,{"$f":"'Professional Services'!G23","v":0},null,null,{"$f":"'Professional Services'!H23","v":0}]
[{"$f":"'Academy or School Details'!$C$2","v":"Enter School URN here"},"",{"$f":"'Professional Services'!B24","v":0},{"$f":"'Professional Services'!C24","v":0},{"$f":"'Professional Services'!D24","v":"00:00:00"},{"$f":"'Professional Services'!E24","v":0},{"$f":"'Professional Services'!F24","v":0},null,null,null,null,null,null,null,{"$f":"'Professional Services'!G24","v":0},null,null,{"$f":"'Professional Services'!H24","v":0}]
[{"$f":"'Academy or School Details'!$C$2","v":"Enter School URN here"},"",{"$f":"'Professional Services'!B25","v":0},{"$f":"'Professional Services'!C25","v":0},{"$f":"'Professional Services'!D25","v":"00:00:00"},{"$f":"'Professional Services'!E25","v":0},{"$f":"'Professional Services'!F25","v":0},null,null,null,null,null,null,null,{"$f":"'Professional Services'!G25","v":0},null,null,{"$f":"'Professional Services'!H25","v":0}]
[{"$f":"'Academy or School Details'!$C$2","v":"Enter School URN here"},"",{"$f":"'Professional Services'!B26","v":0},{"$f":"'Professional Services'!C26","v":0},{"$f":"'Professional Services'!D26","v":"00:00:00"},{"$f":"'Professional Services'!E26","v":0},{"$f":"'Professional Services'!F26","v":0},null,null,null,null,null,null,null,{"$f":"'Professional Services'!G26","v":0},null,null,{"$f":"'Professional Services'!H26","v":0}]
[{"$f":"'Academy or School Details'!$C$2","v":"Enter School URN here"},"",{"$f":"'Professional Services'!B27","v":0},{"$f":"'Professional Services'!C27","v":0},{"$f":"'Professional Services'!D27","v":"00:00:00"},{"$f":"'Professional Services'!E27","v":0},{"$f":"'Professional Services'!F27","v":0},null,null,null,null,null,null,null,{"$f":"'Professional Services'!G27","v":0},null,null,{"$f":"'Professional Services'!H27","v":0}]
[{"$f":"'Academy or School Details'!$C$2","v":"Enter School URN here"},"",{"$f":"'Professional Services'!B28","v":0},{"$f":"'Professional Services'!C28","v":0},{"$f":"'Professional Services'!D28","v":"00:00:00"},{"$f":"'Professional Services'!E28","v":0},{"$f":"'Professional Services'!F28","v":0},null,null,null,null,null,null,null,{"$f":"'Professional Services'!G28","v":0},null,null,{"$f":"'Professional Services'!H28","v":0}]
[{"$f":"'Academy or School Details'!$C$2","v":"Enter School URN here"},"",{"$f":"'Professional Services'!B29","v":0},{"$f":"'Professional Services'!C29","v":0},{"$f":"'Professional Services'!D29","v":"00:00:00"},{"$f":"'Professional Services'!E29","v":0},{"$f":"'Professional Services'!F29","v":0},null,null,null,null,null,null,null,{"$f":"'Professional Services'!G29","v":0},null,null,{"$f":"'Professional Services'!H29","v":0}]
[{"$f":"'Academy or School Details'!$C$2","v":"Enter School URN here"},"",{"$f":"'Professional Services'!B30","v":0},{"$f":"'Professional Services'!C30","v":0},{"$f":"'Professional Services'!D30","v":"00:00:00"},{"$f":"'Professional Services'!E30","v":0},{"$f":"'Professional Services'!F30","v":0},null,null,null,null,null,null,null,{"$f":"'Professional Services'!G30","v":0},null,null,{"$f":"'Professional Services'!H30","v":0}]
[{"$f":"'Academy or School Details'!$C$2","v":"Enter School URN here"},"",{"$f":"'Professional Services'!B31","v":0},{"$f":"'Professional Services'!C31","v":0},{"$f":"'Professional Services'!D31","v":"00:00:00"},{"$f":"'Professional Services'!E31","v":0},{"$f":"'Professional Services'!F31","v":0},null,null,null,null,null,null,null,{"$f":"'Professional Services'!G31","v":0},null,null,{"$f":"'Professional Services'!H31","v":0}]
[{"$f":"'Academy or School Details'!$C$2","v":"Enter School URN here"},"",{"$f":"'Professional Services'!B32","v":0},{"$f":"'Professional Services'!C32","v":0},{"$f":"'Professional Services'!D32","v":"00:00:00"},{"$f":"'Professional Services'!E32","v":0},{"$f":"'Professional Services'!F32","v":0},null,null,null,null,null,null,null,{"$f":"'Professional Services'!G32","v":0},null,null,{"$f":"'Professional Services'!H32","v":0}]
[{"$f":"'Academy or School Details'!$C$2","v":"Enter School URN here"},"",{"$f":"'Professional Services'!B33","v":0},{"$f":"'Professional Services'!C33","v":0},{"$f":"'Professional Services'!D33","v":"00:00:00"},{"$f":"'Professional Services'!E33","v":0},{"$f":"'Professional Services'!F33","v":0},null,null,null,null,null,null,null,{"$f":"'Professional Services'!G33","v":0},null,null,{"$f":"'Professional Services'!H33","v":0}]
[{"$f":"'Academy or School Details'!$C$2","v":"Enter School URN here"},"",{"$f":"'Professional Services'!B34","v":0},{"$f":"'Professional Services'!C34","v":0},{"$f":"'Professional Services'!D34","v":"00:00:00"},{"$f":"'Professional Services'!E34","v":0},{"$f":"'Professional Services'!F34","v":0},null,null,null,null,null,null,null,{"$f":"'Professional Services'!G34","v":0},null,null,{"$f":"'Professional Services'!H34","v":0}]
[{"$f":"'Academy or School Details'!$C$2","v":"Enter School URN here"},"",{"$f":"'Professional Services'!B35","v":0},{"$f":"'Professional Services'!C35","v":0},{"$f":"'Professional Services'!D35","v":"00:00:00"},{"$f":"'Professional Services'!E35","v":0},{"$f":"'Professional Services'!F35","v":0},null,null,null,null,null,null,null,{"$f":"'Professional Services'!G35","v":0},null,null,{"$f":"'Professional Services'!H35","v":0}]
[{"$f":"'Academy or School Details'!$C$2","v":"Enter School URN here"},"",{"$f":"'Professional Services'!B36","v":0},{"$f":"'Professional Services'!C36","v":0},{"$f":"'Professional Services'!D36","v":"00:00:00"},{"$f":"'Professional Services'!E36","v":0},{"$f":"'Professional Services'!F36","v":0},null,null,null,null,null,null,null,{"$f":"'Professional Services'!G36","v":0},null,null,{"$f":"'Professional Services'!H36","v":0}]
[{"$f":"'Academy or School Details'!$C$2","v":"Enter School URN here"},"",{"$f":"'Professional Services'!B37","v":0},{"$f":"'Professional Services'!C37","v":0},{"$f":"'Professional Services'!D37","v":"00:00:00"},{"$f":"'Professional Services'!E37","v":0},{"$f":"'Professional Services'!F37","v":0},null,null,null,null,null,null,null,{"$f":"'Professional Services'!G37","v":0},null,null,{"$f":"'Professional Services'!H37","v":0}]
[{"$f":"'Academy or School Details'!$C$2","v":"Enter School URN here"},"",{"$f":"'Professional Services'!B38","v":0},{"$f":"'Professional Services'!C38","v":0},{"$f":"'Professional Services'!D38","v":"00:00:00"},{"$f":"'Professional Services'!E38","v":0},{"$f":"'Professional Services'!F38","v":0},null,null,null,null,null,null,null,{"$f":"'Professional Services'!G38","v":0},null,null,{"$f":"'Professional Services'!H38","v":0}]
[{"$f":"'Academy or School Details'!$C$2","v":"Enter School URN here"},"",{"$f":"'Professional Services'!B39","v":0},{"$f":"'Professional Services'!C39","v":0},{"$f":"'Professional Services'!D39","v":"00:00:00"},{"$f":"'Professional Services'!E39","v":0},{"$f":"'Professional Services'!F39","v":0},null,null,null,null,null,null,null,{"$f":"'Professional Services'!G39","v":0},null,null,{"$f":"'Professional Services'!H39","v":0}]
[{"$f":"'Academy or School Details'!$C$2","v":"Enter School URN here"},"",{"$f":"'Professional Services'!B40","v":0},{"$f":"'Professional Services'!C40","v":0},{"$f":"'Professional Services'!D40","v":"00:00:00"},{"$f":"'Professional Services'!E40","v":0},{"$f":"'Professional Services'!F40","v":0},null,null,null,null,null,null,null,{"$f":"'Professional Services'!G40","v":0},null,null,{"$f":"'Professional Services'!H40","v":0}]
[{"$f":"'Academy or School Details'!$C$2","v":"Enter School URN here"},"",{"$f":"'Professional Services'!B41","v":0},{"$f":"'Professional Services'!C41","v":0},{"$f":"'Professional Services'!D41","v":"00:00:00"},{"$f":"'Professional Services'!E41","v":0},{"$f":"'Professional Services'!F41","v":0},null,null,null,null,null,null,null,{"$f":"'Professional Services'!G41","v":0},null,null,{"$f":"'Professional Services'!H41","v":0}]
[{"$f":"'Academy or School Details'!$C$2","v":"Enter School URN here"},"",{"$f":"'Professional Services'!B42","v":0},{"$f":"'Professional Services'!C42","v":0},{"$f":"'Professional Services'!D42","v":"00:00:00"},{"$f":"'Professional Services'!E42","v":0},{"$f":"'Professional Services'!F42","v":0},null,null,null,null,null,null,null,{"$f":"'Professional Services'!G42","v":0},null,null,{"$f":"'Professional Services'!H42","v":0}]
[{"$f":"'Academy or School Details'!$C$2","v":"Enter School URN here"},"",{"$f":"'Professional Services'!B43","v":0},{"$f":"'Professional Services'!C43","v":0},{"$f":"'Professional Services'!D43","v":"00:00:00"},{"$f":"'Professional Services'!E43","v":0},{"$f":"'Professional Services'!F43","v":0},null,null,null,null,null,null,null,{"$f":"'Professional Services'!G43","v":0},null,null,{"$f":"'Professional Services'!H43","v":0}]
[{"$f":"'Academy or School Details'!$C$2","v":"Enter School URN here"},"",{"$f":"'Professional Services'!B44","v":0},{"$f":"'Professional Services'!C44","v":0},{"$f":"'Professional Services'!D44","v":"00:00:00"},{"$f":"'Professional Services'!E44","v":0},{"$f":"'Professional Services'!F44","v":0},null,null,null,null,null,null,null,{"$f":"'Professional Services'!G44","v":0},null,null,{"$f":"'Professional Services'!H44","v":0}]
[{"$f":"'Academy or School Details'!$C$2","v":"Enter School URN here"},{"$f":"IF(C63=0,\"\",\"Soft_Hardware solutions\")","v":""},{"$f":"'Professional Services'!B45","v":0},{"$f":"'Professional Services'!C45","v":0},{"$f":"'Professional Services'!D45","v":"00:00:00"},{"$f":"'Professional Services'!E45","v":0},{"$f":"'Professional Services'!F45","v":0},null,null,null,null,null,null,null,{"$f":"'Professional Services'!G45","v":0},null,null,{"$f":"'Professional Services'!H45","v":0}]
[{"$f":"'Academy or School Details'!$C$2","v":"Enter School URN here"},{"$f":"IF(C64=0,\"\",\"Soft_Hardware solutions\")","v":"Soft_Hardware solutions"},{"$f":"'Soft_Hardware solutions'!B4","v":"Budget Management Software"},{"$f":"'Soft_Hardware solutions'!C4","v":0},{"$f":"'Soft_Hardware solutions'!D4","v":"00:00:00"},{"$f":"'Soft_Hardware solutions'!E4","v":0},{"$f":"'Soft_Hardware solutions'!F4","v":0},null,null,null,null,null,null,null,{"$f":"'Soft_Hardware solutions'!G4","v":0},null,null,{"$f":"'Soft_Hardware solutions'!H3","v":0}]
[{"$f":"'Academy or School Details'!$C$2","v":"Enter School URN here"},"Soft_Hardware solutions",{"$f":"'Soft_Hardware solutions'!B5","v":"Administrative hardware"},{"$f":"'Soft_Hardware solutions'!C5","v":0},{"$f":"'Soft_Hardware solutions'!D5","v":"00:00:00"},{"$f":"'Soft_Hardware solutions'!E5","v":0},{"$f":"'Soft_Hardware solutions'!F5","v":0},null,null,null,null,null,null,null,{"$f":"'Soft_Hardware solutions'!G5","v":0},null,null,{"$f":"'Soft_Hardware solutions'!H4","v":0}]
[{"$f":"'Academy or School Details'!$C$2","v":"Enter School URN here"},"Soft_Hardware solutions",{"$f":"'Soft_Hardware solutions'!B6","v":"Curriculum hardware"},{"$f":"'Soft_Hardware solutions'!C6","v":0},{"$f":"'Soft_Hardware solutions'!D6","v":"00:00:00"},{"$f":"'Soft_Hardware solutions'!E6","v":0},{"$f":"'Soft_Hardware solutions'!F6","v":0},null,null,null,null,null,null,null,{"$f":"'Soft_Hardware solutions'!G6","v":0},null,null,{"$f":"'Soft_Hardware solutions'!H5","v":0}]
[{"$f":"'Academy or School Details'!$C$2","v":"Enter School URN here"},"Soft_Hardware solutions",{"$f":"'Soft_Hardware solutions'!B7","v":"Network hardware"},{"$f":"'Soft_Hardware solutions'!C7","v":0},{"$f":"'Soft_Hardware solutions'!D7","v":"00:00:00"},{"$f":"'Soft_Hardware solutions'!E7","v":0},{"$f":"'Soft_Hardware solutions'!F7","v":0},null,null,null,null,null,null,null,{"$f":"'Soft_Hardware solutions'!G7","v":0},null,null,{"$f":"'Soft_Hardware solutions'!H6","v":0}]
[{"$f":"'Academy or School Details'!$C$2","v":"Enter School URN here"},"Soft_Hardware solutions",{"$f":"'Soft_Hardware solutions'!B8","v":"Software Curiculum"},{"$f":"'Soft_Hardware solutions'!C8","v":0},{"$f":"'Soft_Hardware solutions'!D8","v":"00:00:00"},{"$f":"'Soft_Hardware solutions'!E8","v":0},{"$f":"'Soft_Hardware solutions'!F8","v":0},null,null,null,null,null,null,null,{"$f":"'Soft_Hardware solutions'!G8","v":0},null,null,{"$f":"'Soft_Hardware solutions'!H7","v":0}]
[{"$f":"'Academy or School Details'!$C$2","v":"Enter School URN here"},"Soft_Hardware solutions",{"$f":"'Soft_Hardware solutions'!B9","v":"Software administrative"},{"$f":"'Soft_Hardware solutions'!C9","v":0},{"$f":"'Soft_Hardware solutions'!D9","v":"00:00:00"},{"$f":"'Soft_Hardware solutions'!E9","v":0},{"$f":"'Soft_Hardware solutions'!F9","v":0},null,null,null,null,null,null,null,{"$f":"'Soft_Hardware solutions'!G9","v":0},null,null,{"$f":"'Soft_Hardware solutions'!H8","v":0}]
[{"$f":"'Academy or School Details'!$C$2","v":"Enter School URN here"},"Soft_Hardware solutions",{"$f":"'Soft_Hardware solutions'!B10","v":"Management Info systems staff"},{"$f":"'Soft_Hardware solutions'!C10","v":0},{"$f":"'Soft_Hardware solutions'!D10","v":"00:00:00"},{"$f":"'Soft_Hardware solutions'!E10","v":0},{"$f":"'Soft_Hardware solutions'!F10","v":0},null,null,null,null,null,null,null,{"$f":"'Soft_Hardware solutions'!G10","v":0},null,null,{"$f":"'Soft_Hardware solutions'!H9","v":0}]
[{"$f":"'Academy or School Details'!$C$2","v":"Enter School URN here"},"Soft_Hardware solutions",{"$f":"'Soft_Hardware solutions'!B11","v":"Management Info systems pupils"},{"$f":"'Soft_Hardware solutions'!C11","v":0},{"$f":"'Soft_Hardware solutions'!D11","v":"00:00:00"},{"$f":"'Soft_Hardware solutions'!E11","v":0},{"$f":"'Soft_Hardware solutions'!F11","v":0},null,null,null,null,null,null,null,{"$f":"'Soft_Hardware solutions'!G11","v":0},null,null,{"$f":"'Soft_Hardware solutions'!H10","v":0}]
[{"$f":"'Academy or School Details'!$C$2","v":"Enter School URN here"},"Soft_Hardware solutions",{"$f":"'Soft_Hardware solutions'!B12","v":"Timetable software"},{"$f":"'Soft_Hardware solutions'!C12","v":0},{"$f":"'Soft_Hardware solutions'!D12","v":"00:00:00"},{"$f":"'Soft_Hardware solutions'!E12","v":0},{"$f":"'Soft_Hardware solutions'!F12","v":0},null,null,null,null,null,null,null,{"$f":"'Soft_Hardware solutions'!G12","v":0},null,null,{"$f":"'Soft_Hardware solutions'!H11","v":0}]
[{"$f":"'Academy or School Details'!$C$2","v":"Enter School URN here"},"Soft_Hardware solutions",{"$f":"'Soft_Hardware solutions'!B13","v":"Cashless payments i.e parent pay"},{"$f":"'Soft_Hardware solutions'!C13","v":0},{"$f":"'Soft_Hardware solutions'!D13","v":"00:00:00"},{"$f":"'Soft_Hardware solutions'!E13","v":0},{"$f":"'Soft_Hardware solutions'!F13","v":0},null,null,null,null,null,null,null,{"$f":"'Soft_Hardware solutions'!G13","v":0},null,null,{"$f":"'Soft_Hardware solutions'!H12","v":0}]
[{"$f":"'Academy or School Details'!$C$2","v":"Enter School URN here"},"",{"$f":"'Soft_Hardware solutions'!B14","v":0},{"$f":"'Soft_Hardware solutions'!C14","v":0},{"$f":"'Soft_Hardware solutions'!D14","v":"00:00:00"},{"$f":"'Soft_Hardware solutions'!E14","v":0},{"$f":"'Soft_Hardware solutions'!F14","v":0},null,null,null,null,null,null,null,{"$f":"'Soft_Hardware solutions'!G14","v":0},null,null,{"$f":"'Soft_Hardware solutions'!H13","v":0}]
[{"$f":"'Academy or School Details'!$C$2","v":"Enter School URN here"},"",{"$f":"'Soft_Hardware solutions'!B15","v":0},{"$f":"'Soft_Hardware solutions'!C15","v":0},{"$f":"'Soft_Hardware solutions'!D15","v":"00:00:00"},{"$f":"'Soft_Hardware solutions'!E15","v":0},{"$f":"'Soft_Hardware solutions'!F15","v":0},null,null,null,null,null,null,null,{"$f":"'Soft_Hardware solutions'!G15","v":0},null,null,{"$f":"'Soft_Hardware solutions'!H14","v":0}]
[{"$f":"'Academy or School Details'!$C$2","v":"Enter School URN here"},"",{"$f":"'Soft_Hardware solutions'!B16","v":0},{"$f":"'Soft_Hardware solutions'!C16","v":0},{"$f":"'Soft_Hardware solutions'!D16","v":"00:00:00"},{"$f":"'Soft_Hardware solutions'!E16","v":0},{"$f":"'Soft_Hardware solutions'!F16","v":0},null,null,null,null,null,null,null,{"$f":"'Soft_Hardware solutions'!G16","v":0},null,null,{"$f":"'Soft_Hardware solutions'!H15","v":0}]
[{"$f":"'Academy or School Details'!$C$2","v":"Enter School URN here"},"",{"$f":"'Soft_Hardware solutions'!B17","v":0},{"$f":"'Soft_Hardware solutions'!C17","v":0},{"$f":"'Soft_Hardware solutions'!D17","v":"00:00:00"},{"$f":"'Soft_Hardware solutions'!E17","v":0},{"$f":"'Soft_Hardware solutions'!F17","v":0},null,null,null,null,null,null,null,{"$f":"'Soft_Hardware solutions'!G17","v":0},null,null,{"$f":"'Soft_Hardware solutions'!H16","v":0}]
[{"$f":"'Academy or School Details'!$C$2","v":"Enter School URN here"},"",{"$f":"'Soft_Hardware solutions'!B18","v":0},{"$f":"'Soft_Hardware solutions'!C18","v":0},{"$f":"'Soft_Hardware solutions'!D18","v":"00:00:00"},{"$f":"'Soft_Hardware solutions'!E18","v":0},{"$f":"'Soft_Hardware solutions'!F18","v":0},null,null,null,null,null,null,null,{"$f":"'Soft_Hardware solutions'!G18","v":0},null,null,{"$f":"'Soft_Hardware solutions'!H17","v":0}]
[{"$f":"'Academy or School Details'!$C$2","v":"Enter School URN here"},"",{"$f":"'Soft_Hardware solutions'!B19","v":0},{"$f":"'Soft_Hardware solutions'!C19","v":0},{"$f":"'Soft_Hardware solutions'!D19","v":"00:00:00"},{"$f":"'Soft_Hardware solutions'!E19","v":0},{"$f":"'Soft_Hardware solutions'!F19","v":0},null,null,null,null,null,null,null,{"$f":"'Soft_Hardware solutions'!G19","v":0},null,null,{"$f":"'Soft_Hardware solutions'!H18","v":0}]
[{"$f":"'Academy or School Details'!$C$2","v":"Enter School URN here"},"",{"$f":"'Soft_Hardware solutions'!B20","v":0},{"$f":"'Soft_Hardware solutions'!C20","v":0},{"$f":"'Soft_Hardware solutions'!D20","v":"00:00:00"},{"$f":"'Soft_Hardware solutions'!E20","v":0},{"$f":"'Soft_Hardware solutions'!F20","v":0},null,null,null,null,null,null,null,{"$f":"'Soft_Hardware solutions'!G20","v":0},null,null,{"$f":"'Soft_Hardware solutions'!H19","v":0}]
[{"$f":"'Academy or School Details'!$C$2","v":"Enter School URN here"},"",{"$f":"'Soft_Hardware solutions'!B21","v":0},{"$f":"'Soft_Hardware solutions'!C21","v":0},{"$f":"'Soft_Hardware solutions'!D21","v":"00:00:00"},{"$f":"'Soft_Hardware solutions'!E21","v":0},{"$f":"'Soft_Hardware solutions'!F21","v":0},null,null,null,null,null,null,null,{"$f":"'Soft_Hardware solutions'!G21","v":0},null,null,{"$f":"'Soft_Hardware solutions'!H20","v":0}]
[{"$f":"'Academy or School Details'!$C$2","v":"Enter School URN here"},"",{"$f":"'Soft_Hardware solutions'!B22","v":0},{"$f":"'Soft_Hardware solutions'!C22","v":0},{"$f":"'Soft_Hardware solutions'!D22","v":"00:00:00"},{"$f":"'Soft_Hardware solutions'!E22","v":0},{"$f":"'Soft_Hardware solutions'!F22","v":0},null,null,null,null,null,null,null,{"$f":"'Soft_Hardware solutions'!G22","v":0},null,null,{"$f":"'Soft_Hardware solutions'!H21","v":0}]
[{"$f":"'Academy or School Details'!$C$2","v":"Enter School URN here"},"",{"$f":"'Soft_Hardware solutions'!B23","v":0},{"$f":"'Soft_Hardware solutions'!C23","v":0},{"$f":"'Soft_Hardware solutions'!D23","v":"00:00:00"},{"$f":"'Soft_Hardware solutions'!E23","v":0},{"$f":"'Soft_Hardware solutions'!F23","v":0},null,null,null,null,null,null,null,{"$f":"'Soft_Hardware solutions'!G23","v":0},null,null,{"$f":"'Soft_Hardware solutions'!H22","v":0}]
[{"$f":"'Academy or School Details'!$C$2","v":"Enter School URN here"},"",{"$f":"'Soft_Hardware solutions'!B24","v":0},{"$f":"'Soft_Hardware solutions'!C24","v":0},{"$f":"'Soft_Hardware solutions'!D24","v":"00:00:00"},{"$f":"'Soft_Hardware solutions'!E24","v":0},{"$f":"'Soft_Hardware solutions'!F24","v":0},null,null,null,null,null,null,null,{"$f":"'Soft_Hardware solutions'!G24","v":0},null,null,{"$f":"'Soft_Hardware solutions'!H23","v":0}]
[{"$f":"'Academy or School Details'!$C$2","v":"Enter School URN here"},"",{"$f":"'Soft_Hardware solutions'!B25","v":0},{"$f":"'Soft_Hardware solutions'!C25","v":0},{"$f":"'Soft_Hardware solutions'!D25","v":"00:00:00"},{"$f":"'Soft_Hardware solutions'!E25","v":0},{"$f":"'Soft_Hardware solutions'!F25","v":0},null,null,null,null,null,null,null,{"$f":"'Soft_Hardware solutions'!G25","v":0},null,null,{"$f":"'Soft_Hardware solutions'!H24","v":0}]
[{"$f":"'Academy or School Details'!$C$2","v":"Enter School URN here"},"",{"$f":"'Soft_Hardware solutions'!B26","v":0},{"$f":"'Soft_Hardware solutions'!C26","v":0},{"$f":"'Soft_Hardware solutions'!D26","v":"00:00:00"},{"$f":"'Soft_Hardware solutions'!E26","v":0},{"$f":"'Soft_Hardware solutions'!F26","v":0},null,null,null,null,null,null,null,{"$f":"'Soft_Hardware solutions'!G26","v":0},null,null,{"$f":"'Soft_Hardware solutions'!H25","v":0}]
[{"$f":"'Academy or School Details'!$C$2","v":"Enter School URN here"},"",{"$f":"'Soft_Hardware solutions'!B27","v":0},{"$f":"'Soft_Hardware solutions'!C27","v":0},{"$f":"'Soft_Hardware solutions'!D27","v":"00:00:00"},{"$f":"'Soft_Hardware solutions'!E27","v":0},{"$f":"'Soft_Hardware solutions'!F27","v":0},null,null,null,null,null,null,null,{"$f":"'Soft_Hardware solutions'!G27","v":0},null,null,{"$f":"'Soft_Hardware solutions'!H26","v":0}]
[{"$f":"'Academy or School Details'!$C$2","v":"Enter School URN here"},"",{"$f":"'Soft_Hardware solutions'!B28","v":0},{"$f":"'Soft_Hardware solutions'!C28","v":0},{"$f":"'Soft_Hardware solutions'!D28","v":"00:00:00"},{"$f":"'Soft_Hardware solutions'!E28","v":0},{"$f":"'Soft_Hardware solutions'!F28","v":0},null,null,null,null,null,null,null,{"$f":"'Soft_Hardware solutions'!G28","v":0},null,null,{"$f":"'Soft_Hardware solutions'!H27","v":0}]
[{"$f":"'Academy or School Details'!$C$2","v":"Enter School URN here"},"",{"$f":"'Soft_Hardware solutions'!B29","v":0},{"$f":"'Soft_Hardware solutions'!C29","v":0},{"$f":"'Soft_Hardware solutions'!D29","v":"00:00:00"},{"$f":"'Soft_Hardware solutions'!E29","v":0},{"$f":"'Soft_Hardware solutions'!F29","v":0},null,null,null,null,null,null,null,{"$f":"'Soft_Hardware solutions'!G29","v":0},null,null,{"$f":"'Soft_Hardware solutions'!H28","v":0}]
[{"$f":"'Academy or School Details'!$C$2","v":"Enter School URN here"},"",{"$f":"'Soft_Hardware solutions'!B30","v":0},{"$f":"'Soft_Hardware solutions'!C30","v":0},{"$f":"'Soft_Hardware solutions'!D30","v":"00:00:00"},{"$f":"'Soft_Hardware solutions'!E30","v":0},{"$f":"'Soft_Hardware solutions'!F30","v":0},null,null,null,null,null,null,null,{"$f":"'Soft_Hardware solutions'!G30","v":0},null,null,{"$f":"'Soft_Hardware solutions'!H29","v":0}]
[{"$f":"'Academy or School Details'!$C$2","v":"Enter School URN here"},"",{"$f":"'Soft_Hardware solutions'!B31","v":0},{"$f":"'Soft_Hardware solutions'!C31","v":0},{"$f":"'Soft_Hardware solutions'!D31","v":"00:00:00"},{"$f":"'Soft_Hardware solutions'!E31","v":0},{"$f":"'Soft_Hardware solutions'!F31","v":0},null,null,null,null,null,null,null,{"$f":"'Soft_Hardware solutions'!G31","v":0},null,null,{"$f":"'Soft_Hardware solutions'!H30","v":0}]
[{"$f":"'Academy or School Details'!$C$2","v":"Enter School URN here"},"",{"$f":"'Soft_Hardware solutions'!B32","v":0},{"$f":"'Soft_Hardware solutions'!C32","v":0},{"$f":"'Soft_Hardware solutions'!D32","v":"00:00:00"},{"$f":"'Soft_Hardware solutions'!E32","v":0},{"$f":"'Soft_Hardware solutions'!F32","v":0},null,null,null,null,null,null,null,{"$f":"'Soft_Hardware solutions'!G32","v":0},null,null,{"$f":"'Soft_Hardware solutions'!H31","v":0}]
[{"$f":"'Academy or School Details'!$C$2","v":"Enter School URN here"},"",{"$f":"'Soft_Hardware solutions'!B33","v":0},{"$f":"'Soft_Hardware solutions'!C33","v":0},{"$f":"'Soft_Hardware solutions'!D33","v":"00:00:00"},{"$f":"'Soft_Hardware solutions'!E33","v":0},{"$f":"'Soft_Hardware solutions'!F33","v":0},null,null,null,null,null,null,null,{"$f":"'Soft_Hardware solutions'!G33","v":0},null,null,{"$f":"'Soft_Hardware solutions'!H32","v":0}]
[{"$f":"'Academy or School Details'!$C$2","v":"Enter School URN here"},"",{"$f":"'Soft_Hardware solutions'!B34","v":0},{"$f":"'Soft_Hardware solutions'!C34","v":0},{"$f":"'Soft_Hardware solutions'!D34","v":"00:00:00"},{"$f":"'Soft_Hardware solutions'!E34","v":0},{"$f":"'Soft_Hardware solutions'!F34","v":0},null,null,null,null,null,null,null,{"$f":"'Soft_Hardware solutions'!G34","v":0},null,null,{"$f":"'Soft_Hardware solutions'!H33","v":0}]
[{"$f":"'Academy or School Details'!$C$2","v":"Enter School URN here"},"",{"$f":"'Soft_Hardware solutions'!B35","v":0},{"$f":"'Soft_Hardware solutions'!C35","v":0},{"$f":"'Soft_Hardware solutions'!D35","v":"00:00:00"},{"$f":"'Soft_Hardware solutions'!E35","v":0},{"$f":"'Soft_Hardware solutions'!F35","v":0},null,null,null,null,null,null,null,{"$f":"'Soft_Hardware solutions'!G35","v":0},null,null,{"$f":"'Soft_Hardware solutions'!H34","v":0}]
[{"$f":"'Academy or School Details'!$C$2","v":"Enter School URN here"},"",{"$f":"'Soft_Hardware solutions'!B36","v":0},{"$f":"'Soft_Hardware solutions'!C36","v":0},{"$f":"'Soft_Hardware solutions'!D36","v":"00:00:00"},{"$f":"'Soft_Hardware solutions'!E36","v":0},{"$f":"'Soft_Hardware solutions'!F36","v":0},null,null,null,null,null,null,null,{"$f":"'Soft_Hardware solutions'!G36","v":0},null,null,{"$f":"'Soft_Hardware solutions'!H35","v":0}]
[{"$f":"'Academy or School Details'!$C$2","v":"Enter School URN here"},"",{"$f":"'Soft_Hardware solutions'!B37","v":0},{"$f":"'Soft_Hardware solutions'!C37","v":0},{"$f":"'Soft_Hardware solutions'!D37","v":"00:00:00"},{"$f":"'Soft_Hardware solutions'!E37","v":0},{"$f":"'Soft_Hardware solutions'!F37","v":0},null,null,null,null,null,null,null,{"$f":"'Soft_Hardware solutions'!G37","v":0},null,null,{"$f":"'Soft_Hardware solutions'!H36","v":0}]
[{"$f":"'Academy or School Details'!$C$2","v":"Enter School URN here"},"",{"$f":"'Soft_Hardware solutions'!B38","v":0},{"$f":"'Soft_Hardware solutions'!C38","v":0},{"$f":"'Soft_Hardware solutions'!D38","v":"00:00:00"},{"$f":"'Soft_Hardware solutions'!E38","v":0},{"$f":"'Soft_Hardware solutions'!F38","v":0},null,null,null,null,null,null,null,{"$f":"'Soft_Hardware solutions'!G38","v":0},null,null,{"$f":"'Soft_Hardware solutions'!H37","v":0}]
[{"$f":"'Academy or School Details'!$C$2","v":"Enter School URN here"},"",{"$f":"'Soft_Hardware solutions'!B39","v":0},{"$f":"'Soft_Hardware solutions'!C39","v":0},{"$f":"'Soft_Hardware solutions'!D39","v":"00:00:00"},{"$f":"'Soft_Hardware solutions'!E39","v":0},{"$f":"'Soft_Hardware solutions'!F39","v":0},null,null,null,null,null,null,null,{"$f":"'Soft_Hardware solutions'!G39","v":0},null,null,{"$f":"'Soft_Hardware solutions'!H38","v":0}]
[{"$f":"'Academy or School Details'!$C$2","v":"Enter School URN here"},"",{"$f":"'Soft_Hardware solutions'!B40","v":0},{"$f":"'Soft_Hardware solutions'!C40","v":0},{"$f":"'Soft_Hardware solutions'!D40","v":"00:00:00"},{"$f":"'Soft_Hardware solutions'!E40","v":0},{"$f":"'Soft_Hardware solutions'!F40","v":0},null,null,null,null,null,null,null,{"$f":"'Soft_Hardware solutions'!G40","v":0},null,null,{"$f":"'Soft_Hardware solutions'!H39","v":0}]
[{"$f":"'Academy or School Details'!$C$2","v":"Enter School URN here"},"",{"$f":"'Soft_Hardware solutions'!B41","v":0},{"$f":"'Soft_Hardware solutions'!C41","v":0},{"$f":"'Soft_Hardware solutions'!D41","v":"00:00:00"},{"$f":"'Soft_Hardware solutions'!E41","v":0},{"$f":"'Soft_Hardware solutions'!F41","v":0},null,null,null,null,null,null,null,{"$f":"'Soft_Hardware solutions'!G41","v":0},null,null,{"$f":"'Soft_Hardware solutions'!H40","v":0}]
[{"$f":"'Academy or School Details'!$C$2","v":"Enter School URN here"},"",{"$f":"'Soft_Hardware solutions'!B42","v":0},{"$f":"'Soft_Hardware solutions'!C42","v":0},{"$f":"'Soft_Hardware solutions'!D42","v":"00:00:00"},{"$f":"'Soft_Hardware solutions'!E42","v":0},{"$f":"'Soft_Hardware solutions'!F42","v":0},null,null,null,null,null,null,null,{"$f":"'Soft_Hardware solutions'!G42","v":0},null,null,{"$f":"'Soft_Hardware solutions'!H41","v":0}]
[{"$f":"'Academy or School Details'!$C$2","v":"Enter School URN here"},"",{"$f":"'Soft_Hardware solutions'!B43","v":0},{"$f":"'Soft_Hardware solutions'!C43","v":0},{"$f":"'Soft_Hardware solutions'!D43","v":"00:00:00"},{"$f":"'Soft_Hardware solutions'!E43","v":0},{"$f":"'Soft_Hardware solutions'!F43","v":0},null,null,null,null,null,null,null,{"$f":"'Soft_Hardware solutions'!G43","v":0},null,null,{"$f":"'Soft_Hardware solutions'!H42","v":0}]
[{"$f":"'Academy or School Details'!$C$2","v":"Enter School URN here"},"",{"$f":"'Soft_Hardware solutions'!B44","v":0},{"$f":"'Soft_Hardware solutions'!C44","v":0},{"$f":"'Soft_Hardware solutions'!D44","v":"00:00:00"},{"$f":"'Soft_Hardware solutions'!E44","v":0},{"$f":"'Soft_Hardware solutions'!F44","v":0},null,null,null,null,null,null,null,{"$f":"'Soft_Hardware solutions'!G44","v":0},null,null,{"$f":"'Soft_Hardware solutions'!H43","v":0}]
[{"$f":"'Academy or School Details'!$C$2","v":"Enter School URN here"},"",{"$f":"'Soft_Hardware solutions'!B45","v":0},{"$f":"'Soft_Hardware solutions'!C45","v":0},{"$f":"'Soft_Hardware solutions'!D45","v":"00:00:00"},{"$f":"'Soft_Hardware solutions'!E45","v":0},{"$f":"'Soft_Hardware solutions'!F45","v":0},null,null,null,null,null,null,null,{"$f":"'Soft_Hardware solutions'!G45","v":0},null,null,{"$f":"'Soft_Hardware solutions'!H44","v":0}]
[{"$f":"'Academy or School Details'!$C$2","v":"Enter School URN here"},"",{"$f":"'Soft_Hardware solutions'!B46","v":0},{"$f":"'Soft_Hardware solutions'!C46","v":0},{"$f":"'Soft_Hardware solutions'!D46","v":"00:00:00"},{"$f":"'Soft_Hardware solutions'!E46","v":0},{"$f":"'Soft_Hardware solutions'!F46","v":0},null,null,null,null,null,null,null,{"$f":"'Soft_Hardware solutions'!G46","v":0},null,null,{"$f":"'Soft_Hardware solutions'!H45","v":0}]
[{"$f":"'Academy or School Details'!$C$2","v":"Enter School URN here"},"",{"$f":"'Soft_Hardware solutions'!B47","v":0},{"$f":"'Soft_Hardware solutions'!C47","v":0},{"$f":"'Soft_Hardware solutions'!D47","v":"00:00:00"},{"$f":"'Soft_Hardware solutions'!E47","v":0},{"$f":"'Soft_Hardware solutions'!F47","v":0},null,null,null,null,null,null,null,{"$f":"'Soft_Hardware solutions'!G47","v":0},null,null,{"$f":"'Soft_Hardware solutions'!H46","v":0}]
[{"$f":"'Academy or School Details'!$C$2","v":"Enter School URN here"},"",{"$f":"'Soft_Hardware solutions'!B48","v":0},{"$f":"'Soft_Hardware solutions'!C48","v":0},{"$f":"'Soft_Hardware solutions'!D48","v":"00:00:00"},{"$f":"'Soft_Hardware solutions'!E48","v":0},{"$f":"'Soft_Hardware solutions'!F48","v":0},null,null,null,null,null,null,null,{"$f":"'Soft_Hardware solutions'!G48","v":0},null,null,{"$f":"'Soft_Hardware solutions'!H47","v":0}]
[{"$f":"'Academy or School Details'!$C$2","v":"Enter School URN here"},"",{"$f":"'Soft_Hardware solutions'!B49","v":0},{"$f":"'Soft_Hardware solutions'!C49","v":0},{"$f":"'Soft_Hardware solutions'!D49","v":"00:00:00"},{"$f":"'Soft_Hardware solutions'!E49","v":0},{"$f":"'Soft_Hardware solutions'!F49","v":0},null,null,null,null,null,null,null,{"$f":"'Soft_Hardware solutions'!G49","v":0},null,null,{"$f":"'Soft_Hardware solutions'!H48","v":0}]
[{"$f":"'Academy or School Details'!$C$2","v":"Enter School URN here"},"",{"$f":"'Soft_Hardware solutions'!B50","v":0},{"$f":"'Soft_Hardware solutions'!C50","v":0},{"$f":"'Soft_Hardware solutions'!D50","v":"00:00:00"},{"$f":"'Soft_Hardware solutions'!E50","v":0},{"$f":"'Soft_Hardware solutions'!F50","v":0},null,null,null,null,null,null,null,{"$f":"'Soft_Hardware solutions'!G50","v":0},null,null,{"$f":"'Soft_Hardware solutions'!H49","v":0}]
[{"$f":"'Academy or School Details'!$C$2","v":"Enter School URN here"},"",{"$f":"'Soft_Hardware solutions'!B51","v":0},{"$f":"'Soft_Hardware solutions'!C51","v":0},{"$f":"'Soft_Hardware solutions'!D51","v":"00:00:00"},{"$f":"'Soft_Hardware solutions'!E51","v":0},{"$f":"'Soft_Hardware solutions'!F51","v":0},null,null,null,null,null,null,null,{"$f":"'Soft_Hardware solutions'!G51","v":0},null,null,{"$f":"'Soft_Hardware solutions'!H50","v":0}]
[{"$f":"'Academy or School Details'!$C$2","v":"Enter School URN here"},"",{"$f":"'Soft_Hardware solutions'!B52","v":0},{"$f":"'Soft_Hardware solutions'!C52","v":0},{"$f":"'Soft_Hardware solutions'!D52","v":"00:00:00"},{"$f":"'Soft_Hardware solutions'!E52","v":0},{"$f":"'Soft_Hardware solutions'!F52","v":0},null,null,null,null,null,null,null,{"$f":"'Soft_Hardware solutions'!G52","v":0},null,null,{"$f":"'Soft_Hardware solutions'!H51","v":0}]
[{"$f":"'Academy or School Details'!$C$2","v":"Enter School URN here"},"",{"$f":"'Soft_Hardware solutions'!B53","v":0},{"$f":"'Soft_Hardware solutions'!C53","v":0},{"$f":"'Soft_Hardware solutions'!D53","v":"00:00:00"},{"$f":"'Soft_Hardware solutions'!E53","v":0},{"$f":"'Soft_Hardware solutions'!F53","v":0},null,null,null,null,null,null,null,{"$f":"'Soft_Hardware solutions'!G53","v":0},null,null,{"$f":"'Soft_Hardware solutions'!H52","v":0}]
[{"$f":"'Academy or School Details'!$C$2","v":"Enter School URN here"},"",{"$f":"'Soft_Hardware solutions'!B54","v":0},{"$f":"'Soft_Hardware solutions'!C54","v":0},{"$f":"'Soft_Hardware solutions'!D54","v":"00:00:00"},{"$f":"'Soft_Hardware solutions'!E54","v":0},{"$f":"'Soft_Hardware solutions'!F54","v":0},null,null,null,null,null,null,null,{"$f":"'Soft_Hardware solutions'!G54","v":0},null,null,{"$f":"'Soft_Hardware solutions'!H53","v":0}]
[{"$f":"'Academy or School Details'!$C$2","v":"Enter School URN here"},"",{"$f":"'Soft_Hardware solutions'!B55","v":0},{"$f":"'Soft_Hardware solutions'!C55","v":0},{"$f":"'Soft_Hardware solutions'!D55","v":"00:00:00"},{"$f":"'Soft_Hardware solutions'!E55","v":0},{"$f":"'Soft_Hardware solutions'!F55","v":0},null,null,null,null,null,null,null,{"$f":"'Soft_Hardware solutions'!G55","v":0},null,null,{"$f":"'Soft_Hardware solutions'!H54","v":0}]
[{"$f":"'Academy or School Details'!$C$2","v":"Enter School URN here"},"",{"$f":"'Soft_Hardware solutions'!B56","v":0},{"$f":"'Soft_Hardware solutions'!C56","v":0},{"$f":"'Soft_Hardware solutions'!D56","v":"00:00:00"},{"$f":"'Soft_Hardware solutions'!E56","v":0},{"$f":"'Soft_Hardware solutions'!F56","v":0},null,null,null,null,null,null,null,{"$f":"'Soft_Hardware solutions'!G56","v":0},null,null,{"$f":"'Soft_Hardware solutions'!H55","v":0}]
[{"$f":"'Academy or School Details'!$C$2","v":"Enter School URN here"},"",{"$f":"'Soft_Hardware solutions'!B57","v":0},{"$f":"'Soft_Hardware solutions'!C57","v":0},{"$f":"'Soft_Hardware solutions'!D57","v":"00:00:00"},{"$f":"'Soft_Hardware solutions'!E57","v":0},{"$f":"'Soft_Hardware solutions'!F57","v":0},null,null,null,null,null,null,null,{"$f":"'Soft_Hardware solutions'!G57","v":0},null,null,{"$f":"'Soft_Hardware solutions'!H56","v":0}]
[{"$f":"'Academy or School Details'!$C$2","v":"Enter School URN here"},"",{"$f":"'Soft_Hardware solutions'!B58","v":0},{"$f":"'Soft_Hardware solutions'!C58","v":0},{"$f":"'Soft_Hardware solutions'!D58","v":"00:00:00"},{"$f":"'Soft_Hardware solutions'!E58","v":0},{"$f":"'Soft_Hardware solutions'!F58","v":0},null,null,null,null,null,null,null,{"$f":"'Soft_Hardware solutions'!G58","v":0},null,null,{"$f":"'Soft_Hardware solutions'!H57","v":0}]
[{"$f":"'Academy or School Details'!$C$2","v":"Enter School URN here"},"",{"$f":"'Soft_Hardware solutions'!B59","v":0},{"$f":"'Soft_Hardware solutions'!C59","v":0},{"$f":"'Soft_Hardware solutions'!D59","v":"00:00:00"},{"$f":"'Soft_Hardware solutions'!E59","v":0},{"$f":"'Soft_Hardware solutions'!F59","v":0},null,null,null,null,null,null,null,{"$f":"'Soft_Hardware solutions'!G59","v":0},null,null,{"$f":"'Soft_Hardware solutions'!H58","v":0}]
[{"$f":"'Academy or School Details'!$C$2","v":"Enter School URN here"},"",{"$f":"'Soft_Hardware solutions'!B60","v":0},{"$f":"'Soft_Hardware solutions'!C60","v":0},{"$f":"'Soft_Hardware solutions'!D60","v":"00:00:00"},{"$f":"'Soft_Hardware solutions'!E60","v":0},{"$f":"'Soft_Hardware solutions'!F60","v":0},null,null,null,null,null,null,null,{"$f":"'Soft_Hardware solutions'!G60","v":0},null,null,{"$f":"'Soft_Hardware solutions'!H59","v":0}]
[{"$f":"'Academy or School Details'!$C$2","v":"Enter School URN here"},"",{"$f":"'Soft_Hardware solutions'!B61","v":0},{"$f":"'Soft_Hardware solutions'!C61","v":0},{"$f":"'Soft_Hardware solutions'!D61","v":"00:00:00"},{"$f":"'Soft_Hardware solutions'!E61","v":0},{"$f":"'Soft_Hardware solutions'!F61","v":0},null,null,null,null,null,null,null,{"$f":"'Soft_Hardware solutions'!G61","v":0},null,null,{"$f":"'Soft_Hardware solutions'!H60","v":0}]
[{"$f":"'Academy or School Details'!$C$2","v":"Enter School URN here"},"",{"$f":"'Soft_Hardware solutions'!B62","v":0},{"$f":"'Soft_Hardware solutions'!C62","v":0},{"$f":"'Soft_Hardware solutions'!D62","v":"00:00:00"},{"$f":"'Soft_Hardware solutions'!E62","v":0},{"$f":"'Soft_Hardware solutions'!F62","v":0},null,null,null,null,null,null,null,{"$f":"'Soft_Hardware solutions'!G62","v":0},null,null,{"$f":"'Soft_Hardware solutions'!H61","v":0}]
[{"$f":"'Academy or School Details'!$C$2","v":"Enter School URN here"},"",{"$f":"'Soft_Hardware solutions'!B63","v":0},{"$f":"'Soft_Hardware solutions'!C63","v":0},{"$f":"'Soft_Hardware solutions'!D63","v":"00:00:00"},{"$f":"'Soft_Hardware solutions'!E63","v":0},{"$f":"'Soft_Hardware solutions'!F63","v":0},null,null,null,null,null,null,null,{"$f":"'Soft_Hardware solutions'!G63","v":0},null,null,{"$f":"'Soft_Hardware solutions'!H62","v":0}]
[{"$f":"'Academy or School Details'!$C$2","v":"Enter School URN here"},"",{"$f":"'Soft_Hardware solutions'!B64","v":0},{"$f":"'Soft_Hardware solutions'!C64","v":0},{"$f":"'Soft_Hardware solutions'!D64","v":"00:00:00"},{"$f":"'Soft_Hardware solutions'!E64","v":0},{"$f":"'Soft_Hardware solutions'!F64","v":0},null,null,null,null,null,null,null,{"$f":"'Soft_Hardware solutions'!G64","v":0},null,null,{"$f":"'Soft_Hardware solutions'!H63","v":0}]
[{"$f":"'Academy or School Details'!$C$2","v":"Enter School URN here"},"",{"$f":"'Soft_Hardware solutions'!B65","v":0},{"$f":"'Soft_Hardware solutions'!C65","v":0},{"$f":"'Soft_Hardware solutions'!D65","v":"00:00:00"},{"$f":"'Soft_Hardware solutions'!E65","v":0},{"$f":"'Soft_Hardware solutions'!F65","v":0},null,null,null,null,null,null,null,{"$f":"'Soft_Hardware solutions'!G65","v":0},null,null,{"$f":"'Soft_Hardware solutions'!H64","v":0}]
[{"$f":"'Academy or School Details'!$C$2","v":"Enter School URN here"},{"$f":"IF(C126=0,\"\",\"Telecoms\")","v":"Telecoms"},{"$f":"Telecoms!B3","v":"Telecommunications - calls"},{"$f":"Telecoms!C3","v":0},{"$f":"Telecoms!D3","v":"00:00:00"},{"$f":"Telecoms!E3","v":0},{"$f":"Telecoms!F3","v":0},null,null,null,{"$f":"Telecoms!G3","v":0},{"$f":"Telecoms!H3","v":0},null,null,{"$f":"Telecoms!I3","v":0},null,null,{"$f":"Telecoms!J3","v":0}]
[{"$f":"'Academy or School Details'!$C$2","v":"Enter School URN here"},{"$f":"IF(C127=0,\"\",\"Telecoms\")","v":"Telecoms"},{"$f":"Telecoms!B4","v":"Telecommunications - systems"},{"$f":"Telecoms!C4","v":0},{"$f":"Telecoms!D4","v":"00:00:00"},{"$f":"Telecoms!E4","v":0},{"$f":"Telecoms!F4","v":0},null,null,null,{"$f":"Telecoms!G4","v":0},{"$f":"Telecoms!H4","v":0},null,null,{"$f":"Telecoms!I4","v":0},null,null,{"$f":"Telecoms!J4","v":0}]
[{"$f":"'Academy or School Details'!$C$2","v":"Enter School URN here"},"Telecoms",{"$f":"Telecoms!B5","v":"Annual Maintenance"},{"$f":"Telecoms!C5","v":0},{"$f":"Telecoms!D5","v":"00:00:00"},{"$f":"Telecoms!E5","v":0},{"$f":"Telecoms!F5","v":0},null,null,null,{"$f":"Telecoms!G5","v":0},{"$f":"Telecoms!H5","v":0},null,null,{"$f":"Telecoms!I5","v":0},null,null,{"$f":"Telecoms!J5","v":0}]
[{"$f":"'Academy or School Details'!$C$2","v":"Enter School URN here"},"Telecoms",{"$f":"Telecoms!B6","v":"Broadband provider"},{"$f":"Telecoms!C6","v":0},{"$f":"Telecoms!D6","v":"00:00:00"},{"$f":"Telecoms!E6","v":0},{"$f":"Telecoms!F6","v":0},null,null,null,{"$f":"Telecoms!G6","v":0},{"$f":"Telecoms!H6","v":0},null,null,{"$f":"Telecoms!I6","v":0},null,null,{"$f":"Telecoms!J6","v":0}]
[{"$f":"'Academy or School Details'!$C$2","v":"Enter School URN here"},"Telecoms",{"$f":"Telecoms!B7","v":"Mobile Phones"},{"$f":"Telecoms!C7","v":0},{"$f":"Telecoms!D7","v":"00:00:00"},{"$f":"Telecoms!E7","v":0},{"$f":"Telecoms!F7","v":0},null,null,null,{"$f":"Telecoms!G7","v":0},{"$f":"Telecoms!H7","v":0},null,null,{"$f":"Telecoms!I7","v":0},null,null,{"$f":"Telecoms!J7","v":0}]
[{"$f":"'Academy or School Details'!$C$2","v":"Enter School URN here"},"",{"$f":"Telecoms!B8","v":0},{"$f":"Telecoms!C8","v":0},{"$f":"Telecoms!D8","v":"00:00:00"},{"$f":"Telecoms!E8","v":0},{"$f":"Telecoms!F8","v":0},null,null,null,{"$f":"Telecoms!G8","v":0},{"$f":"Telecoms!H8","v":0},null,null,{"$f":"Telecoms!I8","v":0},null,null,{"$f":"Telecoms!J8","v":0}]
[{"$f":"'Academy or School Details'!$C$2","v":"Enter School URN here"},"",{"$f":"Telecoms!B9","v":0},{"$f":"Telecoms!C9","v":0},{"$f":"Telecoms!D9","v":"00:00:00"},{"$f":"Telecoms!E9","v":0},{"$f":"Telecoms!F9","v":0},null,null,null,{"$f":"Telecoms!G9","v":0},{"$f":"Telecoms!H9","v":0},null,null,{"$f":"Telecoms!I9","v":0},null,null,{"$f":"Telecoms!J9","v":0}]
[{"$f":"'Academy or School Details'!$C$2","v":"Enter School URN here"},"",{"$f":"Telecoms!B10","v":0},{"$f":"Telecoms!C10","v":0},{"$f":"Telecoms!D10","v":"00:00:00"},{"$f":"Telecoms!E10","v":0},{"$f":"Telecoms!F10","v":0},null,null,null,{"$f":"Telecoms!G10","v":0},{"$f":"Telecoms!H10","v":0},null,null,{"$f":"Telecoms!I10","v":0},null,null,{"$f":"Telecoms!J10","v":0}]
[{"$f":"'Academy or School Details'!$C$2","v":"Enter School URN here"},"",{"$f":"Telecoms!B11","v":0},{"$f":"Telecoms!C11","v":0},{"$f":"Telecoms!D11","v":"00:00:00"},{"$f":"Telecoms!E11","v":0},{"$f":"Telecoms!F11","v":0},null,null,null,{"$f":"Telecoms!G11","v":0},{"$f":"Telecoms!H11","v":0},null,null,{"$f":"Telecoms!I11","v":0},null,null,{"$f":"Telecoms!J11","v":0}]
[{"$f":"'Academy or School Details'!$C$2","v":"Enter School URN here"},"",{"$f":"Telecoms!B12","v":0},{"$f":"Telecoms!C12","v":0},{"$f":"Telecoms!D12","v":"00:00:00"},{"$f":"Telecoms!E12","v":0},{"$f":"Telecoms!F12","v":0},null,null,null,{"$f":"Telecoms!G12","v":0},{"$f":"Telecoms!H12","v":0},null,null,{"$f":"Telecoms!I12","v":0},null,null,{"$f":"Telecoms!J12","v":0}]
[{"$f":"'Academy or School Details'!$C$2","v":"Enter School URN here"},"",{"$f":"Telecoms!B13","v":0},{"$f":"Telecoms!C13","v":0},{"$f":"Telecoms!D13","v":"00:00:00"},{"$f":"Telecoms!E13","v":0},{"$f":"Telecoms!F13","v":0},null,null,null,{"$f":"Telecoms!G13","v":0},{"$f":"Telecoms!H13","v":0},null,null,{"$f":"Telecoms!I13","v":0},null,null,{"$f":"Telecoms!J13","v":0}]
[{"$f":"'Academy or School Details'!$C$2","v":"Enter School URN here"},"",{"$f":"Telecoms!B14","v":0},{"$f":"Telecoms!C14","v":0},{"$f":"Telecoms!D14","v":"00:00:00"},{"$f":"Telecoms!E14","v":0},{"$f":"Telecoms!F14","v":0},null,null,null,{"$f":"Telecoms!G14","v":0},{"$f":"Telecoms!H14","v":0},null,null,{"$f":"Telecoms!I14","v":0},null,null,{"$f":"Telecoms!J14","v":0}]
[{"$f":"'Academy or School Details'!$C$2","v":"Enter School URN here"},"",{"$f":"Telecoms!B15","v":0},{"$f":"Telecoms!C15","v":0},{"$f":"Telecoms!D15","v":"00:00:00"},{"$f":"Telecoms!E15","v":0},{"$f":"Telecoms!F15","v":0},null,null,null,{"$f":"Telecoms!G15","v":0},{"$f":"Telecoms!H15","v":0},null,null,{"$f":"Telecoms!I15","v":0},null,null,{"$f":"Telecoms!J15","v":0}]
[{"$f":"'Academy or School Details'!$C$2","v":"Enter School URN here"},"",{"$f":"Telecoms!B16","v":0},{"$f":"Telecoms!C16","v":0},{"$f":"Telecoms!D16","v":"00:00:00"},{"$f":"Telecoms!E16","v":0},{"$f":"Telecoms!F16","v":0},null,null,null,{"$f":"Telecoms!G16","v":0},{"$f":"Telecoms!H16","v":0},null,null,{"$f":"Telecoms!I16","v":0},null,null,{"$f":"Telecoms!J16","v":0}]
[{"$f":"'Academy or School Details'!$C$2","v":"Enter School URN here"},"",{"$f":"Telecoms!B17","v":0},{"$f":"Telecoms!C17","v":0},{"$f":"Telecoms!D17","v":"00:00:00"},{"$f":"Telecoms!E17","v":0},{"$f":"Telecoms!F17","v":0},null,null,null,{"$f":"Telecoms!G17","v":0},{"$f":"Telecoms!H17","v":0},null,null,{"$f":"Telecoms!I17","v":0},null,null,{"$f":"Telecoms!J17","v":0}]
[{"$f":"'Academy or School Details'!$C$2","v":"Enter School URN here"},"",{"$f":"Telecoms!B18","v":0},{"$f":"Telecoms!C18","v":0},{"$f":"Telecoms!D18","v":"00:00:00"},{"$f":"Telecoms!E18","v":0},{"$f":"Telecoms!F18","v":0},null,null,null,{"$f":"Telecoms!G18","v":0},{"$f":"Telecoms!H18","v":0},null,null,{"$f":"Telecoms!I18","v":0},null,null,{"$f":"Telecoms!J18","v":0}]
[{"$f":"'Academy or School Details'!$C$2","v":"Enter School URN here"},"",{"$f":"Telecoms!B19","v":0},{"$f":"Telecoms!C19","v":0},{"$f":"Telecoms!D19","v":"00:00:00"},{"$f":"Telecoms!E19","v":0},{"$f":"Telecoms!F19","v":0},null,null,null,{"$f":"Telecoms!G19","v":0},{"$f":"Telecoms!H19","v":0},null,null,{"$f":"Telecoms!I19","v":0},null,null,{"$f":"Telecoms!J19","v":0}]
[{"$f":"'Academy or School Details'!$C$2","v":"Enter School URN here"},"",{"$f":"Telecoms!B20","v":0},{"$f":"Telecoms!C20","v":0},{"$f":"Telecoms!D20","v":"00:00:00"},{"$f":"Telecoms!E20","v":0},{"$f":"Telecoms!F20","v":0},null,null,null,{"$f":"Telecoms!G20","v":0},{"$f":"Telecoms!H20","v":0},null,null,{"$f":"Telecoms!I20","v":0},null,null,{"$f":"Telecoms!J20","v":0}]
[{"$f":"'Academy or School Details'!$C$2","v":"Enter School URN here"},"",{"$f":"Telecoms!B21","v":0},{"$f":"Telecoms!C21","v":0},{"$f":"Telecoms!D21","v":"00:00:00"},{"$f":"Telecoms!E21","v":0},{"$f":"Telecoms!F21","v":0},null,null,null,{"$f":"Telecoms!G21","v":0},{"$f":"Telecoms!H21","v":0},null,null,{"$f":"Telecoms!I21","v":0},null,null,{"$f":"Telecoms!J21","v":0}]
[{"$f":"'Academy or School Details'!$C$2","v":"Enter School URN here"},"",{"$f":"Telecoms!B22","v":0},{"$f":"Telecoms!C22","v":0},{"$f":"Telecoms!D22","v":"00:00:00"},{"$f":"Telecoms!E22","v":0},{"$f":"Telecoms!F22","v":0},null,null,null,{"$f":"Telecoms!G22","v":0},{"$f":"Telecoms!H22","v":0},null,null,{"$f":"Telecoms!I22","v":0},null,null,{"$f":"Telecoms!J22","v":0}]
[{"$f":"'Academy or School Details'!$C$2","v":"Enter School URN here"},"",{"$f":"Telecoms!B23","v":0},{"$f":"Telecoms!C23","v":0},{"$f":"Telecoms!D23","v":"00:00:00"},{"$f":"Telecoms!E23","v":0},{"$f":"Telecoms!F23","v":0},null,null,null,{"$f":"Telecoms!G23","v":0},{"$f":"Telecoms!H23","v":0},null,null,{"$f":"Telecoms!I23","v":0},null,null,{"$f":"Telecoms!J23","v":0}]
[{"$f":"'Academy or School Details'!$C$2","v":"Enter School URN here"},{"$f":"IF(C147=0,\"\",\"Print Management\")","v":"Print Management"},{"$f":"'Print Management'!B3","v":"Photocopying & print management"},{"$f":"'Print Management'!C3","v":0},{"$f":"'Print Management'!D3","v":"00:00:00"},{"$f":"'Print Management'!E3","v":0},{"$f":"'Print Management'!F3","v":0},null,null,null,null,{"$f":"'Print Management'!I3","v":0},{"$f":"'Print Management'!G3","v":0},{"$f":"'Print Management'!H3","v":0},{"$f":"'Print Management'!J3","v":0},null,null,{"$f":"'Print Management'!K3","v":0}]
[{"$f":"'Academy or School Details'!$C$2","v":"Enter School URN here"},{"$f":"IF(C148=0,\"\",\"Print Management\")","v":"Print Management"},{"$f":"'Print Management'!B4","v":"Service Maintenance"},{"$f":"'Print Management'!C4","v":0},{"$f":"'Print Management'!D4","v":"00:00:00"},{"$f":"'Print Management'!E4","v":0},{"$f":"'Print Management'!F4","v":0},null,null,null,null,{"$f":"'Print Management'!I4","v":0},{"$f":"'Print Management'!G4","v":0},{"$f":"'Print Management'!H4","v":0},{"$f":"'Print Management'!J4","v":0},null,null,{"$f":"'Print Management'!K4","v":0}]
[{"$f":"'Academy or School Details'!$C$2","v":"Enter School URN here"},"",{"$f":"'Print Management'!B5","v":0},{"$f":"'Print Management'!C5","v":0},{"$f":"'Print Management'!D5","v":"00:00:00"},{"$f":"'Print Management'!E5","v":0},{"$f":"'Print Management'!F5","v":0},null,null,null,null,{"$f":"'Print Management'!I5","v":0},{"$f":"'Print Management'!G5","v":0},{"$f":"'Print Management'!H5","v":0},{"$f":"'Print Management'!J5","v":0},null,null,{"$f":"'Print Management'!K5","v":0}]
[{"$f":"'Academy or School Details'!$C$2","v":"Enter School URN here"},"",{"$f":"'Print Management'!B6","v":0},{"$f":"'Print Management'!C6","v":0},{"$f":"'Print Management'!D6","v":"00:00:00"},{"$f":"'Print Management'!E6","v":0},{"$f":"'Print Management'!F6","v":0},null,null,null,null,{"$f":"'Print Management'!I6","v":0},{"$f":"'Print Management'!G6","v":0},{"$f":"'Print Management'!H6","v":0},{"$f":"'Print Management'!J6","v":0},null,null,{"$f":"'Print Management'!K6","v":0}]
[{"$f":"'Academy or School Details'!$C$2","v":"Enter School URN here"},"",{"$f":"'Print Management'!B7","v":0},{"$f":"'Print Management'!C7","v":0},{"$f":"'Print Management'!D7","v":"00:00:00"},{"$f":"'Print Management'!E7","v":0},{"$f":"'Print Management'!F7","v":0},null,null,null,null,{"$f":"'Print Management'!I7","v":0},{"$f":"'Print Management'!G7","v":0},{"$f":"'Print Management'!H7","v":0},{"$f":"'Print Management'!J7","v":0},null,null,{"$f":"'Print Management'!K7","v":0}]
[{"$f":"'Academy or School Details'!$C$2","v":"Enter School URN here"},"",{"$f":"'Print Management'!B8","v":0},{"$f":"'Print Management'!C8","v":0},{"$f":"'Print Management'!D8","v":"00:00:00"},{"$f":"'Print Management'!E8","v":0},{"$f":"'Print Management'!F8","v":0},null,null,null,null,{"$f":"'Print Management'!I8","v":0},{"$f":"'Print Management'!G8","v":0},{"$f":"'Print Management'!H8","v":0},{"$f":"'Print Management'!J8","v":0},null,null,{"$f":"'Print Management'!K8","v":0}]
[{"$f":"'Academy or School Details'!$C$2","v":"Enter School URN here"},"",{"$f":"'Print Management'!B9","v":0},{"$f":"'Print Management'!C9","v":0},{"$f":"'Print Management'!D9","v":"00:00:00"},{"$f":"'Print Management'!E9","v":0},{"$f":"'Print Management'!F9","v":0},null,null,null,null,{"$f":"'Print Management'!I9","v":0},{"$f":"'Print Management'!G9","v":0},{"$f":"'Print Management'!H9","v":0},{"$f":"'Print Management'!J9","v":0},null,null,{"$f":"'Print Management'!K9","v":0}]
[{"$f":"'Academy or School Details'!$C$2","v":"Enter School URN here"},"",{"$f":"'Print Management'!B10","v":0},{"$f":"'Print Management'!C10","v":0},{"$f":"'Print Management'!D10","v":"00:00:00"},{"$f":"'Print Management'!E10","v":0},{"$f":"'Print Management'!F10","v":0},null,null,null,null,{"$f":"'Print Management'!I10","v":0},{"$f":"'Print Management'!G10","v":0},{"$f":"'Print Management'!H10","v":0},{"$f":"'Print Management'!J10","v":0},null,null,{"$f":"'Print Management'!K10","v":0}]
[{"$f":"'Academy or School Details'!$C$2","v":"Enter School URN here"},"",{"$f":"'Print Management'!B11","v":0},{"$f":"'Print Management'!C11","v":0},{"$f":"'Print Management'!D11","v":"00:00:00"},{"$f":"'Print Management'!E11","v":0},{"$f":"'Print Management'!F11","v":0},null,null,null,null,{"$f":"'Print Management'!I11","v":0},{"$f":"'Print Management'!G11","v":0},{"$f":"'Print Management'!H11","v":0},{"$f":"'Print Management'!J11","v":0},null,null,{"$f":"'Print Management'!K11","v":0}]
[{"$f":"'Academy or School Details'!$C$2","v":"Enter School URN here"},"",{"$f":"'Print Management'!B12","v":0},{"$f":"'Print Management'!C12","v":0},{"$f":"'Print Management'!D12","v":"00:00:00"},{"$f":"'Print Management'!E12","v":0},{"$f":"'Print Management'!F12","v":0},null,null,null,null,{"$f":"'Print Management'!I12","v":0},{"$f":"'Print Management'!G12","v":0},{"$f":"'Print Management'!H12","v":0},{"$f":"'Print Management'!J12","v":0},null,null,{"$f":"'Print Management'!K12","v":0}]
[{"$f":"'Academy or School Details'!$C$2","v":"Enter School URN here"},"",{"$f":"'Print Management'!B13","v":0},{"$f":"'Print Management'!C13","v":0},{"$f":"'Print Management'!D13","v":"00:00:00"},{"$f":"'Print Management'!E13","v":0},{"$f":"'Print Management'!F13","v":0},null,null,null,null,{"$f":"'Print Management'!I13","v":0},{"$f":"'Print Management'!G13","v":0},{"$f":"'Print Management'!H13","v":0},{"$f":"'Print Management'!J13","v":0},null,null,{"$f":"'Print Management'!K13","v":0}]
[{"$f":"'Academy or School Details'!$C$2","v":"Enter School URN here"},"",{"$f":"'Print Management'!B14","v":0},{"$f":"'Print Management'!C14","v":0},{"$f":"'Print Management'!D14","v":"00:00:00"},{"$f":"'Print Management'!E14","v":0},{"$f":"'Print Management'!F14","v":0},null,null,null,null,{"$f":"'Print Management'!I14","v":0},{"$f":"'Print Management'!G14","v":0},{"$f":"'Print Management'!H14","v":0},{"$f":"'Print Management'!J14","v":0},null,null,{"$f":"'Print Management'!K14","v":0}]
[{"$f":"'Academy or School Details'!$C$2","v":"Enter School URN here"},"",{"$f":"'Print Management'!B15","v":0},{"$f":"'Print Management'!C15","v":0},{"$f":"'Print Management'!D15","v":"00:00:00"},{"$f":"'Print Management'!E15","v":0},{"$f":"'Print Management'!F15","v":0},null,null,null,null,{"$f":"'Print Management'!I15","v":0},{"$f":"'Print Management'!G15","v":0},{"$f":"'Print Management'!H15","v":0},{"$f":"'Print Management'!J15","v":0},null,null,{"$f":"'Print Management'!K15","v":0}]
[{"$f":"'Academy or School Details'!$C$2","v":"Enter School URN here"},"",{"$f":"'Print Management'!B16","v":0},{"$f":"'Print Management'!C16","v":0},{"$f":"'Print Management'!D16","v":"00:00:00"},{"$f":"'Print Management'!E16","v":0},{"$f":"'Print Management'!F16","v":0},null,null,null,null,{"$f":"'Print Management'!I16","v":0},{"$f":"'Print Management'!G16","v":0},{"$f":"'Print Management'!H16","v":0},{"$f":"'Print Management'!J16","v":0},null,null,{"$f":"'Print Management'!K16","v":0}]
[{"$f":"'Academy or School Details'!$C$2","v":"Enter School URN here"},"",{"$f":"'Print Management'!B17","v":0},{"$f":"'Print Management'!C17","v":0},{"$f":"'Print Management'!D17","v":"00:00:00"},{"$f":"'Print Management'!E17","v":0},{"$f":"'Print Management'!F17","v":0},null,null,null,null,{"$f":"'Print Management'!I17","v":0},{"$f":"'Print Management'!G17","v":0},{"$f":"'Print Management'!H17","v":0},{"$f":"'Print Management'!J17","v":0},null,null,{"$f":"'Print Management'!K17","v":0}]
[{"$f":"'Academy or School Details'!$C$2","v":"Enter School URN here"},"",{"$f":"'Print Management'!B18","v":0},{"$f":"'Print Management'!C18","v":0},{"$f":"'Print Management'!D18","v":"00:00:00"},{"$f":"'Print Management'!E18","v":0},{"$f":"'Print Management'!F18","v":0},null,null,null,null,{"$f":"'Print Management'!I18","v":0},{"$f":"'Print Management'!G18","v":0},{"$f":"'Print Management'!H18","v":0},{"$f":"'Print Management'!J18","v":0},null,null,{"$f":"'Print Management'!K18","v":0}]
[{"$f":"'Academy or School Details'!$C$2","v":"Enter School URN here"},"",{"$f":"'Print Management'!B19","v":0},{"$f":"'Print Management'!C19","v":0},{"$f":"'Print Management'!D19","v":"00:00:00"},{"$f":"'Print Management'!E19","v":0},{"$f":"'Print Management'!F19","v":0},null,null,null,null,{"$f":"'Print Management'!I19","v":0},{"$f":"'Print Management'!G19","v":0},{"$f":"'Print Management'!H19","v":0},{"$f":"'Print Management'!J19","v":0},null,null,{"$f":"'Print Management'!K19","v":0}]
[{"$f":"'Academy or School Details'!$C$2","v":"Enter School URN here"},"",{"$f":"'Print Management'!B20","v":0},{"$f":"'Print Management'!C20","v":0},{"$f":"'Print Management'!D20","v":"00:00:00"},{"$f":"'Print Management'!E20","v":0},{"$f":"'Print Management'!F20","v":0},null,null,null,null,{"$f":"'Print Management'!I20","v":0},{"$f":"'Print Management'!G20","v":0},{"$f":"'Print Management'!H20","v":0},{"$f":"'Print Management'!J20","v":0},null,null,{"$f":"'Print Management'!K20","v":0}]
[{"$f":"'Academy or School Details'!$C$2","v":"Enter School URN here"},"",{"$f":"'Print Management'!B21","v":0},{"$f":"'Print Management'!C21","v":0},{"$f":"'Print Management'!D21","v":"00:00:00"},{"$f":"'Print Management'!E21","v":0},{"$f":"'Print Management'!F21","v":0},null,null,null,null,{"$f":"'Print Management'!I21","v":0},{"$f":"'Print Management'!G21","v":0},{"$f":"'Print Management'!H21","v":0},{"$f":"'Print Management'!J21","v":0},null,null,{"$f":"'Print Management'!K21","v":0}]
[{"$f":"'Academy or School Details'!$C$2","v":"Enter School URN here"},"",{"$f":"'Print Management'!B22","v":0},{"$f":"'Print Management'!C22","v":0},{"$f":"'Print Management'!D22","v":"00:00:00"},{"$f":"'Print Management'!E22","v":0},{"$f":"'Print Management'!F22","v":0},null,null,null,null,{"$f":"'Print Management'!I22","v":0},{"$f":"'Print Management'!G22","v":0},{"$f":"'Print Management'!H22","v":0},{"$f":"'Print Management'!J22","v":0},null,null,{"$f":"'Print Management'!K22","v":0}]
[{"$f":"'Academy or School Details'!$C$2","v":"Enter School URN here"},"",{"$f":"'Print Management'!B23","v":0},{"$f":"'Print Management'!C23","v":0},{"$f":"'Print Management'!D23","v":"00:00:00"},{"$f":"'Print Management'!E23","v":0},{"$f":"'Print Management'!F23","v":0},null,null,null,null,{"$f":"'Print Management'!I23","v":0},{"$f":"'Print Management'!G23","v":0},{"$f":"'Print Management'!H23","v":0},{"$f":"'Print Management'!J23","v":0},null,null,{"$f":"'Print Management'!K23","v":0}]
[{"$f":"'Academy or School Details'!$C$2","v":"Enter School URN here"},"",{"$f":"'Print Management'!B24","v":0},{"$f":"'Print Management'!C24","v":0},{"$f":"'Print Management'!D24","v":"00:00:00"},{"$f":"'Print Management'!E24","v":0},{"$f":"'Print Management'!F24","v":0},null,null,null,null,{"$f":"'Print Management'!I24","v":0},{"$f":"'Print Management'!G24","v":0},{"$f":"'Print Management'!H24","v":0},{"$f":"'Print Management'!J24","v":0},null,null,{"$f":"'Print Management'!K24","v":0}]
[{"$f":"'Academy or School Details'!$C$2","v":"Enter School URN here"},"",{"$f":"'Print Management'!B25","v":0},{"$f":"'Print Management'!C25","v":0},{"$f":"'Print Management'!D25","v":"00:00:00"},{"$f":"'Print Management'!E25","v":0},{"$f":"'Print Management'!F25","v":0},null,null,null,null,{"$f":"'Print Management'!I25","v":0},{"$f":"'Print Management'!G25","v":0},{"$f":"'Print Management'!H25","v":0},{"$f":"'Print Management'!J25","v":0},null,null,{"$f":"'Print Management'!K25","v":0}]
[{"$f":"'Academy or School Details'!$C$2","v":"Enter School URN here"},"",{"$f":"'Print Management'!B26","v":0},{"$f":"'Print Management'!C26","v":0},{"$f":"'Print Management'!D26","v":"00:00:00"},{"$f":"'Print Management'!E26","v":0},{"$f":"'Print Management'!F26","v":0},null,null,null,null,{"$f":"'Print Management'!I26","v":0},{"$f":"'Print Management'!G26","v":0},{"$f":"'Print Management'!H26","v":0},{"$f":"'Print Management'!J26","v":0},null,null,{"$f":"'Print Management'!K26","v":0}]
[{"$f":"'Academy or School Details'!$C$2","v":"Enter School URN here"},"",{"$f":"'Print Management'!B27","v":0},{"$f":"'Print Management'!C27","v":0},{"$f":"'Print Management'!D27","v":"00:00:00"},{"$f":"'Print Management'!E27","v":0},{"$f":"'Print Management'!F27","v":0},null,null,null,null,{"$f":"'Print Management'!I27","v":0},{"$f":"'Print Management'!G27","v":0},{"$f":"'Print Management'!H27","v":0},{"$f":"'Print Management'!J27","v":0},null,null,{"$f":"'Print Management'!K27","v":0}]
[{"$f":"'Academy or School Details'!$C$2","v":"Enter School URN here"},"",{"$f":"'Print Management'!B28","v":0},{"$f":"'Print Management'!C28","v":0},{"$f":"'Print Management'!D28","v":"00:00:00"},{"$f":"'Print Management'!E28","v":0},{"$f":"'Print Management'!F28","v":0},null,null,null,null,{"$f":"'Print Management'!I28","v":0},{"$f":"'Print Management'!G28","v":0},{"$f":"'Print Management'!H28","v":0},{"$f":"'Print Management'!J28","v":0},null,null,{"$f":"'Print Management'!K28","v":0}]
[{"$f":"'Academy or School Details'!$C$2","v":"Enter School URN here"},"",{"$f":"'Print Management'!B29","v":0},{"$f":"'Print Management'!C29","v":0},{"$f":"'Print Management'!D29","v":"00:00:00"},{"$f":"'Print Management'!E29","v":0},{"$f":"'Print Management'!F29","v":0},null,null,null,null,{"$f":"'Print Management'!I29","v":0},{"$f":"'Print Management'!G29","v":0},{"$f":"'Print Management'!H29","v":0},{"$f":"'Print Management'!J29","v":0},null,null,{"$f":"'Print Management'!K29","v":0}]
[{"$f":"'Academy or School Details'!$C$2","v":"Enter School URN here"},"",{"$f":"'Print Management'!B30","v":0},{"$f":"'Print Management'!C30","v":0},{"$f":"'Print Management'!D30","v":"00:00:00"},{"$f":"'Print Management'!E30","v":0},{"$f":"'Print Management'!F30","v":0},null,null,null,null,{"$f":"'Print Management'!I30","v":0},{"$f":"'Print Management'!G30","v":0},{"$f":"'Print Management'!H30","v":0},{"$f":"'Print Management'!J30","v":0},null,null,{"$f":"'Print Management'!K30","v":0}]
[{"$f":"'Academy or School Details'!$C$2","v":"Enter School URN here"},"",{"$f":"'Print Management'!B31","v":0},{"$f":"'Print Management'!C31","v":0},{"$f":"'Print Management'!D31","v":"00:00:00"},{"$f":"'Print Management'!E31","v":0},{"$f":"'Print Management'!F31","v":0},null,null,null,null,{"$f":"'Print Management'!I31","v":0},{"$f":"'Print Management'!G31","v":0},{"$f":"'Print Management'!H31","v":0},{"$f":"'Print Management'!J31","v":0},null,null,{"$f":"'Print Management'!K31","v":0}]
[{"$f":"'Academy or School Details'!$C$2","v":"Enter School URN here"},"",{"$f":"'Print Management'!B32","v":0},{"$f":"'Print Management'!C32","v":0},{"$f":"'Print Management'!D32","v":"00:00:00"},{"$f":"'Print Management'!E32","v":0},{"$f":"'Print Management'!F32","v":0},null,null,null,null,{"$f":"'Print Management'!I32","v":0},{"$f":"'Print Management'!G32","v":0},{"$f":"'Print Management'!H32","v":0},{"$f":"'Print Management'!J32","v":0},null,null,{"$f":"'Print Management'!K32","v":0}]
[{"$f":"'Academy or School Details'!$C$2","v":"Enter School URN here"},"",{"$f":"'Print Management'!B33","v":0},{"$f":"'Print Management'!C33","v":0},{"$f":"'Print Management'!D33","v":"00:00:00"},{"$f":"'Print Management'!E33","v":0},{"$f":"'Print Management'!F33","v":0},null,null,null,null,{"$f":"'Print Management'!I33","v":0},{"$f":"'Print Management'!G33","v":0},{"$f":"'Print Management'!H33","v":0},{"$f":"'Print Management'!J33","v":0},null,null,{"$f":"'Print Management'!K33","v":0}]
[{"$f":"'Academy or School Details'!$C$2","v":"Enter School URN here"},"",{"$f":"'Print Management'!B34","v":0},{"$f":"'Print Management'!C34","v":0},{"$f":"'Print Management'!D34","v":"00:00:00"},{"$f":"'Print Management'!E34","v":0},{"$f":"'Print Management'!F34","v":0},null,null,null,null,{"$f":"'Print Management'!I34","v":0},{"$f":"'Print Management'!G34","v":0},{"$f":"'Print Management'!H34","v":0},{"$f":"'Print Management'!J34","v":0},null,null,{"$f":"'Print Management'!K34","v":0}]
[{"$f":"'Academy or School Details'!$C$2","v":"Enter School URN here"},"",{"$f":"'Print Management'!B35","v":0},{"$f":"'Print Management'!C35","v":0},{"$f":"'Print Management'!D35","v":"00:00:00"},{"$f":"'Print Management'!E35","v":0},{"$f":"'Print Management'!F35","v":0},null,null,null,null,{"$f":"'Print Management'!I35","v":0},{"$f":"'Print Management'!G35","v":0},{"$f":"'Print Management'!H35","v":0},{"$f":"'Print Management'!J35","v":0},null,null,{"$f":"'Print Management'!K35","v":0}]
[{"$f":"'Academy or School Details'!$C$2","v":"Enter School URN here"},"",{"$f":"'Print Management'!B36","v":0},{"$f":"'Print Management'!C36","v":0},{"$f":"'Print Management'!D36","v":"00:00:00"},{"$f":"'Print Management'!E36","v":0},{"$f":"'Print Management'!F36","v":0},null,null,null,null,{"$f":"'Print Management'!I36","v":0},{"$f":"'Print Management'!G36","v":0},{"$f":"'Print Management'!H36","v":0},{"$f":"'Print Management'!J36","v":0},null,null,{"$f":"'Print Management'!K36","v":0}]
[{"$f":"'Academy or School Details'!$C$2","v":"Enter School URN here"},"",{"$f":"'Print Management'!B37","v":0},{"$f":"'Print Management'!C37","v":0},{"$f":"'Print Management'!D37","v":"00:00:00"},{"$f":"'Print Management'!E37","v":0},{"$f":"'Print Management'!F37","v":0},null,null,null,null,{"$f":"'Print Management'!I37","v":0},{"$f":"'Print Management'!G37","v":0},{"$f":"'Print Management'!H37","v":0},{"$f":"'Print Management'!J37","v":0},null,null,{"$f":"'Print Management'!K37","v":0}]
[{"$f":"'Academy or School Details'!$C$2","v":"Enter School URN here"},{"$f":"IF(C182=0,\"\",\"Facilities\")","v":"Facilities"},{"$f":"Facilities!B3","v":"Fire Alarm Supplier and Maintenance"},{"$f":"Facilities!C3","v":0},{"$f":"Facilities!D3","v":"00:00:00"},{"$f":"Facilities!E3","v":0},{"$f":"Facilities!F3","v":0},null,null,null,null,null,null,null,{"$f":"Facilities!G3","v":0},null,null,{"$f":"Facilities!H3","v":0}]
[{"$f":"'Academy or School Details'!$C$2","v":"Enter School URN here"},{"$f":"IF(C183=0,\"\",\"Facilities\")","v":"Facilities"},{"$f":"Facilities!B4","v":"Fire Extinguishers Supplier and Maintenance"},{"$f":"Facilities!C4","v":0},{"$f":"Facilities!D4","v":"00:00:00"},{"$f":"Facilities!E4","v":0},{"$f":"Facilities!F4","v":0},null,null,null,null,null,null,null,{"$f":"Facilities!G4","v":0},null,null,{"$f":"Facilities!H4","v":0}]
[{"$f":"'Academy or School Details'!$C$2","v":"Enter School URN here"},"Facilities",{"$f":"Facilities!B5","v":"Emergency Lighting Supplier and Maintenance"},{"$f":"Facilities!C5","v":0},{"$f":"Facilities!D5","v":"00:00:00"},{"$f":"Facilities!E5","v":0},{"$f":"Facilities!F5","v":0},null,null,null,null,null,null,null,{"$f":"Facilities!G5","v":0},null,null,{"$f":"Facilities!H5","v":0}]
[{"$f":"'Academy or School Details'!$C$2","v":"Enter School URN here"},"Facilities",{"$f":"Facilities!B6","v":"Safety Signage"},{"$f":"Facilities!C6","v":0},{"$f":"Facilities!D6","v":"00:00:00"},{"$f":"Facilities!E6","v":0},{"$f":"Facilities!F6","v":0},null,null,null,null,null,null,null,{"$f":"Facilities!G6","v":0},null,null,{"$f":"Facilities!H6","v":0}]
[{"$f":"'Academy or School Details'!$C$2","v":"Enter School URN here"},"Facilities",{"$f":"Facilities!B7","v":"Portable Electrical Appliance Testing (PAT)"},{"$f":"Facilities!C7","v":0},{"$f":"Facilities!D7","v":"00:00:00"},{"$f":"Facilities!E7","v":0},{"$f":"Facilities!F7","v":0},null,null,null,null,null,null,null,{"$f":"Facilities!G7","v":0},null,null,{"$f":"Facilities!H7","v":0}]
[{"$f":"'Academy or School Details'!$C$2","v":"Enter School URN here"},"Facilities",{"$f":"Facilities!B8","v":"Gas Tightness"},{"$f":"Facilities!C8","v":0},{"$f":"Facilities!D8","v":"00:00:00"},{"$f":"Facilities!E8","v":0},{"$f":"Facilities!F8","v":0},null,null,null,null,null,null,null,{"$f":"Facilities!G8","v":0},null,null,{"$f":"Facilities!H8","v":0}]
[{"$f":"'Academy or School Details'!$C$2","v":"Enter School URN here"},"Facilities",{"$f":"Facilities!B9","v":"Boiler Maintenance"},{"$f":"Facilities!C9","v":0},{"$f":"Facilities!D9","v":"00:00:00"},{"$f":"Facilities!E9","v":0},{"$f":"Facilities!F9","v":0},null,null,null,null,null,null,null,{"$f":"Facilities!G9","v":0},null,null,{"$f":"Facilities!H9","v":0}]
[{"$f":"'Academy or School Details'!$C$2","v":"Enter School URN here"},"Facilities",{"$f":"Facilities!B10","v":"Legionella Risk Assessment"},{"$f":"Facilities!C10","v":0},{"$f":"Facilities!D10","v":"00:00:00"},{"$f":"Facilities!E10","v":0},{"$f":"Facilities!F10","v":0},null,null,null,null,null,null,null,{"$f":"Facilities!G10","v":0},null,null,{"$f":"Facilities!H10","v":0}]
[{"$f":"'Academy or School Details'!$C$2","v":"Enter School URN here"},"Facilities",{"$f":"Facilities!B11","v":"Legionella Testing and Precautions"},{"$f":"Facilities!C11","v":0},{"$f":"Facilities!D11","v":"00:00:00"},{"$f":"Facilities!E11","v":0},{"$f":"Facilities!F11","v":0},null,null,null,null,null,null,null,{"$f":"Facilities!G11","v":0},null,null,{"$f":"Facilities!H11","v":0}]
[{"$f":"'Academy or School Details'!$C$2","v":"Enter School URN here"},"Facilities",{"$f":"Facilities!B12","v":"Swimming pool filtration plant"},{"$f":"Facilities!C12","v":0},{"$f":"Facilities!D12","v":"00:00:00"},{"$f":"Facilities!E12","v":0},{"$f":"Facilities!F12","v":0},null,null,null,null,null,null,null,{"$f":"Facilities!G12","v":0},null,null,{"$f":"Facilities!H12","v":0}]
[{"$f":"'Academy or School Details'!$C$2","v":"Enter School URN here"},"Facilities",{"$f":"Facilities!B13","v":"Catering Equipment "},{"$f":"Facilities!C13","v":0},{"$f":"Facilities!D13","v":"00:00:00"},{"$f":"Facilities!E13","v":0},{"$f":"Facilities!F13","v":0},null,null,null,null,null,null,null,{"$f":"Facilities!G13","v":0},null,null,{"$f":"Facilities!H13","v":0}]
[{"$f":"'Academy or School Details'!$C$2","v":"Enter School URN here"},"Facilities",{"$f":"Facilities!B14","v":"Kitchen Fixed Mechanical Supply & Extract Equipment "},{"$f":"Facilities!C14","v":0},{"$f":"Facilities!D14","v":"00:00:00"},{"$f":"Facilities!E14","v":0},{"$f":"Facilities!F14","v":0},null,null,null,null,null,null,null,{"$f":"Facilities!G14","v":0},null,null,{"$f":"Facilities!H14","v":0}]
[{"$f":"'Academy or School Details'!$C$2","v":"Enter School URN here"},"Facilities",{"$f":"Facilities!B15","v":"Kitchen Deep Clean (to include Fixed Mechanical Extract Equipment) "},{"$f":"Facilities!C15","v":0},{"$f":"Facilities!D15","v":"00:00:00"},{"$f":"Facilities!E15","v":0},{"$f":"Facilities!F15","v":0},null,null,null,null,null,null,null,{"$f":"Facilities!G15","v":0},null,null,{"$f":"Facilities!H15","v":0}]
[{"$f":"'Academy or School Details'!$C$2","v":"Enter School URN here"},"Facilities",{"$f":"Facilities!B16","v":"Food Waste, Storage & Removal (including cooker hood filters)"},{"$f":"Facilities!C16","v":0},{"$f":"Facilities!D16","v":"00:00:00"},{"$f":"Facilities!E16","v":0},{"$f":"Facilities!F16","v":0},null,null,null,null,null,null,null,{"$f":"Facilities!G16","v":0},null,null,{"$f":"Facilities!H16","v":0}]
[{"$f":"'Academy or School Details'!$C$2","v":"Enter School URN here"},"Facilities",{"$f":"Facilities!B17","v":"Mechanical Extraction Equipment (Fume Cupboards) maintenance"},{"$f":"Facilities!C17","v":0},{"$f":"Facilities!D17","v":"00:00:00"},{"$f":"Facilities!E17","v":0},{"$f":"Facilities!F17","v":0},null,null,null,null,null,null,null,{"$f":"Facilities!G17","v":0},null,null,{"$f":"Facilities!H17","v":0}]
[{"$f":"'Academy or School Details'!$C$2","v":"Enter School URN here"},"Facilities",{"$f":"Facilities!B18","v":"Kiln Servicing"},{"$f":"Facilities!C18","v":0},{"$f":"Facilities!D18","v":"00:00:00"},{"$f":"Facilities!E18","v":0},{"$f":"Facilities!F18","v":0},null,null,null,null,null,null,null,{"$f":"Facilities!G18","v":0},null,null,{"$f":"Facilities!H18","v":0}]
[{"$f":"'Academy or School Details'!$C$2","v":"Enter School URN here"},"Facilities",{"$f":"Facilities!B19","v":"Five Yearly Electrical Test (per circuit) "},{"$f":"Facilities!C19","v":0},{"$f":"Facilities!D19","v":"00:00:00"},{"$f":"Facilities!E19","v":0},{"$f":"Facilities!F19","v":0},null,null,null,null,null,null,null,{"$f":"Facilities!G19","v":0},null,null,{"$f":"Facilities!H19","v":0}]
[{"$f":"'Academy or School Details'!$C$2","v":"Enter School URN here"},"Facilities",{"$f":"Facilities!B20","v":"Asbestos Management "},{"$f":"Facilities!C20","v":0},{"$f":"Facilities!D20","v":"00:00:00"},{"$f":"Facilities!E20","v":0},{"$f":"Facilities!F20","v":0},null,null,null,null,null,null,null,{"$f":"Facilities!G20","v":0},null,null,{"$f":"Facilities!H20","v":0}]
[{"$f":"'Academy or School Details'!$C$2","v":"Enter School URN here"},"Facilities",{"$f":"Facilities!B21","v":"Asbestos Management - Update  "},{"$f":"Facilities!C21","v":0},{"$f":"Facilities!D21","v":"00:00:00"},{"$f":"Facilities!E21","v":0},{"$f":"Facilities!F21","v":0},null,null,null,null,null,null,null,{"$f":"Facilities!G21","v":0},null,null,{"$f":"Facilities!H21","v":0}]
[{"$f":"'Academy or School Details'!$C$2","v":"Enter School URN here"},"Facilities",{"$f":"Facilities!B22","v":"Fire Risk Assessment "},{"$f":"Facilities!C22","v":0},{"$f":"Facilities!D22","v":"00:00:00"},{"$f":"Facilities!E22","v":0},{"$f":"Facilities!F22","v":0},null,null,null,null,null,null,null,{"$f":"Facilities!G22","v":0},null,null,{"$f":"Facilities!H22","v":0}]
[{"$f":"'Academy or School Details'!$C$2","v":"Enter School URN here"},"Facilities",{"$f":"Facilities!B23","v":"CCTV System supplier and maintenance"},{"$f":"Facilities!C23","v":0},{"$f":"Facilities!D23","v":"00:00:00"},{"$f":"Facilities!E23","v":0},{"$f":"Facilities!F23","v":0},null,null,null,null,null,null,null,{"$f":"Facilities!G23","v":0},null,null,{"$f":"Facilities!H23","v":0}]
[{"$f":"'Academy or School Details'!$C$2","v":"Enter School URN here"},"Facilities",{"$f":"Facilities!B24","v":"Passenger & Goods Lifts (where fitted) - maintenance "},{"$f":"Facilities!C24","v":0},{"$f":"Facilities!D24","v":"00:00:00"},{"$f":"Facilities!E24","v":0},{"$f":"Facilities!F24","v":0},null,null,null,null,null,null,null,{"$f":"Facilities!G24","v":0},null,null,{"$f":"Facilities!H24","v":0}]
[{"$f":"'Academy or School Details'!$C$2","v":"Enter School URN here"},"Facilities",{"$f":"Facilities!B25","v":"Display Energy Certificate"},{"$f":"Facilities!C25","v":0},{"$f":"Facilities!D25","v":"00:00:00"},{"$f":"Facilities!E25","v":0},{"$f":"Facilities!F25","v":0},null,null,null,null,null,null,null,{"$f":"Facilities!G25","v":0},null,null,{"$f":"Facilities!H25","v":0}]
[{"$f":"'Academy or School Details'!$C$2","v":"Enter School URN here"},"Facilities",{"$f":"Facilities!B26","v":"DEC Annual Review"},{"$f":"Facilities!C26","v":0},{"$f":"Facilities!D26","v":"00:00:00"},{"$f":"Facilities!E26","v":0},{"$f":"Facilities!F26","v":0},null,null,null,null,null,null,null,{"$f":"Facilities!G26","v":0},null,null,{"$f":"Facilities!H26","v":0}]
[{"$f":"'Academy or School Details'!$C$2","v":"Enter School URN here"},"Facilities",{"$f":"Facilities!B27","v":"Personal Hygiene Services"},{"$f":"Facilities!C27","v":0},{"$f":"Facilities!D27","v":"00:00:00"},{"$f":"Facilities!E27","v":0},{"$f":"Facilities!F27","v":0},null,null,null,null,null,null,null,{"$f":"Facilities!G27","v":0},null,null,{"$f":"Facilities!H27","v":0}]
[{"$f":"'Academy or School Details'!$C$2","v":"Enter School URN here"},"Facilities",{"$f":"Facilities!B28","v":"Refuse Collection"},{"$f":"Facilities!C28","v":0},{"$f":"Facilities!D28","v":"00:00:00"},{"$f":"Facilities!E28","v":0},{"$f":"Facilities!F28","v":0},null,null,null,null,null,null,null,{"$f":"Facilities!G28","v":0},null,null,{"$f":"Facilities!H28","v":0}]
[{"$f":"'Academy or School Details'!$C$2","v":"Enter School URN here"},"Facilities",{"$f":"Facilities!B29","v":"Vehicle Leasing"},{"$f":"Facilities!C29","v":0},{"$f":"Facilities!D29","v":"00:00:00"},{"$f":"Facilities!E29","v":0},{"$f":"Facilities!F29","v":0},null,null,null,null,null,null,null,{"$f":"Facilities!G29","v":0},null,null,{"$f":"Facilities!H29","v":0}]
[{"$f":"'Academy or School Details'!$C$2","v":"Enter School URN here"},"Facilities",{"$f":"Facilities!B30","v":"Contract Cleaning services"},{"$f":"Facilities!C30","v":0},{"$f":"Facilities!D30","v":"00:00:00"},{"$f":"Facilities!E30","v":0},{"$f":"Facilities!F30","v":0},null,null,null,null,null,null,null,{"$f":"Facilities!G30","v":0},null,null,{"$f":"Facilities!H30","v":0}]
[{"$f":"'Academy or School Details'!$C$2","v":"Enter School URN here"},"Facilities",{"$f":"Facilities!B31","v":"Catering Contractor (If In-house please state)"},{"$f":"Facilities!C31","v":0},{"$f":"Facilities!D31","v":"00:00:00"},{"$f":"Facilities!E31","v":0},{"$f":"Facilities!F31","v":0},null,null,null,null,null,null,null,{"$f":"Facilities!G31","v":0},null,null,{"$f":"Facilities!H31","v":0}]
[{"$f":"'Academy or School Details'!$C$2","v":"Enter School URN here"},"",{"$f":"Facilities!B32","v":0},{"$f":"Facilities!C32","v":0},{"$f":"Facilities!D32","v":"00:00:00"},{"$f":"Facilities!E32","v":0},{"$f":"Facilities!F32","v":0},null,null,null,null,null,null,null,{"$f":"Facilities!G32","v":0},null,null,{"$f":"Facilities!H32","v":0}]
[{"$f":"'Academy or School Details'!$C$2","v":"Enter School URN here"},"",{"$f":"Facilities!B33","v":0},{"$f":"Facilities!C33","v":0},{"$f":"Facilities!D33","v":"00:00:00"},{"$f":"Facilities!E33","v":0},{"$f":"Facilities!F33","v":0},null,null,null,null,null,null,null,{"$f":"Facilities!G33","v":0},null,null,{"$f":"Facilities!H33","v":0}]
[{"$f":"'Academy or School Details'!$C$2","v":"Enter School URN here"},"",{"$f":"Facilities!B34","v":0},{"$f":"Facilities!C34","v":0},{"$f":"Facilities!D34","v":"00:00:00"},{"$f":"Facilities!E34","v":0},{"$f":"Facilities!F34","v":0},null,null,null,null,null,null,null,{"$f":"Facilities!G34","v":0},null,null,{"$f":"Facilities!H34","v":0}]
[{"$f":"'Academy or School Details'!$C$2","v":"Enter School URN here"},"",{"$f":"Facilities!B35","v":0},{"$f":"Facilities!C35","v":0},{"$f":"Facilities!D35","v":"00:00:00"},{"$f":"Facilities!E35","v":0},{"$f":"Facilities!F35","v":0},null,null,null,null,null,null,null,{"$f":"Facilities!G35","v":0},null,null,{"$f":"Facilities!H35","v":0}]
[{"$f":"'Academy or School Details'!$C$2","v":"Enter School URN here"},"",{"$f":"Facilities!B36","v":0},{"$f":"Facilities!C36","v":0},{"$f":"Facilities!D36","v":"00:00:00"},{"$f":"Facilities!E36","v":0},{"$f":"Facilities!F36","v":0},null,null,null,null,null,null,null,{"$f":"Facilities!G36","v":0},null,null,{"$f":"Facilities!H36","v":0}]
[{"$f":"'Academy or School Details'!$C$2","v":"Enter School URN here"},"",{"$f":"Facilities!B37","v":0},{"$f":"Facilities!C37","v":0},{"$f":"Facilities!D37","v":"00:00:00"},{"$f":"Facilities!E37","v":0},{"$f":"Facilities!F37","v":0},null,null,null,null,null,null,null,{"$f":"Facilities!G37","v":0},null,null,{"$f":"Facilities!H37","v":0}]
[{"$f":"'Academy or School Details'!$C$2","v":"Enter School URN here"},"",{"$f":"Facilities!B38","v":0},{"$f":"Facilities!C38","v":0},{"$f":"Facilities!D38","v":"00:00:00"},{"$f":"Facilities!E38","v":0},{"$f":"Facilities!F38","v":0},null,null,null,null,null,null,null,{"$f":"Facilities!G38","v":0},null,null,{"$f":"Facilities!H38","v":0}]
[{"$f":"'Academy or School Details'!$C$2","v":"Enter School URN here"},"",{"$f":"Facilities!B39","v":0},{"$f":"Facilities!C39","v":0},{"$f":"Facilities!D39","v":"00:00:00"},{"$f":"Facilities!E39","v":0},{"$f":"Facilities!F39","v":0},null,null,null,null,null,null,null,{"$f":"Facilities!G39","v":0},null,null,{"$f":"Facilities!H39","v":0}]
[{"$f":"'Academy or School Details'!$C$2","v":"Enter School URN here"},"",{"$f":"Facilities!B40","v":0},{"$f":"Facilities!C40","v":0},{"$f":"Facilities!D40","v":"00:00:00"},{"$f":"Facilities!E40","v":0},{"$f":"Facilities!F40","v":0},null,null,null,null,null,null,null,{"$f":"Facilities!G40","v":0},null,null,{"$f":"Facilities!H40","v":0}]
[{"$f":"'Academy or School Details'!$C$2","v":"Enter School URN here"},"",{"$f":"Facilities!B41","v":0},{"$f":"Facilities!C41","v":0},{"$f":"Facilities!D41","v":"00:00:00"},{"$f":"Facilities!E41","v":0},{"$f":"Facilities!F41","v":0},null,null,null,null,null,null,null,{"$f":"Facilities!G41","v":0},null,null,{"$f":"Facilities!H41","v":0}]
[{"$f":"'Academy or School Details'!$C$2","v":"Enter School URN here"},"",{"$f":"Facilities!B42","v":0},{"$f":"Facilities!C42","v":0},{"$f":"Facilities!D42","v":"00:00:00"},{"$f":"Facilities!E42","v":0},{"$f":"Facilities!F42","v":0},null,null,null,null,null,null,null,{"$f":"Facilities!G42","v":0},null,null,{"$f":"Facilities!H42","v":0}]
[{"$f":"'Academy or School Details'!$C$2","v":"Enter School URN here"},"",{"$f":"Facilities!B43","v":0},{"$f":"Facilities!C43","v":0},{"$f":"Facilities!D43","v":"00:00:00"},{"$f":"Facilities!E43","v":0},{"$f":"Facilities!F43","v":0},null,null,null,null,null,null,null,{"$f":"Facilities!G43","v":0},null,null,{"$f":"Facilities!H43","v":0}]
[{"$f":"'Academy or School Details'!$C$2","v":"Enter School URN here"},"",{"$f":"Facilities!B44","v":0},{"$f":"Facilities!C44","v":0},{"$f":"Facilities!D44","v":"00:00:00"},{"$f":"Facilities!E44","v":0},{"$f":"Facilities!F44","v":0},null,null,null,null,null,null,null,{"$f":"Facilities!G44","v":0},null,null,{"$f":"Facilities!H44","v":0}]
[{"$f":"'Academy or School Details'!$C$2","v":"Enter School URN here"},"",{"$f":"Facilities!B45","v":0},{"$f":"Facilities!C45","v":0},{"$f":"Facilities!D45","v":"00:00:00"},{"$f":"Facilities!E45","v":0},{"$f":"Facilities!F45","v":0},null,null,null,null,null,null,null,{"$f":"Facilities!G45","v":0},null,null,{"$f":"Facilities!H45","v":0}]
[{"$f":"'Academy or School Details'!$C$2","v":"Enter School URN here"},"",{"$f":"Facilities!B46","v":0},{"$f":"Facilities!C46","v":0},{"$f":"Facilities!D46","v":"00:00:00"},{"$f":"Facilities!E46","v":0},{"$f":"Facilities!F46","v":0},null,null,null,null,null,null,null,{"$f":"Facilities!G46","v":0},null,null,{"$f":"Facilities!H46","v":0}]
[{"$f":"'Academy or School Details'!$C$2","v":"Enter School URN here"},"",{"$f":"Facilities!B47","v":0},{"$f":"Facilities!C47","v":0},{"$f":"Facilities!D47","v":"00:00:00"},{"$f":"Facilities!E47","v":0},{"$f":"Facilities!F47","v":0},null,null,null,null,null,null,null,{"$f":"Facilities!G47","v":0},null,null,{"$f":"Facilities!H47","v":0}]
[{"$f":"'Academy or School Details'!$C$2","v":"Enter School URN here"},"",{"$f":"Facilities!B48","v":0},{"$f":"Facilities!C48","v":0},{"$f":"Facilities!D48","v":"00:00:00"},{"$f":"Facilities!E48","v":0},{"$f":"Facilities!F48","v":0},null,null,null,null,null,null,null,{"$f":"Facilities!G48","v":0},null,null,{"$f":"Facilities!H48","v":0}]
[{"$f":"'Academy or School Details'!$C$2","v":"Enter School URN here"},"",{"$f":"Facilities!B49","v":0},{"$f":"Facilities!C49","v":0},{"$f":"Facilities!D49","v":"00:00:00"},{"$f":"Facilities!E49","v":0},{"$f":"Facilities!F49","v":0},null,null,null,null,null,null,null,{"$f":"Facilities!G49","v":0},null,null,{"$f":"Facilities!H49","v":0}]
[{"$f":"'Academy or School Details'!$C$2","v":"Enter School URN here"},"",{"$f":"Facilities!B50","v":0},{"$f":"Facilities!C50","v":0},{"$f":"Facilities!D50","v":"00:00:00"},{"$f":"Facilities!E50","v":0},{"$f":"Facilities!F50","v":0},null,null,null,null,null,null,null,{"$f":"Facilities!G50","v":0},null,null,{"$f":"Facilities!H50","v":0}]
[{"$f":"'Academy or School Details'!$C$2","v":"Enter School URN here"},"",{"$f":"Facilities!B51","v":0},{"$f":"Facilities!C51","v":0},{"$f":"Facilities!D51","v":"00:00:00"},{"$f":"Facilities!E51","v":0},{"$f":"Facilities!F51","v":0},null,null,null,null,null,null,null,{"$f":"Facilities!G51","v":0},null,null,{"$f":"Facilities!H51","v":0}]
[{"$f":"'Academy or School Details'!$C$2","v":"Enter School URN here"},"",{"$f":"Facilities!B52","v":0},{"$f":"Facilities!C52","v":0},{"$f":"Facilities!D52","v":"00:00:00"},{"$f":"Facilities!E52","v":0},{"$f":"Facilities!F52","v":0},null,null,null,null,null,null,null,{"$f":"Facilities!G52","v":0},null,null,{"$f":"Facilities!H52","v":0}]
[{"$f":"'Academy or School Details'!$C$2","v":"Enter School URN here"},"",{"$f":"Facilities!B53","v":0},{"$f":"Facilities!C53","v":0},{"$f":"Facilities!D53","v":"00:00:00"},{"$f":"Facilities!E53","v":0},{"$f":"Facilities!F53","v":0},null,null,null,null,null,null,null,{"$f":"Facilities!G53","v":0},null,null,{"$f":"Facilities!H53","v":0}]
[{"$f":"'Academy or School Details'!$C$2","v":"Enter School URN here"},"",{"$f":"Facilities!B54","v":0},{"$f":"Facilities!C54","v":0},{"$f":"Facilities!D54","v":"00:00:00"},{"$f":"Facilities!E54","v":0},{"$f":"Facilities!F54","v":0},null,null,null,null,null,null,null,{"$f":"Facilities!G54","v":0},null,null,{"$f":"Facilities!H54","v":0}]
[{"$f":"'Academy or School Details'!$C$2","v":"Enter School URN here"},"",{"$f":"Facilities!B55","v":0},{"$f":"Facilities!C55","v":0},{"$f":"Facilities!D55","v":"00:00:00"},{"$f":"Facilities!E55","v":0},{"$f":"Facilities!F55","v":0},null,null,null,null,null,null,null,{"$f":"Facilities!G55","v":0},null,null,{"$f":"Facilities!H55","v":0}]
[{"$f":"'Academy or School Details'!$C$2","v":"Enter School URN here"},"",{"$f":"Facilities!B56","v":0},{"$f":"Facilities!C56","v":0},{"$f":"Facilities!D56","v":"00:00:00"},{"$f":"Facilities!E56","v":0},{"$f":"Facilities!F56","v":0},null,null,null,null,null,null,null,{"$f":"Facilities!G56","v":0},null,null,{"$f":"Facilities!H56","v":0}]
[{"$f":"'Academy or School Details'!$C$2","v":"Enter School URN here"},"",{"$f":"Facilities!B57","v":0},{"$f":"Facilities!C57","v":0},{"$f":"Facilities!D57","v":"00:00:00"},{"$f":"Facilities!E57","v":0},{"$f":"Facilities!F57","v":0},null,null,null,null,null,null,null,{"$f":"Facilities!G57","v":0},null,null,{"$f":"Facilities!H57","v":0}]
[{"$f":"'Academy or School Details'!$C$2","v":"Enter School URN here"},"",{"$f":"Facilities!B58","v":0},{"$f":"Facilities!C58","v":0},{"$f":"Facilities!D58","v":"00:00:00"},{"$f":"Facilities!E58","v":0},{"$f":"Facilities!F58","v":0},null,null,null,null,null,null,null,{"$f":"Facilities!G58","v":0},null,null,{"$f":"Facilities!H58","v":0}]
[{"$f":"'Academy or School Details'!$C$2","v":"Enter School URN here"},"",{"$f":"Facilities!B59","v":0},{"$f":"Facilities!C59","v":0},{"$f":"Facilities!D59","v":"00:00:00"},{"$f":"Facilities!E59","v":0},{"$f":"Facilities!F59","v":0},null,null,null,null,null,null,null,{"$f":"Facilities!G59","v":0},null,null,{"$f":"Facilities!H59","v":0}]
[{"$f":"'Academy or School Details'!$C$2","v":"Enter School URN here"},"",{"$f":"Facilities!B60","v":0},{"$f":"Facilities!C60","v":0},{"$f":"Facilities!D60","v":"00:00:00"},{"$f":"Facilities!E60","v":0},{"$f":"Facilities!F60","v":0},null,null,null,null,null,null,null,{"$f":"Facilities!G60","v":0},null,null,{"$f":"Facilities!H60","v":0}]
[{"$f":"'Academy or School Details'!$C$2","v":"Enter School URN here"},"",{"$f":"Facilities!B61","v":0},{"$f":"Facilities!C61","v":0},{"$f":"Facilities!D61","v":"00:00:00"},{"$f":"Facilities!E61","v":0},{"$f":"Facilities!F61","v":0},null,null,null,null,null,null,null,{"$f":"Facilities!G61","v":0},null,null,{"$f":"Facilities!H61","v":0}]
[{"$f":"'Academy or School Details'!$C$2","v":"Enter School URN here"},"",{"$f":"Facilities!B62","v":0},{"$f":"Facilities!C62","v":0},{"$f":"Facilities!D62","v":"00:00:00"},{"$f":"Facilities!E62","v":0},{"$f":"Facilities!F62","v":0},null,null,null,null,null,null,null,{"$f":"Facilities!G62","v":0},null,null,{"$f":"Facilities!H62","v":0}]
[{"$f":"'Academy or School Details'!$C$2","v":"Enter School URN here"},"",{"$f":"Facilities!B63","v":0},{"$f":"Facilities!C63","v":0},{"$f":"Facilities!D63","v":"00:00:00"},{"$f":"Facilities!E63","v":0},{"$f":"Facilities!F63","v":0},null,null,null,null,null,null,null,{"$f":"Facilities!G63","v":0},null,null,{"$f":"Facilities!H63","v":0}]
[{"$f":"'Academy or School Details'!$C$2","v":"Enter School URN here"},"",{"$f":"Facilities!B64","v":0},{"$f":"Facilities!C64","v":0},{"$f":"Facilities!D64","v":"00:00:00"},{"$f":"Facilities!E64","v":0},{"$f":"Facilities!F64","v":0},null,null,null,null,null,null,null,{"$f":"Facilities!G64","v":0},null,null,{"$f":"Facilities!H64","v":0}]
[{"$f":"'Academy or School Details'!$C$2","v":"Enter School URN here"},"",{"$f":"Facilities!B65","v":0},{"$f":"Facilities!C65","v":0},{"$f":"Facilities!D65","v":"00:00:00"},{"$f":"Facilities!E65","v":0},{"$f":"Facilities!F65","v":0},null,null,null,null,null,null,null,{"$f":"Facilities!G65","v":0},null,null,{"$f":"Facilities!H65","v":0}]
[{"$f":"'Academy or School Details'!$C$2","v":"Enter School URN here"},"",{"$f":"Facilities!B66","v":0},{"$f":"Facilities!C66","v":0},{"$f":"Facilities!D66","v":"00:00:00"},{"$f":"Facilities!E66","v":0},{"$f":"Facilities!F66","v":0},null,null,null,null,null,null,null,{"$f":"Facilities!G66","v":0},null,null,{"$f":"Facilities!H66","v":0}]
[{"$f":"'Academy or School Details'!$C$2","v":"Enter School URN here"},"",{"$f":"Facilities!B67","v":0},{"$f":"Facilities!C67","v":0},{"$f":"Facilities!D67","v":"00:00:00"},{"$f":"Facilities!E67","v":0},{"$f":"Facilities!F67","v":0},null,null,null,null,null,null,null,{"$f":"Facilities!G67","v":0},null,null,{"$f":"Facilities!H67","v":0}]
[{"$f":"'Academy or School Details'!$C$2","v":"Enter School URN here"},"",{"$f":"Facilities!B68","v":0},{"$f":"Facilities!C68","v":0},{"$f":"Facilities!D68","v":"00:00:00"},{"$f":"Facilities!E68","v":0},{"$f":"Facilities!F68","v":0},null,null,null,null,null,null,null,{"$f":"Facilities!G68","v":0},null,null,{"$f":"Facilities!H68","v":0}]
[{"$f":"'Academy or School Details'!$C$2","v":"Enter School URN here"},"",{"$f":"Facilities!B69","v":0},{"$f":"Facilities!C69","v":0},{"$f":"Facilities!D69","v":"00:00:00"},{"$f":"Facilities!E69","v":0},{"$f":"Facilities!F69","v":0},null,null,null,null,null,null,null,{"$f":"Facilities!G69","v":0},null,null,{"$f":"Facilities!H69","v":0}]
[{"$f":"'Academy or School Details'!$C$2","v":"Enter School URN here"},"",{"$f":"Facilities!B70","v":0},{"$f":"Facilities!C70","v":0},{"$f":"Facilities!D70","v":"00:00:00"},{"$f":"Facilities!E70","v":0},{"$f":"Facilities!F70","v":0},null,null,null,null,null,null,null,{"$f":"Facilities!G70","v":0},null,null,{"$f":"Facilities!H70","v":0}]
[{"$f":"'Academy or School Details'!$C$2","v":"Enter School URN here"},"",{"$f":"Facilities!B71","v":0},{"$f":"Facilities!C71","v":0},{"$f":"Facilities!D71","v":"00:00:00"},{"$f":"Facilities!E71","v":0},{"$f":"Facilities!F71","v":0},null,null,null,null,null,null,null,{"$f":"Facilities!G71","v":0},null,null,{"$f":"Facilities!H71","v":0}]
[{"$f":"'Academy or School Details'!$C$2","v":"Enter School URN here"},"",{"$f":"Facilities!B72","v":0},{"$f":"Facilities!C72","v":0},{"$f":"Facilities!D72","v":"00:00:00"},{"$f":"Facilities!E72","v":0},{"$f":"Facilities!F72","v":0},null,null,null,null,null,null,null,{"$f":"Facilities!G72","v":0},null,null,{"$f":"Facilities!H72","v":0}]
[{"$f":"'Academy or School Details'!$C$2","v":"Enter School URN here"},"",{"$f":"Facilities!B73","v":0},{"$f":"Facilities!C73","v":0},{"$f":"Facilities!D73","v":"00:00:00"},{"$f":"Facilities!E73","v":0},{"$f":"Facilities!F73","v":0},null,null,null,null,null,null,null,{"$f":"Facilities!G73","v":0},null,null,{"$f":"Facilities!H73","v":0}]
[{"$f":"'Academy or School Details'!$C$2","v":"Enter School URN here"},"",{"$f":"Facilities!B74","v":0},{"$f":"Facilities!C74","v":0},{"$f":"Facilities!D74","v":"00:00:00"},{"$f":"Facilities!E74","v":0},{"$f":"Facilities!F74","v":0},null,null,null,null,null,null,null,{"$f":"Facilities!G74","v":0},null,null,{"$f":"Facilities!H74","v":0}]
[{"$f":"'Academy or School Details'!$C$2","v":"Enter School URN here"},"",{"$f":"Facilities!B75","v":0},{"$f":"Facilities!C75","v":0},{"$f":"Facilities!D75","v":"00:00:00"},{"$f":"Facilities!E75","v":0},{"$f":"Facilities!F75","v":0},null,null,null,null,null,null,null,{"$f":"Facilities!G75","v":0},null,null,{"$f":"Facilities!H75","v":0}]
[{"$f":"'Academy or School Details'!$C$2","v":"Enter School URN here"},"",{"$f":"Facilities!B76","v":0},{"$f":"Facilities!C76","v":0},{"$f":"Facilities!D76","v":"00:00:00"},{"$f":"Facilities!E76","v":0},{"$f":"Facilities!F76","v":0},null,null,null,null,null,null,null,{"$f":"Facilities!G76","v":0},null,null,{"$f":"Facilities!H76","v":0}]
[{"$f":"'Academy or School Details'!$C$2","v":"Enter School URN here"},"",{"$f":"Facilities!B77","v":0},{"$f":"Facilities!C77","v":0},{"$f":"Facilities!D77","v":"00:00:00"},{"$f":"Facilities!E77","v":0},{"$f":"Facilities!F77","v":0},null,null,null,null,null,null,null,{"$f":"Facilities!G77","v":0},null,null,{"$f":"Facilities!H77","v":0}]
[{"$f":"'Academy or School Details'!$C$2","v":"Enter School URN here"},"",{"$f":"Facilities!B78","v":0},{"$f":"Facilities!C78","v":0},{"$f":"Facilities!D78","v":"00:00:00"},{"$f":"Facilities!E78","v":0},{"$f":"Facilities!F78","v":0},null,null,null,null,null,null,null,{"$f":"Facilities!G78","v":0},null,null,{"$f":"Facilities!H78","v":0}]
[{"$f":"'Academy or School Details'!$C$2","v":"Enter School URN here"},"",{"$f":"Facilities!B79","v":0},{"$f":"Facilities!C79","v":0},{"$f":"Facilities!D79","v":"00:00:00"},{"$f":"Facilities!E79","v":0},{"$f":"Facilities!F79","v":0},null,null,null,null,null,null,null,{"$f":"Facilities!G79","v":0},null,null,{"$f":"Facilities!H79","v":0}]
[{"$f":"'Academy or School Details'!$C$2","v":"Enter School URN here"},"",{"$f":"Facilities!B80","v":0},{"$f":"Facilities!C80","v":0},{"$f":"Facilities!D80","v":"00:00:00"},{"$f":"Facilities!E80","v":0},{"$f":"Facilities!F80","v":0},null,null,null,null,null,null,null,{"$f":"Facilities!G80","v":0},null,null,{"$f":"Facilities!H80","v":0}]
[{"$f":"'Academy or School Details'!$C$2","v":"Enter School URN here"},"",{"$f":"Facilities!B81","v":0},{"$f":"Facilities!C81","v":0},{"$f":"Facilities!D81","v":"00:00:00"},{"$f":"Facilities!E81","v":0},{"$f":"Facilities!F81","v":0},null,null,null,null,null,null,null,{"$f":"Facilities!G81","v":0},null,null,{"$f":"Facilities!H81","v":0}]
[{"$f":"'Academy or School Details'!$C$2","v":"Enter School URN here"},"",{"$f":"Facilities!B82","v":0},{"$f":"Facilities!C82","v":0},{"$f":"Facilities!D82","v":"00:00:00"},{"$f":"Facilities!E82","v":0},{"$f":"Facilities!F82","v":0},null,null,null,null,null,null,null,{"$f":"Facilities!G82","v":0},null,null,{"$f":"Facilities!H82","v":0}]
[{"$f":"'Academy or School Details'!$C$2","v":"Enter School URN here"},"",{"$f":"Facilities!B83","v":0},{"$f":"Facilities!C83","v":0},{"$f":"Facilities!D83","v":"00:00:00"},{"$f":"Facilities!E83","v":0},{"$f":"Facilities!F83","v":0},null,null,null,null,null,null,null,{"$f":"Facilities!G83","v":0},null,null,{"$f":"Facilities!H83","v":0}]
[{"$f":"'Academy or School Details'!$C$2","v":"Enter School URN here"},"",{"$f":"Facilities!B84","v":0},{"$f":"Facilities!C84","v":0},{"$f":"Facilities!D84","v":"00:00:00"},{"$f":"Facilities!E84","v":0},{"$f":"Facilities!F84","v":0},null,null,null,null,null,null,null,{"$f":"Facilities!G84","v":0},null,null,{"$f":"Facilities!H84","v":0}]
[{"$f":"'Academy or School Details'!$C$2","v":"Enter School URN here"},"",{"$f":"Facilities!B85","v":0},{"$f":"Facilities!C85","v":0},{"$f":"Facilities!D85","v":"00:00:00"},{"$f":"Facilities!E85","v":0},{"$f":"Facilities!F85","v":0},null,null,null,null,null,null,null,{"$f":"Facilities!G85","v":0},null,null,{"$f":"Facilities!H85","v":0}]
[{"$f":"'Academy or School Details'!$C$2","v":"Enter School URN here"},"",{"$f":"Facilities!B86","v":0},{"$f":"Facilities!C86","v":0},{"$f":"Facilities!D86","v":"00:00:00"},{"$f":"Facilities!E86","v":0},{"$f":"Facilities!F86","v":0},null,null,null,null,null,null,null,{"$f":"Facilities!G86","v":0},null,null,{"$f":"Facilities!H86","v":0}]
[{"$f":"'Academy or School Details'!$C$2","v":"Enter School URN here"},"",{"$f":"Facilities!B87","v":0},{"$f":"Facilities!C87","v":0},{"$f":"Facilities!D87","v":"00:00:00"},{"$f":"Facilities!E87","v":0},{"$f":"Facilities!F87","v":0},null,null,null,null,null,null,null,{"$f":"Facilities!G87","v":0},null,null,{"$f":"Facilities!H87","v":0}]
[{"$f":"'Academy or School Details'!$C$2","v":"Enter School URN here"},"",{"$f":"Facilities!B88","v":0},{"$f":"Facilities!C88","v":0},{"$f":"Facilities!D88","v":"00:00:00"},{"$f":"Facilities!E88","v":0},{"$f":"Facilities!F88","v":0},null,null,null,null,null,null,null,{"$f":"Facilities!G88","v":0},null,null,{"$f":"Facilities!H88","v":0}]
[{"$f":"'Academy or School Details'!$C$2","v":"Enter School URN here"},"",{"$f":"Facilities!B89","v":0},{"$f":"Facilities!C89","v":0},{"$f":"Facilities!D89","v":"00:00:00"},{"$f":"Facilities!E89","v":0},{"$f":"Facilities!F89","v":0},null,null,null,null,null,null,null,{"$f":"Facilities!G89","v":0},null,null,{"$f":"Facilities!H89","v":0}]
[{"$f":"'Academy or School Details'!$C$2","v":"Enter School URN here"},"",{"$f":"Facilities!B90","v":0},{"$f":"Facilities!C90","v":0},{"$f":"Facilities!D90","v":"00:00:00"},{"$f":"Facilities!E90","v":0},{"$f":"Facilities!F90","v":0},null,null,null,null,null,null,null,{"$f":"Facilities!G90","v":0},null,null,{"$f":"Facilities!H90","v":0}]
[{"$f":"'Academy or School Details'!$C$2","v":"Enter School URN here"},"",{"$f":"Facilities!B91","v":0},{"$f":"Facilities!C91","v":0},{"$f":"Facilities!D91","v":"00:00:00"},{"$f":"Facilities!E91","v":0},{"$f":"Facilities!F91","v":0},null,null,null,null,null,null,null,{"$f":"Facilities!G91","v":0},null,null,{"$f":"Facilities!H91","v":0}]
[{"$f":"'Academy or School Details'!$C$2","v":"Enter School URN here"},"",{"$f":"Facilities!B92","v":0},{"$f":"Facilities!C92","v":0},{"$f":"Facilities!D92","v":"00:00:00"},{"$f":"Facilities!E92","v":0},{"$f":"Facilities!F92","v":0},null,null,null,null,null,null,null,{"$f":"Facilities!G92","v":0},null,null,{"$f":"Facilities!H92","v":0}]
[{"$f":"'Academy or School Details'!$C$2","v":"Enter School URN here"},"",{"$f":"Facilities!B93","v":0},{"$f":"Facilities!C93","v":0},{"$f":"Facilities!D93","v":"00:00:00"},{"$f":"Facilities!E93","v":0},{"$f":"Facilities!F93","v":0},null,null,null,null,null,null,null,{"$f":"Facilities!G93","v":0},null,null,{"$f":"Facilities!H93","v":0}]
[{"$f":"'Academy or School Details'!$C$2","v":"Enter School URN here"},"",{"$f":"Facilities!B94","v":0},{"$f":"Facilities!C94","v":0},{"$f":"Facilities!D94","v":"00:00:00"},{"$f":"Facilities!E94","v":0},{"$f":"Facilities!F94","v":0},null,null,null,null,null,null,null,{"$f":"Facilities!G94","v":0},null,null,{"$f":"Facilities!H94","v":0}]
[{"$f":"'Academy or School Details'!$C$2","v":"Enter School URN here"},"",{"$f":"Facilities!B95","v":0},{"$f":"Facilities!C95","v":0},{"$f":"Facilities!D95","v":"00:00:00"},{"$f":"Facilities!E95","v":0},{"$f":"Facilities!F95","v":0},null,null,null,null,null,null,null,{"$f":"Facilities!G95","v":0},null,null,{"$f":"Facilities!H95","v":0}]
[{"$f":"'Academy or School Details'!$C$2","v":"Enter School URN here"},"",{"$f":"Facilities!B96","v":0},{"$f":"Facilities!C96","v":0},{"$f":"Facilities!D96","v":"00:00:00"},{"$f":"Facilities!E96","v":0},{"$f":"Facilities!F96","v":0},null,null,null,null,null,null,null,{"$f":"Facilities!G96","v":0},null,null,{"$f":"Facilities!H96","v":0}]
[{"$f":"'Academy or School Details'!$C$2","v":"Enter School URN here"},"",{"$f":"Facilities!B97","v":0},{"$f":"Facilities!C97","v":0},{"$f":"Facilities!D97","v":"00:00:00"},{"$f":"Facilities!E97","v":0},{"$f":"Facilities!F97","v":0},null,null,null,null,null,null,null,{"$f":"Facilities!G97","v":0},null,null,{"$f":"Facilities!H97","v":0}]
[{"$f":"'Academy or School Details'!$C$2","v":"Enter School URN here"},"",{"$f":"Facilities!B98","v":0},{"$f":"Facilities!C98","v":0},{"$f":"Facilities!D98","v":"00:00:00"},{"$f":"Facilities!E98","v":0},{"$f":"Facilities!F98","v":0},null,null,null,null,null,null,null,{"$f":"Facilities!G98","v":0},null,null,{"$f":"Facilities!H98","v":0}]
[{"$f":"'Academy or School Details'!$C$2","v":"Enter School URN here"},"",{"$f":"Facilities!B99","v":0},{"$f":"Facilities!C99","v":0},{"$f":"Facilities!D99","v":"00:00:00"},{"$f":"Facilities!E99","v":0},{"$f":"Facilities!F99","v":0},null,null,null,null,null,null,null,{"$f":"Facilities!G99","v":0},null,null,{"$f":"Facilities!H99","v":0}]
[{"$f":"'Academy or School Details'!$C$2","v":"Enter School URN here"},"",{"$f":"Facilities!B100","v":0},{"$f":"Facilities!C100","v":0},{"$f":"Facilities!D100","v":"00:00:00"},{"$f":"Facilities!E100","v":0},{"$f":"Facilities!F100","v":0},null,null,null,null,null,null,null,{"$f":"Facilities!G100","v":0},null,null,{"$f":"Facilities!H100","v":0}]
[{"$f":"'Academy or School Details'!$C$2","v":"Enter School URN here"},"",{"$f":"Facilities!B101","v":0},{"$f":"Facilities!C101","v":0},{"$f":"Facilities!D101","v":"00:00:00"},{"$f":"Facilities!E101","v":0},{"$f":"Facilities!F101","v":0},null,null,null,null,null,null,null,{"$f":"Facilities!G101","v":0},null,null,{"$f":"Facilities!H101","v":0}]
[{"$f":"'Academy or School Details'!$C$2","v":"Enter School URN here"},"",{"$f":"Facilities!B102","v":0},{"$f":"Facilities!C102","v":0},{"$f":"Facilities!D102","v":"00:00:00"},{"$f":"Facilities!E102","v":0},{"$f":"Facilities!F102","v":0},null,null,null,null,null,null,null,{"$f":"Facilities!G102","v":0},null,null,{"$f":"Facilities!H102","v":0}]
[{"$f":"'Academy or School Details'!$C$2","v":"Enter School URN here"},"",{"$f":"Facilities!B103","v":0},{"$f":"Facilities!C103","v":0},{"$f":"Facilities!D103","v":"00:00:00"},{"$f":"Facilities!E103","v":0},{"$f":"Facilities!F103","v":0},null,null,null,null,null,null,null,{"$f":"Facilities!G103","v":0},null,null,{"$f":"Facilities!H103","v":0}]
[{"$f":"'Academy or School Details'!$C$2","v":"Enter School URN here"},"",{"$f":"Facilities!B104","v":0},{"$f":"Facilities!C104","v":0},{"$f":"Facilities!D104","v":"00:00:00"},{"$f":"Facilities!E104","v":0},{"$f":"Facilities!F104","v":0},null,null,null,null,null,null,null,{"$f":"Facilities!G104","v":0},null,null,{"$f":"Facilities!H104","v":0}]
[{"$f":"'Academy or School Details'!$C$2","v":"Enter School URN here"},"",{"$f":"Facilities!B105","v":0},{"$f":"Facilities!C105","v":0},{"$f":"Facilities!D105","v":"00:00:00"},{"$f":"Facilities!E105","v":0},{"$f":"Facilities!F105","v":0},null,null,null,null,null,null,null,{"$f":"Facilities!G105","v":0},null,null,{"$f":"Facilities!H105","v":0}]
[{"$f":"'Academy or School Details'!$C$2","v":"Enter School URN here"},"",{"$f":"Facilities!B106","v":0},{"$f":"Facilities!C106","v":0},{"$f":"Facilities!D106","v":"00:00:00"},{"$f":"Facilities!E106","v":0},{"$f":"Facilities!F106","v":0},null,null,null,null,null,null,null,{"$f":"Facilities!G106","v":0},null,null,{"$f":"Facilities!H106","v":0}]
[{"$f":"'Academy or School Details'!$C$2","v":"Enter School URN here"},"",{"$f":"Facilities!B107","v":0},{"$f":"Facilities!C107","v":0},{"$f":"Facilities!D107","v":"00:00:00"},{"$f":"Facilities!E107","v":0},{"$f":"Facilities!F107","v":0},null,null,null,null,null,null,null,{"$f":"Facilities!G107","v":0},null,null,{"$f":"Facilities!H107","v":0}]
[{"$f":"'Academy or School Details'!$C$2","v":"Enter School URN here"},"",{"$f":"Facilities!B108","v":0},{"$f":"Facilities!C108","v":0},{"$f":"Facilities!D108","v":"00:00:00"},{"$f":"Facilities!E108","v":0},{"$f":"Facilities!F108","v":0},null,null,null,null,null,null,null,{"$f":"Facilities!G108","v":0},null,null,{"$f":"Facilities!H108","v":0}]
[{"$f":"'Academy or School Details'!$C$2","v":"Enter School URN here"},"",{"$f":"Facilities!B109","v":0},{"$f":"Facilities!C109","v":0},{"$f":"Facilities!D109","v":"00:00:00"},{"$f":"Facilities!E109","v":0},{"$f":"Facilities!F109","v":0},null,null,null,null,null,null,null,{"$f":"Facilities!G109","v":0},null,null,{"$f":"Facilities!H109","v":0}]
[{"$f":"'Academy or School Details'!$C$2","v":"Enter School URN here"},"",{"$f":"Facilities!B110","v":0},{"$f":"Facilities!C110","v":0},{"$f":"Facilities!D110","v":"00:00:00"},{"$f":"Facilities!E110","v":0},{"$f":"Facilities!F110","v":0},null,null,null,null,null,null,null,{"$f":"Facilities!G110","v":0},null,null,{"$f":"Facilities!H110","v":0}]
[{"$f":"'Academy or School Details'!$C$2","v":"Enter School URN here"},"",{"$f":"Facilities!B111","v":0},{"$f":"Facilities!C111","v":0},{"$f":"Facilities!D111","v":"00:00:00"},{"$f":"Facilities!E111","v":0},{"$f":"Facilities!F111","v":0},null,null,null,null,null,null,null,{"$f":"Facilities!G111","v":0},null,null,{"$f":"Facilities!H111","v":0}]
[{"$f":"'Academy or School Details'!$C$2","v":"Enter School URN here"},"",{"$f":"Facilities!B112","v":0},{"$f":"Facilities!C112","v":0},{"$f":"Facilities!D112","v":"00:00:00"},{"$f":"Facilities!E112","v":0},{"$f":"Facilities!F112","v":0},null,null,null,null,null,null,null,{"$f":"Facilities!G112","v":0},null,null,{"$f":"Facilities!H112","v":0}]
[{"$f":"'Academy or School Details'!$C$2","v":"Enter School URN here"},"",{"$f":"Facilities!B113","v":0},{"$f":"Facilities!C113","v":0},{"$f":"Facilities!D113","v":"00:00:00"},{"$f":"Facilities!E113","v":0},{"$f":"Facilities!F113","v":0},null,null,null,null,null,null,null,{"$f":"Facilities!G113","v":0},null,null,{"$f":"Facilities!H113","v":0}]
[{"$f":"'Academy or School Details'!$C$2","v":"Enter School URN here"},{"$f":"IF(C293=0,\"\",\"Furniture\")","v":"Furniture"},{"$f":"Furniture!B3","v":"Furniture - small items/volumes"},{"$f":"Furniture!C3","v":0},{"$f":"Furniture!D3","v":"00:00:00"},{"$f":"Furniture!E3","v":0},{"$f":"Furniture!F3","v":0},null,null,null,null,null,null,null,{"$f":"Furniture!G3","v":0},null,null,{"$f":"Furniture!H3","v":0}]
[{"$f":"'Academy or School Details'!$C$2","v":"Enter School URN here"},{"$f":"IF(C294=0,\"\",\"Furniture\")","v":"Furniture"},{"$f":"Furniture!B4","v":"Furniture - large projects"},{"$f":"Furniture!C4","v":0},{"$f":"Furniture!D4","v":"00:00:00"},{"$f":"Furniture!E4","v":0},{"$f":"Furniture!F4","v":0},null,null,null,null,null,null,null,{"$f":"Furniture!G4","v":0},null,null,{"$f":"Furniture!H4","v":0}]
[{"$f":"'Academy or School Details'!$C$2","v":"Enter School URN here"},"",{"$f":"Furniture!B5","v":0},{"$f":"Furniture!C5","v":0},{"$f":"Furniture!D5","v":"00:00:00"},{"$f":"Furniture!E5","v":0},{"$f":"Furniture!F5","v":0},null,null,null,null,null,null,null,{"$f":"Furniture!G5","v":0},null,null,{"$f":"Furniture!H5","v":0}]
[{"$f":"'Academy or School Details'!$C$2","v":"Enter School URN here"},"",{"$f":"Furniture!B6","v":0},{"$f":"Furniture!C6","v":0},{"$f":"Furniture!D6","v":"00:00:00"},{"$f":"Furniture!E6","v":0},{"$f":"Furniture!F6","v":0},null,null,null,null,null,null,null,{"$f":"Furniture!G6","v":0},null,null,{"$f":"Furniture!H6","v":0}]
[{"$f":"'Academy or School Details'!$C$2","v":"Enter School URN here"},"",{"$f":"Furniture!B7","v":0},{"$f":"Furniture!C7","v":0},{"$f":"Furniture!D7","v":"00:00:00"},{"$f":"Furniture!E7","v":0},{"$f":"Furniture!F7","v":0},null,null,null,null,null,null,null,{"$f":"Furniture!G7","v":0},null,null,{"$f":"Furniture!H7","v":0}]
[{"$f":"'Academy or School Details'!$C$2","v":"Enter School URN here"},"",{"$f":"Furniture!B8","v":0},{"$f":"Furniture!C8","v":0},{"$f":"Furniture!D8","v":"00:00:00"},{"$f":"Furniture!E8","v":0},{"$f":"Furniture!F8","v":0},null,null,null,null,null,null,null,{"$f":"Furniture!G8","v":0},null,null,{"$f":"Furniture!H8","v":0}]
[{"$f":"'Academy or School Details'!$C$2","v":"Enter School URN here"},"",{"$f":"Furniture!B9","v":0},{"$f":"Furniture!C9","v":0},{"$f":"Furniture!D9","v":"00:00:00"},{"$f":"Furniture!E9","v":0},{"$f":"Furniture!F9","v":0},null,null,null,null,null,null,null,{"$f":"Furniture!G9","v":0},null,null,{"$f":"Furniture!H9","v":0}]
[{"$f":"'Academy or School Details'!$C$2","v":"Enter School URN here"},"",{"$f":"Furniture!B10","v":0},{"$f":"Furniture!C10","v":0},{"$f":"Furniture!D10","v":"00:00:00"},{"$f":"Furniture!E10","v":0},{"$f":"Furniture!F10","v":0},null,null,null,null,null,null,null,{"$f":"Furniture!G10","v":0},null,null,{"$f":"Furniture!H10","v":0}]
[{"$f":"'Academy or School Details'!$C$2","v":"Enter School URN here"},"",{"$f":"Furniture!B11","v":0},{"$f":"Furniture!C11","v":0},{"$f":"Furniture!D11","v":"00:00:00"},{"$f":"Furniture!E11","v":0},{"$f":"Furniture!F11","v":0},null,null,null,null,null,null,null,{"$f":"Furniture!G11","v":0},null,null,{"$f":"Furniture!H11","v":0}]
[{"$f":"'Academy or School Details'!$C$2","v":"Enter School URN here"},"",{"$f":"Furniture!B12","v":0},{"$f":"Furniture!C12","v":0},{"$f":"Furniture!D12","v":"00:00:00"},{"$f":"Furniture!E12","v":0},{"$f":"Furniture!F12","v":0},null,null,null,null,null,null,null,{"$f":"Furniture!G12","v":0},null,null,{"$f":"Furniture!H12","v":0}]
[{"$f":"'Academy or School Details'!$C$2","v":"Enter School URN here"},"",{"$f":"Furniture!B13","v":0},{"$f":"Furniture!C13","v":0},{"$f":"Furniture!D13","v":"00:00:00"},{"$f":"Furniture!E13","v":0},{"$f":"Furniture!F13","v":0},null,null,null,null,null,null,null,{"$f":"Furniture!G13","v":0},null,null,{"$f":"Furniture!H13","v":0}]
[{"$f":"'Academy or School Details'!$C$2","v":"Enter School URN here"},"",{"$f":"Furniture!B14","v":0},{"$f":"Furniture!C14","v":0},{"$f":"Furniture!D14","v":"00:00:00"},{"$f":"Furniture!E14","v":0},{"$f":"Furniture!F14","v":0},null,null,null,null,null,null,null,{"$f":"Furniture!G14","v":0},null,null,{"$f":"Furniture!H14","v":0}]
[{"$f":"'Academy or School Details'!$C$2","v":"Enter School URN here"},"",{"$f":"Furniture!B15","v":0},{"$f":"Furniture!C15","v":0},{"$f":"Furniture!D15","v":"00:00:00"},{"$f":"Furniture!E15","v":0},{"$f":"Furniture!F15","v":0},null,null,null,null,null,null,null,{"$f":"Furniture!G15","v":0},null,null,{"$f":"Furniture!H15","v":0}]
[{"$f":"'Academy or School Details'!$C$2","v":"Enter School URN here"},"",{"$f":"Furniture!B16","v":0},{"$f":"Furniture!C16","v":0},{"$f":"Furniture!D16","v":"00:00:00"},{"$f":"Furniture!E16","v":0},{"$f":"Furniture!F16","v":0},null,null,null,null,null,null,null,{"$f":"Furniture!G16","v":0},null,null,{"$f":"Furniture!H16","v":0}]
[{"$f":"'Academy or School Details'!$C$2","v":"Enter School URN here"},"",{"$f":"Furniture!B17","v":0},{"$f":"Furniture!C17","v":0},{"$f":"Furniture!D17","v":"00:00:00"},{"$f":"Furniture!E17","v":0},{"$f":"Furniture!F17","v":0},null,null,null,null,null,null,null,{"$f":"Furniture!G17","v":0},null,null,{"$f":"Furniture!H17","v":0}]
[{"$f":"'Academy or School Details'!$C$2","v":"Enter School URN here"},"",{"$f":"Furniture!B18","v":0},{"$f":"Furniture!C18","v":0},{"$f":"Furniture!D18","v":"00:00:00"},{"$f":"Furniture!E18","v":0},{"$f":"Furniture!F18","v":0},null,null,null,null,null,null,null,{"$f":"Furniture!G18","v":0},null,null,{"$f":"Furniture!H18","v":0}]
[{"$f":"'Academy or School Details'!$C$2","v":"Enter School URN here"},"",{"$f":"Furniture!B19","v":0},{"$f":"Furniture!C19","v":0},{"$f":"Furniture!D19","v":"00:00:00"},{"$f":"Furniture!E19","v":0},{"$f":"Furniture!F19","v":0},null,null,null,null,null,null,null,{"$f":"Furniture!G19","v":0},null,null,{"$f":"Furniture!H19","v":0}]
[{"$f":"'Academy or School Details'!$C$2","v":"Enter School URN here"},"",{"$f":"Furniture!B20","v":0},{"$f":"Furniture!C20","v":0},{"$f":"Furniture!D20","v":"00:00:00"},{"$f":"Furniture!E20","v":0},{"$f":"Furniture!F20","v":0},null,null,null,null,null,null,null,{"$f":"Furniture!G20","v":0},null,null,{"$f":"Furniture!H20","v":0}]
[{"$f":"'Academy or School Details'!$C$2","v":"Enter School URN here"},"",{"$f":"Furniture!B21","v":0},{"$f":"Furniture!C21","v":0},{"$f":"Furniture!D21","v":"00:00:00"},{"$f":"Furniture!E21","v":0},{"$f":"Furniture!F21","v":0},null,null,null,null,null,null,null,{"$f":"Furniture!G21","v":0},null,null,{"$f":"Furniture!H21","v":0}]
[{"$f":"'Academy or School Details'!$C$2","v":"Enter School URN here"},"",{"$f":"Furniture!B22","v":0},{"$f":"Furniture!C22","v":0},{"$f":"Furniture!D22","v":"00:00:00"},{"$f":"Furniture!E22","v":0},{"$f":"Furniture!F22","v":0},null,null,null,null,null,null,null,{"$f":"Furniture!G22","v":0},null,null,{"$f":"Furniture!H22","v":0}]
[{"$f":"'Academy or School Details'!$C$2","v":"Enter School URN here"},"",{"$f":"Furniture!B23","v":0},{"$f":"Furniture!C23","v":0},{"$f":"Furniture!D23","v":"00:00:00"},{"$f":"Furniture!E23","v":0},{"$f":"Furniture!F23","v":0},null,null,null,null,null,null,null,{"$f":"Furniture!G23","v":0},null,null,{"$f":"Furniture!H23","v":0}]
[{"$f":"'Academy or School Details'!$C$2","v":"Enter School URN here"},"",{"$f":"Furniture!B24","v":0},{"$f":"Furniture!C24","v":0},{"$f":"Furniture!D24","v":"00:00:00"},{"$f":"Furniture!E24","v":0},{"$f":"Furniture!F24","v":0},null,null,null,null,null,null,null,{"$f":"Furniture!G24","v":0},null,null,{"$f":"Furniture!H24","v":0}]
[{"$f":"'Academy or School Details'!$C$2","v":"Enter School URN here"},"",{"$f":"Furniture!B25","v":0},{"$f":"Furniture!C25","v":0},{"$f":"Furniture!D25","v":"00:00:00"},{"$f":"Furniture!E25","v":0},{"$f":"Furniture!F25","v":0},null,null,null,null,null,null,null,{"$f":"Furniture!G25","v":0},null,null,{"$f":"Furniture!H25","v":0}]
[{"$f":"'Academy or School Details'!$C$2","v":"Enter School URN here"},"",{"$f":"Furniture!B26","v":0},{"$f":"Furniture!C26","v":0},{"$f":"Furniture!D26","v":"00:00:00"},{"$f":"Furniture!E26","v":0},{"$f":"Furniture!F26","v":0},null,null,null,null,null,null,null,{"$f":"Furniture!G26","v":0},null,null,{"$f":"Furniture!H26","v":0}]
[{"$f":"'Academy or School Details'!$C$2","v":"Enter School URN here"},{"$f":"IF(C317=0,\"\",\"Office & Cleaning Supplies\")","v":"Office & Cleaning Supplies"},{"$f":"'Office & Cleaning Supplies'!B3","v":"Office, stationery & school supplies"},{"$f":"'Office & Cleaning Supplies'!C3","v":0},{"$f":"'Office & Cleaning Supplies'!D3","v":"00:00:00"},{"$f":"'Office & Cleaning Supplies'!E3","v":0},{"$f":"'Office & Cleaning Supplies'!F3","v":0},null,null,null,null,null,null,null,{"$f":"'Office & Cleaning Supplies'!G3","v":0},null,null,{"$f":"'Office & Cleaning Supplies'!H3","v":0}]
[{"$f":"'Academy or School Details'!$C$2","v":"Enter School URN here"},{"$f":"IF(C318=0,\"\",\"Office & Cleaning Supplies\")","v":"Office & Cleaning Supplies"},{"$f":"'Office & Cleaning Supplies'!B4","v":"Paper supplier"},{"$f":"'Office & Cleaning Supplies'!C4","v":0},{"$f":"'Office & Cleaning Supplies'!D4","v":"00:00:00"},{"$f":"'Office & Cleaning Supplies'!E4","v":0},{"$f":"'Office & Cleaning Supplies'!F4","v":0},null,null,null,null,null,null,null,{"$f":"'Office & Cleaning Supplies'!G4","v":0},null,null,{"$f":"'Office & Cleaning Supplies'!H4","v":0}]
[{"$f":"'Academy or School Details'!$C$2","v":"Enter School URN here"},"Office & Cleaning Supplies",{"$f":"'Office & Cleaning Supplies'!B5","v":"Cleaning consumables"},{"$f":"'Office & Cleaning Supplies'!C5","v":0},{"$f":"'Office & Cleaning Supplies'!D5","v":"00:00:00"},{"$f":"'Office & Cleaning Supplies'!E5","v":0},{"$f":"'Office & Cleaning Supplies'!F5","v":0},null,null,null,null,null,null,null,{"$f":"'Office & Cleaning Supplies'!G5","v":0},null,null,{"$f":"'Office & Cleaning Supplies'!H5","v":0}]
[{"$f":"'Academy or School Details'!$C$2","v":"Enter School URN here"},"",{"$f":"'Office & Cleaning Supplies'!B6","v":0},{"$f":"'Office & Cleaning Supplies'!C6","v":0},{"$f":"'Office & Cleaning Supplies'!D6","v":"00:00:00"},{"$f":"'Office & Cleaning Supplies'!E6","v":0},{"$f":"'Office & Cleaning Supplies'!F6","v":0},null,null,null,null,null,null,null,{"$f":"'Office & Cleaning Supplies'!G6","v":0},null,null,{"$f":"'Office & Cleaning Supplies'!H6","v":0}]
[{"$f":"'Academy or School Details'!$C$2","v":"Enter School URN here"},"",{"$f":"'Office & Cleaning Supplies'!B7","v":0},{"$f":"'Office & Cleaning Supplies'!C7","v":0},{"$f":"'Office & Cleaning Supplies'!D7","v":"00:00:00"},{"$f":"'Office & Cleaning Supplies'!E7","v":0},{"$f":"'Office & Cleaning Supplies'!F7","v":0},null,null,null,null,null,null,null,{"$f":"'Office & Cleaning Supplies'!G7","v":0},null,null,{"$f":"'Office & Cleaning Supplies'!H7","v":0}]
[{"$f":"'Academy or School Details'!$C$2","v":"Enter School URN here"},"",{"$f":"'Office & Cleaning Supplies'!B8","v":0},{"$f":"'Office & Cleaning Supplies'!C8","v":0},{"$f":"'Office & Cleaning Supplies'!D8","v":"00:00:00"},{"$f":"'Office & Cleaning Supplies'!E8","v":0},{"$f":"'Office & Cleaning Supplies'!F8","v":0},null,null,null,null,null,null,null,{"$f":"'Office & Cleaning Supplies'!G8","v":0},null,null,{"$f":"'Office & Cleaning Supplies'!H8","v":0}]
[{"$f":"'Academy or School Details'!$C$2","v":"Enter School URN here"},"",{"$f":"'Office & Cleaning Supplies'!B9","v":0},{"$f":"'Office & Cleaning Supplies'!C9","v":0},{"$f":"'Office & Cleaning Supplies'!D9","v":"00:00:00"},{"$f":"'Office & Cleaning Supplies'!E9","v":0},{"$f":"'Office & Cleaning Supplies'!F9","v":0},null,null,null,null,null,null,null,{"$f":"'Office & Cleaning Supplies'!G9","v":0},null,null,{"$f":"'Office & Cleaning Supplies'!H9","v":0}]
[{"$f":"'Academy or School Details'!$C$2","v":"Enter School URN here"},"",{"$f":"'Office & Cleaning Supplies'!B10","v":0},{"$f":"'Office & Cleaning Supplies'!C10","v":0},{"$f":"'Office & Cleaning Supplies'!D10","v":"00:00:00"},{"$f":"'Office & Cleaning Supplies'!E10","v":0},{"$f":"'Office & Cleaning Supplies'!F10","v":0},null,null,null,null,null,null,null,{"$f":"'Office & Cleaning Supplies'!G10","v":0},null,null,{"$f":"'Office & Cleaning Supplies'!H10","v":0}]
[{"$f":"'Academy or School Details'!$C$2","v":"Enter School URN here"},"",{"$f":"'Office & Cleaning Supplies'!B11","v":0},{"$f":"'Office & Cleaning Supplies'!C11","v":0},{"$f":"'Office & Cleaning Supplies'!D11","v":"00:00:00"},{"$f":"'Office & Cleaning Supplies'!E11","v":0},{"$f":"'Office & Cleaning Supplies'!F11","v":0},null,null,null,null,null,null,null,{"$f":"'Office & Cleaning Supplies'!G11","v":0},null,null,{"$f":"'Office & Cleaning Supplies'!H11","v":0}]
[{"$f":"'Academy or School Details'!$C$2","v":"Enter School URN here"},"",{"$f":"'Office & Cleaning Supplies'!B12","v":0},{"$f":"'Office & Cleaning Supplies'!C12","v":0},{"$f":"'Office & Cleaning Supplies'!D12","v":"00:00:00"},{"$f":"'Office & Cleaning Supplies'!E12","v":0},{"$f":"'Office & Cleaning Supplies'!F12","v":0},null,null,null,null,null,null,null,{"$f":"'Office & Cleaning Supplies'!G12","v":0},null,null,{"$f":"'Office & Cleaning Supplies'!H12","v":0}]
[{"$f":"'Academy or School Details'!$C$2","v":"Enter School URN here"},"",{"$f":"'Office & Cleaning Supplies'!B13","v":0},{"$f":"'Office & Cleaning Supplies'!C13","v":0},{"$f":"'Office & Cleaning Supplies'!D13","v":"00:00:00"},{"$f":"'Office & Cleaning Supplies'!E13","v":0},{"$f":"'Office & Cleaning Supplies'!F13","v":0},null,null,null,null,null,null,null,{"$f":"'Office & Cleaning Supplies'!G13","v":0},null,null,{"$f":"'Office & Cleaning Supplies'!H13","v":0}]
[{"$f":"'Academy or School Details'!$C$2","v":"Enter School URN here"},"",{"$f":"'Office & Cleaning Supplies'!B14","v":0},{"$f":"'Office & Cleaning Supplies'!C14","v":0},{"$f":"'Office & Cleaning Supplies'!D14","v":"00:00:00"},{"$f":"'Office & Cleaning Supplies'!E14","v":0},{"$f":"'Office & Cleaning Supplies'!F14","v":0},null,null,null,null,null,null,null,{"$f":"'Office & Cleaning Supplies'!G14","v":0},null,null,{"$f":"'Office & Cleaning Supplies'!H14","v":0}]
[{"$f":"'Academy or School Details'!$C$2","v":"Enter School URN here"},"",{"$f":"'Office & Cleaning Supplies'!B15","v":0},{"$f":"'Office & Cleaning Supplies'!C15","v":0},{"$f":"'Office & Cleaning Supplies'!D15","v":"00:00:00"},{"$f":"'Office & Cleaning Supplies'!E15","v":0},{"$f":"'Office & Cleaning Supplies'!F15","v":0},null,null,null,null,null,null,null,{"$f":"'Office & Cleaning Supplies'!G15","v":0},null,null,{"$f":"'Office & Cleaning Supplies'!H15","v":0}]
[{"$f":"'Academy or School Details'!$C$2","v":"Enter School URN here"},"",{"$f":"'Office & Cleaning Supplies'!B16","v":0},{"$f":"'Office & Cleaning Supplies'!C16","v":0},{"$f":"'Office & Cleaning Supplies'!D16","v":"00:00:00"},{"$f":"'Office & Cleaning Supplies'!E16","v":0},{"$f":"'Office & Cleaning Supplies'!F16","v":0},null,null,null,null,null,null,null,{"$f":"'Office & Cleaning Supplies'!G16","v":0},null,null,{"$f":"'Office & Cleaning Supplies'!H16","v":0}]
[{"$f":"'Academy or School Details'!$C$2","v":"Enter School URN here"},"",{"$f":"'Office & Cleaning Supplies'!B17","v":0},{"$f":"'Office & Cleaning Supplies'!C17","v":0},{"$f":"'Office & Cleaning Supplies'!D17","v":"00:00:00"},{"$f":"'Office & Cleaning Supplies'!E17","v":0},{"$f":"'Office & Cleaning Supplies'!F17","v":0},null,null,null,null,null,null,null,{"$f":"'Office & Cleaning Supplies'!G17","v":0},null,null,{"$f":"'Office & Cleaning Supplies'!H17","v":0}]
[{"$f":"'Academy or School Details'!$C$2","v":"Enter School URN here"},"",{"$f":"'Office & Cleaning Supplies'!B18","v":0},{"$f":"'Office & Cleaning Supplies'!C18","v":0},{"$f":"'Office & Cleaning Supplies'!D18","v":"00:00:00"},{"$f":"'Office & Cleaning Supplies'!E18","v":0},{"$f":"'Office & Cleaning Supplies'!F18","v":0},null,null,null,null,null,null,null,{"$f":"'Office & Cleaning Supplies'!G18","v":0},null,null,{"$f":"'Office & Cleaning Supplies'!H18","v":0}]
[{"$f":"'Academy or School Details'!$C$2","v":"Enter School URN here"},"",{"$f":"'Office & Cleaning Supplies'!B19","v":0},{"$f":"'Office & Cleaning Supplies'!C19","v":0},{"$f":"'Office & Cleaning Supplies'!D19","v":"00:00:00"},{"$f":"'Office & Cleaning Supplies'!E19","v":0},{"$f":"'Office & Cleaning Supplies'!F19","v":0},null,null,null,null,null,null,null,{"$f":"'Office & Cleaning Supplies'!G19","v":0},null,null,{"$f":"'Office & Cleaning Supplies'!H19","v":0}]
[{"$f":"'Academy or School Details'!$C$2","v":"Enter School URN here"},"",{"$f":"'Office & Cleaning Supplies'!B20","v":0},{"$f":"'Office & Cleaning Supplies'!C20","v":0},{"$f":"'Office & Cleaning Supplies'!D20","v":"00:00:00"},{"$f":"'Office & Cleaning Supplies'!E20","v":0},{"$f":"'Office & Cleaning Supplies'!F20","v":0},null,null,null,null,null,null,null,{"$f":"'Office & Cleaning Supplies'!G20","v":0},null,null,{"$f":"'Office & Cleaning Supplies'!H20","v":0}]
[{"$f":"'Academy or School Details'!$C$2","v":"Enter School URN here"},"",{"$f":"'Office & Cleaning Supplies'!B21","v":0},{"$f":"'Office & Cleaning Supplies'!C21","v":0},{"$f":"'Office & Cleaning Supplies'!D21","v":"00:00:00"},{"$f":"'Office & Cleaning Supplies'!E21","v":0},{"$f":"'Office & Cleaning Supplies'!F21","v":0},null,null,null,null,null,null,null,{"$f":"'Office & Cleaning Supplies'!G21","v":0},null,null,{"$f":"'Office & Cleaning Supplies'!H21","v":0}]
[{"$f":"'Academy or School Details'!$C$2","v":"Enter School URN here"},"",{"$f":"'Office & Cleaning Supplies'!B22","v":0},{"$f":"'Office & Cleaning Supplies'!C22","v":0},{"$f":"'Office & Cleaning Supplies'!D22","v":"00:00:00"},{"$f":"'Office & Cleaning Supplies'!E22","v":0},{"$f":"'Office & Cleaning Supplies'!F22","v":0},null,null,null,null,null,null,null,{"$f":"'Office & Cleaning Supplies'!G22","v":0},null,null,{"$f":"'Office & Cleaning Supplies'!H22","v":0}]
[{"$f":"'Academy or School Details'!$C$2","v":"Enter School URN here"},"",{"$f":"'Office & Cleaning Supplies'!B23","v":0},{"$f":"'Office & Cleaning Supplies'!C23","v":0},{"$f":"'Office & Cleaning Supplies'!D23","v":"00:00:00"},{"$f":"'Office & Cleaning Supplies'!E23","v":0},{"$f":"'Office & Cleaning Supplies'!F23","v":0},null,null,null,null,null,null,null,{"$f":"'Office & Cleaning Supplies'!G23","v":0},null,null,{"$f":"'Office & Cleaning Supplies'!H23","v":0}]
[{"$f":"'Academy or School Details'!$C$2","v":"Enter School URN here"},"",{"$f":"'Office & Cleaning Supplies'!B24","v":0},{"$f":"'Office & Cleaning Supplies'!C24","v":0},{"$f":"'Office & Cleaning Supplies'!D24","v":"00:00:00"},{"$f":"'Office & Cleaning Supplies'!E24","v":0},{"$f":"'Office & Cleaning Supplies'!F24","v":0},null,null,null,null,null,null,null,{"$f":"'Office & Cleaning Supplies'!G24","v":0},null,null,{"$f":"'Office & Cleaning Supplies'!H24","v":0}]
[{"$f":"'Academy or School Details'!$C$2","v":"Enter School URN here"},"",{"$f":"'Office & Cleaning Supplies'!B25","v":0},{"$f":"'Office & Cleaning Supplies'!C25","v":0},{"$f":"'Office & Cleaning Supplies'!D25","v":"00:00:00"},{"$f":"'Office & Cleaning Supplies'!E25","v":0},{"$f":"'Office & Cleaning Supplies'!F25","v":0},null,null,null,null,null,null,null,{"$f":"'Office & Cleaning Supplies'!G25","v":0},null,null,{"$f":"'Office & Cleaning Supplies'!H25","v":0}]
[{"$f":"'Academy or School Details'!$C$2","v":"Enter School URN here"},"",{"$f":"'Office & Cleaning Supplies'!B26","v":0},{"$f":"'Office & Cleaning Supplies'!C26","v":0},{"$f":"'Office & Cleaning Supplies'!D26","v":"00:00:00"},{"$f":"'Office & Cleaning Supplies'!E26","v":0},{"$f":"'Office & Cleaning Supplies'!F26","v":0},null,null,null,null,null,null,null,{"$f":"'Office & Cleaning Supplies'!G26","v":0},null,null,{"$f":"'Office & Cleaning Supplies'!H26","v":0}]
[{"$f":"'Academy or School Details'!$C$2","v":"Enter School URN here"},"",{"$f":"'Office & Cleaning Supplies'!B27","v":0},{"$f":"'Office & Cleaning Supplies'!C27","v":0},{"$f":"'Office & Cleaning Supplies'!D27","v":"00:00:00"},{"$f":"'Office & Cleaning Supplies'!E27","v":0},{"$f":"'Office & Cleaning Supplies'!F27","v":0},null,null,null,null,null,null,null,{"$f":"'Office & Cleaning Supplies'!G27","v":0},null,null,{"$f":"'Office & Cleaning Supplies'!H27","v":0}]
[{"$f":"'Academy or School Details'!$C$2","v":"Enter School URN here"},"",{"$f":"'Office & Cleaning Supplies'!B28","v":0},{"$f":"'Office & Cleaning Supplies'!C28","v":0},{"$f":"'Office & Cleaning Supplies'!D28","v":"00:00:00"},{"$f":"'Office & Cleaning Supplies'!E28","v":0},{"$f":"'Office & Cleaning Supplies'!F28","v":0},null,null,null,null,null,null,null,{"$f":"'Office & Cleaning Supplies'!G28","v":0},null,null,{"$f":"'Office & Cleaning Supplies'!H28","v":0}]
[{"$f":"'Academy or School Details'!$C$2","v":"Enter School URN here"},"",{"$f":"'Office & Cleaning Supplies'!B29","v":0},{"$f":"'Office & Cleaning Supplies'!C29","v":0},{"$f":"'Office & Cleaning Supplies'!D29","v":"00:00:00"},{"$f":"'Office & Cleaning Supplies'!E29","v":0},{"$f":"'Office & Cleaning Supplies'!F29","v":0},null,null,null,null,null,null,null,{"$f":"'Office & Cleaning Supplies'!G29","v":0},null,null,{"$f":"'Office & Cleaning Supplies'!H29","v":0}]
[{"$f":"'Academy or School Details'!$C$2","v":"Enter School URN here"},"",{"$f":"'Office & Cleaning Supplies'!B30","v":0},{"$f":"'Office & Cleaning Supplies'!C30","v":0},{"$f":"'Office & Cleaning Supplies'!D30","v":"00:00:00"},{"$f":"'Office & Cleaning Supplies'!E30","v":0},{"$f":"'Office & Cleaning Supplies'!F30","v":0},null,null,null,null,null,null,null,{"$f":"'Office & Cleaning Supplies'!G30","v":0},null,null,{"$f":"'Office & Cleaning Supplies'!H30","v":0}]
[{"$f":"'Academy or School Details'!$C$2","v":"Enter School URN here"},"",{"$f":"'Office & Cleaning Supplies'!B31","v":0},{"$f":"'Office & Cleaning Supplies'!C31","v":0},{"$f":"'Office & Cleaning Supplies'!D31","v":"00:00:00"},{"$f":"'Office & Cleaning Supplies'!E31","v":0},{"$f":"'Office & Cleaning Supplies'!F31","v":0},null,null,null,null,null,null,null,{"$f":"'Office & Cleaning Supplies'!G31","v":0},null,null,{"$f":"'Office & Cleaning Supplies'!H31","v":0}]
[{"$f":"'Academy or School Details'!$C$2","v":"Enter School URN here"},"",{"$f":"'Office & Cleaning Supplies'!B32","v":0},{"$f":"'Office & Cleaning Supplies'!C32","v":0},{"$f":"'Office & Cleaning Supplies'!D32","v":"00:00:00"},{"$f":"'Office & Cleaning Supplies'!E32","v":0},{"$f":"'Office & Cleaning Supplies'!F32","v":0},null,null,null,null,null,null,null,{"$f":"'Office & Cleaning Supplies'!G32","v":0},null,null,{"$f":"'Office & Cleaning Supplies'!H32","v":0}]
[{"$f":"'Academy or School Details'!$C$2","v":"Enter School URN here"},"",{"$f":"'Office & Cleaning Supplies'!B33","v":0},{"$f":"'Office & Cleaning Supplies'!C33","v":0},{"$f":"'Office & Cleaning Supplies'!D33","v":"00:00:00"},{"$f":"'Office & Cleaning Supplies'!E33","v":0},{"$f":"'Office & Cleaning Supplies'!F33","v":0},null,null,null,null,null,null,null,{"$f":"'Office & Cleaning Supplies'!G33","v":0},null,null,{"$f":"'Office & Cleaning Supplies'!H33","v":0}]
[{"$f":"'Academy or School Details'!$C$2","v":"Enter School URN here"},"",{"$f":"'Office & Cleaning Supplies'!B34","v":0},{"$f":"'Office & Cleaning Supplies'!C34","v":0},{"$f":"'Office & Cleaning Supplies'!D34","v":"00:00:00"},{"$f":"'Office & Cleaning Supplies'!E34","v":0},{"$f":"'Office & Cleaning Supplies'!F34","v":0},null,null,null,null,null,null,null,{"$f":"'Office & Cleaning Supplies'!G34","v":0},null,null,{"$f":"'Office & Cleaning Supplies'!H34","v":0}]
[{"$f":"'Academy or School Details'!$C$2","v":"Enter School URN here"},"",{"$f":"'Office & Cleaning Supplies'!B35","v":0},{"$f":"'Office & Cleaning Supplies'!C35","v":0},{"$f":"'Office & Cleaning Supplies'!D35","v":"00:00:00"},{"$f":"'Office & Cleaning Supplies'!E35","v":0},{"$f":"'Office & Cleaning Supplies'!F35","v":0},null,null,null,null,null,null,null,{"$f":"'Office & Cleaning Supplies'!G35","v":0},null,null,{"$f":"'Office & Cleaning Supplies'!H35","v":0}]
[{"$f":"'Academy or School Details'!$C$2","v":"Enter School URN here"},"",{"$f":"'Office & Cleaning Supplies'!B36","v":0},{"$f":"'Office & Cleaning Supplies'!C36","v":0},{"$f":"'Office & Cleaning Supplies'!D36","v":"00:00:00"},{"$f":"'Office & Cleaning Supplies'!E36","v":0},{"$f":"'Office & Cleaning Supplies'!F36","v":0},null,null,null,null,null,null,null,{"$f":"'Office & Cleaning Supplies'!G36","v":0},null,null,{"$f":"'Office & Cleaning Supplies'!H36","v":0}]
[{"$f":"'Academy or School Details'!$C$2","v":"Enter School URN here"},"",{"$f":"'Office & Cleaning Supplies'!B37","v":0},{"$f":"'Office & Cleaning Supplies'!C37","v":0},{"$f":"'Office & Cleaning Supplies'!D37","v":"00:00:00"},{"$f":"'Office & Cleaning Supplies'!E37","v":0},{"$f":"'Office & Cleaning Supplies'!F37","v":0},null,null,null,null,null,null,null,{"$f":"'Office & Cleaning Supplies'!G37","v":0},null,null,{"$f":"'Office & Cleaning Supplies'!H37","v":0}]
[{"$f":"'Academy or School Details'!$C$2","v":"Enter School URN here"},"",{"$f":"'Office & Cleaning Supplies'!B38","v":0},{"$f":"'Office & Cleaning Supplies'!C38","v":0},{"$f":"'Office & Cleaning Supplies'!D38","v":"00:00:00"},{"$f":"'Office & Cleaning Supplies'!E38","v":0},{"$f":"'Office & Cleaning Supplies'!F38","v":0},null,null,null,null,null,null,null,{"$f":"'Office & Cleaning Supplies'!G38","v":0},null,null,{"$f":"'Office & Cleaning Supplies'!H38","v":0}]
[{"$f":"'Academy or School Details'!$C$2","v":"Enter School URN here"},"",{"$f":"'Office & Cleaning Supplies'!B39","v":0},{"$f":"'Office & Cleaning Supplies'!C39","v":0},{"$f":"'Office & Cleaning Supplies'!D39","v":"00:00:00"},{"$f":"'Office & Cleaning Supplies'!E39","v":0},{"$f":"'Office & Cleaning Supplies'!F39","v":0},null,null,null,null,null,null,null,{"$f":"'Office & Cleaning Supplies'!G39","v":0},null,null,{"$f":"'Office & Cleaning Supplies'!H39","v":0}]
[{"$f":"'Academy or School Details'!$C$2","v":"Enter School URN here"},"",{"$f":"'Office & Cleaning Supplies'!B40","v":0},{"$f":"'Office & Cleaning Supplies'!C40","v":0},{"$f":"'Office & Cleaning Supplies'!D40","v":"00:00:00"},{"$f":"'Office & Cleaning Supplies'!E40","v":0},{"$f":"'Office & Cleaning Supplies'!F40","v":0},null,null,null,null,null,null,null,{"$f":"'Office & Cleaning Supplies'!G40","v":0},null,null,{"$f":"'Office & Cleaning Supplies'!H40","v":0}]
[{"$f":"'Academy or School Details'!$C$2","v":"Enter School URN here"},"",{"$f":"'Office & Cleaning Supplies'!B41","v":0},{"$f":"'Office & Cleaning Supplies'!C41","v":0},{"$f":"'Office & Cleaning Supplies'!D41","v":"00:00:00"},{"$f":"'Office & Cleaning Supplies'!E41","v":0},{"$f":"'Office & Cleaning Supplies'!F41","v":0},null,null,null,null,null,null,null,{"$f":"'Office & Cleaning Supplies'!G41","v":0},null,null,{"$f":"'Office & Cleaning Supplies'!H41","v":0}]
[{"$f":"'Academy or School Details'!$C$2","v":"Enter School URN here"},"",{"$f":"'Office & Cleaning Supplies'!B42","v":0},{"$f":"'Office & Cleaning Supplies'!C42","v":0},{"$f":"'Office & Cleaning Supplies'!D42","v":"00:00:00"},{"$f":"'Office & Cleaning Supplies'!E42","v":0},{"$f":"'Office & Cleaning Supplies'!F42","v":0},null,null,null,null,null,null,null,{"$f":"'Office & Cleaning Supplies'!G42","v":0},null,null,{"$f":"'Office & Cleaning Supplies'!H42","v":0}]
[{"$f":"'Academy or School Details'!$C$2","v":"Enter School URN here"},"",{"$f":"'Office & Cleaning Supplies'!B43","v":0},{"$f":"'Office & Cleaning Supplies'!C43","v":0},{"$f":"'Office & Cleaning Supplies'!D43","v":"00:00:00"},{"$f":"'Office & Cleaning Supplies'!E43","v":0},{"$f":"'Office & Cleaning Supplies'!F43","v":0},null,null,null,null,null,null,null,{"$f":"'Office & Cleaning Supplies'!G43","v":0},null,null,{"$f":"'Office & Cleaning Supplies'!H43","v":0}]
[{"$f":"'Academy or School Details'!$C$2","v":"Enter School URN here"},"",{"$f":"'Office & Cleaning Supplies'!B44","v":0},{"$f":"'Office & Cleaning Supplies'!C44","v":0},{"$f":"'Office & Cleaning Supplies'!D44","v":"00:00:00"},{"$f":"'Office & Cleaning Supplies'!E44","v":0},{"$f":"'Office & Cleaning Supplies'!F44","v":0},null,null,null,null,null,null,null,{"$f":"'Office & Cleaning Supplies'!G44","v":0},null,null,{"$f":"'Office & Cleaning Supplies'!H44","v":0}]
[{"$f":"'Academy or School Details'!$C$2","v":"Enter School URN here"},"",{"$f":"'Office & Cleaning Supplies'!B45","v":0},{"$f":"'Office & Cleaning Supplies'!C45","v":0},{"$f":"'Office & Cleaning Supplies'!D45","v":"00:00:00"},{"$f":"'Office & Cleaning Supplies'!E45","v":0},{"$f":"'Office & Cleaning Supplies'!F45","v":0},null,null,null,null,null,null,null,{"$f":"'Office & Cleaning Supplies'!G45","v":0},null,null,{"$f":"'Office & Cleaning Supplies'!H45","v":0}]
[{"$f":"'Academy or School Details'!$C$2","v":"Enter School URN here"},"",{"$f":"'Office & Cleaning Supplies'!B46","v":0},{"$f":"'Office & Cleaning Supplies'!C46","v":0},{"$f":"'Office & Cleaning Supplies'!D46","v":"00:00:00"},{"$f":"'Office & Cleaning Supplies'!E46","v":0},{"$f":"'Office & Cleaning Supplies'!F46","v":0},null,null,null,null,null,null,null,{"$f":"'Office & Cleaning Supplies'!G46","v":0},null,null,{"$f":"'Office & Cleaning Supplies'!H46","v":0}]
[{"$f":"'Academy or School Details'!$C$2","v":"Enter School URN here"},"",{"$f":"'Office & Cleaning Supplies'!B47","v":0},{"$f":"'Office & Cleaning Supplies'!C47","v":0},{"$f":"'Office & Cleaning Supplies'!D47","v":"00:00:00"},{"$f":"'Office & Cleaning Supplies'!E47","v":0},{"$f":"'Office & Cleaning Supplies'!F47","v":0},null,null,null,null,null,null,null,{"$f":"'Office & Cleaning Supplies'!G47","v":0},null,null,{"$f":"'Office & Cleaning Supplies'!H47","v":0}]
[{"$f":"'Academy or School Details'!$C$2","v":"Enter School URN here"},"",{"$f":"'Office & Cleaning Supplies'!B48","v":0},{"$f":"'Office & Cleaning Supplies'!C48","v":0},{"$f":"'Office & Cleaning Supplies'!D48","v":"00:00:00"},{"$f":"'Office & Cleaning Supplies'!E48","v":0},{"$f":"'Office & Cleaning Supplies'!F48","v":0},null,null,null,null,null,null,null,{"$f":"'Office & Cleaning Supplies'!G48","v":0},null,null,{"$f":"'Office & Cleaning Supplies'!H48","v":0}]
[{"$f":"'Academy or School Details'!$C$2","v":"Enter School URN here"},"",{"$f":"'Office & Cleaning Supplies'!B49","v":0},{"$f":"'Office & Cleaning Supplies'!C49","v":0},{"$f":"'Office & Cleaning Supplies'!D49","v":"00:00:00"},{"$f":"'Office & Cleaning Supplies'!E49","v":0},{"$f":"'Office & Cleaning Supplies'!F49","v":0},null,null,null,null,null,null,null,{"$f":"'Office & Cleaning Supplies'!G49","v":0},null,null,{"$f":"'Office & Cleaning Supplies'!H49","v":0}]
[{"$f":"'Academy or School Details'!$C$2","v":"Enter School URN here"},"",{"$f":"'Office & Cleaning Supplies'!B50","v":0},{"$f":"'Office & Cleaning Supplies'!C50","v":0},{"$f":"'Office & Cleaning Supplies'!D50","v":"00:00:00"},{"$f":"'Office & Cleaning Supplies'!E50","v":0},{"$f":"'Office & Cleaning Supplies'!F50","v":0},null,null,null,null,null,null,null,{"$f":"'Office & Cleaning Supplies'!G50","v":0},null,null,{"$f":"'Office & Cleaning Supplies'!H50","v":0}]
[{"$f":"'Academy or School Details'!$C$2","v":"Enter School URN here"},"",{"$f":"'Office & Cleaning Supplies'!B51","v":0},{"$f":"'Office & Cleaning Supplies'!C51","v":0},{"$f":"'Office & Cleaning Supplies'!D51","v":"00:00:00"},{"$f":"'Office & Cleaning Supplies'!E51","v":0},{"$f":"'Office & Cleaning Supplies'!F51","v":0},null,null,null,null,null,null,null,{"$f":"'Office & Cleaning Supplies'!G51","v":0},null,null,{"$f":"'Office & Cleaning Supplies'!H51","v":0}]
[{"$f":"'Academy or School Details'!$C$2","v":"Enter School URN here"},"",{"$f":"'Office & Cleaning Supplies'!B52","v":0},{"$f":"'Office & Cleaning Supplies'!C52","v":0},{"$f":"'Office & Cleaning Supplies'!D52","v":"00:00:00"},{"$f":"'Office & Cleaning Supplies'!E52","v":0},{"$f":"'Office & Cleaning Supplies'!F52","v":0},null,null,null,null,null,null,null,{"$f":"'Office & Cleaning Supplies'!G52","v":0},null,null,{"$f":"'Office & Cleaning Supplies'!H52","v":0}]
[{"$f":"'Academy or School Details'!$C$2","v":"Enter School URN here"},"",{"$f":"'Office & Cleaning Supplies'!B53","v":0},{"$f":"'Office & Cleaning Supplies'!C53","v":0},{"$f":"'Office & Cleaning Supplies'!D53","v":"00:00:00"},{"$f":"'Office & Cleaning Supplies'!E53","v":0},{"$f":"'Office & Cleaning Supplies'!F53","v":0},null,null,null,null,null,null,null,{"$f":"'Office & Cleaning Supplies'!G53","v":0},null,null,{"$f":"'Office & Cleaning Supplies'!H53","v":0}]
[{"$f":"'Academy or School Details'!$C$2","v":"Enter School URN here"},"",{"$f":"'Office & Cleaning Supplies'!B54","v":0},{"$f":"'Office & Cleaning Supplies'!C54","v":0},{"$f":"'Office & Cleaning Supplies'!D54","v":"00:00:00"},{"$f":"'Office & Cleaning Supplies'!E54","v":0},{"$f":"'Office & Cleaning Supplies'!F54","v":0},null,null,null,null,null,null,null,{"$f":"'Office & Cleaning Supplies'!G54","v":0},null,null,{"$f":"'Office & Cleaning Supplies'!H54","v":0}]
[{"$f":"'Academy or School Details'!$C$2","v":"Enter School URN here"},"",{"$f":"'Office & Cleaning Supplies'!B55","v":0},{"$f":"'Office & Cleaning Supplies'!C55","v":0},{"$f":"'Office & Cleaning Supplies'!D55","v":"00:00:00"},{"$f":"'Office & Cleaning Supplies'!E55","v":0},{"$f":"'Office & Cleaning Supplies'!F55","v":0},null,null,null,null,null,null,null,{"$f":"'Office & Cleaning Supplies'!G55","v":0},null,null,{"$f":"'Office & Cleaning Supplies'!H55","v":0}]
[{"$f":"'Academy or School Details'!$C$2","v":"Enter School URN here"},"",{"$f":"'Office & Cleaning Supplies'!B56","v":0},{"$f":"'Office & Cleaning Supplies'!C56","v":0},{"$f":"'Office & Cleaning Supplies'!D56","v":"00:00:00"},{"$f":"'Office & Cleaning Supplies'!E56","v":0},{"$f":"'Office & Cleaning Supplies'!F56","v":0},null,null,null,null,null,null,null,{"$f":"'Office & Cleaning Supplies'!G56","v":0},null,null,{"$f":"'Office & Cleaning Supplies'!H56","v":0}]
[{"$f":"'Academy or School Details'!$C$2","v":"Enter School URN here"},"",{"$f":"'Office & Cleaning Supplies'!B57","v":0},{"$f":"'Office & Cleaning Supplies'!C57","v":0},{"$f":"'Office & Cleaning Supplies'!D57","v":"00:00:00"},{"$f":"'Office & Cleaning Supplies'!E57","v":0},{"$f":"'Office & Cleaning Supplies'!F57","v":0},null,null,null,null,null,null,null,{"$f":"'Office & Cleaning Supplies'!G57","v":0},null,null,{"$f":"'Office & Cleaning Supplies'!H57","v":0}]
[{"$f":"'Academy or School Details'!$C$2","v":"Enter School URN here"},"",{"$f":"'Office & Cleaning Supplies'!B58","v":0},{"$f":"'Office & Cleaning Supplies'!C58","v":0},{"$f":"'Office & Cleaning Supplies'!D58","v":"00:00:00"},{"$f":"'Office & Cleaning Supplies'!E58","v":0},{"$f":"'Office & Cleaning Supplies'!F58","v":0},null,null,null,null,null,null,null,{"$f":"'Office & Cleaning Supplies'!G58","v":0},null,null,{"$f":"'Office & Cleaning Supplies'!H58","v":0}]
[{"$f":"'Academy or School Details'!$C$2","v":"Enter School URN here"},"",{"$f":"'Office & Cleaning Supplies'!B59","v":0},{"$f":"'Office & Cleaning Supplies'!C59","v":0},{"$f":"'Office & Cleaning Supplies'!D59","v":"00:00:00"},{"$f":"'Office & Cleaning Supplies'!E59","v":0},{"$f":"'Office & Cleaning Supplies'!F59","v":0},null,null,null,null,null,null,null,{"$f":"'Office & Cleaning Supplies'!G59","v":0},null,null,{"$f":"'Office & Cleaning Supplies'!H59","v":0}]
[{"$f":"'Academy or School Details'!$C$2","v":"Enter School URN here"},"",{"$f":"'Office & Cleaning Supplies'!B60","v":0},{"$f":"'Office & Cleaning Supplies'!C60","v":0},{"$f":"'Office & Cleaning Supplies'!D60","v":"00:00:00"},{"$f":"'Office & Cleaning Supplies'!E60","v":0},{"$f":"'Office & Cleaning Supplies'!F60","v":0},null,null,null,null,null,null,null,{"$f":"'Office & Cleaning Supplies'!G60","v":0},null,null,{"$f":"'Office & Cleaning Supplies'!H60","v":0}]